{"text_format":"3","workbook":"xlsx","n_sheets":9,"sheets":["1. Wijkscan","2. Achtergrond","3. Gebruik","4. Verantwoording","5. Voorbeeld","Gefilterde data","Lijst gemeenten","Data_2023","Blad1"],"not_rendered":{"images":8,"defined_names":2,"pivot_tables":1},"read":"whole","date_system":"1900"}

{"sheet":"1. Wijkscan","index":0,"n_rows":607,"n_cols":15,"rows_kept":607,"merged":[[5,1,5,3]]}
[{"$nulls":5},{"$f":"AVERAGE(F16:F530)","v":{"v":2.015973905951228,"d":"2.02"}}]
[]
[null,"Gemeente:","Amsterdam"]
[null,"Schaalniveau:","Buurt"]
[]
[null,"Top 5 buurten met hoogste mate van geen toegang tot het fietsen",null,null,"Index","Index voor correctie","Verkennende variabele 1","Verkennende variabele 2",null,"Verdiepende variabele 1","Verdiepende variabele 2","Verdiepende variabele 3","Verdiepende variabele 4","Verdiepende variabele 5","Verdiepende variabele 6"]
[null,"Positie",{"$f":"C4","v":"Buurt"},{"$f":"E15","v":"Mate van geen toegang tot het fietsen (index)"},"Mate van geen toegang tot het fietsen (index)",null,"Percentage huishoudens onder 110% Wettelijk Sociaal Minimum","Percentage geboren buiten NL",null,"Percentage WO student","OAD","Aantal inwoners","Gemiddeld autobezit per huishouden","Percentage kinderen tussen 0 en 14 jaar",{"$f":"O15","v":"Percentage senioren (65+)"}]
[null,"1.",{"$f":"_xlfn.XLOOKUP(LARGE($F$16:$F$532,1),$F$16:$F$532,$B$16:$B$532,\"n/a\",0,1)","v":"Amsterdamse Poort"},{"$f":"LARGE($F$16:$F$532,1)","v":{"v":4.182278713903276,"d":"4.18"}},{"$f":"_xlfn.XLOOKUP($C8,$B$16:$B$532,$E$16:$E$532,\"\",0,1)","v":{"v":2.074569864995295,"d":"2.07"}},{"$f":"_xlfn.XLOOKUP($C8,$B$16:$B$532,$E$16:$E$532,\"\",0,1)","v":{"v":2.074569864995295,"d":"2.07"}},{"$f":"_xlfn.XLOOKUP($C8,$B$16:$B$532,$G$16:$G$532,\"\",0,1)","v":{"v":37.4,"d":"37.40"}},{"$f":"_xlfn.XLOOKUP($C8,$B$16:$B$532,$H$16:$H$532,\"\",0,1)","v":{"v":90.76923076923077,"d":"90.77"}},null,{"$f":"_xlfn.XLOOKUP($C8,$B$16:$B$532,$J$16:$J$532,\"\",0,1)","v":{"v":7.6923076923076925,"d":"8"}},{"$f":"_xlfn.XLOOKUP($C8,$B$16:$B$532,$K$16:$K$532,\"\",0,1)","v":3417},{"$f":"_xlfn.XLOOKUP($C8,$B$16:$B$532,$L$16:$L$532,\"\",0,1)","v":1300},{"$f":"_xlfn.XLOOKUP($C8,$B$16:$B$532,$M$16:$M$532,\"\",0,1)","v":0.2},{"$f":"_xlfn.XLOOKUP($C8,$B$16:$B$532,$N$16:$N$532,\"\",0,1)","v":{"v":10.76923076923077,"d":"11"}},{"$f":"_xlfn.XLOOKUP($C8,$B$16:$B$532,$O$16:$O$532,\"\",0,1)","v":15}]
[null,"2.",{"$f":"_xlfn.XLOOKUP(LARGE($F$16:$F$532,2),$F$16:$F$532,$B$16:$B$532,\"n/a\",0,1)","v":"Johan Jongkindbuurt"},{"$f":"LARGE($F$16:$F$532,2)","v":{"v":4.0598173442187315,"d":"4.06"}},{"$f":"_xlfn.XLOOKUP($C9,$B$16:$B$532,$E$16:$E$532,\"\",0,1)","v":{"v":2.013824351711103,"d":"2.01"}},{"v":2.013824351711103,"d":"2.01"},{"$f":"_xlfn.XLOOKUP($C9,$B$16:$B$532,$G$16:$G$532,\"\",0,1)","v":{"v":35.1,"d":"35.10"}},{"$f":"_xlfn.XLOOKUP($C9,$B$16:$B$532,$H$16:$H$532,\"\",0,1)","v":{"v":92.67015706806284,"d":"92.67"}},null,{"$f":"_xlfn.XLOOKUP($C9,$B$16:$B$532,$J$16:$J$532,\"\",0,1)","v":{"v":1.0471204188481675,"d":"1"}},{"$f":"_xlfn.XLOOKUP($C9,$B$16:$B$532,$K$16:$K$532,\"\",0,1)","v":6705},{"$f":"_xlfn.XLOOKUP($C9,$B$16:$B$532,$L$16:$L$532,\"\",0,1)","v":955},{"$f":"_xlfn.XLOOKUP($C9,$B$16:$B$532,$M$16:$M$532,\"\",0,1)","v":0.3},{"$f":"_xlfn.XLOOKUP($C9,$B$16:$B$532,$N$16:$N$532,\"\",0,1)","v":{"v":23.56020942408377,"d":"24"}},{"$f":"_xlfn.XLOOKUP($C9,$B$16:$B$532,$O$16:$O$532,\"\",0,1)","v":{"v":5.2356020942408374,"d":"5"}}]
[null,"3.",{"$f":"_xlfn.XLOOKUP(LARGE($F$16:$F$532,3),$F$16:$F$532,$B$16:$B$532,\"n/a\",0,1)","v":"G-buurt-Noord"},{"$f":"LARGE($F$16:$F$532,3)","v":{"v":3.9400081319573355,"d":"3.94"}},{"v":1.9543944097323327,"d":"1.95"},{"v":1.9543944097323327,"d":"1.95"},{"v":33.8,"d":"33.80"},{"v":90.93484419263456,"d":"90.93"},null,{"$f":"_xlfn.XLOOKUP($C10,$B$16:$B$532,$J$16:$J$532,\"\",0,1)","v":{"v":0.56657223796034,"d":"1"}},{"$f":"_xlfn.XLOOKUP($C10,$B$16:$B$532,$K$16:$K$532,\"\",0,1)","v":4013},{"$f":"_xlfn.XLOOKUP($C10,$B$16:$B$532,$L$16:$L$532,\"\",0,1)","v":1765},{"$f":"_xlfn.XLOOKUP($C10,$B$16:$B$532,$M$16:$M$532,\"\",0,1)","v":0.3},{"$f":"_xlfn.XLOOKUP($C10,$B$16:$B$532,$N$16:$N$532,\"\",0,1)","v":{"v":17.56373937677054,"d":"18"}},{"v":8.78186968838527,"d":"9"}]
[null,"4.",{"$f":"_xlfn.XLOOKUP(LARGE($F$16:$F$532,4),$F$16:$F$532,$B$16:$B$532,\"n/a\",0,1)","v":"Bijlmermuseum-Noord"},{"$f":"LARGE($F$16:$F$532,4)","v":{"v":3.927821017682273,"d":"3.93"}},{"v":1.9483491359125251,"d":"1.95"},{"v":1.9483491359125251,"d":"1.95"},{"v":34.2,"d":"34.20"},{"v":88.74458874458875,"d":"88.74"},null,{"$f":"_xlfn.XLOOKUP($C11,$B$16:$B$532,$J$16:$J$532,\"\",0,1)","v":{"v":1.7316017316017316,"d":"2"}},{"$f":"_xlfn.XLOOKUP($C11,$B$16:$B$532,$K$16:$K$532,\"\",0,1)","v":3910},{"$f":"_xlfn.XLOOKUP($C11,$B$16:$B$532,$L$16:$L$532,\"\",0,1)","v":2310},{"$f":"_xlfn.XLOOKUP($C11,$B$16:$B$532,$M$16:$M$532,\"\",0,1)","v":0.3},{"$f":"_xlfn.XLOOKUP($C11,$B$16:$B$532,$N$16:$N$532,\"\",0,1)","v":{"v":15.584415584415584,"d":"16"}},{"v":20.995670995670995,"d":"21"}]
[null,"5.",{"$f":"_xlfn.XLOOKUP(LARGE($F$16:$F$532,5),$F$16:$F$532,$B$16:$B$532,\"n/a\",0,1)","v":"Holendrecht-West"},{"$f":"LARGE($F$16:$F$532,5)","v":{"v":3.9006647021632954,"d":"3.90"}},{"v":1.9348785669538637,"d":"1.93"},{"v":1.9348785669538637,"d":"1.93"},{"v":35.9,"d":"35.90"},{"v":80.80438756855575,"d":"80.80"},null,{"$f":"_xlfn.XLOOKUP($C12,$B$16:$B$532,$J$16:$J$532,\"\",0,1)","v":{"v":1.0968921389396709,"d":"1"}},{"$f":"_xlfn.XLOOKUP($C12,$B$16:$B$532,$K$16:$K$532,\"\",0,1)","v":2841},{"$f":"_xlfn.XLOOKUP($C12,$B$16:$B$532,$L$16:$L$532,\"\",0,1)","v":2735},{"$f":"_xlfn.XLOOKUP($C12,$B$16:$B$532,$M$16:$M$532,\"\",0,1)","v":0.4},{"$f":"_xlfn.XLOOKUP($C12,$B$16:$B$532,$N$16:$N$532,\"\",0,1)","v":{"v":20.47531992687386,"d":"20"}},{"v":20.29250457038391,"d":"20"}]
[]
[null,"Cijfertool",null,null,"Index","Index voor correctie","Verkennende variabele 1","Verkennende variabele 2",null,"Verdiepende variabele 1","Verdiepende variabele 2","Verdiepende variabele 3","Verdiepende variabele 4","Verdiepende variabele 5","Verdiepende variabele 6"]
[null,{"$f":"C4","v":"Buurt"},"Wijk",null,"Mate van geen toegang tot het fietsen (index)",null,"Percentage huishoudens onder 110% Wettelijk Sociaal Minimum","Percentage geboren buiten NL",null,"Percentage WO student","OAD","Aantal inwoners","Gemiddeld autobezit per huishouden","Percentage kinderen tussen 0 en 14 jaar","Percentage senioren (65+)"]
[null,{"$f":"IF('Gefilterde data'!C3=0,\"\",'Gefilterde data'!C3)","v":"Planciusbuurt-Noord"},{"$f":"IF(B16=\"\",\"\",IF(LEFT(D16,2)=\"BU\",'Gefilterde data'!G3,\"-\"))","v":"Haarlemmerbuurt"},{"$f":"IF('Gefilterde data'!C3=0,\"\",'Gefilterde data'!A3)","v":"BU0363AA01"},{"$f":"IF(G16=\"\",\"\",IF(OR(NOT(ISNUMBER(G16)),NOT(ISNUMBER(H16))),\"Ontbrekende waarde\",F16/F$1))","v":{"v":1.0939719841415827,"d":"1.09"}},{"$f":"IF(G16=\"\",\"\",IF(OR(NOT(ISNUMBER(G16)),NOT(ISNUMBER(H16))),\"Ontbrekende waarde\",((G16/AVERAGE(G$16:G$532)+H16/AVERAGE(H$16:H$532)))))","v":{"v":2.2054189738711214,"d":"2.21"}},{"$f":"IF('Gefilterde data'!CL3=0,\"\",'Gefilterde data'!CL3)","v":18.2},{"$f":"IF('Gefilterde data'!DX3=0,\"\",'Gefilterde data'!DX3)","v":{"v":53.62318840579711,"d":"53.6"}},null,{"$f":"IF('Gefilterde data'!DZ3=0,\"\",'Gefilterde data'!DZ3)","v":{"v":2.898550724637681,"d":"3"}},{"$f":"IF('Gefilterde data'!DW3=0,\"\",'Gefilterde data'!DW3)","v":{"v":8723,"d":"8,723"}},{"$f":"IF('Gefilterde data'!I3=0,\"\",'Gefilterde data'!I3)","v":345},{"$f":"IF('Gefilterde data'!DI3=0,\"\",'Gefilterde data'!DI3)","v":0.2},{"$f":"IF('Gefilterde data'!EA3=0,\"\",'Gefilterde data'!EA3)","v":{"v":4.3478260869565215,"d":"4"}},{"$f":"IF('Gefilterde data'!EA3=0,\"\",'Gefilterde data'!EB3)","v":{"v":10.144927536231885,"d":"10"}}]
[null,{"$f":"IF('Gefilterde data'!C4=0,\"\",'Gefilterde data'!C4)","v":"Westelijke eilanden"},{"$f":"IF(B17=\"\",\"\",IF(LEFT(D17,2)=\"BU\",'Gefilterde data'!G4,\"-\"))","v":"Haarlemmerbuurt"},{"$f":"IF('Gefilterde data'!C4=0,\"\",'Gefilterde data'!A4)","v":"BU0363AA02"},{"$f":"IF(G17=\"\",\"\",IF(OR(NOT(ISNUMBER(G17)),NOT(ISNUMBER(H17))),\"Ontbrekende waarde\",F17/F$1))","v":{"v":0.9240210486263273,"d":"0.92"}},{"$f":"IF(G17=\"\",\"\",IF(OR(NOT(ISNUMBER(G17)),NOT(ISNUMBER(H17))),\"Ontbrekende waarde\",((G17/AVERAGE(G$16:G$532)+H17/AVERAGE(H$16:H$532)))))","v":{"v":1.8628023225803667,"d":"1.86"}},{"$f":"IF('Gefilterde data'!CL4=0,\"\",'Gefilterde data'!CL4)","v":15.4},{"$f":"IF('Gefilterde data'!DX4=0,\"\",'Gefilterde data'!DX4)","v":{"v":45.18900343642612,"d":"45.2"}},null,{"$f":"IF('Gefilterde data'!DZ4=0,\"\",'Gefilterde data'!DZ4)","v":{"v":3.7800687285223367,"d":"4"}},{"$f":"IF('Gefilterde data'!DW4=0,\"\",'Gefilterde data'!DW4)","v":{"v":7797,"d":"7,797"}},{"$f":"IF('Gefilterde data'!I4=0,\"\",'Gefilterde data'!I4)","v":{"v":2910,"d":"2,910"}},{"$f":"IF('Gefilterde data'!DI4=0,\"\",'Gefilterde data'!DI4)","v":0.4},{"$f":"IF('Gefilterde data'!EA4=0,\"\",'Gefilterde data'!EA4)","v":{"v":9.965635738831615,"d":"10"}},{"$f":"IF('Gefilterde data'!EA4=0,\"\",'Gefilterde data'!EB4)","v":{"v":20.103092783505154,"d":"20"}}]
[null,{"$f":"IF('Gefilterde data'!C5=0,\"\",'Gefilterde data'!C5)","v":"Westerdokseiland"},{"$f":"IF(B18=\"\",\"\",IF(LEFT(D18,2)=\"BU\",'Gefilterde data'!G5,\"-\"))","v":"Haarlemmerbuurt"},{"$f":"IF('Gefilterde data'!C5=0,\"\",'Gefilterde data'!A5)","v":"BU0363AA03"},{"v":0.8873438819198947,"d":"0.89"},{"v":1.7888621115559753,"d":"1.79"},{"$f":"IF('Gefilterde data'!CL5=0,\"\",'Gefilterde data'!CL5)","v":12.5},{"$f":"IF('Gefilterde data'!DX5=0,\"\",'Gefilterde data'!DX5)","v":{"v":52.054794520547944,"d":"52.1"}},null,{"$f":"IF('Gefilterde data'!DZ5=0,\"\",'Gefilterde data'!DZ5)","v":{"v":1.643835616438356,"d":"2"}},{"$f":"IF('Gefilterde data'!DW5=0,\"\",'Gefilterde data'!DW5)","v":{"v":6823,"d":"6,823"}},{"$f":"IF('Gefilterde data'!I5=0,\"\",'Gefilterde data'!I5)","v":{"v":1825,"d":"1,825"}},{"$f":"IF('Gefilterde data'!DI5=0,\"\",'Gefilterde data'!DI5)","v":0.5},{"$f":"IF('Gefilterde data'!EA5=0,\"\",'Gefilterde data'!EA5)","v":{"v":11.506849315068493,"d":"12"}},{"$f":"IF('Gefilterde data'!EA5=0,\"\",'Gefilterde data'!EB5)","v":{"v":22.465753424657535,"d":"22"}}]
[null,{"$f":"IF('Gefilterde data'!C6=0,\"\",'Gefilterde data'!C6)","v":"Planciusbuurt-Zuid"},{"$f":"IF(B19=\"\",\"\",IF(LEFT(D19,2)=\"BU\",'Gefilterde data'!G6,\"-\"))","v":"Haarlemmerbuurt"},{"$f":"IF('Gefilterde data'!C6=0,\"\",'Gefilterde data'!A6)","v":"BU0363AA04"},{"v":1.4501835968740475,"d":"1.45"},{"v":2.9235322901365746,"d":"2.92"},{"$f":"IF('Gefilterde data'!CL6=0,\"\",'Gefilterde data'!CL6)","v":30.9},{"$f":"IF('Gefilterde data'!DX6=0,\"\",'Gefilterde data'!DX6)","v":{"v":45.45454545454545,"d":"45.5"}},null,{"$f":"IF('Gefilterde data'!DZ6=0,\"\",'Gefilterde data'!DZ6)","v":""},{"$f":"IF('Gefilterde data'!DW6=0,\"\",'Gefilterde data'!DW6)","v":{"v":8984,"d":"8,984"}},{"$f":"IF('Gefilterde data'!I6=0,\"\",'Gefilterde data'!I6)","v":165},{"$f":"IF('Gefilterde data'!DI6=0,\"\",'Gefilterde data'!DI6)","v":0.2},{"$f":"IF('Gefilterde data'!EA6=0,\"\",'Gefilterde data'!EA6)","v":{"v":6.0606060606060606,"d":"6"}},{"$f":"IF('Gefilterde data'!EA6=0,\"\",'Gefilterde data'!EB6)","v":{"v":18.181818181818183,"d":"18"}}]
[null,{"$f":"IF('Gefilterde data'!C7=0,\"\",'Gefilterde data'!C7)","v":"Haarlemmerbuurt-West"},{"$f":"IF(B20=\"\",\"\",IF(LEFT(D20,2)=\"BU\",'Gefilterde data'!G7,\"-\"))","v":"Haarlemmerbuurt"},{"$f":"IF('Gefilterde data'!C7=0,\"\",'Gefilterde data'!A7)","v":"BU0363AA05"},{"v":1.0339914739216522,"d":"1.03"},{"v":2.0844998304021005,"d":"2.08"},{"$f":"IF('Gefilterde data'!CL7=0,\"\",'Gefilterde data'!CL7)","v":17.8},{"$f":"IF('Gefilterde data'!DX7=0,\"\",'Gefilterde data'!DX7)","v":{"v":48.421052631578945,"d":"48.4"}},null,{"$f":"IF('Gefilterde data'!DZ7=0,\"\",'Gefilterde data'!DZ7)","v":{"v":4.2105263157894735,"d":"4"}},{"$f":"IF('Gefilterde data'!DW7=0,\"\",'Gefilterde data'!DW7)","v":{"v":9613,"d":"9,613"}},{"$f":"IF('Gefilterde data'!I7=0,\"\",'Gefilterde data'!I7)","v":{"v":2375,"d":"2,375"}},{"$f":"IF('Gefilterde data'!DI7=0,\"\",'Gefilterde data'!DI7)","v":0.3},{"$f":"IF('Gefilterde data'!EA7=0,\"\",'Gefilterde data'!EA7)","v":8},{"$f":"IF('Gefilterde data'!EA7=0,\"\",'Gefilterde data'!EB7)","v":{"v":18.736842105263158,"d":"19"}}]
[null,{"$f":"IF('Gefilterde data'!C8=0,\"\",'Gefilterde data'!C8)","v":"Haarlemmerbuurt-Oost"},{"$f":"IF(B21=\"\",\"\",IF(LEFT(D21,2)=\"BU\",'Gefilterde data'!G8,\"-\"))","v":"Haarlemmerbuurt"},{"$f":"IF('Gefilterde data'!C8=0,\"\",'Gefilterde data'!A8)","v":"BU0363AA06"},{"v":0.8266809664051165,"d":"0.83"},{"v":1.6665672568192587,"d":"1.67"},{"$f":"IF('Gefilterde data'!CL8=0,\"\",'Gefilterde data'!CL8)","v":12.6},{"$f":"IF('Gefilterde data'!DX8=0,\"\",'Gefilterde data'!DX8)","v":{"v":44.884488448844884,"d":"44.9"}},null,{"$f":"IF('Gefilterde data'!DZ8=0,\"\",'Gefilterde data'!DZ8)","v":{"v":5.2805280528052805,"d":"5"}},{"$f":"IF('Gefilterde data'!DW8=0,\"\",'Gefilterde data'!DW8)","v":{"v":8303,"d":"8,303"}},{"$f":"IF('Gefilterde data'!I8=0,\"\",'Gefilterde data'!I8)","v":{"v":1515,"d":"1,515"}},{"$f":"IF('Gefilterde data'!DI8=0,\"\",'Gefilterde data'!DI8)","v":0.3},{"$f":"IF('Gefilterde data'!EA8=0,\"\",'Gefilterde data'!EA8)","v":{"v":6.270627062706271,"d":"6"}},{"$f":"IF('Gefilterde data'!EA8=0,\"\",'Gefilterde data'!EB8)","v":{"v":17.82178217821782,"d":"18"}}]
[null,{"$f":"IF('Gefilterde data'!C9=0,\"\",'Gefilterde data'!C9)","v":"Marnixbuurt-Noord"},{"$f":"IF(B22=\"\",\"\",IF(LEFT(D22,2)=\"BU\",'Gefilterde data'!G9,\"-\"))","v":"Jordaan"},{"$f":"IF('Gefilterde data'!C9=0,\"\",'Gefilterde data'!A9)","v":"BU0363AB01"},{"v":1.110145917413865,"d":"1.11"},{"v":2.238025201304639,"d":"2.24"},{"$f":"IF('Gefilterde data'!CL9=0,\"\",'Gefilterde data'!CL9)","v":19.5},{"$f":"IF('Gefilterde data'!DX9=0,\"\",'Gefilterde data'!DX9)","v":{"v":50.51546391752577,"d":"50.5"}},null,{"$f":"IF('Gefilterde data'!DZ9=0,\"\",'Gefilterde data'!DZ9)","v":{"v":3.436426116838488,"d":"3"}},{"$f":"IF('Gefilterde data'!DW9=0,\"\",'Gefilterde data'!DW9)","v":{"v":10924,"d":"10,924"}},{"$f":"IF('Gefilterde data'!I9=0,\"\",'Gefilterde data'!I9)","v":{"v":1455,"d":"1,455"}},{"$f":"IF('Gefilterde data'!DI9=0,\"\",'Gefilterde data'!DI9)","v":0.3},{"$f":"IF('Gefilterde data'!EA9=0,\"\",'Gefilterde data'!EA9)","v":{"v":8.59106529209622,"d":"9"}},{"$f":"IF('Gefilterde data'!EA9=0,\"\",'Gefilterde data'!EB9)","v":{"v":17.869415807560138,"d":"18"}}]
[null,{"$f":"IF('Gefilterde data'!C10=0,\"\",'Gefilterde data'!C10)","v":"Driehoekbuurt"},{"$f":"IF(B23=\"\",\"\",IF(LEFT(D23,2)=\"BU\",'Gefilterde data'!G10,\"-\"))","v":"Jordaan"},{"$f":"IF('Gefilterde data'!C10=0,\"\",'Gefilterde data'!A10)","v":"BU0363AB02"},{"v":1.0125543315798193,"d":"1.01"},{"v":2.0412831108228033,"d":"2.04"},{"$f":"IF('Gefilterde data'!CL10=0,\"\",'Gefilterde data'!CL10)","v":17.5},{"$f":"IF('Gefilterde data'!DX10=0,\"\",'Gefilterde data'!DX10)","v":{"v":47.1559633027523,"d":"47.2"}},null,{"$f":"IF('Gefilterde data'!DZ10=0,\"\",'Gefilterde data'!DZ10)","v":{"v":4.4036697247706424,"d":"4"}},{"$f":"IF('Gefilterde data'!DW10=0,\"\",'Gefilterde data'!DW10)","v":{"v":10744,"d":"10,744"}},{"$f":"IF('Gefilterde data'!I10=0,\"\",'Gefilterde data'!I10)","v":{"v":2725,"d":"2,725"}},{"$f":"IF('Gefilterde data'!DI10=0,\"\",'Gefilterde data'!DI10)","v":0.3},{"$f":"IF('Gefilterde data'!EA10=0,\"\",'Gefilterde data'!EA10)","v":{"v":7.889908256880735,"d":"8"}},{"$f":"IF('Gefilterde data'!EA10=0,\"\",'Gefilterde data'!EB10)","v":{"v":16.51376146788991,"d":"17"}}]
[null,{"$f":"IF('Gefilterde data'!C11=0,\"\",'Gefilterde data'!C11)","v":"Anjeliersbuurt-Noord"},{"$f":"IF(B24=\"\",\"\",IF(LEFT(D24,2)=\"BU\",'Gefilterde data'!G11,\"-\"))","v":"Jordaan"},{"$f":"IF('Gefilterde data'!C11=0,\"\",'Gefilterde data'!A11)","v":"BU0363AB03"},{"v":0.8459823662396689,"d":"0.85"},{"v":1.7054783752340477,"d":"1.71"},{"$f":"IF('Gefilterde data'!CL11=0,\"\",'Gefilterde data'!CL11)","v":14.5},{"$f":"IF('Gefilterde data'!DX11=0,\"\",'Gefilterde data'!DX11)","v":{"v":39.856801909307876,"d":"39.9"}},null,{"$f":"IF('Gefilterde data'!DZ11=0,\"\",'Gefilterde data'!DZ11)","v":{"v":4.77326968973747,"d":"5"}},{"$f":"IF('Gefilterde data'!DW11=0,\"\",'Gefilterde data'!DW11)","v":{"v":11013,"d":"11,013"}},{"$f":"IF('Gefilterde data'!I11=0,\"\",'Gefilterde data'!I11)","v":{"v":2095,"d":"2,095"}},{"$f":"IF('Gefilterde data'!DI11=0,\"\",'Gefilterde data'!DI11)","v":0.4},{"$f":"IF('Gefilterde data'!EA11=0,\"\",'Gefilterde data'!EA11)","v":{"v":7.398568019093078,"d":"7"}},{"$f":"IF('Gefilterde data'!EA11=0,\"\",'Gefilterde data'!EB11)","v":{"v":18.138424821002385,"d":"18"}}]
[null,{"$f":"IF('Gefilterde data'!C12=0,\"\",'Gefilterde data'!C12)","v":"Zaagpoortbuurt"},{"$f":"IF(B25=\"\",\"\",IF(LEFT(D25,2)=\"BU\",'Gefilterde data'!G12,\"-\"))","v":"Jordaan"},{"$f":"IF('Gefilterde data'!C12=0,\"\",'Gefilterde data'!A12)","v":"BU0363AB04"},{"v":1.3738119150765857,"d":"1.37"},{"v":2.769568972479281,"d":"2.77"},{"$f":"IF('Gefilterde data'!CL12=0,\"\",'Gefilterde data'!CL12)","v":25.2},{"$f":"IF('Gefilterde data'!DX12=0,\"\",'Gefilterde data'!DX12)","v":{"v":58.46994535519126,"d":"58.5"}},null,{"$f":"IF('Gefilterde data'!DZ12=0,\"\",'Gefilterde data'!DZ12)","v":{"v":7.650273224043716,"d":"8"}},{"$f":"IF('Gefilterde data'!DW12=0,\"\",'Gefilterde data'!DW12)","v":{"v":12438,"d":"12,438"}},{"$f":"IF('Gefilterde data'!I12=0,\"\",'Gefilterde data'!I12)","v":915},{"$f":"IF('Gefilterde data'!DI12=0,\"\",'Gefilterde data'!DI12)","v":0.2},{"$f":"IF('Gefilterde data'!EA12=0,\"\",'Gefilterde data'!EA12)","v":{"v":5.46448087431694,"d":"5"}},{"$f":"IF('Gefilterde data'!EA12=0,\"\",'Gefilterde data'!EB12)","v":{"v":9.289617486338798,"d":"9"}}]
[null,{"$f":"IF('Gefilterde data'!C13=0,\"\",'Gefilterde data'!C13)","v":"Anjeliersbuurt-Zuid"},{"$f":"IF(B26=\"\",\"\",IF(LEFT(D26,2)=\"BU\",'Gefilterde data'!G13,\"-\"))","v":"Jordaan"},{"$f":"IF('Gefilterde data'!C13=0,\"\",'Gefilterde data'!A13)","v":"BU0363AB05"},{"v":0.9789739151317414,"d":"0.98"},{"v":1.9735858675125026,"d":"1.97"},{"$f":"IF('Gefilterde data'!CL13=0,\"\",'Gefilterde data'!CL13)","v":17.5},{"$f":"IF('Gefilterde data'!DX13=0,\"\",'Gefilterde data'!DX13)","v":{"v":43.39622641509434,"d":"43.4"}},null,{"$f":"IF('Gefilterde data'!DZ13=0,\"\",'Gefilterde data'!DZ13)","v":{"v":5.145797598627787,"d":"5"}},{"$f":"IF('Gefilterde data'!DW13=0,\"\",'Gefilterde data'!DW13)","v":{"v":11876,"d":"11,876"}},{"$f":"IF('Gefilterde data'!I13=0,\"\",'Gefilterde data'!I13)","v":{"v":2915,"d":"2,915"}},{"$f":"IF('Gefilterde data'!DI13=0,\"\",'Gefilterde data'!DI13)","v":0.3},{"$f":"IF('Gefilterde data'!EA13=0,\"\",'Gefilterde data'!EA13)","v":{"v":7.718696397941681,"d":"8"}},{"$f":"IF('Gefilterde data'!EA13=0,\"\",'Gefilterde data'!EB13)","v":{"v":19.725557461406517,"d":"20"}}]
[null,{"$f":"IF('Gefilterde data'!C14=0,\"\",'Gefilterde data'!C14)","v":"Marnixbuurt-Midden"},{"$f":"IF(B27=\"\",\"\",IF(LEFT(D27,2)=\"BU\",'Gefilterde data'!G14,\"-\"))","v":"Jordaan"},{"$f":"IF('Gefilterde data'!C14=0,\"\",'Gefilterde data'!A14)","v":"BU0363AB06"},{"v":0.6776098447601236,"d":"0.68"},{"v":1.3660437654520718,"d":"1.37"},{"$f":"IF('Gefilterde data'!CL14=0,\"\",'Gefilterde data'!CL14)","v":5.3},{"$f":"IF('Gefilterde data'!DX14=0,\"\",'Gefilterde data'!DX14)","v":{"v":55.81395348837209,"d":"55.8"}},null,{"$f":"IF('Gefilterde data'!DZ14=0,\"\",'Gefilterde data'!DZ14)","v":{"v":4.651162790697675,"d":"5"}},{"$f":"IF('Gefilterde data'!DW14=0,\"\",'Gefilterde data'!DW14)","v":{"v":12047,"d":"12,047"}},{"$f":"IF('Gefilterde data'!I14=0,\"\",'Gefilterde data'!I14)","v":215},{"$f":"IF('Gefilterde data'!DI14=0,\"\",'Gefilterde data'!DI14)","v":0.3},{"$f":"IF('Gefilterde data'!EA14=0,\"\",'Gefilterde data'!EA14)","v":{"v":6.976744186046512,"d":"7"}},{"$f":"IF('Gefilterde data'!EA14=0,\"\",'Gefilterde data'!EB14)","v":{"v":6.976744186046512,"d":"7"}}]
[null,{"$f":"IF('Gefilterde data'!C15=0,\"\",'Gefilterde data'!C15)","v":"Bloemgrachtbuurt"},{"$f":"IF(B28=\"\",\"\",IF(LEFT(D28,2)=\"BU\",'Gefilterde data'!G15,\"-\"))","v":"Jordaan"},{"$f":"IF('Gefilterde data'!C15=0,\"\",'Gefilterde data'!A15)","v":"BU0363AB07"},{"v":0.9227078061876749,"d":"0.92"},{"v":1.8601548600918556,"d":"1.86"},{"$f":"IF('Gefilterde data'!CL15=0,\"\",'Gefilterde data'!CL15)","v":14.4},{"$f":"IF('Gefilterde data'!DX15=0,\"\",'Gefilterde data'!DX15)","v":{"v":48.8255033557047,"d":"48.8"}},null,{"$f":"IF('Gefilterde data'!DZ15=0,\"\",'Gefilterde data'!DZ15)","v":{"v":6.0402684563758395,"d":"6"}},{"$f":"IF('Gefilterde data'!DW15=0,\"\",'Gefilterde data'!DW15)","v":{"v":12003,"d":"12,003"}},{"$f":"IF('Gefilterde data'!I15=0,\"\",'Gefilterde data'!I15)","v":{"v":2980,"d":"2,980"}},{"$f":"IF('Gefilterde data'!DI15=0,\"\",'Gefilterde data'!DI15)","v":0.3},{"$f":"IF('Gefilterde data'!EA15=0,\"\",'Gefilterde data'!EA15)","v":{"v":8.221476510067115,"d":"8"}},{"$f":"IF('Gefilterde data'!EA15=0,\"\",'Gefilterde data'!EB15)","v":{"v":16.2751677852349,"d":"16"}}]
[null,{"$f":"IF('Gefilterde data'!C16=0,\"\",'Gefilterde data'!C16)","v":"Groenmarktkadebuurt"},{"$f":"IF(B29=\"\",\"\",IF(LEFT(D29,2)=\"BU\",'Gefilterde data'!G16,\"-\"))","v":"Jordaan"},{"$f":"IF('Gefilterde data'!C16=0,\"\",'Gefilterde data'!A16)","v":"BU0363AB08"},{"v":0.7380873754781433,"d":"0.74"},{"v":1.4879648892759632,"d":"1.49"},{"$f":"IF('Gefilterde data'!CL16=0,\"\",'Gefilterde data'!CL16)","v":8.2},{"$f":"IF('Gefilterde data'!DX16=0,\"\",'Gefilterde data'!DX16)","v":{"v":51.61290322580645,"d":"51.6"}},null,{"$f":"IF('Gefilterde data'!DZ16=0,\"\",'Gefilterde data'!DZ16)","v":{"v":12.903225806451612,"d":"13"}},{"$f":"IF('Gefilterde data'!DW16=0,\"\",'Gefilterde data'!DW16)","v":{"v":12038,"d":"12,038"}},{"$f":"IF('Gefilterde data'!I16=0,\"\",'Gefilterde data'!I16)","v":310},{"$f":"IF('Gefilterde data'!DI16=0,\"\",'Gefilterde data'!DI16)","v":0.2},{"$f":"IF('Gefilterde data'!EA16=0,\"\",'Gefilterde data'!EA16)","v":{"v":3.225806451612903,"d":"3"}},{"$f":"IF('Gefilterde data'!EA16=0,\"\",'Gefilterde data'!EB16)","v":{"v":8.064516129032258,"d":"8"}}]
[null,{"$f":"IF('Gefilterde data'!C17=0,\"\",'Gefilterde data'!C17)","v":"Marnixbuurt-Zuid"},{"$f":"IF(B30=\"\",\"\",IF(LEFT(D30,2)=\"BU\",'Gefilterde data'!G17,\"-\"))","v":"Jordaan"},{"$f":"IF('Gefilterde data'!C17=0,\"\",'Gefilterde data'!A17)","v":"BU0363AB09"},{"v":0.9838873607464291,"d":"0.98"},{"v":1.9834912456600238,"d":"1.98"},{"$f":"IF('Gefilterde data'!CL17=0,\"\",'Gefilterde data'!CL17)","v":15.9},{"$f":"IF('Gefilterde data'!DX17=0,\"\",'Gefilterde data'!DX17)","v":{"v":50,"d":"50.0"}},null,{"$f":"IF('Gefilterde data'!DZ17=0,\"\",'Gefilterde data'!DZ17)","v":{"v":5.714285714285714,"d":"6"}},{"$f":"IF('Gefilterde data'!DW17=0,\"\",'Gefilterde data'!DW17)","v":{"v":11370,"d":"11,370"}},{"$f":"IF('Gefilterde data'!I17=0,\"\",'Gefilterde data'!I17)","v":700},{"$f":"IF('Gefilterde data'!DI17=0,\"\",'Gefilterde data'!DI17)","v":0.2},{"$f":"IF('Gefilterde data'!EA17=0,\"\",'Gefilterde data'!EA17)","v":{"v":4.285714285714286,"d":"4"}},{"$f":"IF('Gefilterde data'!EA17=0,\"\",'Gefilterde data'!EB17)","v":{"v":27.857142857142858,"d":"28"}}]
[null,{"$f":"IF('Gefilterde data'!C18=0,\"\",'Gefilterde data'!C18)","v":"Elandsgrachtbuurt"},{"$f":"IF(B31=\"\",\"\",IF(LEFT(D31,2)=\"BU\",'Gefilterde data'!G18,\"-\"))","v":"Jordaan"},{"$f":"IF('Gefilterde data'!C18=0,\"\",'Gefilterde data'!A18)","v":"BU0363AB10"},{"v":1.0151929232854506,"d":"1.02"},{"v":2.0466024428498155,"d":"2.05"},{"$f":"IF('Gefilterde data'!CL18=0,\"\",'Gefilterde data'!CL18)","v":17.3},{"$f":"IF('Gefilterde data'!DX18=0,\"\",'Gefilterde data'!DX18)","v":{"v":48.20809248554913,"d":"48.2"}},null,{"$f":"IF('Gefilterde data'!DZ18=0,\"\",'Gefilterde data'!DZ18)","v":{"v":5.5491329479768785,"d":"6"}},{"$f":"IF('Gefilterde data'!DW18=0,\"\",'Gefilterde data'!DW18)","v":{"v":11783,"d":"11,783"}},{"$f":"IF('Gefilterde data'!I18=0,\"\",'Gefilterde data'!I18)","v":{"v":4325,"d":"4,325"}},{"$f":"IF('Gefilterde data'!DI18=0,\"\",'Gefilterde data'!DI18)","v":0.3},{"$f":"IF('Gefilterde data'!EA18=0,\"\",'Gefilterde data'!EA18)","v":{"v":7.398843930635839,"d":"7"}},{"$f":"IF('Gefilterde data'!EA18=0,\"\",'Gefilterde data'!EB18)","v":{"v":18.728323699421964,"d":"19"}}]
[null,{"$f":"IF('Gefilterde data'!C19=0,\"\",'Gefilterde data'!C19)","v":"Passeerdersgrachtbuurt"},{"$f":"IF(B32=\"\",\"\",IF(LEFT(D32,2)=\"BU\",'Gefilterde data'!G19,\"-\"))","v":"Jordaan"},{"$f":"IF('Gefilterde data'!C19=0,\"\",'Gefilterde data'!A19)","v":"BU0363AB11"},{"v":1.0302585293801392,"d":"1.03"},{"v":2.0769743116140473,"d":"2.08"},{"$f":"IF('Gefilterde data'!CL19=0,\"\",'Gefilterde data'!CL19)","v":17.2},{"$f":"IF('Gefilterde data'!DX19=0,\"\",'Gefilterde data'!DX19)","v":{"v":50.27322404371585,"d":"50.3"}},null,{"$f":"IF('Gefilterde data'!DZ19=0,\"\",'Gefilterde data'!DZ19)","v":{"v":4.371584699453552,"d":"4"}},{"$f":"IF('Gefilterde data'!DW19=0,\"\",'Gefilterde data'!DW19)","v":{"v":10307,"d":"10,307"}},{"$f":"IF('Gefilterde data'!I19=0,\"\",'Gefilterde data'!I19)","v":915},{"$f":"IF('Gefilterde data'!DI19=0,\"\",'Gefilterde data'!DI19)","v":0.2},{"$f":"IF('Gefilterde data'!EA19=0,\"\",'Gefilterde data'!EA19)","v":{"v":5.46448087431694,"d":"5"}},{"$f":"IF('Gefilterde data'!EA19=0,\"\",'Gefilterde data'!EB19)","v":{"v":19.672131147540984,"d":"20"}}]
[null,{"$f":"IF('Gefilterde data'!C20=0,\"\",'Gefilterde data'!C20)","v":"Langestraat e.o."},{"$f":"IF(B33=\"\",\"\",IF(LEFT(D33,2)=\"BU\",'Gefilterde data'!G20,\"-\"))","v":"Grachtengordel-West"},{"$f":"IF('Gefilterde data'!C20=0,\"\",'Gefilterde data'!A20)","v":"BU0363AC01"},{"v":0.7496265243278963,"d":"0.75"},{"v":1.5112275122539525,"d":"1.51"},{"$f":"IF('Gefilterde data'!CL20=0,\"\",'Gefilterde data'!CL20)","v":9.7},{"$f":"IF('Gefilterde data'!DX20=0,\"\",'Gefilterde data'!DX20)","v":{"v":47.229551451187334,"d":"47.2"}},null,{"$f":"IF('Gefilterde data'!DZ20=0,\"\",'Gefilterde data'!DZ20)","v":{"v":6.33245382585752,"d":"6"}},{"$f":"IF('Gefilterde data'!DW20=0,\"\",'Gefilterde data'!DW20)","v":{"v":9729,"d":"9,729"}},{"$f":"IF('Gefilterde data'!I20=0,\"\",'Gefilterde data'!I20)","v":{"v":1895,"d":"1,895"}},{"$f":"IF('Gefilterde data'!DI20=0,\"\",'Gefilterde data'!DI20)","v":0.5},{"$f":"IF('Gefilterde data'!EA20=0,\"\",'Gefilterde data'!EA20)","v":{"v":8.443271767810026,"d":"8"}},{"$f":"IF('Gefilterde data'!EA20=0,\"\",'Gefilterde data'!EB20)","v":{"v":20.844327176781004,"d":"21"}}]
[null,{"$f":"IF('Gefilterde data'!C21=0,\"\",'Gefilterde data'!C21)","v":"Leliegracht e.o."},{"$f":"IF(B34=\"\",\"\",IF(LEFT(D34,2)=\"BU\",'Gefilterde data'!G21,\"-\"))","v":"Grachtengordel-West"},{"$f":"IF('Gefilterde data'!C21=0,\"\",'Gefilterde data'!A21)","v":"BU0363AC02"},{"v":0.7851408744120254,"d":"0.79"},{"v":1.5828235153103734,"d":"1.58"},{"$f":"IF('Gefilterde data'!CL21=0,\"\",'Gefilterde data'!CL21)","v":9.1},{"$f":"IF('Gefilterde data'!DX21=0,\"\",'Gefilterde data'!DX21)","v":{"v":53.475935828877006,"d":"53.5"}},null,{"$f":"IF('Gefilterde data'!DZ21=0,\"\",'Gefilterde data'!DZ21)","v":{"v":7.4866310160427805,"d":"7"}},{"$f":"IF('Gefilterde data'!DW21=0,\"\",'Gefilterde data'!DW21)","v":{"v":10958,"d":"10,958"}},{"$f":"IF('Gefilterde data'!I21=0,\"\",'Gefilterde data'!I21)","v":{"v":1870,"d":"1,870"}},{"$f":"IF('Gefilterde data'!DI21=0,\"\",'Gefilterde data'!DI21)","v":0.5},{"$f":"IF('Gefilterde data'!EA21=0,\"\",'Gefilterde data'!EA21)","v":{"v":6.417112299465241,"d":"6"}},{"$f":"IF('Gefilterde data'!EA21=0,\"\",'Gefilterde data'!EB21)","v":{"v":14.171122994652407,"d":"14"}}]
[null,{"$f":"IF('Gefilterde data'!C22=0,\"\",'Gefilterde data'!C22)","v":"Felix Meritisbuurt"},{"$f":"IF(B35=\"\",\"\",IF(LEFT(D35,2)=\"BU\",'Gefilterde data'!G22,\"-\"))","v":"Grachtengordel-West"},{"$f":"IF('Gefilterde data'!C22=0,\"\",'Gefilterde data'!A22)","v":"BU0363AC03"},{"v":0.801575418687917,"d":"0.80"},{"v":1.6159551277267712,"d":"1.62"},{"$f":"IF('Gefilterde data'!CL22=0,\"\",'Gefilterde data'!CL22)","v":9.9},{"$f":"IF('Gefilterde data'!DX22=0,\"\",'Gefilterde data'!DX22)","v":{"v":52.28915662650603,"d":"52.3"}},null,{"$f":"IF('Gefilterde data'!DZ22=0,\"\",'Gefilterde data'!DZ22)","v":{"v":7.228915662650602,"d":"7"}},{"$f":"IF('Gefilterde data'!DW22=0,\"\",'Gefilterde data'!DW22)","v":{"v":11681,"d":"11,681"}},{"$f":"IF('Gefilterde data'!I22=0,\"\",'Gefilterde data'!I22)","v":{"v":2075,"d":"2,075"}},{"$f":"IF('Gefilterde data'!DI22=0,\"\",'Gefilterde data'!DI22)","v":0.5},{"$f":"IF('Gefilterde data'!EA22=0,\"\",'Gefilterde data'!EA22)","v":{"v":5.783132530120482,"d":"6"}},{"$f":"IF('Gefilterde data'!EA22=0,\"\",'Gefilterde data'!EB22)","v":{"v":15.421686746987953,"d":"15"}}]
[null,{"$f":"IF('Gefilterde data'!C23=0,\"\",'Gefilterde data'!C23)","v":"Leidsegracht-Noord"},{"$f":"IF(B36=\"\",\"\",IF(LEFT(D36,2)=\"BU\",'Gefilterde data'!G23,\"-\"))","v":"Grachtengordel-West"},{"$f":"IF('Gefilterde data'!C23=0,\"\",'Gefilterde data'!A23)","v":"BU0363AC04"},{"v":0.859822126705644,"d":"0.86"},{"v":1.7333789711980687,"d":"1.73"},{"$f":"IF('Gefilterde data'!CL23=0,\"\",'Gefilterde data'!CL23)","v":10.8},{"$f":"IF('Gefilterde data'!DX23=0,\"\",'Gefilterde data'!DX23)","v":{"v":55.4054054054054,"d":"55.4"}},null,{"$f":"IF('Gefilterde data'!DZ23=0,\"\",'Gefilterde data'!DZ23)","v":{"v":8.108108108108109,"d":"8"}},{"$f":"IF('Gefilterde data'!DW23=0,\"\",'Gefilterde data'!DW23)","v":{"v":10004,"d":"10,004"}},{"$f":"IF('Gefilterde data'!I23=0,\"\",'Gefilterde data'!I23)","v":740},{"$f":"IF('Gefilterde data'!DI23=0,\"\",'Gefilterde data'!DI23)","v":0.5},{"$f":"IF('Gefilterde data'!EA23=0,\"\",'Gefilterde data'!EA23)","v":{"v":6.756756756756757,"d":"7"}},{"$f":"IF('Gefilterde data'!EA23=0,\"\",'Gefilterde data'!EB23)","v":{"v":16.216216216216218,"d":"16"}}]
[null,{"$f":"IF('Gefilterde data'!C24=0,\"\",'Gefilterde data'!C24)","v":"Stationsplein e.o."},{"$f":"IF(B37=\"\",\"\",IF(LEFT(D37,2)=\"BU\",'Gefilterde data'!G24,\"-\"))","v":"Burgwallen-Nieuwe Zijde"},{"$f":"IF('Gefilterde data'!C24=0,\"\",'Gefilterde data'!A24)","v":"BU0363AD01"},"Ontbrekende waarde","Ontbrekende waarde",{"$f":"IF('Gefilterde data'!CL24=0,\"\",'Gefilterde data'!CL24)","v":"."},{"$f":"IF('Gefilterde data'!DX24=0,\"\",'Gefilterde data'!DX24)","v":{"v":100,"d":"100.0"}},null,{"$f":"IF('Gefilterde data'!DZ24=0,\"\",'Gefilterde data'!DZ24)","v":""},{"$f":"IF('Gefilterde data'!DW24=0,\"\",'Gefilterde data'!DW24)","v":{"v":6747,"d":"6,747"}},{"$f":"IF('Gefilterde data'!I24=0,\"\",'Gefilterde data'!I24)","v":5},{"$f":"IF('Gefilterde data'!DI24=0,\"\",'Gefilterde data'!DI24)","v":"."},{"$f":"IF('Gefilterde data'!EA24=0,\"\",'Gefilterde data'!EA24)","v":""},{"$f":"IF('Gefilterde data'!EA24=0,\"\",'Gefilterde data'!EB24)","v":""}]
[null,{"$f":"IF('Gefilterde data'!C25=0,\"\",'Gefilterde data'!C25)","v":"Hemelrijk"},{"$f":"IF(B38=\"\",\"\",IF(LEFT(D38,2)=\"BU\",'Gefilterde data'!G25,\"-\"))","v":"Burgwallen-Nieuwe Zijde"},{"$f":"IF('Gefilterde data'!C25=0,\"\",'Gefilterde data'!A25)","v":"BU0363AD02"},{"v":1.0500406104436029,"d":"1.05"},{"v":2.116854470843402,"d":"2.12"},{"$f":"IF('Gefilterde data'!CL25=0,\"\",'Gefilterde data'!CL25)","v":14.7},{"$f":"IF('Gefilterde data'!DX25=0,\"\",'Gefilterde data'!DX25)","v":{"v":61.94690265486725,"d":"61.9"}},null,{"$f":"IF('Gefilterde data'!DZ25=0,\"\",'Gefilterde data'!DZ25)","v":{"v":8.849557522123893,"d":"9"}},{"$f":"IF('Gefilterde data'!DW25=0,\"\",'Gefilterde data'!DW25)","v":{"v":8884,"d":"8,884"}},{"$f":"IF('Gefilterde data'!I25=0,\"\",'Gefilterde data'!I25)","v":565},{"$f":"IF('Gefilterde data'!DI25=0,\"\",'Gefilterde data'!DI25)","v":0.2},{"$f":"IF('Gefilterde data'!EA25=0,\"\",'Gefilterde data'!EA25)","v":{"v":3.5398230088495577,"d":"4"}},{"$f":"IF('Gefilterde data'!EA25=0,\"\",'Gefilterde data'!EB25)","v":{"v":6.1946902654867255,"d":"6"}}]
[null,{"$f":"IF('Gefilterde data'!C26=0,\"\",'Gefilterde data'!C26)","v":"Nieuwendijk-Noord"},{"$f":"IF(B39=\"\",\"\",IF(LEFT(D39,2)=\"BU\",'Gefilterde data'!G26,\"-\"))","v":"Burgwallen-Nieuwe Zijde"},{"$f":"IF('Gefilterde data'!C26=0,\"\",'Gefilterde data'!A26)","v":"BU0363AD03"},{"v":1.1326738184968381,"d":"1.13"},{"v":2.283440862043763,"d":"2.28"},{"$f":"IF('Gefilterde data'!CL26=0,\"\",'Gefilterde data'!CL26)","v":15.2},{"$f":"IF('Gefilterde data'!DX26=0,\"\",'Gefilterde data'!DX26)","v":{"v":69.3069306930693,"d":"69.3"}},null,{"$f":"IF('Gefilterde data'!DZ26=0,\"\",'Gefilterde data'!DZ26)","v":{"v":7.920792079207921,"d":"8"}},{"$f":"IF('Gefilterde data'!DW26=0,\"\",'Gefilterde data'!DW26)","v":{"v":7205,"d":"7,205"}},{"$f":"IF('Gefilterde data'!I26=0,\"\",'Gefilterde data'!I26)","v":505},{"$f":"IF('Gefilterde data'!DI26=0,\"\",'Gefilterde data'!DI26)","v":0.2},{"$f":"IF('Gefilterde data'!EA26=0,\"\",'Gefilterde data'!EA26)","v":{"v":3.9603960396039604,"d":"4"}},{"$f":"IF('Gefilterde data'!EA26=0,\"\",'Gefilterde data'!EB26)","v":{"v":4.9504950495049505,"d":"5"}}]
[null,{"$f":"IF('Gefilterde data'!C27=0,\"\",'Gefilterde data'!C27)","v":"Spuistraat-Noord"},{"$f":"IF(B40=\"\",\"\",IF(LEFT(D40,2)=\"BU\",'Gefilterde data'!G27,\"-\"))","v":"Burgwallen-Nieuwe Zijde"},{"$f":"IF('Gefilterde data'!C27=0,\"\",'Gefilterde data'!A27)","v":"BU0363AD04"},{"v":0.8982786079151136,"d":"0.90"},{"v":1.8109062338310633,"d":"1.81"},{"$f":"IF('Gefilterde data'!CL27=0,\"\",'Gefilterde data'!CL27)","v":10.1},{"$f":"IF('Gefilterde data'!DX27=0,\"\",'Gefilterde data'!DX27)","v":{"v":62.35955056179775,"d":"62.4"}},null,{"$f":"IF('Gefilterde data'!DZ27=0,\"\",'Gefilterde data'!DZ27)","v":{"v":11.235955056179774,"d":"11"}},{"$f":"IF('Gefilterde data'!DW27=0,\"\",'Gefilterde data'!DW27)","v":{"v":9860,"d":"9,860"}},{"$f":"IF('Gefilterde data'!I27=0,\"\",'Gefilterde data'!I27)","v":890},{"$f":"IF('Gefilterde data'!DI27=0,\"\",'Gefilterde data'!DI27)","v":0.2},{"$f":"IF('Gefilterde data'!EA27=0,\"\",'Gefilterde data'!EA27)","v":{"v":3.3707865168539324,"d":"3"}},{"$f":"IF('Gefilterde data'!EA27=0,\"\",'Gefilterde data'!EB27)","v":{"v":7.865168539325842,"d":"8"}}]
[null,{"$f":"IF('Gefilterde data'!C28=0,\"\",'Gefilterde data'!C28)","v":"Nieuwe Kerk e.o."},{"$f":"IF(B41=\"\",\"\",IF(LEFT(D41,2)=\"BU\",'Gefilterde data'!G28,\"-\"))","v":"Burgwallen-Nieuwe Zijde"},{"$f":"IF('Gefilterde data'!C28=0,\"\",'Gefilterde data'!A28)","v":"BU0363AD05"},{"v":0.8039279214110184,"d":"0.80"},{"v":1.6206977118302228,"d":"1.62"},{"$f":"IF('Gefilterde data'!CL28=0,\"\",'Gefilterde data'!CL28)","v":8.4},{"$f":"IF('Gefilterde data'!DX28=0,\"\",'Gefilterde data'!DX28)","v":{"v":58.22784810126582,"d":"58.2"}},null,{"$f":"IF('Gefilterde data'!DZ28=0,\"\",'Gefilterde data'!DZ28)","v":{"v":11.39240506329114,"d":"11"}},{"$f":"IF('Gefilterde data'!DW28=0,\"\",'Gefilterde data'!DW28)","v":{"v":9666,"d":"9,666"}},{"$f":"IF('Gefilterde data'!I28=0,\"\",'Gefilterde data'!I28)","v":790},{"$f":"IF('Gefilterde data'!DI28=0,\"\",'Gefilterde data'!DI28)","v":0.2},{"$f":"IF('Gefilterde data'!EA28=0,\"\",'Gefilterde data'!EA28)","v":{"v":5.063291139240507,"d":"5"}},{"$f":"IF('Gefilterde data'!EA28=0,\"\",'Gefilterde data'!EB28)","v":{"v":5.69620253164557,"d":"6"}}]
[null,{"$f":"IF('Gefilterde data'!C29=0,\"\",'Gefilterde data'!C29)","v":"Spuistraat-Zuid"},{"$f":"IF(B42=\"\",\"\",IF(LEFT(D42,2)=\"BU\",'Gefilterde data'!G29,\"-\"))","v":"Burgwallen-Nieuwe Zijde"},{"$f":"IF('Gefilterde data'!C29=0,\"\",'Gefilterde data'!A29)","v":"BU0363AD06"},{"v":1.0112381242602257,"d":"1.01"},{"v":2.0386296712116807,"d":"2.04"},{"$f":"IF('Gefilterde data'!CL29=0,\"\",'Gefilterde data'!CL29)","v":14.1},{"$f":"IF('Gefilterde data'!DX29=0,\"\",'Gefilterde data'!DX29)","v":{"v":59.87261146496815,"d":"59.9"}},null,{"$f":"IF('Gefilterde data'!DZ29=0,\"\",'Gefilterde data'!DZ29)","v":{"v":8.9171974522293,"d":"9"}},{"$f":"IF('Gefilterde data'!DW29=0,\"\",'Gefilterde data'!DW29)","v":{"v":10146,"d":"10,146"}},{"$f":"IF('Gefilterde data'!I29=0,\"\",'Gefilterde data'!I29)","v":785},{"$f":"IF('Gefilterde data'!DI29=0,\"\",'Gefilterde data'!DI29)","v":0.2},{"$f":"IF('Gefilterde data'!EA29=0,\"\",'Gefilterde data'!EA29)","v":{"v":4.45859872611465,"d":"4"}},{"$f":"IF('Gefilterde data'!EA29=0,\"\",'Gefilterde data'!EB29)","v":{"v":10.828025477707007,"d":"11"}}]
[null,{"$f":"IF('Gefilterde data'!C30=0,\"\",'Gefilterde data'!C30)","v":"Begijnhofbuurt"},{"$f":"IF(B43=\"\",\"\",IF(LEFT(D43,2)=\"BU\",'Gefilterde data'!G30,\"-\"))","v":"Burgwallen-Nieuwe Zijde"},{"$f":"IF('Gefilterde data'!C30=0,\"\",'Gefilterde data'!A30)","v":"BU0363AD07"},{"v":0.9369490320897592,"d":"0.94"},{"v":1.8888647998992143,"d":"1.89"},{"$f":"IF('Gefilterde data'!CL30=0,\"\",'Gefilterde data'!CL30)","v":12.5},{"$f":"IF('Gefilterde data'!DX30=0,\"\",'Gefilterde data'!DX30)","v":{"v":57.608695652173914,"d":"57.6"}},null,{"$f":"IF('Gefilterde data'!DZ30=0,\"\",'Gefilterde data'!DZ30)","v":{"v":6.521739130434782,"d":"7"}},{"$f":"IF('Gefilterde data'!DW30=0,\"\",'Gefilterde data'!DW30)","v":{"v":10098,"d":"10,098"}},{"$f":"IF('Gefilterde data'!I30=0,\"\",'Gefilterde data'!I30)","v":460},{"$f":"IF('Gefilterde data'!DI30=0,\"\",'Gefilterde data'!DI30)","v":0.2},{"$f":"IF('Gefilterde data'!EA30=0,\"\",'Gefilterde data'!EA30)","v":{"v":1.0869565217391304,"d":"1"}},{"$f":"IF('Gefilterde data'!EA30=0,\"\",'Gefilterde data'!EB30)","v":{"v":16.304347826086957,"d":"16"}}]
[null,{"$f":"IF('Gefilterde data'!C31=0,\"\",'Gefilterde data'!C31)","v":"Kalverdriehoek"},{"$f":"IF(B44=\"\",\"\",IF(LEFT(D44,2)=\"BU\",'Gefilterde data'!G31,\"-\"))","v":"Burgwallen-Nieuwe Zijde"},{"$f":"IF('Gefilterde data'!C31=0,\"\",'Gefilterde data'!A31)","v":"BU0363AD08"},{"v":0.8169034483612314,"d":"0.82"},{"v":1.646856035577819,"d":"1.65"},{"$f":"IF('Gefilterde data'!CL31=0,\"\",'Gefilterde data'!CL31)","v":8},{"$f":"IF('Gefilterde data'!DX31=0,\"\",'Gefilterde data'!DX31)","v":{"v":61.19402985074627,"d":"61.2"}},null,{"$f":"IF('Gefilterde data'!DZ31=0,\"\",'Gefilterde data'!DZ31)","v":{"v":11.940298507462686,"d":"12"}},{"$f":"IF('Gefilterde data'!DW31=0,\"\",'Gefilterde data'!DW31)","v":{"v":9859,"d":"9,859"}},{"$f":"IF('Gefilterde data'!I31=0,\"\",'Gefilterde data'!I31)","v":335},{"$f":"IF('Gefilterde data'!DI31=0,\"\",'Gefilterde data'!DI31)","v":0.2},{"$f":"IF('Gefilterde data'!EA31=0,\"\",'Gefilterde data'!EA31)","v":{"v":4.477611940298507,"d":"4"}},{"$f":"IF('Gefilterde data'!EA31=0,\"\",'Gefilterde data'!EB31)","v":{"v":5.970149253731343,"d":"6"}}]
[null,{"$f":"IF('Gefilterde data'!C32=0,\"\",'Gefilterde data'!C32)","v":"Kop Zeedijk"},{"$f":"IF(B45=\"\",\"\",IF(LEFT(D45,2)=\"BU\",'Gefilterde data'!G32,\"-\"))","v":"Burgwallen-Oude Zijde"},{"$f":"IF('Gefilterde data'!C32=0,\"\",'Gefilterde data'!A32)","v":"BU0363AE01"},{"v":1.031762315053092,"d":"1.03"},{"v":2.0800059042908634,"d":"2.08"},{"$f":"IF('Gefilterde data'!CL32=0,\"\",'Gefilterde data'!CL32)","v":15.2},{"$f":"IF('Gefilterde data'!DX32=0,\"\",'Gefilterde data'!DX32)","v":{"v":58.00865800865801,"d":"58.0"}},null,{"$f":"IF('Gefilterde data'!DZ32=0,\"\",'Gefilterde data'!DZ32)","v":{"v":8.658008658008658,"d":"9"}},{"$f":"IF('Gefilterde data'!DW32=0,\"\",'Gefilterde data'!DW32)","v":{"v":6841,"d":"6,841"}},{"$f":"IF('Gefilterde data'!I32=0,\"\",'Gefilterde data'!I32)","v":{"v":1155,"d":"1,155"}},{"$f":"IF('Gefilterde data'!DI32=0,\"\",'Gefilterde data'!DI32)","v":0.2},{"$f":"IF('Gefilterde data'!EA32=0,\"\",'Gefilterde data'!EA32)","v":{"v":4.329004329004329,"d":"4"}},{"$f":"IF('Gefilterde data'!EA32=0,\"\",'Gefilterde data'!EB32)","v":{"v":9.090909090909092,"d":"9"}}]
[null,{"$f":"IF('Gefilterde data'!C33=0,\"\",'Gefilterde data'!C33)","v":"Oude Kerk e.o."},{"$f":"IF(B46=\"\",\"\",IF(LEFT(D46,2)=\"BU\",'Gefilterde data'!G33,\"-\"))","v":"Burgwallen-Oude Zijde"},{"$f":"IF('Gefilterde data'!C33=0,\"\",'Gefilterde data'!A33)","v":"BU0363AE02"},{"v":1.0990283873734723,"d":"1.10"},{"v":2.215612550844578,"d":"2.22"},{"$f":"IF('Gefilterde data'!CL33=0,\"\",'Gefilterde data'!CL33)","v":17.7},{"$f":"IF('Gefilterde data'!DX33=0,\"\",'Gefilterde data'!DX33)","v":{"v":56.08108108108109,"d":"56.1"}},null,{"$f":"IF('Gefilterde data'!DZ33=0,\"\",'Gefilterde data'!DZ33)","v":{"v":12.162162162162163,"d":"12"}},{"$f":"IF('Gefilterde data'!DW33=0,\"\",'Gefilterde data'!DW33)","v":{"v":7498,"d":"7,498"}},{"$f":"IF('Gefilterde data'!I33=0,\"\",'Gefilterde data'!I33)","v":740},{"$f":"IF('Gefilterde data'!DI33=0,\"\",'Gefilterde data'!DI33)","v":0.2},{"$f":"IF('Gefilterde data'!EA33=0,\"\",'Gefilterde data'!EA33)","v":{"v":3.3783783783783785,"d":"3"}},{"$f":"IF('Gefilterde data'!EA33=0,\"\",'Gefilterde data'!EB33)","v":{"v":9.45945945945946,"d":"9"}}]
[null,{"$f":"IF('Gefilterde data'!C34=0,\"\",'Gefilterde data'!C34)","v":"Burgwallen-Oost"},{"$f":"IF(B47=\"\",\"\",IF(LEFT(D47,2)=\"BU\",'Gefilterde data'!G34,\"-\"))","v":"Burgwallen-Oude Zijde"},{"$f":"IF('Gefilterde data'!C34=0,\"\",'Gefilterde data'!A34)","v":"BU0363AE03"},{"v":1.1274217138204317,"d":"1.13"},{"v":2.272852756064803,"d":"2.27"},{"$f":"IF('Gefilterde data'!CL34=0,\"\",'Gefilterde data'!CL34)","v":18},{"$f":"IF('Gefilterde data'!DX34=0,\"\",'Gefilterde data'!DX34)","v":{"v":58.12500000000001,"d":"58.1"}},null,{"$f":"IF('Gefilterde data'!DZ34=0,\"\",'Gefilterde data'!DZ34)","v":{"v":8.75,"d":"9"}},{"$f":"IF('Gefilterde data'!DW34=0,\"\",'Gefilterde data'!DW34)","v":{"v":7618,"d":"7,618"}},{"$f":"IF('Gefilterde data'!I34=0,\"\",'Gefilterde data'!I34)","v":{"v":1600,"d":"1,600"}},{"$f":"IF('Gefilterde data'!DI34=0,\"\",'Gefilterde data'!DI34)","v":0.2},{"$f":"IF('Gefilterde data'!EA34=0,\"\",'Gefilterde data'!EA34)","v":{"v":4.6875,"d":"5"}},{"$f":"IF('Gefilterde data'!EA34=0,\"\",'Gefilterde data'!EB34)","v":{"v":10.625,"d":"11"}}]
[null,{"$f":"IF('Gefilterde data'!C35=0,\"\",'Gefilterde data'!C35)","v":"Nes e.o."},{"$f":"IF(B48=\"\",\"\",IF(LEFT(D48,2)=\"BU\",'Gefilterde data'!G35,\"-\"))","v":"Burgwallen-Oude Zijde"},{"$f":"IF('Gefilterde data'!C35=0,\"\",'Gefilterde data'!A35)","v":"BU0363AE04"},{"v":0.8517781118927616,"d":"0.85"},{"v":1.7171624472362128,"d":"1.72"},{"$f":"IF('Gefilterde data'!CL35=0,\"\",'Gefilterde data'!CL35)","v":9.7},{"$f":"IF('Gefilterde data'!DX35=0,\"\",'Gefilterde data'!DX35)","v":{"v":58.666666666666664,"d":"58.7"}},null,{"$f":"IF('Gefilterde data'!DZ35=0,\"\",'Gefilterde data'!DZ35)","v":{"v":10.666666666666668,"d":"11"}},{"$f":"IF('Gefilterde data'!DW35=0,\"\",'Gefilterde data'!DW35)","v":{"v":10044,"d":"10,044"}},{"$f":"IF('Gefilterde data'!I35=0,\"\",'Gefilterde data'!I35)","v":375},{"$f":"IF('Gefilterde data'!DI35=0,\"\",'Gefilterde data'!DI35)","v":"."},{"$f":"IF('Gefilterde data'!EA35=0,\"\",'Gefilterde data'!EA35)","v":4},{"$f":"IF('Gefilterde data'!EA35=0,\"\",'Gefilterde data'!EB35)","v":8}]
[null,{"$f":"IF('Gefilterde data'!C36=0,\"\",'Gefilterde data'!C36)","v":"BG-terrein e.o."},{"$f":"IF(B49=\"\",\"\",IF(LEFT(D49,2)=\"BU\",'Gefilterde data'!G36,\"-\"))","v":"Burgwallen-Oude Zijde"},{"$f":"IF('Gefilterde data'!C36=0,\"\",'Gefilterde data'!A36)","v":"BU0363AE05"},{"v":0.9448342644423847,"d":"0.94"},{"v":1.90476122256447,"d":"1.90"},{"$f":"IF('Gefilterde data'!CL36=0,\"\",'Gefilterde data'!CL36)","v":15.6},{"$f":"IF('Gefilterde data'!DX36=0,\"\",'Gefilterde data'!DX36)","v":{"v":46.76258992805755,"d":"46.8"}},null,{"$f":"IF('Gefilterde data'!DZ36=0,\"\",'Gefilterde data'!DZ36)","v":{"v":17.26618705035971,"d":"17"}},{"$f":"IF('Gefilterde data'!DW36=0,\"\",'Gefilterde data'!DW36)","v":{"v":8551,"d":"8,551"}},{"$f":"IF('Gefilterde data'!I36=0,\"\",'Gefilterde data'!I36)","v":695},{"$f":"IF('Gefilterde data'!DI36=0,\"\",'Gefilterde data'!DI36)","v":0.2},{"$f":"IF('Gefilterde data'!EA36=0,\"\",'Gefilterde data'!EA36)","v":{"v":4.316546762589928,"d":"4"}},{"$f":"IF('Gefilterde data'!EA36=0,\"\",'Gefilterde data'!EB36)","v":{"v":12.949640287769784,"d":"13"}}]
[null,{"$f":"IF('Gefilterde data'!C37=0,\"\",'Gefilterde data'!C37)","v":"Oosterdokseiland"},{"$f":"IF(B50=\"\",\"\",IF(LEFT(D50,2)=\"BU\",'Gefilterde data'!G37,\"-\"))","v":"Nieuwmarkt/Lastage"},{"$f":"IF('Gefilterde data'!C37=0,\"\",'Gefilterde data'!A37)","v":"BU0363AF01"},{"v":0.7785726357628839,"d":"0.78"},{"v":1.569582117585644,"d":"1.57"},{"$f":"IF('Gefilterde data'!CL37=0,\"\",'Gefilterde data'!CL37)","v":7.6},{"$f":"IF('Gefilterde data'!DX37=0,\"\",'Gefilterde data'!DX37)","v":{"v":58.415841584158414,"d":"58.4"}},null,{"$f":"IF('Gefilterde data'!DZ37=0,\"\",'Gefilterde data'!DZ37)","v":{"v":3.9603960396039604,"d":"4"}},{"$f":"IF('Gefilterde data'!DW37=0,\"\",'Gefilterde data'!DW37)","v":{"v":5476,"d":"5,476"}},{"$f":"IF('Gefilterde data'!I37=0,\"\",'Gefilterde data'!I37)","v":505},{"$f":"IF('Gefilterde data'!DI37=0,\"\",'Gefilterde data'!DI37)","v":"."},{"$f":"IF('Gefilterde data'!EA37=0,\"\",'Gefilterde data'!EA37)","v":{"v":10.891089108910892,"d":"11"}},{"$f":"IF('Gefilterde data'!EA37=0,\"\",'Gefilterde data'!EB37)","v":{"v":10.891089108910892,"d":"11"}}]
[null,{"$f":"IF('Gefilterde data'!C38=0,\"\",'Gefilterde data'!C38)","v":"Lastage"},{"$f":"IF(B51=\"\",\"\",IF(LEFT(D51,2)=\"BU\",'Gefilterde data'!G38,\"-\"))","v":"Nieuwmarkt/Lastage"},{"$f":"IF('Gefilterde data'!C38=0,\"\",'Gefilterde data'!A38)","v":"BU0363AF02"},{"v":0.7905404149293752,"d":"0.79"},{"v":1.593708848097477,"d":"1.59"},{"$f":"IF('Gefilterde data'!CL38=0,\"\",'Gefilterde data'!CL38)","v":11.5},{"$f":"IF('Gefilterde data'!DX38=0,\"\",'Gefilterde data'!DX38)","v":{"v":45,"d":"45.0"}},null,{"$f":"IF('Gefilterde data'!DZ38=0,\"\",'Gefilterde data'!DZ38)","v":{"v":5.454545454545454,"d":"5"}},{"$f":"IF('Gefilterde data'!DW38=0,\"\",'Gefilterde data'!DW38)","v":{"v":6700,"d":"6,700"}},{"$f":"IF('Gefilterde data'!I38=0,\"\",'Gefilterde data'!I38)","v":{"v":1100,"d":"1,100"}},{"$f":"IF('Gefilterde data'!DI38=0,\"\",'Gefilterde data'!DI38)","v":0.3},{"$f":"IF('Gefilterde data'!EA38=0,\"\",'Gefilterde data'!EA38)","v":{"v":6.8181818181818175,"d":"7"}},{"$f":"IF('Gefilterde data'!EA38=0,\"\",'Gefilterde data'!EB38)","v":{"v":15.454545454545453,"d":"15"}}]
[null,{"$f":"IF('Gefilterde data'!C39=0,\"\",'Gefilterde data'!C39)","v":"Scheepvaarthuisbuurt"},{"$f":"IF(B52=\"\",\"\",IF(LEFT(D52,2)=\"BU\",'Gefilterde data'!G39,\"-\"))","v":"Nieuwmarkt/Lastage"},{"$f":"IF('Gefilterde data'!C39=0,\"\",'Gefilterde data'!A39)","v":"BU0363AF03"},{"v":0.578228854101487,"d":"0.58"},{"v":1.1656942815366775,"d":"1.17"},{"$f":"IF('Gefilterde data'!CL39=0,\"\",'Gefilterde data'!CL39)","v":7},{"$f":"IF('Gefilterde data'!DX39=0,\"\",'Gefilterde data'!DX39)","v":{"v":38.25503355704698,"d":"38.3"}},null,{"$f":"IF('Gefilterde data'!DZ39=0,\"\",'Gefilterde data'!DZ39)","v":{"v":12.080536912751679,"d":"12"}},{"$f":"IF('Gefilterde data'!DW39=0,\"\",'Gefilterde data'!DW39)","v":{"v":6396,"d":"6,396"}},{"$f":"IF('Gefilterde data'!I39=0,\"\",'Gefilterde data'!I39)","v":745},{"$f":"IF('Gefilterde data'!DI39=0,\"\",'Gefilterde data'!DI39)","v":0.4},{"$f":"IF('Gefilterde data'!EA39=0,\"\",'Gefilterde data'!EA39)","v":{"v":7.38255033557047,"d":"7"}},{"$f":"IF('Gefilterde data'!EA39=0,\"\",'Gefilterde data'!EB39)","v":{"v":14.093959731543624,"d":"14"}}]
[null,{"$f":"IF('Gefilterde data'!C40=0,\"\",'Gefilterde data'!C40)","v":"Rapenburg"},{"$f":"IF(B53=\"\",\"\",IF(LEFT(D53,2)=\"BU\",'Gefilterde data'!G40,\"-\"))","v":"Nieuwmarkt/Lastage"},{"$f":"IF('Gefilterde data'!C40=0,\"\",'Gefilterde data'!A40)","v":"BU0363AF04"},{"v":0.8496932729800355,"d":"0.85"},{"v":1.7129594663900451,"d":"1.71"},{"$f":"IF('Gefilterde data'!CL40=0,\"\",'Gefilterde data'!CL40)","v":10.8},{"$f":"IF('Gefilterde data'!DX40=0,\"\",'Gefilterde data'!DX40)","v":{"v":54.2713567839196,"d":"54.3"}},null,{"$f":"IF('Gefilterde data'!DZ40=0,\"\",'Gefilterde data'!DZ40)","v":{"v":9.045226130653267,"d":"9"}},{"$f":"IF('Gefilterde data'!DW40=0,\"\",'Gefilterde data'!DW40)","v":{"v":6134,"d":"6,134"}},{"$f":"IF('Gefilterde data'!I40=0,\"\",'Gefilterde data'!I40)","v":995},{"$f":"IF('Gefilterde data'!DI40=0,\"\",'Gefilterde data'!DI40)","v":0.3},{"$f":"IF('Gefilterde data'!EA40=0,\"\",'Gefilterde data'!EA40)","v":{"v":8.542713567839195,"d":"9"}},{"$f":"IF('Gefilterde data'!EA40=0,\"\",'Gefilterde data'!EB40)","v":{"v":11.557788944723619,"d":"12"}}]
[null,{"$f":"IF('Gefilterde data'!C41=0,\"\",'Gefilterde data'!C41)","v":"Nieuwmarkt"},{"$f":"IF(B54=\"\",\"\",IF(LEFT(D54,2)=\"BU\",'Gefilterde data'!G41,\"-\"))","v":"Nieuwmarkt/Lastage"},{"$f":"IF('Gefilterde data'!C41=0,\"\",'Gefilterde data'!A41)","v":"BU0363AF05"},{"v":1.1547877426366826,"d":"1.15"},{"v":2.3280219560678743,"d":"2.33"},{"$f":"IF('Gefilterde data'!CL41=0,\"\",'Gefilterde data'!CL41)","v":23},{"$f":"IF('Gefilterde data'!DX41=0,\"\",'Gefilterde data'!DX41)","v":{"v":42.27129337539432,"d":"42.3"}},null,{"$f":"IF('Gefilterde data'!DZ41=0,\"\",'Gefilterde data'!DZ41)","v":{"v":5.047318611987381,"d":"5"}},{"$f":"IF('Gefilterde data'!DW41=0,\"\",'Gefilterde data'!DW41)","v":{"v":7384,"d":"7,384"}},{"$f":"IF('Gefilterde data'!I41=0,\"\",'Gefilterde data'!I41)","v":{"v":1585,"d":"1,585"}},{"$f":"IF('Gefilterde data'!DI41=0,\"\",'Gefilterde data'!DI41)","v":0.2},{"$f":"IF('Gefilterde data'!EA41=0,\"\",'Gefilterde data'!EA41)","v":{"v":6.624605678233439,"d":"7"}},{"$f":"IF('Gefilterde data'!EA41=0,\"\",'Gefilterde data'!EB41)","v":{"v":29.96845425867508,"d":"30"}}]
[null,{"$f":"IF('Gefilterde data'!C42=0,\"\",'Gefilterde data'!C42)","v":"Uilenburg"},{"$f":"IF(B55=\"\",\"\",IF(LEFT(D55,2)=\"BU\",'Gefilterde data'!G42,\"-\"))","v":"Nieuwmarkt/Lastage"},{"$f":"IF('Gefilterde data'!C42=0,\"\",'Gefilterde data'!A42)","v":"BU0363AF06"},{"v":1.0462441834218414,"d":"1.05"},{"v":2.1092009730316827,"d":"2.11"},{"$f":"IF('Gefilterde data'!CL42=0,\"\",'Gefilterde data'!CL42)","v":16.1},{"$f":"IF('Gefilterde data'!DX42=0,\"\",'Gefilterde data'!DX42)","v":{"v":56.22489959839358,"d":"56.2"}},null,{"$f":"IF('Gefilterde data'!DZ42=0,\"\",'Gefilterde data'!DZ42)","v":{"v":5.622489959839357,"d":"6"}},{"$f":"IF('Gefilterde data'!DW42=0,\"\",'Gefilterde data'!DW42)","v":{"v":6666,"d":"6,666"}},{"$f":"IF('Gefilterde data'!I42=0,\"\",'Gefilterde data'!I42)","v":{"v":1245,"d":"1,245"}},{"$f":"IF('Gefilterde data'!DI42=0,\"\",'Gefilterde data'!DI42)","v":0.3},{"$f":"IF('Gefilterde data'!EA42=0,\"\",'Gefilterde data'!EA42)","v":{"v":6.425702811244979,"d":"6"}},{"$f":"IF('Gefilterde data'!EA42=0,\"\",'Gefilterde data'!EB42)","v":{"v":17.670682730923694,"d":"18"}}]
[null,{"$f":"IF('Gefilterde data'!C43=0,\"\",'Gefilterde data'!C43)","v":"Valkenburg"},{"$f":"IF(B56=\"\",\"\",IF(LEFT(D56,2)=\"BU\",'Gefilterde data'!G43,\"-\"))","v":"Nieuwmarkt/Lastage"},{"$f":"IF('Gefilterde data'!C43=0,\"\",'Gefilterde data'!A43)","v":"BU0363AF07"},{"v":0.879813590994328,"d":"0.88"},{"v":1.7736812415458116,"d":"1.77"},{"$f":"IF('Gefilterde data'!CL43=0,\"\",'Gefilterde data'!CL43)","v":12.6},{"$f":"IF('Gefilterde data'!DX43=0,\"\",'Gefilterde data'!DX43)","v":{"v":50.83333333333333,"d":"50.8"}},null,{"$f":"IF('Gefilterde data'!DZ43=0,\"\",'Gefilterde data'!DZ43)","v":{"v":9.166666666666666,"d":"9"}},{"$f":"IF('Gefilterde data'!DW43=0,\"\",'Gefilterde data'!DW43)","v":{"v":7142,"d":"7,142"}},{"$f":"IF('Gefilterde data'!I43=0,\"\",'Gefilterde data'!I43)","v":{"v":1200,"d":"1,200"}},{"$f":"IF('Gefilterde data'!DI43=0,\"\",'Gefilterde data'!DI43)","v":0.3},{"$f":"IF('Gefilterde data'!EA43=0,\"\",'Gefilterde data'!EA43)","v":{"v":7.083333333333333,"d":"7"}},{"$f":"IF('Gefilterde data'!EA43=0,\"\",'Gefilterde data'!EB43)","v":{"v":24.166666666666668,"d":"24"}}]
[null,{"$f":"IF('Gefilterde data'!C44=0,\"\",'Gefilterde data'!C44)","v":"Zuiderkerkbuurt"},{"$f":"IF(B57=\"\",\"\",IF(LEFT(D57,2)=\"BU\",'Gefilterde data'!G44,\"-\"))","v":"Nieuwmarkt/Lastage"},{"$f":"IF('Gefilterde data'!C44=0,\"\",'Gefilterde data'!A44)","v":"BU0363AF08"},{"v":1.0316554760761367,"d":"1.03"},{"v":2.079790519701183,"d":"2.08"},{"$f":"IF('Gefilterde data'!CL44=0,\"\",'Gefilterde data'!CL44)","v":17.8},{"$f":"IF('Gefilterde data'!DX44=0,\"\",'Gefilterde data'!DX44)","v":{"v":48.15950920245399,"d":"48.2"}},null,{"$f":"IF('Gefilterde data'!DZ44=0,\"\",'Gefilterde data'!DZ44)","v":{"v":6.134969325153374,"d":"6"}},{"$f":"IF('Gefilterde data'!DW44=0,\"\",'Gefilterde data'!DW44)","v":{"v":8396,"d":"8,396"}},{"$f":"IF('Gefilterde data'!I44=0,\"\",'Gefilterde data'!I44)","v":{"v":1630,"d":"1,630"}},{"$f":"IF('Gefilterde data'!DI44=0,\"\",'Gefilterde data'!DI44)","v":0.3},{"$f":"IF('Gefilterde data'!EA44=0,\"\",'Gefilterde data'!EA44)","v":{"v":5.828220858895705,"d":"6"}},{"$f":"IF('Gefilterde data'!EA44=0,\"\",'Gefilterde data'!EB44)","v":{"v":21.165644171779142,"d":"21"}}]
[null,{"$f":"IF('Gefilterde data'!C45=0,\"\",'Gefilterde data'!C45)","v":"Waterloopleinbuurt"},{"$f":"IF(B58=\"\",\"\",IF(LEFT(D58,2)=\"BU\",'Gefilterde data'!G45,\"-\"))","v":"Nieuwmarkt/Lastage"},{"$f":"IF('Gefilterde data'!C45=0,\"\",'Gefilterde data'!A45)","v":"BU0363AF09"},{"v":0.9607998086855174,"d":"0.96"},{"v":1.9369473431529352,"d":"1.94"},{"$f":"IF('Gefilterde data'!CL45=0,\"\",'Gefilterde data'!CL45)","v":14.7},{"$f":"IF('Gefilterde data'!DX45=0,\"\",'Gefilterde data'!DX45)","v":{"v":51.955307262569825,"d":"52.0"}},null,{"$f":"IF('Gefilterde data'!DZ45=0,\"\",'Gefilterde data'!DZ45)","v":{"v":7.82122905027933,"d":"8"}},{"$f":"IF('Gefilterde data'!DW45=0,\"\",'Gefilterde data'!DW45)","v":{"v":8165,"d":"8,165"}},{"$f":"IF('Gefilterde data'!I45=0,\"\",'Gefilterde data'!I45)","v":895},{"$f":"IF('Gefilterde data'!DI45=0,\"\",'Gefilterde data'!DI45)","v":0.3},{"$f":"IF('Gefilterde data'!EA45=0,\"\",'Gefilterde data'!EA45)","v":{"v":6.70391061452514,"d":"7"}},{"$f":"IF('Gefilterde data'!EA45=0,\"\",'Gefilterde data'!EB45)","v":{"v":20.11173184357542,"d":"20"}}]
[null,{"$f":"IF('Gefilterde data'!C46=0,\"\",'Gefilterde data'!C46)","v":"Leidsegracht-Zuid"},{"$f":"IF(B59=\"\",\"\",IF(LEFT(D59,2)=\"BU\",'Gefilterde data'!G46,\"-\"))","v":"Grachtengordel-Zuid"},{"$f":"IF('Gefilterde data'!C46=0,\"\",'Gefilterde data'!A46)","v":"BU0363AG01"},{"v":0.7690972975313485,"d":"0.77"},{"v":1.5504800829608063,"d":"1.55"},{"$f":"IF('Gefilterde data'!CL46=0,\"\",'Gefilterde data'!CL46)","v":8.6},{"$f":"IF('Gefilterde data'!DX46=0,\"\",'Gefilterde data'!DX46)","v":{"v":53.57142857142857,"d":"53.6"}},null,{"$f":"IF('Gefilterde data'!DZ46=0,\"\",'Gefilterde data'!DZ46)","v":{"v":7.142857142857142,"d":"7"}},{"$f":"IF('Gefilterde data'!DW46=0,\"\",'Gefilterde data'!DW46)","v":{"v":9979,"d":"9,979"}},{"$f":"IF('Gefilterde data'!I46=0,\"\",'Gefilterde data'!I46)","v":700},{"$f":"IF('Gefilterde data'!DI46=0,\"\",'Gefilterde data'!DI46)","v":0.6},{"$f":"IF('Gefilterde data'!EA46=0,\"\",'Gefilterde data'!EA46)","v":{"v":7.142857142857142,"d":"7"}},{"$f":"IF('Gefilterde data'!EA46=0,\"\",'Gefilterde data'!EB46)","v":{"v":15.714285714285714,"d":"16"}}]
[null,{"$f":"IF('Gefilterde data'!C47=0,\"\",'Gefilterde data'!C47)","v":"Geelvinckbuurt"},{"$f":"IF(B60=\"\",\"\",IF(LEFT(D60,2)=\"BU\",'Gefilterde data'!G47,\"-\"))","v":"Grachtengordel-Zuid"},{"$f":"IF('Gefilterde data'!C47=0,\"\",'Gefilterde data'!A47)","v":"BU0363AG02"},{"v":0.7925839816931739,"d":"0.79"},{"v":1.5978286253683645,"d":"1.60"},{"$f":"IF('Gefilterde data'!CL47=0,\"\",'Gefilterde data'!CL47)","v":6.6},{"$f":"IF('Gefilterde data'!DX47=0,\"\",'Gefilterde data'!DX47)","v":{"v":63.76811594202898,"d":"63.8"}},null,{"$f":"IF('Gefilterde data'!DZ47=0,\"\",'Gefilterde data'!DZ47)","v":{"v":11.594202898550725,"d":"12"}},{"$f":"IF('Gefilterde data'!DW47=0,\"\",'Gefilterde data'!DW47)","v":{"v":9859,"d":"9,859"}},{"$f":"IF('Gefilterde data'!I47=0,\"\",'Gefilterde data'!I47)","v":345},{"$f":"IF('Gefilterde data'!DI47=0,\"\",'Gefilterde data'!DI47)","v":0.4},{"$f":"IF('Gefilterde data'!EA47=0,\"\",'Gefilterde data'!EA47)","v":{"v":5.797101449275362,"d":"6"}},{"$f":"IF('Gefilterde data'!EA47=0,\"\",'Gefilterde data'!EB47)","v":{"v":5.797101449275362,"d":"6"}}]
[null,{"$f":"IF('Gefilterde data'!C48=0,\"\",'Gefilterde data'!C48)","v":"Rembrandtplein e.o."},{"$f":"IF(B61=\"\",\"\",IF(LEFT(D61,2)=\"BU\",'Gefilterde data'!G48,\"-\"))","v":"Grachtengordel-Zuid"},{"$f":"IF('Gefilterde data'!C48=0,\"\",'Gefilterde data'!A48)","v":"BU0363AG03"},{"v":0.8957780193286036,"d":"0.90"},{"v":1.8058651124911396,"d":"1.81"},{"$f":"IF('Gefilterde data'!CL48=0,\"\",'Gefilterde data'!CL48)","v":8.2},{"$f":"IF('Gefilterde data'!DX48=0,\"\",'Gefilterde data'!DX48)","v":{"v":69.26829268292683,"d":"69.3"}},null,{"$f":"IF('Gefilterde data'!DZ48=0,\"\",'Gefilterde data'!DZ48)","v":{"v":8.780487804878048,"d":"9"}},{"$f":"IF('Gefilterde data'!DW48=0,\"\",'Gefilterde data'!DW48)","v":{"v":9184,"d":"9,184"}},{"$f":"IF('Gefilterde data'!I48=0,\"\",'Gefilterde data'!I48)","v":{"v":1025,"d":"1,025"}},{"$f":"IF('Gefilterde data'!DI48=0,\"\",'Gefilterde data'!DI48)","v":0.2},{"$f":"IF('Gefilterde data'!EA48=0,\"\",'Gefilterde data'!EA48)","v":{"v":5.853658536585367,"d":"6"}},{"$f":"IF('Gefilterde data'!EA48=0,\"\",'Gefilterde data'!EB48)","v":{"v":5.365853658536586,"d":"5"}}]
[null,{"$f":"IF('Gefilterde data'!C49=0,\"\",'Gefilterde data'!C49)","v":"Spiegelbuurt"},{"$f":"IF(B62=\"\",\"\",IF(LEFT(D62,2)=\"BU\",'Gefilterde data'!G49,\"-\"))","v":"Grachtengordel-Zuid"},{"$f":"IF('Gefilterde data'!C49=0,\"\",'Gefilterde data'!A49)","v":"BU0363AG04"},{"v":0.7665866271805062,"d":"0.77"},{"v":1.5454186370470628,"d":"1.55"},{"$f":"IF('Gefilterde data'!CL49=0,\"\",'Gefilterde data'!CL49)","v":6.7},{"$f":"IF('Gefilterde data'!DX49=0,\"\",'Gefilterde data'!DX49)","v":{"v":60.47904191616767,"d":"60.5"}},null,{"$f":"IF('Gefilterde data'!DZ49=0,\"\",'Gefilterde data'!DZ49)","v":{"v":7.18562874251497,"d":"7"}},{"$f":"IF('Gefilterde data'!DW49=0,\"\",'Gefilterde data'!DW49)","v":{"v":9511,"d":"9,511"}},{"$f":"IF('Gefilterde data'!I49=0,\"\",'Gefilterde data'!I49)","v":835},{"$f":"IF('Gefilterde data'!DI49=0,\"\",'Gefilterde data'!DI49)","v":0.6},{"$f":"IF('Gefilterde data'!EA49=0,\"\",'Gefilterde data'!EA49)","v":{"v":7.784431137724551,"d":"8"}},{"$f":"IF('Gefilterde data'!EA49=0,\"\",'Gefilterde data'!EB49)","v":{"v":12.574850299401197,"d":"13"}}]
[null,{"$f":"IF('Gefilterde data'!C50=0,\"\",'Gefilterde data'!C50)","v":"Vijzelstraatbuurt"},{"$f":"IF(B63=\"\",\"\",IF(LEFT(D63,2)=\"BU\",'Gefilterde data'!G50,\"-\"))","v":"Grachtengordel-Zuid"},{"$f":"IF('Gefilterde data'!C50=0,\"\",'Gefilterde data'!A50)","v":"BU0363AG05"},{"v":0.6704748900336903,"d":"0.67"},{"v":1.3516598829034387,"d":"1.35"},{"$f":"IF('Gefilterde data'!CL50=0,\"\",'Gefilterde data'!CL50)","v":8.5},{"$f":"IF('Gefilterde data'!DX50=0,\"\",'Gefilterde data'!DX50)","v":{"v":42.90780141843972,"d":"42.9"}},null,{"$f":"IF('Gefilterde data'!DZ50=0,\"\",'Gefilterde data'!DZ50)","v":{"v":7.801418439716312,"d":"8"}},{"$f":"IF('Gefilterde data'!DW50=0,\"\",'Gefilterde data'!DW50)","v":{"v":9283,"d":"9,283"}},{"$f":"IF('Gefilterde data'!I50=0,\"\",'Gefilterde data'!I50)","v":{"v":1410,"d":"1,410"}},{"$f":"IF('Gefilterde data'!DI50=0,\"\",'Gefilterde data'!DI50)","v":0.5},{"$f":"IF('Gefilterde data'!EA50=0,\"\",'Gefilterde data'!EA50)","v":{"v":6.73758865248227,"d":"7"}},{"$f":"IF('Gefilterde data'!EA50=0,\"\",'Gefilterde data'!EB50)","v":{"v":18.79432624113475,"d":"19"}}]
[null,{"$f":"IF('Gefilterde data'!C51=0,\"\",'Gefilterde data'!C51)","v":"Amstelveldbuurt"},{"$f":"IF(B64=\"\",\"\",IF(LEFT(D64,2)=\"BU\",'Gefilterde data'!G51,\"-\"))","v":"Grachtengordel-Zuid"},{"$f":"IF('Gefilterde data'!C51=0,\"\",'Gefilterde data'!A51)","v":"BU0363AG06"},{"v":0.696472110960265,"d":"0.70"},{"v":1.4040696019186625,"d":"1.40"},{"$f":"IF('Gefilterde data'!CL51=0,\"\",'Gefilterde data'!CL51)","v":9.1},{"$f":"IF('Gefilterde data'!DX51=0,\"\",'Gefilterde data'!DX51)","v":{"v":43.54838709677419,"d":"43.5"}},null,{"$f":"IF('Gefilterde data'!DZ51=0,\"\",'Gefilterde data'!DZ51)","v":{"v":7.741935483870968,"d":"8"}},{"$f":"IF('Gefilterde data'!DW51=0,\"\",'Gefilterde data'!DW51)","v":{"v":9341,"d":"9,341"}},{"$f":"IF('Gefilterde data'!I51=0,\"\",'Gefilterde data'!I51)","v":{"v":1550,"d":"1,550"}},{"$f":"IF('Gefilterde data'!DI51=0,\"\",'Gefilterde data'!DI51)","v":0.5},{"$f":"IF('Gefilterde data'!EA51=0,\"\",'Gefilterde data'!EA51)","v":{"v":9.032258064516128,"d":"9"}},{"$f":"IF('Gefilterde data'!EA51=0,\"\",'Gefilterde data'!EB51)","v":{"v":16.129032258064516,"d":"16"}}]
[null,{"$f":"IF('Gefilterde data'!C52=0,\"\",'Gefilterde data'!C52)","v":"Leidsebuurt-Noordwest"},{"$f":"IF(B65=\"\",\"\",IF(LEFT(D65,2)=\"BU\",'Gefilterde data'!G52,\"-\"))","v":"De Weteringschans"},{"$f":"IF('Gefilterde data'!C52=0,\"\",'Gefilterde data'!A52)","v":"BU0363AH01"},{"v":0.8264582586283878,"d":"0.83"},{"v":1.6661182837527213,"d":"1.67"},{"$f":"IF('Gefilterde data'!CL52=0,\"\",'Gefilterde data'!CL52)","v":7.3},{"$f":"IF('Gefilterde data'!DX52=0,\"\",'Gefilterde data'!DX52)","v":{"v":64.91228070175438,"d":"64.9"}},null,{"$f":"IF('Gefilterde data'!DZ52=0,\"\",'Gefilterde data'!DZ52)","v":{"v":7.017543859649122,"d":"7"}},{"$f":"IF('Gefilterde data'!DW52=0,\"\",'Gefilterde data'!DW52)","v":{"v":9579,"d":"9,579"}},{"$f":"IF('Gefilterde data'!I52=0,\"\",'Gefilterde data'!I52)","v":285},{"$f":"IF('Gefilterde data'!DI52=0,\"\",'Gefilterde data'!DI52)","v":0.2},{"$f":"IF('Gefilterde data'!EA52=0,\"\",'Gefilterde data'!EA52)","v":{"v":3.508771929824561,"d":"4"}},{"$f":"IF('Gefilterde data'!EA52=0,\"\",'Gefilterde data'!EB52)","v":{"v":5.263157894736842,"d":"5"}}]
[null,{"$f":"IF('Gefilterde data'!C53=0,\"\",'Gefilterde data'!C53)","v":"Leidsebuurt-Noordoost"},{"$f":"IF(B66=\"\",\"\",IF(LEFT(D66,2)=\"BU\",'Gefilterde data'!G53,\"-\"))","v":"De Weteringschans"},{"$f":"IF('Gefilterde data'!C53=0,\"\",'Gefilterde data'!A53)","v":"BU0363AH02"},{"v":0.9032742077264293,"d":"0.90"},{"v":1.8209772326952507,"d":"1.82"},{"$f":"IF('Gefilterde data'!CL53=0,\"\",'Gefilterde data'!CL53)","v":10.3},{"$f":"IF('Gefilterde data'!DX53=0,\"\",'Gefilterde data'!DX53)","v":{"v":62.16216216216216,"d":"62.2"}},null,{"$f":"IF('Gefilterde data'!DZ53=0,\"\",'Gefilterde data'!DZ53)","v":{"v":11.711711711711711,"d":"12"}},{"$f":"IF('Gefilterde data'!DW53=0,\"\",'Gefilterde data'!DW53)","v":{"v":9452,"d":"9,452"}},{"$f":"IF('Gefilterde data'!I53=0,\"\",'Gefilterde data'!I53)","v":{"v":1110,"d":"1,110"}},{"$f":"IF('Gefilterde data'!DI53=0,\"\",'Gefilterde data'!DI53)","v":0.2},{"$f":"IF('Gefilterde data'!EA53=0,\"\",'Gefilterde data'!EA53)","v":{"v":4.054054054054054,"d":"4"}},{"$f":"IF('Gefilterde data'!EA53=0,\"\",'Gefilterde data'!EB53)","v":{"v":5.8558558558558556,"d":"6"}}]
[null,{"$f":"IF('Gefilterde data'!C54=0,\"\",'Gefilterde data'!C54)","v":"Weteringbuurt"},{"$f":"IF(B67=\"\",\"\",IF(LEFT(D67,2)=\"BU\",'Gefilterde data'!G54,\"-\"))","v":"De Weteringschans"},{"$f":"IF('Gefilterde data'!C54=0,\"\",'Gefilterde data'!A54)","v":"BU0363AH03"},{"v":0.7863696604996011,"d":"0.79"},{"v":1.585300715998922,"d":"1.59"},{"$f":"IF('Gefilterde data'!CL54=0,\"\",'Gefilterde data'!CL54)","v":10},{"$f":"IF('Gefilterde data'!DX54=0,\"\",'Gefilterde data'!DX54)","v":{"v":50.208333333333336,"d":"50.2"}},null,{"$f":"IF('Gefilterde data'!DZ54=0,\"\",'Gefilterde data'!DZ54)","v":{"v":7.916666666666666,"d":"8"}},{"$f":"IF('Gefilterde data'!DW54=0,\"\",'Gefilterde data'!DW54)","v":{"v":9642,"d":"9,642"}},{"$f":"IF('Gefilterde data'!I54=0,\"\",'Gefilterde data'!I54)","v":{"v":2400,"d":"2,400"}},{"$f":"IF('Gefilterde data'!DI54=0,\"\",'Gefilterde data'!DI54)","v":0.3},{"$f":"IF('Gefilterde data'!EA54=0,\"\",'Gefilterde data'!EA54)","v":{"v":9.166666666666666,"d":"9"}},{"$f":"IF('Gefilterde data'!EA54=0,\"\",'Gefilterde data'!EB54)","v":{"v":12.291666666666666,"d":"12"}}]
[null,{"$f":"IF('Gefilterde data'!C55=0,\"\",'Gefilterde data'!C55)","v":"Utrechtsebuurt-Zuid"},{"$f":"IF(B68=\"\",\"\",IF(LEFT(D68,2)=\"BU\",'Gefilterde data'!G55,\"-\"))","v":"De Weteringschans"},{"$f":"IF('Gefilterde data'!C55=0,\"\",'Gefilterde data'!A55)","v":"BU0363AH04"},{"v":0.809574944226745,"d":"0.81"},{"v":1.6320819624730387,"d":"1.63"},{"$f":"IF('Gefilterde data'!CL55=0,\"\",'Gefilterde data'!CL55)","v":11.5},{"$f":"IF('Gefilterde data'!DX55=0,\"\",'Gefilterde data'!DX55)","v":{"v":47.13114754098361,"d":"47.1"}},null,{"$f":"IF('Gefilterde data'!DZ55=0,\"\",'Gefilterde data'!DZ55)","v":{"v":4.918032786885246,"d":"5"}},{"$f":"IF('Gefilterde data'!DW55=0,\"\",'Gefilterde data'!DW55)","v":{"v":9451,"d":"9,451"}},{"$f":"IF('Gefilterde data'!I55=0,\"\",'Gefilterde data'!I55)","v":{"v":1220,"d":"1,220"}},{"$f":"IF('Gefilterde data'!DI55=0,\"\",'Gefilterde data'!DI55)","v":0.4},{"$f":"IF('Gefilterde data'!EA55=0,\"\",'Gefilterde data'!EA55)","v":{"v":7.786885245901639,"d":"8"}},{"$f":"IF('Gefilterde data'!EA55=0,\"\",'Gefilterde data'!EB55)","v":{"v":17.62295081967213,"d":"18"}}]
[null,{"$f":"IF('Gefilterde data'!C56=0,\"\",'Gefilterde data'!C56)","v":"Leidsebuurt-Zuidwest"},{"$f":"IF(B69=\"\",\"\",IF(LEFT(D69,2)=\"BU\",'Gefilterde data'!G56,\"-\"))","v":"De Weteringschans"},{"$f":"IF('Gefilterde data'!C56=0,\"\",'Gefilterde data'!A56)","v":"BU0363AH05"},"Ontbrekende waarde","Ontbrekende waarde",{"$f":"IF('Gefilterde data'!CL56=0,\"\",'Gefilterde data'!CL56)","v":"."},{"$f":"IF('Gefilterde data'!DX56=0,\"\",'Gefilterde data'!DX56)","v":{"v":65.625,"d":"65.6"}},null,{"$f":"IF('Gefilterde data'!DZ56=0,\"\",'Gefilterde data'!DZ56)","v":{"v":12.5,"d":"13"}},{"$f":"IF('Gefilterde data'!DW56=0,\"\",'Gefilterde data'!DW56)","v":{"v":9855,"d":"9,855"}},{"$f":"IF('Gefilterde data'!I56=0,\"\",'Gefilterde data'!I56)","v":160},{"$f":"IF('Gefilterde data'!DI56=0,\"\",'Gefilterde data'!DI56)","v":0.3},{"$f":"IF('Gefilterde data'!EA56=0,\"\",'Gefilterde data'!EA56)","v":{"v":3.125,"d":"3"}},{"$f":"IF('Gefilterde data'!EA56=0,\"\",'Gefilterde data'!EB56)","v":{"v":12.5,"d":"13"}}]
[null,{"$f":"IF('Gefilterde data'!C57=0,\"\",'Gefilterde data'!C57)","v":"Leidsebuurt-Zuidoost"},{"$f":"IF(B70=\"\",\"\",IF(LEFT(D70,2)=\"BU\",'Gefilterde data'!G57,\"-\"))","v":"De Weteringschans"},{"$f":"IF('Gefilterde data'!C57=0,\"\",'Gefilterde data'!A57)","v":"BU0363AH06"},{"v":0.8947422612111299,"d":"0.89"},{"v":1.8037770511534355,"d":"1.80"},{"$f":"IF('Gefilterde data'!CL57=0,\"\",'Gefilterde data'!CL57)","v":11.5},{"$f":"IF('Gefilterde data'!DX57=0,\"\",'Gefilterde data'!DX57)","v":{"v":56.666666666666664,"d":"56.7"}},null,{"$f":"IF('Gefilterde data'!DZ57=0,\"\",'Gefilterde data'!DZ57)","v":{"v":6.666666666666667,"d":"7"}},{"$f":"IF('Gefilterde data'!DW57=0,\"\",'Gefilterde data'!DW57)","v":{"v":9452,"d":"9,452"}},{"$f":"IF('Gefilterde data'!I57=0,\"\",'Gefilterde data'!I57)","v":300},{"$f":"IF('Gefilterde data'!DI57=0,\"\",'Gefilterde data'!DI57)","v":0.3},{"$f":"IF('Gefilterde data'!EA57=0,\"\",'Gefilterde data'!EA57)","v":10},{"$f":"IF('Gefilterde data'!EA57=0,\"\",'Gefilterde data'!EB57)","v":15}]
[null,{"$f":"IF('Gefilterde data'!C58=0,\"\",'Gefilterde data'!C58)","v":"Den Texbuurt"},{"$f":"IF(B71=\"\",\"\",IF(LEFT(D71,2)=\"BU\",'Gefilterde data'!G58,\"-\"))","v":"De Weteringschans"},{"$f":"IF('Gefilterde data'!C58=0,\"\",'Gefilterde data'!A58)","v":"BU0363AH07"},{"v":0.7569901936751441,"d":"0.76"},{"v":1.526072477510057,"d":"1.53"},{"$f":"IF('Gefilterde data'!CL58=0,\"\",'Gefilterde data'!CL58)","v":9.9},{"$f":"IF('Gefilterde data'!DX58=0,\"\",'Gefilterde data'!DX58)","v":{"v":47.2972972972973,"d":"47.3"}},null,{"$f":"IF('Gefilterde data'!DZ58=0,\"\",'Gefilterde data'!DZ58)","v":{"v":7.207207207207207,"d":"7"}},{"$f":"IF('Gefilterde data'!DW58=0,\"\",'Gefilterde data'!DW58)","v":{"v":10199,"d":"10,199"}},{"$f":"IF('Gefilterde data'!I58=0,\"\",'Gefilterde data'!I58)","v":{"v":1110,"d":"1,110"}},{"$f":"IF('Gefilterde data'!DI58=0,\"\",'Gefilterde data'!DI58)","v":0.4},{"$f":"IF('Gefilterde data'!EA58=0,\"\",'Gefilterde data'!EA58)","v":{"v":9.90990990990991,"d":"10"}},{"$f":"IF('Gefilterde data'!EA58=0,\"\",'Gefilterde data'!EB58)","v":{"v":17.117117117117118,"d":"17"}}]
[null,{"$f":"IF('Gefilterde data'!C59=0,\"\",'Gefilterde data'!C59)","v":"Frederikspleinbuurt"},{"$f":"IF(B72=\"\",\"\",IF(LEFT(D72,2)=\"BU\",'Gefilterde data'!G59,\"-\"))","v":"De Weteringschans"},{"$f":"IF('Gefilterde data'!C59=0,\"\",'Gefilterde data'!A59)","v":"BU0363AH08"},{"v":0.7909729553644983,"d":"0.79"},{"v":1.594580838327954,"d":"1.59"},{"$f":"IF('Gefilterde data'!CL59=0,\"\",'Gefilterde data'!CL59)","v":10.6},{"$f":"IF('Gefilterde data'!DX59=0,\"\",'Gefilterde data'!DX59)","v":{"v":48.45360824742268,"d":"48.5"}},null,{"$f":"IF('Gefilterde data'!DZ59=0,\"\",'Gefilterde data'!DZ59)","v":{"v":4.123711340206185,"d":"4"}},{"$f":"IF('Gefilterde data'!DW59=0,\"\",'Gefilterde data'!DW59)","v":{"v":10506,"d":"10,506"}},{"$f":"IF('Gefilterde data'!I59=0,\"\",'Gefilterde data'!I59)","v":970},{"$f":"IF('Gefilterde data'!DI59=0,\"\",'Gefilterde data'!DI59)","v":0.5},{"$f":"IF('Gefilterde data'!EA59=0,\"\",'Gefilterde data'!EA59)","v":{"v":7.731958762886598,"d":"8"}},{"$f":"IF('Gefilterde data'!EA59=0,\"\",'Gefilterde data'!EB59)","v":{"v":15.463917525773196,"d":"15"}}]
[null,{"$f":"IF('Gefilterde data'!C60=0,\"\",'Gefilterde data'!C60)","v":"Weesperbuurt"},{"$f":"IF(B73=\"\",\"\",IF(LEFT(D73,2)=\"BU\",'Gefilterde data'!G60,\"-\"))","v":"Weesperbuurt/Plantage"},{"$f":"IF('Gefilterde data'!C60=0,\"\",'Gefilterde data'!A60)","v":"BU0363AJ01"},{"v":0.884810871619274,"d":"0.88"},{"v":1.7837556288864183,"d":"1.78"},{"$f":"IF('Gefilterde data'!CL60=0,\"\",'Gefilterde data'!CL60)","v":13.4},{"$f":"IF('Gefilterde data'!DX60=0,\"\",'Gefilterde data'!DX60)","v":{"v":48.36601307189542,"d":"48.4"}},null,{"$f":"IF('Gefilterde data'!DZ60=0,\"\",'Gefilterde data'!DZ60)","v":{"v":10.784313725490197,"d":"11"}},{"$f":"IF('Gefilterde data'!DW60=0,\"\",'Gefilterde data'!DW60)","v":{"v":8096,"d":"8,096"}},{"$f":"IF('Gefilterde data'!I60=0,\"\",'Gefilterde data'!I60)","v":{"v":3060,"d":"3,060"}},{"$f":"IF('Gefilterde data'!DI60=0,\"\",'Gefilterde data'!DI60)","v":0.5},{"$f":"IF('Gefilterde data'!EA60=0,\"\",'Gefilterde data'!EA60)","v":{"v":6.209150326797386,"d":"6"}},{"$f":"IF('Gefilterde data'!EA60=0,\"\",'Gefilterde data'!EB60)","v":{"v":20.098039215686274,"d":"20"}}]
[null,{"$f":"IF('Gefilterde data'!C61=0,\"\",'Gefilterde data'!C61)","v":"Plantage"},{"$f":"IF(B74=\"\",\"\",IF(LEFT(D74,2)=\"BU\",'Gefilterde data'!G61,\"-\"))","v":"Weesperbuurt/Plantage"},{"$f":"IF('Gefilterde data'!C61=0,\"\",'Gefilterde data'!A61)","v":"BU0363AJ02"},{"v":0.6669818956110306,"d":"0.67"},{"v":1.3446180972937236,"d":"1.34"},{"$f":"IF('Gefilterde data'!CL61=0,\"\",'Gefilterde data'!CL61)","v":8.6},{"$f":"IF('Gefilterde data'!DX61=0,\"\",'Gefilterde data'!DX61)","v":{"v":42.138364779874216,"d":"42.1"}},null,{"$f":"IF('Gefilterde data'!DZ61=0,\"\",'Gefilterde data'!DZ61)","v":{"v":7.127882599580712,"d":"7"}},{"$f":"IF('Gefilterde data'!DW61=0,\"\",'Gefilterde data'!DW61)","v":{"v":7290,"d":"7,290"}},{"$f":"IF('Gefilterde data'!I61=0,\"\",'Gefilterde data'!I61)","v":{"v":2385,"d":"2,385"}},{"$f":"IF('Gefilterde data'!DI61=0,\"\",'Gefilterde data'!DI61)","v":0.4},{"$f":"IF('Gefilterde data'!EA61=0,\"\",'Gefilterde data'!EA61)","v":{"v":8.176100628930817,"d":"8"}},{"$f":"IF('Gefilterde data'!EA61=0,\"\",'Gefilterde data'!EB61)","v":{"v":21.59329140461216,"d":"22"}}]
[null,{"$f":"IF('Gefilterde data'!C62=0,\"\",'Gefilterde data'!C62)","v":"Sarphatistrook"},{"$f":"IF(B75=\"\",\"\",IF(LEFT(D75,2)=\"BU\",'Gefilterde data'!G62,\"-\"))","v":"Weesperbuurt/Plantage"},{"$f":"IF('Gefilterde data'!C62=0,\"\",'Gefilterde data'!A62)","v":"BU0363AJ03"},{"v":0.9455958613531619,"d":"0.95"},{"v":1.9062965820634497,"d":"1.91"},{"$f":"IF('Gefilterde data'!CL62=0,\"\",'Gefilterde data'!CL62)","v":14.8},{"$f":"IF('Gefilterde data'!DX62=0,\"\",'Gefilterde data'!DX62)","v":{"v":49.87468671679198,"d":"49.9"}},null,{"$f":"IF('Gefilterde data'!DZ62=0,\"\",'Gefilterde data'!DZ62)","v":{"v":9.022556390977442,"d":"9"}},{"$f":"IF('Gefilterde data'!DW62=0,\"\",'Gefilterde data'!DW62)","v":{"v":8296,"d":"8,296"}},{"$f":"IF('Gefilterde data'!I62=0,\"\",'Gefilterde data'!I62)","v":{"v":1995,"d":"1,995"}},{"$f":"IF('Gefilterde data'!DI62=0,\"\",'Gefilterde data'!DI62)","v":0.3},{"$f":"IF('Gefilterde data'!EA62=0,\"\",'Gefilterde data'!EA62)","v":{"v":8.771929824561402,"d":"9"}},{"$f":"IF('Gefilterde data'!EA62=0,\"\",'Gefilterde data'!EB62)","v":{"v":11.528822055137844,"d":"12"}}]
[null,{"$f":"IF('Gefilterde data'!C63=0,\"\",'Gefilterde data'!C63)","v":"Alexanderplein e.o."},{"$f":"IF(B76=\"\",\"\",IF(LEFT(D76,2)=\"BU\",'Gefilterde data'!G63,\"-\"))","v":"Weesperbuurt/Plantage"},{"$f":"IF('Gefilterde data'!C63=0,\"\",'Gefilterde data'!A63)","v":"BU0363AJ04"},{"v":0.6157383927790716,"d":"0.62"},{"v":1.2413125327349563,"d":"1.24"},{"$f":"IF('Gefilterde data'!CL63=0,\"\",'Gefilterde data'!CL63)","v":6.7},{"$f":"IF('Gefilterde data'!DX63=0,\"\",'Gefilterde data'!DX63)","v":{"v":43.58974358974359,"d":"43.6"}},null,{"$f":"IF('Gefilterde data'!DZ63=0,\"\",'Gefilterde data'!DZ63)","v":{"v":7.6923076923076925,"d":"8"}},{"$f":"IF('Gefilterde data'!DW63=0,\"\",'Gefilterde data'!DW63)","v":{"v":9304,"d":"9,304"}},{"$f":"IF('Gefilterde data'!I63=0,\"\",'Gefilterde data'!I63)","v":390},{"$f":"IF('Gefilterde data'!DI63=0,\"\",'Gefilterde data'!DI63)","v":0.3},{"$f":"IF('Gefilterde data'!EA63=0,\"\",'Gefilterde data'!EA63)","v":{"v":11.538461538461538,"d":"12"}},{"$f":"IF('Gefilterde data'!EA63=0,\"\",'Gefilterde data'!EB63)","v":{"v":10.256410256410255,"d":"10"}}]
[null,{"$f":"IF('Gefilterde data'!C64=0,\"\",'Gefilterde data'!C64)","v":"Marine-Etablissement"},{"$f":"IF(B77=\"\",\"\",IF(LEFT(D77,2)=\"BU\",'Gefilterde data'!G64,\"-\"))","v":"Oostelijke Eilanden/Kadijken"},{"$f":"IF('Gefilterde data'!C64=0,\"\",'Gefilterde data'!A64)","v":"BU0363AK01"},"Ontbrekende waarde","Ontbrekende waarde",{"$f":"IF('Gefilterde data'!CL64=0,\"\",'Gefilterde data'!CL64)","v":"."},{"$f":"IF('Gefilterde data'!DX64=0,\"\",'Gefilterde data'!DX64)","v":{"v":50,"d":"50.0"}},null,{"$f":"IF('Gefilterde data'!DZ64=0,\"\",'Gefilterde data'!DZ64)","v":""},{"$f":"IF('Gefilterde data'!DW64=0,\"\",'Gefilterde data'!DW64)","v":{"v":4259,"d":"4,259"}},{"$f":"IF('Gefilterde data'!I64=0,\"\",'Gefilterde data'!I64)","v":110},{"$f":"IF('Gefilterde data'!DI64=0,\"\",'Gefilterde data'!DI64)","v":"."},{"$f":"IF('Gefilterde data'!EA64=0,\"\",'Gefilterde data'!EA64)","v":{"v":9.090909090909092,"d":"9"}},{"$f":"IF('Gefilterde data'!EA64=0,\"\",'Gefilterde data'!EB64)","v":{"v":13.636363636363635,"d":"14"}}]
[null,{"$f":"IF('Gefilterde data'!C65=0,\"\",'Gefilterde data'!C65)","v":"Kattenburg"},{"$f":"IF(B78=\"\",\"\",IF(LEFT(D78,2)=\"BU\",'Gefilterde data'!G65,\"-\"))","v":"Oostelijke Eilanden/Kadijken"},{"$f":"IF('Gefilterde data'!C65=0,\"\",'Gefilterde data'!A65)","v":"BU0363AK02"},{"v":1.0389543480474117,"d":"1.04"},{"v":2.0945048551381524,"d":"2.09"},{"$f":"IF('Gefilterde data'!CL65=0,\"\",'Gefilterde data'!CL65)","v":18.4},{"$f":"IF('Gefilterde data'!DX65=0,\"\",'Gefilterde data'!DX65)","v":{"v":46.706586826347305,"d":"46.7"}},null,{"$f":"IF('Gefilterde data'!DZ65=0,\"\",'Gefilterde data'!DZ65)","v":{"v":11.377245508982035,"d":"11"}},{"$f":"IF('Gefilterde data'!DW65=0,\"\",'Gefilterde data'!DW65)","v":{"v":5209,"d":"5,209"}},{"$f":"IF('Gefilterde data'!I65=0,\"\",'Gefilterde data'!I65)","v":{"v":1670,"d":"1,670"}},{"$f":"IF('Gefilterde data'!DI65=0,\"\",'Gefilterde data'!DI65)","v":0.3},{"$f":"IF('Gefilterde data'!EA65=0,\"\",'Gefilterde data'!EA65)","v":{"v":9.580838323353294,"d":"10"}},{"$f":"IF('Gefilterde data'!EA65=0,\"\",'Gefilterde data'!EB65)","v":{"v":23.053892215568865,"d":"23"}}]
[null,{"$f":"IF('Gefilterde data'!C66=0,\"\",'Gefilterde data'!C66)","v":"Wittenburg"},{"$f":"IF(B79=\"\",\"\",IF(LEFT(D79,2)=\"BU\",'Gefilterde data'!G66,\"-\"))","v":"Oostelijke Eilanden/Kadijken"},{"$f":"IF('Gefilterde data'!C66=0,\"\",'Gefilterde data'!A66)","v":"BU0363AK03"},{"v":1.1157123758589145,"d":"1.12"},{"v":2.2492470362784203,"d":"2.25"},{"$f":"IF('Gefilterde data'!CL66=0,\"\",'Gefilterde data'!CL66)","v":18.1},{"$f":"IF('Gefilterde data'!DX66=0,\"\",'Gefilterde data'!DX66)","v":{"v":56.43564356435643,"d":"56.4"}},null,{"$f":"IF('Gefilterde data'!DZ66=0,\"\",'Gefilterde data'!DZ66)","v":{"v":2.376237623762376,"d":"2"}},{"$f":"IF('Gefilterde data'!DW66=0,\"\",'Gefilterde data'!DW66)","v":{"v":5333,"d":"5,333"}},{"$f":"IF('Gefilterde data'!I66=0,\"\",'Gefilterde data'!I66)","v":{"v":2525,"d":"2,525"}},{"$f":"IF('Gefilterde data'!DI66=0,\"\",'Gefilterde data'!DI66)","v":0.4},{"$f":"IF('Gefilterde data'!EA66=0,\"\",'Gefilterde data'!EA66)","v":{"v":8.118811881188119,"d":"8"}},{"$f":"IF('Gefilterde data'!EA66=0,\"\",'Gefilterde data'!EB66)","v":{"v":16.435643564356436,"d":"16"}}]
[null,{"$f":"IF('Gefilterde data'!C67=0,\"\",'Gefilterde data'!C67)","v":"Oostenburg"},{"$f":"IF(B80=\"\",\"\",IF(LEFT(D80,2)=\"BU\",'Gefilterde data'!G67,\"-\"))","v":"Oostelijke Eilanden/Kadijken"},{"$f":"IF('Gefilterde data'!C67=0,\"\",'Gefilterde data'!A67)","v":"BU0363AK04"},{"v":0.8740387441033199,"d":"0.87"},{"v":1.7620393009026758,"d":"1.76"},{"$f":"IF('Gefilterde data'!CL67=0,\"\",'Gefilterde data'!CL67)","v":11.1},{"$f":"IF('Gefilterde data'!DX67=0,\"\",'Gefilterde data'!DX67)","v":{"v":55.86206896551724,"d":"55.9"}},null,{"$f":"IF('Gefilterde data'!DZ67=0,\"\",'Gefilterde data'!DZ67)","v":{"v":4.482758620689655,"d":"4"}},{"$f":"IF('Gefilterde data'!DW67=0,\"\",'Gefilterde data'!DW67)","v":{"v":6438,"d":"6,438"}},{"$f":"IF('Gefilterde data'!I67=0,\"\",'Gefilterde data'!I67)","v":{"v":2900,"d":"2,900"}},{"$f":"IF('Gefilterde data'!DI67=0,\"\",'Gefilterde data'!DI67)","v":0.3},{"$f":"IF('Gefilterde data'!EA67=0,\"\",'Gefilterde data'!EA67)","v":{"v":7.241379310344828,"d":"7"}},{"$f":"IF('Gefilterde data'!EA67=0,\"\",'Gefilterde data'!EB67)","v":{"v":9.655172413793103,"d":"10"}}]
[null,{"$f":"IF('Gefilterde data'!C68=0,\"\",'Gefilterde data'!C68)","v":"Czaar Peterbuurt"},{"$f":"IF(B81=\"\",\"\",IF(LEFT(D81,2)=\"BU\",'Gefilterde data'!G68,\"-\"))","v":"Oostelijke Eilanden/Kadijken"},{"$f":"IF('Gefilterde data'!C68=0,\"\",'Gefilterde data'!A68)","v":"BU0363AK05"},{"$f":"IF(G81=\"\",\"\",IF(OR(NOT(ISNUMBER(G81)),NOT(ISNUMBER(H81))),\"Ontbrekende waarde\",F81/F$1))","v":{"v":1.1806991462797485,"d":"1.18"}},{"$f":"IF(G81=\"\",\"\",IF(OR(NOT(ISNUMBER(G81)),NOT(ISNUMBER(H81))),\"Ontbrekende waarde\",((G81/AVERAGE(G$16:G$532)+H81/AVERAGE(H$16:H$532)))))","v":{"v":2.380258669678865,"d":"2.38"}},{"$f":"IF('Gefilterde data'!CL68=0,\"\",'Gefilterde data'!CL68)","v":20.3},{"$f":"IF('Gefilterde data'!DX68=0,\"\",'Gefilterde data'!DX68)","v":{"v":55.38793103448276,"d":"55.4"}},null,{"$f":"IF('Gefilterde data'!DZ68=0,\"\",'Gefilterde data'!DZ68)","v":{"v":4.741379310344827,"d":"5"}},{"$f":"IF('Gefilterde data'!DW68=0,\"\",'Gefilterde data'!DW68)","v":{"v":7029,"d":"7,029"}},{"$f":"IF('Gefilterde data'!I68=0,\"\",'Gefilterde data'!I68)","v":{"v":2320,"d":"2,320"}},{"$f":"IF('Gefilterde data'!DI68=0,\"\",'Gefilterde data'!DI68)","v":0.3},{"$f":"IF('Gefilterde data'!EA68=0,\"\",'Gefilterde data'!EA68)","v":{"v":9.482758620689655,"d":"9"}},{"$f":"IF('Gefilterde data'!EA68=0,\"\",'Gefilterde data'!EB68)","v":{"v":11.206896551724139,"d":"11"}}]
[null,{"$f":"IF('Gefilterde data'!C69=0,\"\",'Gefilterde data'!C69)","v":"Het Funen"},{"$f":"IF(B82=\"\",\"\",IF(LEFT(D82,2)=\"BU\",'Gefilterde data'!G69,\"-\"))","v":"Oostelijke Eilanden/Kadijken"},{"$f":"IF('Gefilterde data'!C69=0,\"\",'Gefilterde data'!A69)","v":"BU0363AK06"},{"v":0.7314032988691346,"d":"0.73"},{"v":1.4744899652468226,"d":"1.47"},{"$f":"IF('Gefilterde data'!CL69=0,\"\",'Gefilterde data'!CL69)","v":9.5},{"$f":"IF('Gefilterde data'!DX69=0,\"\",'Gefilterde data'!DX69)","v":{"v":45.94594594594595,"d":"45.9"}},null,{"$f":"IF('Gefilterde data'!DZ69=0,\"\",'Gefilterde data'!DZ69)","v":{"v":3.088803088803089,"d":"3"}},{"$f":"IF('Gefilterde data'!DW69=0,\"\",'Gefilterde data'!DW69)","v":{"v":7997,"d":"7,997"}},{"$f":"IF('Gefilterde data'!I69=0,\"\",'Gefilterde data'!I69)","v":{"v":1295,"d":"1,295"}},{"$f":"IF('Gefilterde data'!DI69=0,\"\",'Gefilterde data'!DI69)","v":0.5},{"$f":"IF('Gefilterde data'!EA69=0,\"\",'Gefilterde data'!EA69)","v":{"v":17.760617760617762,"d":"18"}},{"$f":"IF('Gefilterde data'!EA69=0,\"\",'Gefilterde data'!EB69)","v":{"v":11.196911196911197,"d":"11"}}]
[null,{"$f":"IF('Gefilterde data'!C70=0,\"\",'Gefilterde data'!C70)","v":"Kadijken"},{"$f":"IF(B83=\"\",\"\",IF(LEFT(D83,2)=\"BU\",'Gefilterde data'!G70,\"-\"))","v":"Oostelijke Eilanden/Kadijken"},{"$f":"IF('Gefilterde data'!C70=0,\"\",'Gefilterde data'!A70)","v":"BU0363AK07"},{"v":0.8988867377060843,"d":"0.90"},{"v":1.8121322076210917,"d":"1.81"},{"$f":"IF('Gefilterde data'!CL70=0,\"\",'Gefilterde data'!CL70)","v":15.5},{"$f":"IF('Gefilterde data'!DX70=0,\"\",'Gefilterde data'!DX70)","v":{"v":41.996557659208264,"d":"42.0"}},null,{"$f":"IF('Gefilterde data'!DZ70=0,\"\",'Gefilterde data'!DZ70)","v":{"v":3.098106712564544,"d":"3"}},{"$f":"IF('Gefilterde data'!DW70=0,\"\",'Gefilterde data'!DW70)","v":{"v":6535,"d":"6,535"}},{"$f":"IF('Gefilterde data'!I70=0,\"\",'Gefilterde data'!I70)","v":{"v":2905,"d":"2,905"}},{"$f":"IF('Gefilterde data'!DI70=0,\"\",'Gefilterde data'!DI70)","v":0.4},{"$f":"IF('Gefilterde data'!EA70=0,\"\",'Gefilterde data'!EA70)","v":{"v":7.573149741824441,"d":"8"}},{"$f":"IF('Gefilterde data'!EA70=0,\"\",'Gefilterde data'!EB70)","v":{"v":23.407917383820998,"d":"23"}}]
[null,{"$f":"IF('Gefilterde data'!C71=0,\"\",'Gefilterde data'!C71)","v":"Kazernebuurt"},{"$f":"IF(B84=\"\",\"\",IF(LEFT(D84,2)=\"BU\",'Gefilterde data'!G71,\"-\"))","v":"Oostelijke Eilanden/Kadijken"},{"$f":"IF('Gefilterde data'!C71=0,\"\",'Gefilterde data'!A71)","v":"BU0363AK08"},{"v":1.0810524371180559,"d":"1.08"},{"v":2.1793735041949813,"d":"2.18"},{"$f":"IF('Gefilterde data'!CL71=0,\"\",'Gefilterde data'!CL71)","v":19.9},{"$f":"IF('Gefilterde data'!DX71=0,\"\",'Gefilterde data'!DX71)","v":{"v":45.744680851063826,"d":"45.7"}},null,{"$f":"IF('Gefilterde data'!DZ71=0,\"\",'Gefilterde data'!DZ71)","v":{"v":2.127659574468085,"d":"2"}},{"$f":"IF('Gefilterde data'!DW71=0,\"\",'Gefilterde data'!DW71)","v":{"v":8163,"d":"8,163"}},{"$f":"IF('Gefilterde data'!I71=0,\"\",'Gefilterde data'!I71)","v":940},{"$f":"IF('Gefilterde data'!DI71=0,\"\",'Gefilterde data'!DI71)","v":0.3},{"$f":"IF('Gefilterde data'!EA71=0,\"\",'Gefilterde data'!EA71)","v":{"v":5.851063829787234,"d":"6"}},{"$f":"IF('Gefilterde data'!EA71=0,\"\",'Gefilterde data'!EB71)","v":25}]
[null,{"$f":"IF('Gefilterde data'!C72=0,\"\",'Gefilterde data'!C72)","v":"Afrikahaven"},{"$f":"IF(B85=\"\",\"\",IF(LEFT(D85,2)=\"BU\",'Gefilterde data'!G72,\"-\"))","v":"Havens-West"},{"$f":"IF('Gefilterde data'!C72=0,\"\",'Gefilterde data'!A72)","v":"BU0363BA01"},"Ontbrekende waarde","Ontbrekende waarde",{"$f":"IF('Gefilterde data'!CL72=0,\"\",'Gefilterde data'!CL72)","v":"."},{"$f":"IF('Gefilterde data'!DX72=0,\"\",'Gefilterde data'!DX72)","v":""},null,{"$f":"IF('Gefilterde data'!DZ72=0,\"\",'Gefilterde data'!DZ72)","v":""},{"$f":"IF('Gefilterde data'!DW72=0,\"\",'Gefilterde data'!DW72)","v":51},{"$f":"IF('Gefilterde data'!I72=0,\"\",'Gefilterde data'!I72)","v":5},{"$f":"IF('Gefilterde data'!DI72=0,\"\",'Gefilterde data'!DI72)","v":"."},{"$f":"IF('Gefilterde data'!EA72=0,\"\",'Gefilterde data'!EA72)","v":""},{"$f":"IF('Gefilterde data'!EA72=0,\"\",'Gefilterde data'!EB72)","v":""}]
[null,{"$f":"IF('Gefilterde data'!C73=0,\"\",'Gefilterde data'!C73)","v":"Amerikahaven"},{"$f":"IF(B86=\"\",\"\",IF(LEFT(D86,2)=\"BU\",'Gefilterde data'!G73,\"-\"))","v":"Havens-West"},{"$f":"IF('Gefilterde data'!C73=0,\"\",'Gefilterde data'!A73)","v":"BU0363BA02"},"Ontbrekende waarde","Ontbrekende waarde",{"$f":"IF('Gefilterde data'!CL73=0,\"\",'Gefilterde data'!CL73)","v":"."},{"$f":"IF('Gefilterde data'!DX73=0,\"\",'Gefilterde data'!DX73)","v":{"v":100,"d":"100.0"}},null,{"$f":"IF('Gefilterde data'!DZ73=0,\"\",'Gefilterde data'!DZ73)","v":""},{"$f":"IF('Gefilterde data'!DW73=0,\"\",'Gefilterde data'!DW73)","v":47},{"$f":"IF('Gefilterde data'!I73=0,\"\",'Gefilterde data'!I73)","v":5},{"$f":"IF('Gefilterde data'!DI73=0,\"\",'Gefilterde data'!DI73)","v":"."},{"$f":"IF('Gefilterde data'!EA73=0,\"\",'Gefilterde data'!EA73)","v":""},{"$f":"IF('Gefilterde data'!EA73=0,\"\",'Gefilterde data'!EB73)","v":""}]
[null,{"$f":"IF('Gefilterde data'!C74=0,\"\",'Gefilterde data'!C74)","v":"Westhaven-Noord"},{"$f":"IF(B87=\"\",\"\",IF(LEFT(D87,2)=\"BU\",'Gefilterde data'!G74,\"-\"))","v":"Havens-West"},{"$f":"IF('Gefilterde data'!C74=0,\"\",'Gefilterde data'!A74)","v":"BU0363BA03"},"Ontbrekende waarde","Ontbrekende waarde",{"$f":"IF('Gefilterde data'!CL74=0,\"\",'Gefilterde data'!CL74)","v":"."},{"$f":"IF('Gefilterde data'!DX74=0,\"\",'Gefilterde data'!DX74)","v":{"v":33.33333333333333,"d":"33.3"}},null,{"$f":"IF('Gefilterde data'!DZ74=0,\"\",'Gefilterde data'!DZ74)","v":""},{"$f":"IF('Gefilterde data'!DW74=0,\"\",'Gefilterde data'!DW74)","v":99},{"$f":"IF('Gefilterde data'!I74=0,\"\",'Gefilterde data'!I74)","v":15},{"$f":"IF('Gefilterde data'!DI74=0,\"\",'Gefilterde data'!DI74)","v":"."},{"$f":"IF('Gefilterde data'!EA74=0,\"\",'Gefilterde data'!EA74)","v":{"v":33.33333333333333,"d":"33"}},{"$f":"IF('Gefilterde data'!EA74=0,\"\",'Gefilterde data'!EB74)","v":{"v":33.33333333333333,"d":"33"}}]
[null,{"$f":"IF('Gefilterde data'!C75=0,\"\",'Gefilterde data'!C75)","v":"Petroleumhaven"},{"$f":"IF(B88=\"\",\"\",IF(LEFT(D88,2)=\"BU\",'Gefilterde data'!G75,\"-\"))","v":"Havens-West"},{"$f":"IF('Gefilterde data'!C75=0,\"\",'Gefilterde data'!A75)","v":"BU0363BA04"},"Ontbrekende waarde","Ontbrekende waarde",{"$f":"IF('Gefilterde data'!CL75=0,\"\",'Gefilterde data'!CL75)","v":"."},{"$f":"IF('Gefilterde data'!DX75=0,\"\",'Gefilterde data'!DX75)","v":"Geen inwoners"},null,{"$f":"IF('Gefilterde data'!DZ75=0,\"\",'Gefilterde data'!DZ75)","v":"Geen inwoners"},{"$f":"IF('Gefilterde data'!DW75=0,\"\",'Gefilterde data'!DW75)","v":84},{"$f":"IF('Gefilterde data'!I75=0,\"\",'Gefilterde data'!I75)","v":""},{"$f":"IF('Gefilterde data'!DI75=0,\"\",'Gefilterde data'!DI75)","v":"."},{"$f":"IF('Gefilterde data'!EA75=0,\"\",'Gefilterde data'!EA75)","v":"Geen inwoners"},{"$f":"IF('Gefilterde data'!EA75=0,\"\",'Gefilterde data'!EB75)","v":"Geen inwoners"}]
[null,{"$f":"IF('Gefilterde data'!C76=0,\"\",'Gefilterde data'!C76)","v":"Vervoerscentrum"},{"$f":"IF(B89=\"\",\"\",IF(LEFT(D89,2)=\"BU\",'Gefilterde data'!G76,\"-\"))","v":"Havens-West"},{"$f":"IF('Gefilterde data'!C76=0,\"\",'Gefilterde data'!A76)","v":"BU0363BA05"},"Ontbrekende waarde","Ontbrekende waarde",{"$f":"IF('Gefilterde data'!CL76=0,\"\",'Gefilterde data'!CL76)","v":"."},{"$f":"IF('Gefilterde data'!DX76=0,\"\",'Gefilterde data'!DX76)","v":"Geen inwoners"},null,{"$f":"IF('Gefilterde data'!DZ76=0,\"\",'Gefilterde data'!DZ76)","v":"Geen inwoners"},{"$f":"IF('Gefilterde data'!DW76=0,\"\",'Gefilterde data'!DW76)","v":171},{"$f":"IF('Gefilterde data'!I76=0,\"\",'Gefilterde data'!I76)","v":""},{"$f":"IF('Gefilterde data'!DI76=0,\"\",'Gefilterde data'!DI76)","v":"."},{"$f":"IF('Gefilterde data'!EA76=0,\"\",'Gefilterde data'!EA76)","v":"Geen inwoners"},{"$f":"IF('Gefilterde data'!EA76=0,\"\",'Gefilterde data'!EB76)","v":"Geen inwoners"}]
[null,{"$f":"IF('Gefilterde data'!C77=0,\"\",'Gefilterde data'!C77)","v":"Westhaven-Zuid"},{"$f":"IF(B90=\"\",\"\",IF(LEFT(D90,2)=\"BU\",'Gefilterde data'!G77,\"-\"))","v":"Havens-West"},{"$f":"IF('Gefilterde data'!C77=0,\"\",'Gefilterde data'!A77)","v":"BU0363BA06"},"Ontbrekende waarde","Ontbrekende waarde",{"$f":"IF('Gefilterde data'!CL77=0,\"\",'Gefilterde data'!CL77)","v":"."},{"$f":"IF('Gefilterde data'!DX77=0,\"\",'Gefilterde data'!DX77)","v":{"v":50,"d":"50.0"}},null,{"$f":"IF('Gefilterde data'!DZ77=0,\"\",'Gefilterde data'!DZ77)","v":""},{"$f":"IF('Gefilterde data'!DW77=0,\"\",'Gefilterde data'!DW77)","v":316},{"$f":"IF('Gefilterde data'!I77=0,\"\",'Gefilterde data'!I77)","v":10},{"$f":"IF('Gefilterde data'!DI77=0,\"\",'Gefilterde data'!DI77)","v":"."},{"$f":"IF('Gefilterde data'!EA77=0,\"\",'Gefilterde data'!EA77)","v":""},{"$f":"IF('Gefilterde data'!EA77=0,\"\",'Gefilterde data'!EB77)","v":""}]
[null,{"$f":"IF('Gefilterde data'!C78=0,\"\",'Gefilterde data'!C78)","v":"Coenhaven"},{"$f":"IF(B91=\"\",\"\",IF(LEFT(D91,2)=\"BU\",'Gefilterde data'!G78,\"-\"))","v":"Coenhaven/Minervahaven"},{"$f":"IF('Gefilterde data'!C78=0,\"\",'Gefilterde data'!A78)","v":"BU0363BB01"},"Ontbrekende waarde","Ontbrekende waarde",{"$f":"IF('Gefilterde data'!CL78=0,\"\",'Gefilterde data'!CL78)","v":"."},{"$f":"IF('Gefilterde data'!DX78=0,\"\",'Gefilterde data'!DX78)","v":{"v":100,"d":"100.0"}},null,{"$f":"IF('Gefilterde data'!DZ78=0,\"\",'Gefilterde data'!DZ78)","v":""},{"$f":"IF('Gefilterde data'!DW78=0,\"\",'Gefilterde data'!DW78)","v":124},{"$f":"IF('Gefilterde data'!I78=0,\"\",'Gefilterde data'!I78)","v":175},{"$f":"IF('Gefilterde data'!DI78=0,\"\",'Gefilterde data'!DI78)","v":"."},{"$f":"IF('Gefilterde data'!EA78=0,\"\",'Gefilterde data'!EA78)","v":""},{"$f":"IF('Gefilterde data'!EA78=0,\"\",'Gefilterde data'!EB78)","v":""}]
[null,{"$f":"IF('Gefilterde data'!C79=0,\"\",'Gefilterde data'!C79)","v":"Vlothaven"},{"$f":"IF(B92=\"\",\"\",IF(LEFT(D92,2)=\"BU\",'Gefilterde data'!G79,\"-\"))","v":"Coenhaven/Minervahaven"},{"$f":"IF('Gefilterde data'!C79=0,\"\",'Gefilterde data'!A79)","v":"BU0363BB02"},"Ontbrekende waarde","Ontbrekende waarde",{"$f":"IF('Gefilterde data'!CL79=0,\"\",'Gefilterde data'!CL79)","v":"."},{"$f":"IF('Gefilterde data'!DX79=0,\"\",'Gefilterde data'!DX79)","v":"Geen inwoners"},null,{"$f":"IF('Gefilterde data'!DZ79=0,\"\",'Gefilterde data'!DZ79)","v":"Geen inwoners"},{"$f":"IF('Gefilterde data'!DW79=0,\"\",'Gefilterde data'!DW79)","v":133},{"$f":"IF('Gefilterde data'!I79=0,\"\",'Gefilterde data'!I79)","v":""},{"$f":"IF('Gefilterde data'!DI79=0,\"\",'Gefilterde data'!DI79)","v":"."},{"$f":"IF('Gefilterde data'!EA79=0,\"\",'Gefilterde data'!EA79)","v":"Geen inwoners"},{"$f":"IF('Gefilterde data'!EA79=0,\"\",'Gefilterde data'!EB79)","v":"Geen inwoners"}]
[null,{"$f":"IF('Gefilterde data'!C80=0,\"\",'Gefilterde data'!C80)","v":"Minervahaven-Noordoost"},{"$f":"IF(B93=\"\",\"\",IF(LEFT(D93,2)=\"BU\",'Gefilterde data'!G80,\"-\"))","v":"Coenhaven/Minervahaven"},{"$f":"IF('Gefilterde data'!C80=0,\"\",'Gefilterde data'!A80)","v":"BU0363BB03"},"Ontbrekende waarde","Ontbrekende waarde",{"$f":"IF('Gefilterde data'!CL80=0,\"\",'Gefilterde data'!CL80)","v":"."},{"$f":"IF('Gefilterde data'!DX80=0,\"\",'Gefilterde data'!DX80)","v":{"v":98.72611464968153,"d":"98.7"}},null,{"$f":"IF('Gefilterde data'!DZ80=0,\"\",'Gefilterde data'!DZ80)","v":{"v":63.69426751592356,"d":"64"}},{"$f":"IF('Gefilterde data'!DW80=0,\"\",'Gefilterde data'!DW80)","v":{"v":1454,"d":"1,454"}},{"$f":"IF('Gefilterde data'!I80=0,\"\",'Gefilterde data'!I80)","v":785},{"$f":"IF('Gefilterde data'!DI80=0,\"\",'Gefilterde data'!DI80)","v":0.2},{"$f":"IF('Gefilterde data'!EA80=0,\"\",'Gefilterde data'!EA80)","v":""},{"$f":"IF('Gefilterde data'!EA80=0,\"\",'Gefilterde data'!EB80)","v":""}]
[null,{"$f":"IF('Gefilterde data'!C81=0,\"\",'Gefilterde data'!C81)","v":"Minervahaven-Noordwest"},{"$f":"IF(B94=\"\",\"\",IF(LEFT(D94,2)=\"BU\",'Gefilterde data'!G81,\"-\"))","v":"Coenhaven/Minervahaven"},{"$f":"IF('Gefilterde data'!C81=0,\"\",'Gefilterde data'!A81)","v":"BU0363BB04"},"Ontbrekende waarde","Ontbrekende waarde",{"$f":"IF('Gefilterde data'!CL81=0,\"\",'Gefilterde data'!CL81)","v":"."},{"$f":"IF('Gefilterde data'!DX81=0,\"\",'Gefilterde data'!DX81)","v":{"v":100,"d":"100.0"}},null,{"$f":"IF('Gefilterde data'!DZ81=0,\"\",'Gefilterde data'!DZ81)","v":""},{"$f":"IF('Gefilterde data'!DW81=0,\"\",'Gefilterde data'!DW81)","v":{"v":1707,"d":"1,707"}},{"$f":"IF('Gefilterde data'!I81=0,\"\",'Gefilterde data'!I81)","v":5},{"$f":"IF('Gefilterde data'!DI81=0,\"\",'Gefilterde data'!DI81)","v":"."},{"$f":"IF('Gefilterde data'!EA81=0,\"\",'Gefilterde data'!EA81)","v":""},{"$f":"IF('Gefilterde data'!EA81=0,\"\",'Gefilterde data'!EB81)","v":""}]
[null,{"$f":"IF('Gefilterde data'!C82=0,\"\",'Gefilterde data'!C82)","v":"Minervahaven-Zuidwest"},{"$f":"IF(B95=\"\",\"\",IF(LEFT(D95,2)=\"BU\",'Gefilterde data'!G82,\"-\"))","v":"Coenhaven/Minervahaven"},{"$f":"IF('Gefilterde data'!C82=0,\"\",'Gefilterde data'!A82)","v":"BU0363BB05"},"Ontbrekende waarde","Ontbrekende waarde",{"$f":"IF('Gefilterde data'!CL82=0,\"\",'Gefilterde data'!CL82)","v":"."},{"$f":"IF('Gefilterde data'!DX82=0,\"\",'Gefilterde data'!DX82)","v":"Geen inwoners"},null,{"$f":"IF('Gefilterde data'!DZ82=0,\"\",'Gefilterde data'!DZ82)","v":"Geen inwoners"},{"$f":"IF('Gefilterde data'!DW82=0,\"\",'Gefilterde data'!DW82)","v":{"v":2523,"d":"2,523"}},{"$f":"IF('Gefilterde data'!I82=0,\"\",'Gefilterde data'!I82)","v":""},{"$f":"IF('Gefilterde data'!DI82=0,\"\",'Gefilterde data'!DI82)","v":"."},{"$f":"IF('Gefilterde data'!EA82=0,\"\",'Gefilterde data'!EA82)","v":"Geen inwoners"},{"$f":"IF('Gefilterde data'!EA82=0,\"\",'Gefilterde data'!EB82)","v":"Geen inwoners"}]
[null,{"$f":"IF('Gefilterde data'!C83=0,\"\",'Gefilterde data'!C83)","v":"Minervahaven-Zuidoost"},{"$f":"IF(B96=\"\",\"\",IF(LEFT(D96,2)=\"BU\",'Gefilterde data'!G83,\"-\"))","v":"Coenhaven/Minervahaven"},{"$f":"IF('Gefilterde data'!C83=0,\"\",'Gefilterde data'!A83)","v":"BU0363BB06"},"Ontbrekende waarde","Ontbrekende waarde",{"$f":"IF('Gefilterde data'!CL83=0,\"\",'Gefilterde data'!CL83)","v":"."},{"$f":"IF('Gefilterde data'!DX83=0,\"\",'Gefilterde data'!DX83)","v":{"v":100,"d":"100.0"}},null,{"$f":"IF('Gefilterde data'!DZ83=0,\"\",'Gefilterde data'!DZ83)","v":""},{"$f":"IF('Gefilterde data'!DW83=0,\"\",'Gefilterde data'!DW83)","v":{"v":2569,"d":"2,569"}},{"$f":"IF('Gefilterde data'!I83=0,\"\",'Gefilterde data'!I83)","v":20},{"$f":"IF('Gefilterde data'!DI83=0,\"\",'Gefilterde data'!DI83)","v":"."},{"$f":"IF('Gefilterde data'!EA83=0,\"\",'Gefilterde data'!EA83)","v":""},{"$f":"IF('Gefilterde data'!EA83=0,\"\",'Gefilterde data'!EB83)","v":""}]
[null,{"$f":"IF('Gefilterde data'!C84=0,\"\",'Gefilterde data'!C84)","v":"Alfa-driehoek"},{"$f":"IF(B97=\"\",\"\",IF(LEFT(D97,2)=\"BU\",'Gefilterde data'!G84,\"-\"))","v":"Coenhaven/Minervahaven"},{"$f":"IF('Gefilterde data'!C84=0,\"\",'Gefilterde data'!A84)","v":"BU0363BB07"},"Ontbrekende waarde","Ontbrekende waarde",{"$f":"IF('Gefilterde data'!CL84=0,\"\",'Gefilterde data'!CL84)","v":"."},{"$f":"IF('Gefilterde data'!DX84=0,\"\",'Gefilterde data'!DX84)","v":"Geen inwoners"},null,{"$f":"IF('Gefilterde data'!DZ84=0,\"\",'Gefilterde data'!DZ84)","v":"Geen inwoners"},{"$f":"IF('Gefilterde data'!DW84=0,\"\",'Gefilterde data'!DW84)","v":409},{"$f":"IF('Gefilterde data'!I84=0,\"\",'Gefilterde data'!I84)","v":""},{"$f":"IF('Gefilterde data'!DI84=0,\"\",'Gefilterde data'!DI84)","v":"."},{"$f":"IF('Gefilterde data'!EA84=0,\"\",'Gefilterde data'!EA84)","v":"Geen inwoners"},{"$f":"IF('Gefilterde data'!EA84=0,\"\",'Gefilterde data'!EB84)","v":"Geen inwoners"}]
[null,{"$f":"IF('Gefilterde data'!C85=0,\"\",'Gefilterde data'!C85)","v":"Hemknoop-Noord"},{"$f":"IF(B98=\"\",\"\",IF(LEFT(D98,2)=\"BU\",'Gefilterde data'!G85,\"-\"))","v":"Coenhaven/Minervahaven"},{"$f":"IF('Gefilterde data'!C85=0,\"\",'Gefilterde data'!A85)","v":"BU0363BB08"},"Ontbrekende waarde","Ontbrekende waarde",{"$f":"IF('Gefilterde data'!CL85=0,\"\",'Gefilterde data'!CL85)","v":"."},{"$f":"IF('Gefilterde data'!DX85=0,\"\",'Gefilterde data'!DX85)","v":"Geen inwoners"},null,{"$f":"IF('Gefilterde data'!DZ85=0,\"\",'Gefilterde data'!DZ85)","v":"Geen inwoners"},{"$f":"IF('Gefilterde data'!DW85=0,\"\",'Gefilterde data'!DW85)","v":581},{"$f":"IF('Gefilterde data'!I85=0,\"\",'Gefilterde data'!I85)","v":""},{"$f":"IF('Gefilterde data'!DI85=0,\"\",'Gefilterde data'!DI85)","v":"."},{"$f":"IF('Gefilterde data'!EA85=0,\"\",'Gefilterde data'!EA85)","v":"Geen inwoners"},{"$f":"IF('Gefilterde data'!EA85=0,\"\",'Gefilterde data'!EB85)","v":"Geen inwoners"}]
[null,{"$f":"IF('Gefilterde data'!C86=0,\"\",'Gefilterde data'!C86)","v":"Isolatorbuurt"},{"$f":"IF(B99=\"\",\"\",IF(LEFT(D99,2)=\"BU\",'Gefilterde data'!G86,\"-\"))","v":"Sloterdijk-West"},{"$f":"IF('Gefilterde data'!C86=0,\"\",'Gefilterde data'!A86)","v":"BU0363EA01"},"Ontbrekende waarde","Ontbrekende waarde",{"$f":"IF('Gefilterde data'!CL86=0,\"\",'Gefilterde data'!CL86)","v":"."},{"$f":"IF('Gefilterde data'!DX86=0,\"\",'Gefilterde data'!DX86)","v":{"v":75,"d":"75.0"}},null,{"$f":"IF('Gefilterde data'!DZ86=0,\"\",'Gefilterde data'!DZ86)","v":""},{"$f":"IF('Gefilterde data'!DW86=0,\"\",'Gefilterde data'!DW86)","v":654},{"$f":"IF('Gefilterde data'!I86=0,\"\",'Gefilterde data'!I86)","v":60},{"$f":"IF('Gefilterde data'!DI86=0,\"\",'Gefilterde data'!DI86)","v":"."},{"$f":"IF('Gefilterde data'!EA86=0,\"\",'Gefilterde data'!EA86)","v":""},{"$f":"IF('Gefilterde data'!EA86=0,\"\",'Gefilterde data'!EB86)","v":""}]
[null,{"$f":"IF('Gefilterde data'!C87=0,\"\",'Gefilterde data'!C87)","v":"Contactbuurt"},{"$f":"IF(B100=\"\",\"\",IF(LEFT(D100,2)=\"BU\",'Gefilterde data'!G87,\"-\"))","v":"Sloterdijk-West"},{"$f":"IF('Gefilterde data'!C87=0,\"\",'Gefilterde data'!A87)","v":"BU0363EA02"},"Ontbrekende waarde","Ontbrekende waarde",{"$f":"IF('Gefilterde data'!CL87=0,\"\",'Gefilterde data'!CL87)","v":"."},{"$f":"IF('Gefilterde data'!DX87=0,\"\",'Gefilterde data'!DX87)","v":{"v":66.66666666666666,"d":"66.7"}},null,{"$f":"IF('Gefilterde data'!DZ87=0,\"\",'Gefilterde data'!DZ87)","v":""},{"$f":"IF('Gefilterde data'!DW87=0,\"\",'Gefilterde data'!DW87)","v":{"v":1998,"d":"1,998"}},{"$f":"IF('Gefilterde data'!I87=0,\"\",'Gefilterde data'!I87)","v":15},{"$f":"IF('Gefilterde data'!DI87=0,\"\",'Gefilterde data'!DI87)","v":"."},{"$f":"IF('Gefilterde data'!EA87=0,\"\",'Gefilterde data'!EA87)","v":{"v":33.33333333333333,"d":"33"}},{"$f":"IF('Gefilterde data'!EA87=0,\"\",'Gefilterde data'!EB87)","v":0}]
[null,{"$f":"IF('Gefilterde data'!C88=0,\"\",'Gefilterde data'!C88)","v":"Woon- en Groengebied Sloterdijk"},{"$f":"IF(B101=\"\",\"\",IF(LEFT(D101,2)=\"BU\",'Gefilterde data'!G88,\"-\"))","v":"Sloterdijk-West"},{"$f":"IF('Gefilterde data'!C88=0,\"\",'Gefilterde data'!A88)","v":"BU0363EA03"},{"v":0.5287947156980622,"d":"0.53"},{"v":1.0660363484521918,"d":"1.07"},{"$f":"IF('Gefilterde data'!CL88=0,\"\",'Gefilterde data'!CL88)","v":3.8},{"$f":"IF('Gefilterde data'!DX88=0,\"\",'Gefilterde data'!DX88)","v":{"v":44.827586206896555,"d":"44.8"}},null,{"$f":"IF('Gefilterde data'!DZ88=0,\"\",'Gefilterde data'!DZ88)","v":{"v":1.7241379310344827,"d":"2"}},{"$f":"IF('Gefilterde data'!DW88=0,\"\",'Gefilterde data'!DW88)","v":{"v":4144,"d":"4,144"}},{"$f":"IF('Gefilterde data'!I88=0,\"\",'Gefilterde data'!I88)","v":580},{"$f":"IF('Gefilterde data'!DI88=0,\"\",'Gefilterde data'!DI88)","v":0.5},{"$f":"IF('Gefilterde data'!EA88=0,\"\",'Gefilterde data'!EA88)","v":{"v":10.344827586206897,"d":"10"}},{"$f":"IF('Gefilterde data'!EA88=0,\"\",'Gefilterde data'!EB88)","v":{"v":6.0344827586206895,"d":"6"}}]
[null,{"$f":"IF('Gefilterde data'!C89=0,\"\",'Gefilterde data'!C89)","v":"Hemknoop-Zuid"},{"$f":"IF(B102=\"\",\"\",IF(LEFT(D102,2)=\"BU\",'Gefilterde data'!G89,\"-\"))","v":"Spaarndammerbuurt/Zeeheldenbuurt"},{"$f":"IF('Gefilterde data'!C89=0,\"\",'Gefilterde data'!A89)","v":"BU0363EB01"},"Ontbrekende waarde","Ontbrekende waarde",{"$f":"IF('Gefilterde data'!CL89=0,\"\",'Gefilterde data'!CL89)","v":"."},{"$f":"IF('Gefilterde data'!DX89=0,\"\",'Gefilterde data'!DX89)","v":"Geen inwoners"},null,{"$f":"IF('Gefilterde data'!DZ89=0,\"\",'Gefilterde data'!DZ89)","v":"Geen inwoners"},{"$f":"IF('Gefilterde data'!DW89=0,\"\",'Gefilterde data'!DW89)","v":852},{"$f":"IF('Gefilterde data'!I89=0,\"\",'Gefilterde data'!I89)","v":""},{"$f":"IF('Gefilterde data'!DI89=0,\"\",'Gefilterde data'!DI89)","v":"."},{"$f":"IF('Gefilterde data'!EA89=0,\"\",'Gefilterde data'!EA89)","v":"Geen inwoners"},{"$f":"IF('Gefilterde data'!EA89=0,\"\",'Gefilterde data'!EB89)","v":"Geen inwoners"}]
[null,{"$f":"IF('Gefilterde data'!C90=0,\"\",'Gefilterde data'!C90)","v":"Overbraker Binnenpolder"},{"$f":"IF(B103=\"\",\"\",IF(LEFT(D103,2)=\"BU\",'Gefilterde data'!G90,\"-\"))","v":"Spaarndammerbuurt/Zeeheldenbuurt"},{"$f":"IF('Gefilterde data'!C90=0,\"\",'Gefilterde data'!A90)","v":"BU0363EB02"},"Ontbrekende waarde","Ontbrekende waarde",{"$f":"IF('Gefilterde data'!CL90=0,\"\",'Gefilterde data'!CL90)","v":"."},{"$f":"IF('Gefilterde data'!DX90=0,\"\",'Gefilterde data'!DX90)","v":""},null,{"$f":"IF('Gefilterde data'!DZ90=0,\"\",'Gefilterde data'!DZ90)","v":""},{"$f":"IF('Gefilterde data'!DW90=0,\"\",'Gefilterde data'!DW90)","v":{"v":2739,"d":"2,739"}},{"$f":"IF('Gefilterde data'!I90=0,\"\",'Gefilterde data'!I90)","v":5},{"$f":"IF('Gefilterde data'!DI90=0,\"\",'Gefilterde data'!DI90)","v":"."},{"$f":"IF('Gefilterde data'!EA90=0,\"\",'Gefilterde data'!EA90)","v":""},{"$f":"IF('Gefilterde data'!EA90=0,\"\",'Gefilterde data'!EB90)","v":""}]
[null,{"$f":"IF('Gefilterde data'!C91=0,\"\",'Gefilterde data'!C91)","v":"Zaanstraat emplacement"},{"$f":"IF(B104=\"\",\"\",IF(LEFT(D104,2)=\"BU\",'Gefilterde data'!G91,\"-\"))","v":"Spaarndammerbuurt/Zeeheldenbuurt"},{"$f":"IF('Gefilterde data'!C91=0,\"\",'Gefilterde data'!A91)","v":"BU0363EB03"},"Ontbrekende waarde","Ontbrekende waarde",{"$f":"IF('Gefilterde data'!CL91=0,\"\",'Gefilterde data'!CL91)","v":"."},{"$f":"IF('Gefilterde data'!DX91=0,\"\",'Gefilterde data'!DX91)","v":"Geen inwoners"},null,{"$f":"IF('Gefilterde data'!DZ91=0,\"\",'Gefilterde data'!DZ91)","v":"Geen inwoners"},{"$f":"IF('Gefilterde data'!DW91=0,\"\",'Gefilterde data'!DW91)","v":{"v":4440,"d":"4,440"}},{"$f":"IF('Gefilterde data'!I91=0,\"\",'Gefilterde data'!I91)","v":""},{"$f":"IF('Gefilterde data'!DI91=0,\"\",'Gefilterde data'!DI91)","v":"."},{"$f":"IF('Gefilterde data'!EA91=0,\"\",'Gefilterde data'!EA91)","v":"Geen inwoners"},{"$f":"IF('Gefilterde data'!EA91=0,\"\",'Gefilterde data'!EB91)","v":"Geen inwoners"}]
[null,{"$f":"IF('Gefilterde data'!C92=0,\"\",'Gefilterde data'!C92)","v":"Spaarndammerbuurt-Noordwest"},{"$f":"IF(B105=\"\",\"\",IF(LEFT(D105,2)=\"BU\",'Gefilterde data'!G92,\"-\"))","v":"Spaarndammerbuurt/Zeeheldenbuurt"},{"$f":"IF('Gefilterde data'!C92=0,\"\",'Gefilterde data'!A92)","v":"BU0363EB04"},{"v":1.1419228008944389,"d":"1.14"},{"v":2.3020865692139285,"d":"2.30"},{"$f":"IF('Gefilterde data'!CL92=0,\"\",'Gefilterde data'!CL92)","v":19.2},{"$f":"IF('Gefilterde data'!DX92=0,\"\",'Gefilterde data'!DX92)","v":{"v":55.208333333333336,"d":"55.2"}},null,{"$f":"IF('Gefilterde data'!DZ92=0,\"\",'Gefilterde data'!DZ92)","v":{"v":1.0416666666666665,"d":"1"}},{"$f":"IF('Gefilterde data'!DW92=0,\"\",'Gefilterde data'!DW92)","v":{"v":4249,"d":"4,249"}},{"$f":"IF('Gefilterde data'!I92=0,\"\",'Gefilterde data'!I92)","v":{"v":1920,"d":"1,920"}},{"$f":"IF('Gefilterde data'!DI92=0,\"\",'Gefilterde data'!DI92)","v":0.4},{"$f":"IF('Gefilterde data'!EA92=0,\"\",'Gefilterde data'!EA92)","v":{"v":12.760416666666666,"d":"13"}},{"$f":"IF('Gefilterde data'!EA92=0,\"\",'Gefilterde data'!EB92)","v":{"v":10.677083333333332,"d":"11"}}]
[null,{"$f":"IF('Gefilterde data'!C93=0,\"\",'Gefilterde data'!C93)","v":"Spaarndammerbuurt-Midden"},{"$f":"IF(B106=\"\",\"\",IF(LEFT(D106,2)=\"BU\",'Gefilterde data'!G93,\"-\"))","v":"Spaarndammerbuurt/Zeeheldenbuurt"},{"$f":"IF('Gefilterde data'!C93=0,\"\",'Gefilterde data'!A93)","v":"BU0363EB05"},{"v":1.121009784361589,"d":"1.12"},{"v":2.259926473588976,"d":"2.26"},{"$f":"IF('Gefilterde data'!CL93=0,\"\",'Gefilterde data'!CL93)","v":18.6},{"$f":"IF('Gefilterde data'!DX93=0,\"\",'Gefilterde data'!DX93)","v":{"v":55.13698630136986,"d":"55.1"}},null,{"$f":"IF('Gefilterde data'!DZ93=0,\"\",'Gefilterde data'!DZ93)","v":{"v":2.054794520547945,"d":"2"}},{"$f":"IF('Gefilterde data'!DW93=0,\"\",'Gefilterde data'!DW93)","v":{"v":5726,"d":"5,726"}},{"$f":"IF('Gefilterde data'!I93=0,\"\",'Gefilterde data'!I93)","v":{"v":1460,"d":"1,460"}},{"$f":"IF('Gefilterde data'!DI93=0,\"\",'Gefilterde data'!DI93)","v":0.4},{"$f":"IF('Gefilterde data'!EA93=0,\"\",'Gefilterde data'!EA93)","v":{"v":14.726027397260275,"d":"15"}},{"$f":"IF('Gefilterde data'!EA93=0,\"\",'Gefilterde data'!EB93)","v":{"v":7.191780821917808,"d":"7"}}]
[null,{"$f":"IF('Gefilterde data'!C94=0,\"\",'Gefilterde data'!C94)","v":"Spaarndammerbuurt-Zuidwest"},{"$f":"IF(B107=\"\",\"\",IF(LEFT(D107,2)=\"BU\",'Gefilterde data'!G94,\"-\"))","v":"Spaarndammerbuurt/Zeeheldenbuurt"},{"$f":"IF('Gefilterde data'!C94=0,\"\",'Gefilterde data'!A94)","v":"BU0363EB06"},{"v":1.1222245834806752,"d":"1.12"},{"v":2.262375476914027,"d":"2.26"},{"$f":"IF('Gefilterde data'!CL94=0,\"\",'Gefilterde data'!CL94)","v":19.7},{"$f":"IF('Gefilterde data'!DX94=0,\"\",'Gefilterde data'!DX94)","v":{"v":51.11111111111111,"d":"51.1"}},null,{"$f":"IF('Gefilterde data'!DZ94=0,\"\",'Gefilterde data'!DZ94)","v":{"v":2.7777777777777777,"d":"3"}},{"$f":"IF('Gefilterde data'!DW94=0,\"\",'Gefilterde data'!DW94)","v":{"v":5905,"d":"5,905"}},{"$f":"IF('Gefilterde data'!I94=0,\"\",'Gefilterde data'!I94)","v":{"v":1800,"d":"1,800"}},{"$f":"IF('Gefilterde data'!DI94=0,\"\",'Gefilterde data'!DI94)","v":0.3},{"$f":"IF('Gefilterde data'!EA94=0,\"\",'Gefilterde data'!EA94)","v":{"v":10.555555555555555,"d":"11"}},{"$f":"IF('Gefilterde data'!EA94=0,\"\",'Gefilterde data'!EB94)","v":{"v":20.555555555555554,"d":"21"}}]
[null,{"$f":"IF('Gefilterde data'!C95=0,\"\",'Gefilterde data'!C95)","v":"Spaarndammerbuurt-Noordoost"},{"$f":"IF(B108=\"\",\"\",IF(LEFT(D108,2)=\"BU\",'Gefilterde data'!G95,\"-\"))","v":"Spaarndammerbuurt/Zeeheldenbuurt"},{"$f":"IF('Gefilterde data'!C95=0,\"\",'Gefilterde data'!A95)","v":"BU0363EB07"},{"v":1.26686629121994,"d":"1.27"},{"v":2.5539693854286085,"d":"2.55"},{"$f":"IF('Gefilterde data'!CL95=0,\"\",'Gefilterde data'!CL95)","v":22.8},{"$f":"IF('Gefilterde data'!DX95=0,\"\",'Gefilterde data'!DX95)","v":{"v":55.576559546313796,"d":"55.6"}},null,{"$f":"IF('Gefilterde data'!DZ95=0,\"\",'Gefilterde data'!DZ95)","v":{"v":2.2684310018903595,"d":"2"}},{"$f":"IF('Gefilterde data'!DW95=0,\"\",'Gefilterde data'!DW95)","v":{"v":6052,"d":"6,052"}},{"$f":"IF('Gefilterde data'!I95=0,\"\",'Gefilterde data'!I95)","v":{"v":2645,"d":"2,645"}},{"$f":"IF('Gefilterde data'!DI95=0,\"\",'Gefilterde data'!DI95)","v":0.3},{"$f":"IF('Gefilterde data'!EA95=0,\"\",'Gefilterde data'!EA95)","v":{"v":10.964083175803403,"d":"11"}},{"$f":"IF('Gefilterde data'!EA95=0,\"\",'Gefilterde data'!EB95)","v":{"v":14.744801512287333,"d":"15"}}]
[null,{"$f":"IF('Gefilterde data'!C96=0,\"\",'Gefilterde data'!C96)","v":"Zeeheldenbuurt"},{"$f":"IF(B109=\"\",\"\",IF(LEFT(D109,2)=\"BU\",'Gefilterde data'!G96,\"-\"))","v":"Spaarndammerbuurt/Zeeheldenbuurt"},{"$f":"IF('Gefilterde data'!C96=0,\"\",'Gefilterde data'!A96)","v":"BU0363EB08"},{"v":1.1616014811377822,"d":"1.16"},{"v":2.3417582750880666,"d":"2.34"},{"$f":"IF('Gefilterde data'!CL96=0,\"\",'Gefilterde data'!CL96)","v":19.3},{"$f":"IF('Gefilterde data'!DX96=0,\"\",'Gefilterde data'!DX96)","v":{"v":57.033248081841435,"d":"57.0"}},null,{"$f":"IF('Gefilterde data'!DZ96=0,\"\",'Gefilterde data'!DZ96)","v":{"v":3.580562659846547,"d":"4"}},{"$f":"IF('Gefilterde data'!DW96=0,\"\",'Gefilterde data'!DW96)","v":{"v":5622,"d":"5,622"}},{"$f":"IF('Gefilterde data'!I96=0,\"\",'Gefilterde data'!I96)","v":{"v":1955,"d":"1,955"}},{"$f":"IF('Gefilterde data'!DI96=0,\"\",'Gefilterde data'!DI96)","v":0.4},{"$f":"IF('Gefilterde data'!EA96=0,\"\",'Gefilterde data'!EA96)","v":{"v":13.554987212276215,"d":"14"}},{"$f":"IF('Gefilterde data'!EA96=0,\"\",'Gefilterde data'!EB96)","v":{"v":12.787723785166241,"d":"13"}}]
[null,{"$f":"IF('Gefilterde data'!C97=0,\"\",'Gefilterde data'!C97)","v":"Westergasfabriek"},{"$f":"IF(B110=\"\",\"\",IF(LEFT(D110,2)=\"BU\",'Gefilterde data'!G97,\"-\"))","v":"Spaarndammerbuurt/Zeeheldenbuurt"},{"$f":"IF('Gefilterde data'!C97=0,\"\",'Gefilterde data'!A97)","v":"BU0363EB09"},"Ontbrekende waarde","Ontbrekende waarde",{"$f":"IF('Gefilterde data'!CL97=0,\"\",'Gefilterde data'!CL97)","v":"."},{"$f":"IF('Gefilterde data'!DX97=0,\"\",'Gefilterde data'!DX97)","v":"Geen inwoners"},null,{"$f":"IF('Gefilterde data'!DZ97=0,\"\",'Gefilterde data'!DZ97)","v":"Geen inwoners"},{"$f":"IF('Gefilterde data'!DW97=0,\"\",'Gefilterde data'!DW97)","v":{"v":7442,"d":"7,442"}},{"$f":"IF('Gefilterde data'!I97=0,\"\",'Gefilterde data'!I97)","v":""},{"$f":"IF('Gefilterde data'!DI97=0,\"\",'Gefilterde data'!DI97)","v":"."},{"$f":"IF('Gefilterde data'!EA97=0,\"\",'Gefilterde data'!EA97)","v":"Geen inwoners"},{"$f":"IF('Gefilterde data'!EA97=0,\"\",'Gefilterde data'!EB97)","v":"Geen inwoners"}]
[null,{"$f":"IF('Gefilterde data'!C98=0,\"\",'Gefilterde data'!C98)","v":"Spaarndammerbuurt-Zuidoost"},{"$f":"IF(B111=\"\",\"\",IF(LEFT(D111,2)=\"BU\",'Gefilterde data'!G98,\"-\"))","v":"Spaarndammerbuurt/Zeeheldenbuurt"},{"$f":"IF('Gefilterde data'!C98=0,\"\",'Gefilterde data'!A98)","v":"BU0363EB10"},{"v":1.0473289866827116,"d":"1.05"},{"v":2.111387908098688,"d":"2.11"},{"$f":"IF('Gefilterde data'!CL98=0,\"\",'Gefilterde data'!CL98)","v":17},{"$f":"IF('Gefilterde data'!DX98=0,\"\",'Gefilterde data'!DX98)","v":{"v":52.94117647058824,"d":"52.9"}},null,{"$f":"IF('Gefilterde data'!DZ98=0,\"\",'Gefilterde data'!DZ98)","v":{"v":1.9607843137254901,"d":"2"}},{"$f":"IF('Gefilterde data'!DW98=0,\"\",'Gefilterde data'!DW98)","v":{"v":7354,"d":"7,354"}},{"$f":"IF('Gefilterde data'!I98=0,\"\",'Gefilterde data'!I98)","v":{"v":1020,"d":"1,020"}},{"$f":"IF('Gefilterde data'!DI98=0,\"\",'Gefilterde data'!DI98)","v":0.4},{"$f":"IF('Gefilterde data'!EA98=0,\"\",'Gefilterde data'!EA98)","v":{"v":10.784313725490197,"d":"11"}},{"$f":"IF('Gefilterde data'!EA98=0,\"\",'Gefilterde data'!EB98)","v":{"v":15.196078431372548,"d":"15"}}]
[null,{"$f":"IF('Gefilterde data'!C99=0,\"\",'Gefilterde data'!C99)","v":"Houthavens-West"},{"$f":"IF(B112=\"\",\"\",IF(LEFT(D112,2)=\"BU\",'Gefilterde data'!G99,\"-\"))","v":"Houthavens"},{"$f":"IF('Gefilterde data'!C99=0,\"\",'Gefilterde data'!A99)","v":"BU0363EC01"},{"v":0.5536428812249437,"d":"0.55"},{"v":1.1161296017651414,"d":"1.12"},{"$f":"IF('Gefilterde data'!CL99=0,\"\",'Gefilterde data'!CL99)","v":4.6},{"$f":"IF('Gefilterde data'!DX99=0,\"\",'Gefilterde data'!DX99)","v":{"v":44.58281444582815,"d":"44.6"}},null,{"$f":"IF('Gefilterde data'!DZ99=0,\"\",'Gefilterde data'!DZ99)","v":{"v":5.47945205479452,"d":"5"}},{"$f":"IF('Gefilterde data'!DW99=0,\"\",'Gefilterde data'!DW99)","v":{"v":3553,"d":"3,553"}},{"$f":"IF('Gefilterde data'!I99=0,\"\",'Gefilterde data'!I99)","v":{"v":4015,"d":"4,015"}},{"$f":"IF('Gefilterde data'!DI99=0,\"\",'Gefilterde data'!DI99)","v":1.1},{"$f":"IF('Gefilterde data'!EA99=0,\"\",'Gefilterde data'!EA99)","v":{"v":20.672478206724783,"d":"21"}},{"$f":"IF('Gefilterde data'!EA99=0,\"\",'Gefilterde data'!EB99)","v":{"v":8.21917808219178,"d":"8"}}]
[null,{"$f":"IF('Gefilterde data'!C100=0,\"\",'Gefilterde data'!C100)","v":"Houthavens-Oost"},{"$f":"IF(B113=\"\",\"\",IF(LEFT(D113,2)=\"BU\",'Gefilterde data'!G100,\"-\"))","v":"Houthavens"},{"$f":"IF('Gefilterde data'!C100=0,\"\",'Gefilterde data'!A100)","v":"BU0363EC02"},{"v":0.745272669374811,"d":"0.75"},{"v":1.5024502542782359,"d":"1.50"},{"$f":"IF('Gefilterde data'!CL100=0,\"\",'Gefilterde data'!CL100)","v":11.4},{"$f":"IF('Gefilterde data'!DX100=0,\"\",'Gefilterde data'!DX100)","v":{"v":40.310077519379846,"d":"40.3"}},null,{"$f":"IF('Gefilterde data'!DZ100=0,\"\",'Gefilterde data'!DZ100)","v":{"v":1.550387596899225,"d":"2"}},{"$f":"IF('Gefilterde data'!DW100=0,\"\",'Gefilterde data'!DW100)","v":{"v":4467,"d":"4,467"}},{"$f":"IF('Gefilterde data'!I100=0,\"\",'Gefilterde data'!I100)","v":645},{"$f":"IF('Gefilterde data'!DI100=0,\"\",'Gefilterde data'!DI100)","v":0.6},{"$f":"IF('Gefilterde data'!EA100=0,\"\",'Gefilterde data'!EA100)","v":{"v":5.426356589147287,"d":"5"}},{"$f":"IF('Gefilterde data'!EA100=0,\"\",'Gefilterde data'!EB100)","v":{"v":22.48062015503876,"d":"22"}}]
[null,{"$f":"IF('Gefilterde data'!C101=0,\"\",'Gefilterde data'!C101)","v":"Kolenkitbuurt-Noord"},{"$f":"IF(B114=\"\",\"\",IF(LEFT(D114,2)=\"BU\",'Gefilterde data'!G101,\"-\"))","v":"De Kolenkit"},{"$f":"IF('Gefilterde data'!C101=0,\"\",'Gefilterde data'!A101)","v":"BU0363ED01"},{"v":1.5379116446821541,"d":"1.54"},{"v":3.1003897453377594,"d":"3.10"},{"$f":"IF('Gefilterde data'!CL101=0,\"\",'Gefilterde data'!CL101)","v":23.7},{"$f":"IF('Gefilterde data'!DX101=0,\"\",'Gefilterde data'!DX101)","v":{"v":82.51821019771072,"d":"82.5"}},null,{"$f":"IF('Gefilterde data'!DZ101=0,\"\",'Gefilterde data'!DZ101)","v":{"v":1.2486992715920915,"d":"1"}},{"$f":"IF('Gefilterde data'!DW101=0,\"\",'Gefilterde data'!DW101)","v":{"v":5886,"d":"5,886"}},{"$f":"IF('Gefilterde data'!I101=0,\"\",'Gefilterde data'!I101)","v":{"v":4805,"d":"4,805"}},{"$f":"IF('Gefilterde data'!DI101=0,\"\",'Gefilterde data'!DI101)","v":0.4},{"$f":"IF('Gefilterde data'!EA101=0,\"\",'Gefilterde data'!EA101)","v":{"v":19.562955254942768,"d":"20"}},{"$f":"IF('Gefilterde data'!EA101=0,\"\",'Gefilterde data'!EB101)","v":{"v":6.659729448491156,"d":"7"}}]
[null,{"$f":"IF('Gefilterde data'!C102=0,\"\",'Gefilterde data'!C102)","v":"Kolenkitbuurt-Zuid"},{"$f":"IF(B115=\"\",\"\",IF(LEFT(D115,2)=\"BU\",'Gefilterde data'!G102,\"-\"))","v":"De Kolenkit"},{"$f":"IF('Gefilterde data'!C102=0,\"\",'Gefilterde data'!A102)","v":"BU0363ED02"},{"v":1.2784345832268595,"d":"1.28"},{"v":2.5772907602509822,"d":"2.58"},{"$f":"IF('Gefilterde data'!CL102=0,\"\",'Gefilterde data'!CL102)","v":18.1},{"$f":"IF('Gefilterde data'!DX102=0,\"\",'Gefilterde data'!DX102)","v":{"v":74.65437788018433,"d":"74.7"}},null,{"$f":"IF('Gefilterde data'!DZ102=0,\"\",'Gefilterde data'!DZ102)","v":{"v":1.3824884792626728,"d":"1"}},{"$f":"IF('Gefilterde data'!DW102=0,\"\",'Gefilterde data'!DW102)","v":{"v":6368,"d":"6,368"}},{"$f":"IF('Gefilterde data'!I102=0,\"\",'Gefilterde data'!I102)","v":{"v":2170,"d":"2,170"}},{"$f":"IF('Gefilterde data'!DI102=0,\"\",'Gefilterde data'!DI102)","v":0.5},{"$f":"IF('Gefilterde data'!EA102=0,\"\",'Gefilterde data'!EA102)","v":{"v":15.668202764976957,"d":"16"}},{"$f":"IF('Gefilterde data'!EA102=0,\"\",'Gefilterde data'!EB102)","v":{"v":9.90783410138249,"d":"10"}}]
[null,{"$f":"IF('Gefilterde data'!C103=0,\"\",'Gefilterde data'!C103)","v":"Laan van Spartaan"},{"$f":"IF(B116=\"\",\"\",IF(LEFT(D116,2)=\"BU\",'Gefilterde data'!G103,\"-\"))","v":"De Kolenkit"},{"$f":"IF('Gefilterde data'!C103=0,\"\",'Gefilterde data'!A103)","v":"BU0363ED03"},{"v":1.045569849998687,"d":"1.05"},{"v":2.1078415344466928,"d":"2.11"},{"$f":"IF('Gefilterde data'!CL103=0,\"\",'Gefilterde data'!CL103)","v":13.1},{"$f":"IF('Gefilterde data'!DX103=0,\"\",'Gefilterde data'!DX103)","v":67.5},null,{"$f":"IF('Gefilterde data'!DZ103=0,\"\",'Gefilterde data'!DZ103)","v":{"v":11.428571428571429,"d":"11"}},{"$f":"IF('Gefilterde data'!DW103=0,\"\",'Gefilterde data'!DW103)","v":{"v":6173,"d":"6,173"}},{"$f":"IF('Gefilterde data'!I103=0,\"\",'Gefilterde data'!I103)","v":{"v":2800,"d":"2,800"}},{"$f":"IF('Gefilterde data'!DI103=0,\"\",'Gefilterde data'!DI103)","v":0.3},{"$f":"IF('Gefilterde data'!EA103=0,\"\",'Gefilterde data'!EA103)","v":{"v":16.071428571428573,"d":"16"}},{"$f":"IF('Gefilterde data'!EA103=0,\"\",'Gefilterde data'!EB103)","v":{"v":5.892857142857142,"d":"6"}}]
[null,{"$f":"IF('Gefilterde data'!C104=0,\"\",'Gefilterde data'!C104)","v":"Robert Scottbuurt-West"},{"$f":"IF(B117=\"\",\"\",IF(LEFT(D117,2)=\"BU\",'Gefilterde data'!G104,\"-\"))","v":"De Kolenkit"},{"$f":"IF('Gefilterde data'!C104=0,\"\",'Gefilterde data'!A104)","v":"BU0363ED04"},{"v":1.291171939894029,"d":"1.29"},{"v":2.60296893892279,"d":"2.60"},{"$f":"IF('Gefilterde data'!CL104=0,\"\",'Gefilterde data'!CL104)","v":20.5},{"$f":"IF('Gefilterde data'!DX104=0,\"\",'Gefilterde data'!DX104)","v":{"v":67,"d":"67.0"}},null,{"$f":"IF('Gefilterde data'!DZ104=0,\"\",'Gefilterde data'!DZ104)","v":{"v":6.5,"d":"7"}},{"$f":"IF('Gefilterde data'!DW104=0,\"\",'Gefilterde data'!DW104)","v":{"v":7874,"d":"7,874"}},{"$f":"IF('Gefilterde data'!I104=0,\"\",'Gefilterde data'!I104)","v":{"v":2000,"d":"2,000"}},{"$f":"IF('Gefilterde data'!DI104=0,\"\",'Gefilterde data'!DI104)","v":0.3},{"$f":"IF('Gefilterde data'!EA104=0,\"\",'Gefilterde data'!EA104)","v":8},{"$f":"IF('Gefilterde data'!EA104=0,\"\",'Gefilterde data'!EB104)","v":{"v":13.5,"d":"14"}}]
[null,{"$f":"IF('Gefilterde data'!C105=0,\"\",'Gefilterde data'!C105)","v":"Bosleeuw"},{"$f":"IF(B118=\"\",\"\",IF(LEFT(D118,2)=\"BU\",'Gefilterde data'!G105,\"-\"))","v":"Landlust"},{"$f":"IF('Gefilterde data'!C105=0,\"\",'Gefilterde data'!A105)","v":"BU0363EE01"},{"v":1.2551021739367905,"d":"1.26"},{"v":2.5302532319592292,"d":"2.53"},{"$f":"IF('Gefilterde data'!CL105=0,\"\",'Gefilterde data'!CL105)","v":18.3},{"$f":"IF('Gefilterde data'!DX105=0,\"\",'Gefilterde data'!DX105)","v":{"v":71.28532360984504,"d":"71.3"}},null,{"$f":"IF('Gefilterde data'!DZ105=0,\"\",'Gefilterde data'!DZ105)","v":{"v":5.834092980856882,"d":"6"}},{"$f":"IF('Gefilterde data'!DW105=0,\"\",'Gefilterde data'!DW105)","v":{"v":6394,"d":"6,394"}},{"$f":"IF('Gefilterde data'!I105=0,\"\",'Gefilterde data'!I105)","v":{"v":5485,"d":"5,485"}},{"$f":"IF('Gefilterde data'!DI105=0,\"\",'Gefilterde data'!DI105)","v":0.4},{"$f":"IF('Gefilterde data'!EA105=0,\"\",'Gefilterde data'!EA105)","v":{"v":13.764813126709207,"d":"14"}},{"$f":"IF('Gefilterde data'!EA105=0,\"\",'Gefilterde data'!EB105)","v":{"v":9.206927985414767,"d":"9"}}]
[null,{"$f":"IF('Gefilterde data'!C106=0,\"\",'Gefilterde data'!C106)","v":"Gibraltarbuurt"},{"$f":"IF(B119=\"\",\"\",IF(LEFT(D119,2)=\"BU\",'Gefilterde data'!G106,\"-\"))","v":"Landlust"},{"$f":"IF('Gefilterde data'!C106=0,\"\",'Gefilterde data'!A106)","v":"BU0363EE02"},{"v":1.2204327508020152,"d":"1.22"},{"v":2.4603605795851404,"d":"2.46"},{"$f":"IF('Gefilterde data'!CL106=0,\"\",'Gefilterde data'!CL106)","v":19.6},{"$f":"IF('Gefilterde data'!DX106=0,\"\",'Gefilterde data'!DX106)","v":{"v":62.48506571087217,"d":"62.5"}},null,{"$f":"IF('Gefilterde data'!DZ106=0,\"\",'Gefilterde data'!DZ106)","v":{"v":2.867383512544803,"d":"3"}},{"$f":"IF('Gefilterde data'!DW106=0,\"\",'Gefilterde data'!DW106)","v":{"v":5215,"d":"5,215"}},{"$f":"IF('Gefilterde data'!I106=0,\"\",'Gefilterde data'!I106)","v":{"v":4185,"d":"4,185"}},{"$f":"IF('Gefilterde data'!DI106=0,\"\",'Gefilterde data'!DI106)","v":0.3},{"$f":"IF('Gefilterde data'!EA106=0,\"\",'Gefilterde data'!EA106)","v":{"v":12.186379928315413,"d":"12"}},{"$f":"IF('Gefilterde data'!EA106=0,\"\",'Gefilterde data'!EB106)","v":{"v":8.60215053763441,"d":"9"}}]
[null,{"$f":"IF('Gefilterde data'!C107=0,\"\",'Gefilterde data'!C107)","v":"Bedrijventerrein Landlust"},{"$f":"IF(B120=\"\",\"\",IF(LEFT(D120,2)=\"BU\",'Gefilterde data'!G107,\"-\"))","v":"Landlust"},{"$f":"IF('Gefilterde data'!C107=0,\"\",'Gefilterde data'!A107)","v":"BU0363EE03"},{"v":0.8445100833793378,"d":"0.84"},{"v":1.7025102914054409,"d":"1.70"},{"$f":"IF('Gefilterde data'!CL107=0,\"\",'Gefilterde data'!CL107)","v":8.5},{"$f":"IF('Gefilterde data'!DX107=0,\"\",'Gefilterde data'!DX107)","v":{"v":62.39316239316239,"d":"62.4"}},null,{"$f":"IF('Gefilterde data'!DZ107=0,\"\",'Gefilterde data'!DZ107)","v":{"v":3.418803418803419,"d":"3"}},{"$f":"IF('Gefilterde data'!DW107=0,\"\",'Gefilterde data'!DW107)","v":{"v":5338,"d":"5,338"}},{"$f":"IF('Gefilterde data'!I107=0,\"\",'Gefilterde data'!I107)","v":585},{"$f":"IF('Gefilterde data'!DI107=0,\"\",'Gefilterde data'!DI107)","v":0.4},{"$f":"IF('Gefilterde data'!EA107=0,\"\",'Gefilterde data'!EA107)","v":{"v":6.837606837606838,"d":"7"}},{"$f":"IF('Gefilterde data'!EA107=0,\"\",'Gefilterde data'!EB107)","v":{"v":5.128205128205128,"d":"5"}}]
[null,{"$f":"IF('Gefilterde data'!C108=0,\"\",'Gefilterde data'!C108)","v":"Landlust-Noord"},{"$f":"IF(B121=\"\",\"\",IF(LEFT(D121,2)=\"BU\",'Gefilterde data'!G108,\"-\"))","v":"Landlust"},{"$f":"IF('Gefilterde data'!C108=0,\"\",'Gefilterde data'!A108)","v":"BU0363EE04"},{"v":1.2426659537725326,"d":"1.24"},{"v":2.5051821366194207,"d":"2.51"},{"$f":"IF('Gefilterde data'!CL108=0,\"\",'Gefilterde data'!CL108)","v":19.5},{"$f":"IF('Gefilterde data'!DX108=0,\"\",'Gefilterde data'!DX108)","v":{"v":65.35269709543569,"d":"65.4"}},null,{"$f":"IF('Gefilterde data'!DZ108=0,\"\",'Gefilterde data'!DZ108)","v":{"v":2.904564315352697,"d":"3"}},{"$f":"IF('Gefilterde data'!DW108=0,\"\",'Gefilterde data'!DW108)","v":{"v":7447,"d":"7,447"}},{"$f":"IF('Gefilterde data'!I108=0,\"\",'Gefilterde data'!I108)","v":{"v":2410,"d":"2,410"}},{"$f":"IF('Gefilterde data'!DI108=0,\"\",'Gefilterde data'!DI108)","v":0.4},{"$f":"IF('Gefilterde data'!EA108=0,\"\",'Gefilterde data'!EA108)","v":{"v":14.522821576763487,"d":"15"}},{"$f":"IF('Gefilterde data'!EA108=0,\"\",'Gefilterde data'!EB108)","v":{"v":7.883817427385892,"d":"8"}}]
[null,{"$f":"IF('Gefilterde data'!C109=0,\"\",'Gefilterde data'!C109)","v":"Erasmusparkbuurt-Oost"},{"$f":"IF(B122=\"\",\"\",IF(LEFT(D122,2)=\"BU\",'Gefilterde data'!G109,\"-\"))","v":"Landlust"},{"$f":"IF('Gefilterde data'!C109=0,\"\",'Gefilterde data'!A109)","v":"BU0363EE05"},{"v":1.030870846015481,"d":"1.03"},{"v":2.078208725973076,"d":"2.08"},{"$f":"IF('Gefilterde data'!CL109=0,\"\",'Gefilterde data'!CL109)","v":15.2},{"$f":"IF('Gefilterde data'!DX109=0,\"\",'Gefilterde data'!DX109)","v":{"v":57.9088471849866,"d":"57.9"}},null,{"$f":"IF('Gefilterde data'!DZ109=0,\"\",'Gefilterde data'!DZ109)","v":{"v":3.753351206434316,"d":"4"}},{"$f":"IF('Gefilterde data'!DW109=0,\"\",'Gefilterde data'!DW109)","v":{"v":9009,"d":"9,009"}},{"$f":"IF('Gefilterde data'!I109=0,\"\",'Gefilterde data'!I109)","v":{"v":1865,"d":"1,865"}},{"$f":"IF('Gefilterde data'!DI109=0,\"\",'Gefilterde data'!DI109)","v":0.4},{"$f":"IF('Gefilterde data'!EA109=0,\"\",'Gefilterde data'!EA109)","v":{"v":14.47721179624665,"d":"14"}},{"$f":"IF('Gefilterde data'!EA109=0,\"\",'Gefilterde data'!EB109)","v":{"v":8.579088471849866,"d":"9"}}]
[null,{"$f":"IF('Gefilterde data'!C110=0,\"\",'Gefilterde data'!C110)","v":"Landlust-Zuid"},{"$f":"IF(B123=\"\",\"\",IF(LEFT(D123,2)=\"BU\",'Gefilterde data'!G110,\"-\"))","v":"Landlust"},{"$f":"IF('Gefilterde data'!C110=0,\"\",'Gefilterde data'!A110)","v":"BU0363EE06"},{"v":1.0851813596749207,"d":"1.09"},{"v":2.187697304329314,"d":"2.19"},{"$f":"IF('Gefilterde data'!CL110=0,\"\",'Gefilterde data'!CL110)","v":17.6},{"$f":"IF('Gefilterde data'!DX110=0,\"\",'Gefilterde data'!DX110)","v":{"v":54.90909090909091,"d":"54.9"}},null,{"$f":"IF('Gefilterde data'!DZ110=0,\"\",'Gefilterde data'!DZ110)","v":{"v":3.3939393939393945,"d":"3"}},{"$f":"IF('Gefilterde data'!DW110=0,\"\",'Gefilterde data'!DW110)","v":{"v":9716,"d":"9,716"}},{"$f":"IF('Gefilterde data'!I110=0,\"\",'Gefilterde data'!I110)","v":{"v":4125,"d":"4,125"}},{"$f":"IF('Gefilterde data'!DI110=0,\"\",'Gefilterde data'!DI110)","v":0.4},{"$f":"IF('Gefilterde data'!EA110=0,\"\",'Gefilterde data'!EA110)","v":{"v":13.090909090909092,"d":"13"}},{"$f":"IF('Gefilterde data'!EA110=0,\"\",'Gefilterde data'!EB110)","v":{"v":8.363636363636363,"d":"8"}}]
[null,{"$f":"IF('Gefilterde data'!C111=0,\"\",'Gefilterde data'!C111)","v":"Robert Scottbuurt-Oost"},{"$f":"IF(B124=\"\",\"\",IF(LEFT(D124,2)=\"BU\",'Gefilterde data'!G111,\"-\"))","v":"Erasmuspark"},{"$f":"IF('Gefilterde data'!C111=0,\"\",'Gefilterde data'!A111)","v":"BU0363EF01"},{"v":1.0163736935984953,"d":"1.02"},{"v":2.048982844989835,"d":"2.05"},{"$f":"IF('Gefilterde data'!CL111=0,\"\",'Gefilterde data'!CL111)","v":15.2},{"$f":"IF('Gefilterde data'!DX111=0,\"\",'Gefilterde data'!DX111)","v":{"v":56.285714285714285,"d":"56.3"}},null,{"$f":"IF('Gefilterde data'!DZ111=0,\"\",'Gefilterde data'!DZ111)","v":{"v":3.428571428571429,"d":"3"}},{"$f":"IF('Gefilterde data'!DW111=0,\"\",'Gefilterde data'!DW111)","v":{"v":8150,"d":"8,150"}},{"$f":"IF('Gefilterde data'!I111=0,\"\",'Gefilterde data'!I111)","v":{"v":1750,"d":"1,750"}},{"$f":"IF('Gefilterde data'!DI111=0,\"\",'Gefilterde data'!DI111)","v":0.3},{"$f":"IF('Gefilterde data'!EA111=0,\"\",'Gefilterde data'!EA111)","v":{"v":9.714285714285714,"d":"10"}},{"$f":"IF('Gefilterde data'!EA111=0,\"\",'Gefilterde data'!EB111)","v":{"v":9.428571428571429,"d":"9"}}]
[null,{"$f":"IF('Gefilterde data'!C112=0,\"\",'Gefilterde data'!C112)","v":"Erasmusparkbuurt-West"},{"$f":"IF(B125=\"\",\"\",IF(LEFT(D125,2)=\"BU\",'Gefilterde data'!G112,\"-\"))","v":"Erasmuspark"},{"$f":"IF('Gefilterde data'!C112=0,\"\",'Gefilterde data'!A112)","v":"BU0363EF02"},{"v":0.8038909011155922,"d":"0.80"},{"v":1.620623079880653,"d":"1.62"},{"$f":"IF('Gefilterde data'!CL112=0,\"\",'Gefilterde data'!CL112)","v":9.3},{"$f":"IF('Gefilterde data'!DX112=0,\"\",'Gefilterde data'!DX112)","v":{"v":54.81852315394244,"d":"54.8"}},null,{"$f":"IF('Gefilterde data'!DZ112=0,\"\",'Gefilterde data'!DZ112)","v":{"v":3.504380475594493,"d":"4"}},{"$f":"IF('Gefilterde data'!DW112=0,\"\",'Gefilterde data'!DW112)","v":{"v":8432,"d":"8,432"}},{"$f":"IF('Gefilterde data'!I112=0,\"\",'Gefilterde data'!I112)","v":{"v":3995,"d":"3,995"}},{"$f":"IF('Gefilterde data'!DI112=0,\"\",'Gefilterde data'!DI112)","v":0.4},{"$f":"IF('Gefilterde data'!EA112=0,\"\",'Gefilterde data'!EA112)","v":{"v":10.513141426783479,"d":"11"}},{"$f":"IF('Gefilterde data'!EA112=0,\"\",'Gefilterde data'!EB112)","v":{"v":7.509386733416772,"d":"8"}}]
[null,{"$f":"IF('Gefilterde data'!C113=0,\"\",'Gefilterde data'!C113)","v":"Bedrijvencentrum Westerkwartier"},{"$f":"IF(B126=\"\",\"\",IF(LEFT(D126,2)=\"BU\",'Gefilterde data'!G113,\"-\"))","v":"Centrale Markt"},{"$f":"IF('Gefilterde data'!C113=0,\"\",'Gefilterde data'!A113)","v":"BU0363EG01"},"Ontbrekende waarde","Ontbrekende waarde",{"$f":"IF('Gefilterde data'!CL113=0,\"\",'Gefilterde data'!CL113)","v":"."},{"$f":"IF('Gefilterde data'!DX113=0,\"\",'Gefilterde data'!DX113)","v":{"v":16.666666666666664,"d":"16.7"}},null,{"$f":"IF('Gefilterde data'!DZ113=0,\"\",'Gefilterde data'!DZ113)","v":""},{"$f":"IF('Gefilterde data'!DW113=0,\"\",'Gefilterde data'!DW113)","v":{"v":6257,"d":"6,257"}},{"$f":"IF('Gefilterde data'!I113=0,\"\",'Gefilterde data'!I113)","v":60},{"$f":"IF('Gefilterde data'!DI113=0,\"\",'Gefilterde data'!DI113)","v":"."},{"$f":"IF('Gefilterde data'!EA113=0,\"\",'Gefilterde data'!EA113)","v":{"v":8.333333333333332,"d":"8"}},{"$f":"IF('Gefilterde data'!EA113=0,\"\",'Gefilterde data'!EB113)","v":{"v":8.333333333333332,"d":"8"}}]
[null,{"$f":"IF('Gefilterde data'!C114=0,\"\",'Gefilterde data'!C114)","v":"GWL-terrein"},{"$f":"IF(B127=\"\",\"\",IF(LEFT(D127,2)=\"BU\",'Gefilterde data'!G114,\"-\"))","v":"Centrale Markt"},{"$f":"IF('Gefilterde data'!C114=0,\"\",'Gefilterde data'!A114)","v":"BU0363EG02"},{"v":0.8285906517989523,"d":"0.83"},{"v":1.6704171327418078,"d":"1.67"},{"$f":"IF('Gefilterde data'!CL114=0,\"\",'Gefilterde data'!CL114)","v":12},{"$f":"IF('Gefilterde data'!DX114=0,\"\",'Gefilterde data'!DX114)","v":{"v":47.368421052631575,"d":"47.4"}},null,{"$f":"IF('Gefilterde data'!DZ114=0,\"\",'Gefilterde data'!DZ114)","v":{"v":2.42914979757085,"d":"2"}},{"$f":"IF('Gefilterde data'!DW114=0,\"\",'Gefilterde data'!DW114)","v":{"v":7177,"d":"7,177"}},{"$f":"IF('Gefilterde data'!I114=0,\"\",'Gefilterde data'!I114)","v":{"v":1235,"d":"1,235"}},{"$f":"IF('Gefilterde data'!DI114=0,\"\",'Gefilterde data'!DI114)","v":0.3},{"$f":"IF('Gefilterde data'!EA114=0,\"\",'Gefilterde data'!EA114)","v":{"v":11.740890688259109,"d":"12"}},{"$f":"IF('Gefilterde data'!EA114=0,\"\",'Gefilterde data'!EB114)","v":{"v":13.765182186234817,"d":"14"}}]
[null,{"$f":"IF('Gefilterde data'!C115=0,\"\",'Gefilterde data'!C115)","v":"Markthallen"},{"$f":"IF(B128=\"\",\"\",IF(LEFT(D128,2)=\"BU\",'Gefilterde data'!G115,\"-\"))","v":"Centrale Markt"},{"$f":"IF('Gefilterde data'!C115=0,\"\",'Gefilterde data'!A115)","v":"BU0363EG03"},"Ontbrekende waarde","Ontbrekende waarde",{"$f":"IF('Gefilterde data'!CL115=0,\"\",'Gefilterde data'!CL115)","v":"."},{"$f":"IF('Gefilterde data'!DX115=0,\"\",'Gefilterde data'!DX115)","v":{"v":33.33333333333333,"d":"33.3"}},null,{"$f":"IF('Gefilterde data'!DZ115=0,\"\",'Gefilterde data'!DZ115)","v":""},{"$f":"IF('Gefilterde data'!DW115=0,\"\",'Gefilterde data'!DW115)","v":{"v":10121,"d":"10,121"}},{"$f":"IF('Gefilterde data'!I115=0,\"\",'Gefilterde data'!I115)","v":15},{"$f":"IF('Gefilterde data'!DI115=0,\"\",'Gefilterde data'!DI115)","v":"."},{"$f":"IF('Gefilterde data'!EA115=0,\"\",'Gefilterde data'!EA115)","v":{"v":33.33333333333333,"d":"33"}},{"$f":"IF('Gefilterde data'!EA115=0,\"\",'Gefilterde data'!EB115)","v":{"v":33.33333333333333,"d":"33"}}]
[null,{"$f":"IF('Gefilterde data'!C116=0,\"\",'Gefilterde data'!C116)","v":"Marcanti"},{"$f":"IF(B129=\"\",\"\",IF(LEFT(D129,2)=\"BU\",'Gefilterde data'!G116,\"-\"))","v":"Centrale Markt"},{"$f":"IF('Gefilterde data'!C116=0,\"\",'Gefilterde data'!A116)","v":"BU0363EG04"},{"v":1.0721318487431346,"d":"1.07"},{"v":2.1613898308054083,"d":"2.16"},{"$f":"IF('Gefilterde data'!CL116=0,\"\",'Gefilterde data'!CL116)","v":17.1},{"$f":"IF('Gefilterde data'!DX116=0,\"\",'Gefilterde data'!DX116)","v":{"v":55.33980582524271,"d":"55.3"}},null,{"$f":"IF('Gefilterde data'!DZ116=0,\"\",'Gefilterde data'!DZ116)","v":{"v":2.912621359223301,"d":"3"}},{"$f":"IF('Gefilterde data'!DW116=0,\"\",'Gefilterde data'!DW116)","v":{"v":11439,"d":"11,439"}},{"$f":"IF('Gefilterde data'!I116=0,\"\",'Gefilterde data'!I116)","v":{"v":1030,"d":"1,030"}},{"$f":"IF('Gefilterde data'!DI116=0,\"\",'Gefilterde data'!DI116)","v":0.3},{"$f":"IF('Gefilterde data'!EA116=0,\"\",'Gefilterde data'!EA116)","v":{"v":9.223300970873787,"d":"9"}},{"$f":"IF('Gefilterde data'!EA116=0,\"\",'Gefilterde data'!EB116)","v":{"v":16.50485436893204,"d":"17"}}]
[null,{"$f":"IF('Gefilterde data'!C117=0,\"\",'Gefilterde data'!C117)","v":"Westerstaatsman"},{"$f":"IF(B130=\"\",\"\",IF(LEFT(D130,2)=\"BU\",'Gefilterde data'!G117,\"-\"))","v":"Staatsliedenbuurt"},{"$f":"IF('Gefilterde data'!C117=0,\"\",'Gefilterde data'!A117)","v":"BU0363EH01"},{"v":1.061260233052764,"d":"1.06"},{"v":2.139472937258091,"d":"2.14"},{"$f":"IF('Gefilterde data'!CL117=0,\"\",'Gefilterde data'!CL117)","v":16.6},{"$f":"IF('Gefilterde data'!DX117=0,\"\",'Gefilterde data'!DX117)","v":{"v":56.01436265709157,"d":"56.0"}},null,{"$f":"IF('Gefilterde data'!DZ117=0,\"\",'Gefilterde data'!DZ117)","v":{"v":3.949730700179533,"d":"4"}},{"$f":"IF('Gefilterde data'!DW117=0,\"\",'Gefilterde data'!DW117)","v":{"v":8295,"d":"8,295"}},{"$f":"IF('Gefilterde data'!I117=0,\"\",'Gefilterde data'!I117)","v":{"v":2785,"d":"2,785"}},{"$f":"IF('Gefilterde data'!DI117=0,\"\",'Gefilterde data'!DI117)","v":0.3},{"$f":"IF('Gefilterde data'!EA117=0,\"\",'Gefilterde data'!EA117)","v":{"v":8.797127468581687,"d":"9"}},{"$f":"IF('Gefilterde data'!EA117=0,\"\",'Gefilterde data'!EB117)","v":{"v":5.745062836624776,"d":"6"}}]
[null,{"$f":"IF('Gefilterde data'!C118=0,\"\",'Gefilterde data'!C118)","v":"Fannius Scholtenbuurt"},{"$f":"IF(B131=\"\",\"\",IF(LEFT(D131,2)=\"BU\",'Gefilterde data'!G118,\"-\"))","v":"Staatsliedenbuurt"},{"$f":"IF('Gefilterde data'!C118=0,\"\",'Gefilterde data'!A118)","v":"BU0363EH02"},{"v":1.1703474521891553,"d":"1.17"},{"v":2.3593899245098395,"d":"2.36"},{"$f":"IF('Gefilterde data'!CL118=0,\"\",'Gefilterde data'!CL118)","v":19.4},{"$f":"IF('Gefilterde data'!DX118=0,\"\",'Gefilterde data'!DX118)","v":{"v":57.63411279229711,"d":"57.6"}},null,{"$f":"IF('Gefilterde data'!DZ118=0,\"\",'Gefilterde data'!DZ118)","v":{"v":2.7510316368638237,"d":"3"}},{"$f":"IF('Gefilterde data'!DW118=0,\"\",'Gefilterde data'!DW118)","v":{"v":9147,"d":"9,147"}},{"$f":"IF('Gefilterde data'!I118=0,\"\",'Gefilterde data'!I118)","v":{"v":3635,"d":"3,635"}},{"$f":"IF('Gefilterde data'!DI118=0,\"\",'Gefilterde data'!DI118)","v":0.3},{"$f":"IF('Gefilterde data'!EA118=0,\"\",'Gefilterde data'!EA118)","v":{"v":9.766162310866575,"d":"10"}},{"$f":"IF('Gefilterde data'!EA118=0,\"\",'Gefilterde data'!EB118)","v":{"v":8.665749656121045,"d":"9"}}]
[null,{"$f":"IF('Gefilterde data'!C119=0,\"\",'Gefilterde data'!C119)","v":"Staatsliedenbuurt-Noordoost"},{"$f":"IF(B132=\"\",\"\",IF(LEFT(D132,2)=\"BU\",'Gefilterde data'!G119,\"-\"))","v":"Staatsliedenbuurt"},{"$f":"IF('Gefilterde data'!C119=0,\"\",'Gefilterde data'!A119)","v":"BU0363EH03"},{"v":1.374413937988843,"d":"1.37"},{"v":2.7707826349611766,"d":"2.77"},{"$f":"IF('Gefilterde data'!CL119=0,\"\",'Gefilterde data'!CL119)","v":25.3},{"$f":"IF('Gefilterde data'!DX119=0,\"\",'Gefilterde data'!DX119)","v":{"v":58.15899581589959,"d":"58.2"}},null,{"$f":"IF('Gefilterde data'!DZ119=0,\"\",'Gefilterde data'!DZ119)","v":{"v":1.6736401673640167,"d":"2"}},{"$f":"IF('Gefilterde data'!DW119=0,\"\",'Gefilterde data'!DW119)","v":{"v":9193,"d":"9,193"}},{"$f":"IF('Gefilterde data'!I119=0,\"\",'Gefilterde data'!I119)","v":{"v":1195,"d":"1,195"}},{"$f":"IF('Gefilterde data'!DI119=0,\"\",'Gefilterde data'!DI119)","v":0.3},{"$f":"IF('Gefilterde data'!EA119=0,\"\",'Gefilterde data'!EA119)","v":{"v":8.368200836820083,"d":"8"}},{"$f":"IF('Gefilterde data'!EA119=0,\"\",'Gefilterde data'!EB119)","v":{"v":27.19665271966527,"d":"27"}}]
[null,{"$f":"IF('Gefilterde data'!C120=0,\"\",'Gefilterde data'!C120)","v":"De Wittenbuurt-Noord"},{"$f":"IF(B133=\"\",\"\",IF(LEFT(D133,2)=\"BU\",'Gefilterde data'!G120,\"-\"))","v":"Staatsliedenbuurt"},{"$f":"IF('Gefilterde data'!C120=0,\"\",'Gefilterde data'!A120)","v":"BU0363EH04"},{"v":1.0724783642559457,"d":"1.07"},{"v":2.162088397037243,"d":"2.16"},{"$f":"IF('Gefilterde data'!CL120=0,\"\",'Gefilterde data'!CL120)","v":17.4},{"$f":"IF('Gefilterde data'!DX120=0,\"\",'Gefilterde data'!DX120)","v":{"v":54.24354243542435,"d":"54.2"}},null,{"$f":"IF('Gefilterde data'!DZ120=0,\"\",'Gefilterde data'!DZ120)","v":{"v":3.6900369003690034,"d":"4"}},{"$f":"IF('Gefilterde data'!DW120=0,\"\",'Gefilterde data'!DW120)","v":{"v":9790,"d":"9,790"}},{"$f":"IF('Gefilterde data'!I120=0,\"\",'Gefilterde data'!I120)","v":{"v":1355,"d":"1,355"}},{"$f":"IF('Gefilterde data'!DI120=0,\"\",'Gefilterde data'!DI120)","v":0.3},{"$f":"IF('Gefilterde data'!EA120=0,\"\",'Gefilterde data'!EA120)","v":{"v":10.70110701107011,"d":"11"}},{"$f":"IF('Gefilterde data'!EA120=0,\"\",'Gefilterde data'!EB120)","v":{"v":12.546125461254611,"d":"13"}}]
[null,{"$f":"IF('Gefilterde data'!C121=0,\"\",'Gefilterde data'!C121)","v":"De Wittenbuurt-Zuid"},{"$f":"IF(B134=\"\",\"\",IF(LEFT(D134,2)=\"BU\",'Gefilterde data'!G121,\"-\"))","v":"Staatsliedenbuurt"},{"$f":"IF('Gefilterde data'!C121=0,\"\",'Gefilterde data'!A121)","v":"BU0363EH05"},{"v":1.4005434193454052,"d":"1.40"},{"v":2.823458987552045,"d":"2.82"},{"$f":"IF('Gefilterde data'!CL121=0,\"\",'Gefilterde data'!CL121)","v":27.5},{"$f":"IF('Gefilterde data'!DX121=0,\"\",'Gefilterde data'!DX121)","v":{"v":52.760736196319016,"d":"52.8"}},null,{"$f":"IF('Gefilterde data'!DZ121=0,\"\",'Gefilterde data'!DZ121)","v":{"v":2.4539877300613497,"d":"2"}},{"$f":"IF('Gefilterde data'!DW121=0,\"\",'Gefilterde data'!DW121)","v":{"v":11037,"d":"11,037"}},{"$f":"IF('Gefilterde data'!I121=0,\"\",'Gefilterde data'!I121)","v":815},{"$f":"IF('Gefilterde data'!DI121=0,\"\",'Gefilterde data'!DI121)","v":0.3},{"$f":"IF('Gefilterde data'!EA121=0,\"\",'Gefilterde data'!EA121)","v":{"v":7.361963190184049,"d":"7"}},{"$f":"IF('Gefilterde data'!EA121=0,\"\",'Gefilterde data'!EB121)","v":{"v":24.539877300613497,"d":"25"}}]
[null,{"$f":"IF('Gefilterde data'!C122=0,\"\",'Gefilterde data'!C122)","v":"Buyskade e.o."},{"$f":"IF(B135=\"\",\"\",IF(LEFT(D135,2)=\"BU\",'Gefilterde data'!G122,\"-\"))","v":"Staatsliedenbuurt"},{"$f":"IF('Gefilterde data'!C122=0,\"\",'Gefilterde data'!A122)","v":"BU0363EH06"},{"v":0.9720111978575766,"d":"0.97"},{"v":1.9595492111732706,"d":"1.96"},{"$f":"IF('Gefilterde data'!CL122=0,\"\",'Gefilterde data'!CL122)","v":15.3},{"$f":"IF('Gefilterde data'!DX122=0,\"\",'Gefilterde data'!DX122)","v":{"v":50.94043887147336,"d":"50.9"}},null,{"$f":"IF('Gefilterde data'!DZ122=0,\"\",'Gefilterde data'!DZ122)","v":{"v":4.38871473354232,"d":"4"}},{"$f":"IF('Gefilterde data'!DW122=0,\"\",'Gefilterde data'!DW122)","v":{"v":9789,"d":"9,789"}},{"$f":"IF('Gefilterde data'!I122=0,\"\",'Gefilterde data'!I122)","v":{"v":3190,"d":"3,190"}},{"$f":"IF('Gefilterde data'!DI122=0,\"\",'Gefilterde data'!DI122)","v":0.4},{"$f":"IF('Gefilterde data'!EA122=0,\"\",'Gefilterde data'!EA122)","v":{"v":9.87460815047022,"d":"10"}},{"$f":"IF('Gefilterde data'!EA122=0,\"\",'Gefilterde data'!EB122)","v":{"v":10.344827586206897,"d":"10"}}]
[null,{"$f":"IF('Gefilterde data'!C123=0,\"\",'Gefilterde data'!C123)","v":"Frederik Hendrikbuurt-Noord"},{"$f":"IF(B136=\"\",\"\",IF(LEFT(D136,2)=\"BU\",'Gefilterde data'!G123,\"-\"))","v":"Frederik Hendrikbuurt"},{"$f":"IF('Gefilterde data'!C123=0,\"\",'Gefilterde data'!A123)","v":"BU0363EJ01"},{"v":1.0205299172071476,"d":"1.02"},{"v":2.057361683332177,"d":"2.06"},{"$f":"IF('Gefilterde data'!CL123=0,\"\",'Gefilterde data'!CL123)","v":16.5},{"$f":"IF('Gefilterde data'!DX123=0,\"\",'Gefilterde data'!DX123)","v":{"v":51.832460732984295,"d":"51.8"}},null,{"$f":"IF('Gefilterde data'!DZ123=0,\"\",'Gefilterde data'!DZ123)","v":{"v":4.450261780104712,"d":"4"}},{"$f":"IF('Gefilterde data'!DW123=0,\"\",'Gefilterde data'!DW123)","v":{"v":11688,"d":"11,688"}},{"$f":"IF('Gefilterde data'!I123=0,\"\",'Gefilterde data'!I123)","v":{"v":3820,"d":"3,820"}},{"$f":"IF('Gefilterde data'!DI123=0,\"\",'Gefilterde data'!DI123)","v":0.3},{"$f":"IF('Gefilterde data'!EA123=0,\"\",'Gefilterde data'!EA123)","v":{"v":9.162303664921465,"d":"9"}},{"$f":"IF('Gefilterde data'!EA123=0,\"\",'Gefilterde data'!EB123)","v":{"v":12.56544502617801,"d":"13"}}]
[null,{"$f":"IF('Gefilterde data'!C124=0,\"\",'Gefilterde data'!C124)","v":"Frederik Hendrikbuurt-Zuidwest"},{"$f":"IF(B137=\"\",\"\",IF(LEFT(D137,2)=\"BU\",'Gefilterde data'!G124,\"-\"))","v":"Frederik Hendrikbuurt"},{"$f":"IF('Gefilterde data'!C124=0,\"\",'Gefilterde data'!A124)","v":"BU0363EJ02"},{"v":0.9362217978535933,"d":"0.94"},{"v":1.8873987146555895,"d":"1.89"},{"$f":"IF('Gefilterde data'!CL124=0,\"\",'Gefilterde data'!CL124)","v":15.6},{"$f":"IF('Gefilterde data'!DX124=0,\"\",'Gefilterde data'!DX124)","v":{"v":45.79831932773109,"d":"45.8"}},null,{"$f":"IF('Gefilterde data'!DZ124=0,\"\",'Gefilterde data'!DZ124)","v":{"v":3.361344537815126,"d":"3"}},{"$f":"IF('Gefilterde data'!DW124=0,\"\",'Gefilterde data'!DW124)","v":{"v":11957,"d":"11,957"}},{"$f":"IF('Gefilterde data'!I124=0,\"\",'Gefilterde data'!I124)","v":{"v":1190,"d":"1,190"}},{"$f":"IF('Gefilterde data'!DI124=0,\"\",'Gefilterde data'!DI124)","v":0.4},{"$f":"IF('Gefilterde data'!EA124=0,\"\",'Gefilterde data'!EA124)","v":{"v":6.722689075630252,"d":"7"}},{"$f":"IF('Gefilterde data'!EA124=0,\"\",'Gefilterde data'!EB124)","v":{"v":26.89075630252101,"d":"27"}}]
[null,{"$f":"IF('Gefilterde data'!C125=0,\"\",'Gefilterde data'!C125)","v":"Frederik Hendrikbuurt-Zuidoost"},{"$f":"IF(B138=\"\",\"\",IF(LEFT(D138,2)=\"BU\",'Gefilterde data'!G125,\"-\"))","v":"Frederik Hendrikbuurt"},{"$f":"IF('Gefilterde data'!C125=0,\"\",'Gefilterde data'!A125)","v":"BU0363EJ03"},{"v":1.132489759084745,"d":"1.13"},{"v":2.2830698030718386,"d":"2.28"},{"$f":"IF('Gefilterde data'!CL125=0,\"\",'Gefilterde data'!CL125)","v":18.7},{"$f":"IF('Gefilterde data'!DX125=0,\"\",'Gefilterde data'!DX125)","v":{"v":56.043956043956044,"d":"56.0"}},null,{"$f":"IF('Gefilterde data'!DZ125=0,\"\",'Gefilterde data'!DZ125)","v":{"v":4.081632653061225,"d":"4"}},{"$f":"IF('Gefilterde data'!DW125=0,\"\",'Gefilterde data'!DW125)","v":{"v":12106,"d":"12,106"}},{"$f":"IF('Gefilterde data'!I125=0,\"\",'Gefilterde data'!I125)","v":{"v":3185,"d":"3,185"}},{"$f":"IF('Gefilterde data'!DI125=0,\"\",'Gefilterde data'!DI125)","v":0.3},{"$f":"IF('Gefilterde data'!EA125=0,\"\",'Gefilterde data'!EA125)","v":{"v":7.6923076923076925,"d":"8"}},{"$f":"IF('Gefilterde data'!EA125=0,\"\",'Gefilterde data'!EB125)","v":{"v":10.989010989010989,"d":"11"}}]
[null,{"$f":"IF('Gefilterde data'!C126=0,\"\",'Gefilterde data'!C126)","v":"Mercatorpark"},{"$f":"IF(B139=\"\",\"\",IF(LEFT(D139,2)=\"BU\",'Gefilterde data'!G126,\"-\"))","v":"Van Galenbuurt"},{"$f":"IF('Gefilterde data'!C126=0,\"\",'Gefilterde data'!A126)","v":"BU0363EK01"},"Ontbrekende waarde","Ontbrekende waarde",{"$f":"IF('Gefilterde data'!CL126=0,\"\",'Gefilterde data'!CL126)","v":"."},{"$f":"IF('Gefilterde data'!DX126=0,\"\",'Gefilterde data'!DX126)","v":{"v":85.39999999999999,"d":"85.4"}},null,{"$f":"IF('Gefilterde data'!DZ126=0,\"\",'Gefilterde data'!DZ126)","v":""},{"$f":"IF('Gefilterde data'!DW126=0,\"\",'Gefilterde data'!DW126)","v":{"v":7654,"d":"7,654"}},{"$f":"IF('Gefilterde data'!I126=0,\"\",'Gefilterde data'!I126)","v":{"v":2500,"d":"2,500"}},{"$f":"IF('Gefilterde data'!DI126=0,\"\",'Gefilterde data'!DI126)","v":"."},{"$f":"IF('Gefilterde data'!EA126=0,\"\",'Gefilterde data'!EA126)","v":10},{"$f":"IF('Gefilterde data'!EA126=0,\"\",'Gefilterde data'!EB126)","v":{"v":1.2,"d":"1"}}]
[null,{"$f":"IF('Gefilterde data'!C127=0,\"\",'Gefilterde data'!C127)","v":"Orteliusbuurt-Noord"},{"$f":"IF(B140=\"\",\"\",IF(LEFT(D140,2)=\"BU\",'Gefilterde data'!G127,\"-\"))","v":"Van Galenbuurt"},{"$f":"IF('Gefilterde data'!C127=0,\"\",'Gefilterde data'!A127)","v":"BU0363EK02"},{"v":1.1592442808881775,"d":"1.16"},{"v":2.3370062208937616,"d":"2.34"},{"$f":"IF('Gefilterde data'!CL127=0,\"\",'Gefilterde data'!CL127)","v":19.4},{"$f":"IF('Gefilterde data'!DX127=0,\"\",'Gefilterde data'!DX127)","v":{"v":56.390977443609025,"d":"56.4"}},null,{"$f":"IF('Gefilterde data'!DZ127=0,\"\",'Gefilterde data'!DZ127)","v":{"v":3.7593984962406015,"d":"4"}},{"$f":"IF('Gefilterde data'!DW127=0,\"\",'Gefilterde data'!DW127)","v":{"v":8329,"d":"8,329"}},{"$f":"IF('Gefilterde data'!I127=0,\"\",'Gefilterde data'!I127)","v":{"v":1330,"d":"1,330"}},{"$f":"IF('Gefilterde data'!DI127=0,\"\",'Gefilterde data'!DI127)","v":0.3},{"$f":"IF('Gefilterde data'!EA127=0,\"\",'Gefilterde data'!EA127)","v":{"v":10.150375939849624,"d":"10"}},{"$f":"IF('Gefilterde data'!EA127=0,\"\",'Gefilterde data'!EB127)","v":{"v":12.030075187969924,"d":"12"}}]
[null,{"$f":"IF('Gefilterde data'!C128=0,\"\",'Gefilterde data'!C128)","v":"Jan Maijenbuurt"},{"$f":"IF(B141=\"\",\"\",IF(LEFT(D141,2)=\"BU\",'Gefilterde data'!G128,\"-\"))","v":"Van Galenbuurt"},{"$f":"IF('Gefilterde data'!C128=0,\"\",'Gefilterde data'!A128)","v":"BU0363EK03"},{"v":1.3851506822601565,"d":"1.39"},{"v":2.792427631247016,"d":"2.79"},{"$f":"IF('Gefilterde data'!CL128=0,\"\",'Gefilterde data'!CL128)","v":24.1},{"$f":"IF('Gefilterde data'!DX128=0,\"\",'Gefilterde data'!DX128)","v":{"v":63.901345291479814,"d":"63.9"}},null,{"$f":"IF('Gefilterde data'!DZ128=0,\"\",'Gefilterde data'!DZ128)","v":{"v":4.484304932735426,"d":"4"}},{"$f":"IF('Gefilterde data'!DW128=0,\"\",'Gefilterde data'!DW128)","v":{"v":9511,"d":"9,511"}},{"$f":"IF('Gefilterde data'!I128=0,\"\",'Gefilterde data'!I128)","v":{"v":2230,"d":"2,230"}},{"$f":"IF('Gefilterde data'!DI128=0,\"\",'Gefilterde data'!DI128)","v":0.3},{"$f":"IF('Gefilterde data'!EA128=0,\"\",'Gefilterde data'!EA128)","v":{"v":10.089686098654708,"d":"10"}},{"$f":"IF('Gefilterde data'!EA128=0,\"\",'Gefilterde data'!EB128)","v":{"v":9.865470852017937,"d":"10"}}]
[null,{"$f":"IF('Gefilterde data'!C129=0,\"\",'Gefilterde data'!C129)","v":"John Franklinbuurt"},{"$f":"IF(B142=\"\",\"\",IF(LEFT(D142,2)=\"BU\",'Gefilterde data'!G129,\"-\"))","v":"Van Galenbuurt"},{"$f":"IF('Gefilterde data'!C129=0,\"\",'Gefilterde data'!A129)","v":"BU0363EK04"},{"v":1.1537002607325988,"d":"1.15"},{"v":2.3258296209260476,"d":"2.33"},{"$f":"IF('Gefilterde data'!CL129=0,\"\",'Gefilterde data'!CL129)","v":19.6},{"$f":"IF('Gefilterde data'!DX129=0,\"\",'Gefilterde data'!DX129)","v":{"v":55.013550135501355,"d":"55.0"}},null,{"$f":"IF('Gefilterde data'!DZ129=0,\"\",'Gefilterde data'!DZ129)","v":{"v":4.336043360433604,"d":"4"}},{"$f":"IF('Gefilterde data'!DW129=0,\"\",'Gefilterde data'!DW129)","v":{"v":10545,"d":"10,545"}},{"$f":"IF('Gefilterde data'!I129=0,\"\",'Gefilterde data'!I129)","v":{"v":1845,"d":"1,845"}},{"$f":"IF('Gefilterde data'!DI129=0,\"\",'Gefilterde data'!DI129)","v":0.3},{"$f":"IF('Gefilterde data'!EA129=0,\"\",'Gefilterde data'!EA129)","v":{"v":10.840108401084011,"d":"11"}},{"$f":"IF('Gefilterde data'!EA129=0,\"\",'Gefilterde data'!EB129)","v":{"v":10.29810298102981,"d":"10"}}]
[null,{"$f":"IF('Gefilterde data'!C130=0,\"\",'Gefilterde data'!C130)","v":"Pieter van der Doesbuurt"},{"$f":"IF(B143=\"\",\"\",IF(LEFT(D143,2)=\"BU\",'Gefilterde data'!G130,\"-\"))","v":"Geuzenbuurt"},{"$f":"IF('Gefilterde data'!C130=0,\"\",'Gefilterde data'!A130)","v":"BU0363EL01"},{"v":1.2162596647677122,"d":"1.22"},{"v":2.451947747032696,"d":"2.45"},{"$f":"IF('Gefilterde data'!CL130=0,\"\",'Gefilterde data'!CL130)","v":21.3},{"$f":"IF('Gefilterde data'!DX130=0,\"\",'Gefilterde data'!DX130)","v":{"v":55.5858310626703,"d":"55.6"}},null,{"$f":"IF('Gefilterde data'!DZ130=0,\"\",'Gefilterde data'!DZ130)","v":{"v":4.35967302452316,"d":"4"}},{"$f":"IF('Gefilterde data'!DW130=0,\"\",'Gefilterde data'!DW130)","v":{"v":10632,"d":"10,632"}},{"$f":"IF('Gefilterde data'!I130=0,\"\",'Gefilterde data'!I130)","v":{"v":1835,"d":"1,835"}},{"$f":"IF('Gefilterde data'!DI130=0,\"\",'Gefilterde data'!DI130)","v":0.3},{"$f":"IF('Gefilterde data'!EA130=0,\"\",'Gefilterde data'!EA130)","v":{"v":11.716621253405995,"d":"12"}},{"$f":"IF('Gefilterde data'!EA130=0,\"\",'Gefilterde data'!EB130)","v":{"v":9.536784741144414,"d":"10"}}]
[null,{"$f":"IF('Gefilterde data'!C131=0,\"\",'Gefilterde data'!C131)","v":"Trompbuurt"},{"$f":"IF(B144=\"\",\"\",IF(LEFT(D144,2)=\"BU\",'Gefilterde data'!G131,\"-\"))","v":"Geuzenbuurt"},{"$f":"IF('Gefilterde data'!C131=0,\"\",'Gefilterde data'!A131)","v":"BU0363EL02"},{"v":0.8255119311507594,"d":"0.83"},{"v":1.6642105122513375,"d":"1.66"},{"$f":"IF('Gefilterde data'!CL131=0,\"\",'Gefilterde data'!CL131)","v":12.1},{"$f":"IF('Gefilterde data'!DX131=0,\"\",'Gefilterde data'!DX131)","v":{"v":46.64536741214057,"d":"46.6"}},null,{"$f":"IF('Gefilterde data'!DZ131=0,\"\",'Gefilterde data'!DZ131)","v":{"v":5.111821086261981,"d":"5"}},{"$f":"IF('Gefilterde data'!DW131=0,\"\",'Gefilterde data'!DW131)","v":{"v":11506,"d":"11,506"}},{"$f":"IF('Gefilterde data'!I131=0,\"\",'Gefilterde data'!I131)","v":{"v":3130,"d":"3,130"}},{"$f":"IF('Gefilterde data'!DI131=0,\"\",'Gefilterde data'!DI131)","v":0.3},{"$f":"IF('Gefilterde data'!EA131=0,\"\",'Gefilterde data'!EA131)","v":{"v":12.140575079872203,"d":"12"}},{"$f":"IF('Gefilterde data'!EA131=0,\"\",'Gefilterde data'!EB131)","v":{"v":9.424920127795527,"d":"9"}}]
[null,{"$f":"IF('Gefilterde data'!C132=0,\"\",'Gefilterde data'!C132)","v":"Geuzenhofbuurt"},{"$f":"IF(B145=\"\",\"\",IF(LEFT(D145,2)=\"BU\",'Gefilterde data'!G132,\"-\"))","v":"Geuzenbuurt"},{"$f":"IF('Gefilterde data'!C132=0,\"\",'Gefilterde data'!A132)","v":"BU0363EL03"},{"$f":"IF(G145=\"\",\"\",IF(OR(NOT(ISNUMBER(G145)),NOT(ISNUMBER(H145))),\"Ontbrekende waarde\",F145/F$1))","v":{"v":0.720434290368234,"d":"0.72"}},{"$f":"IF(G145=\"\",\"\",IF(OR(NOT(ISNUMBER(G145)),NOT(ISNUMBER(H145))),\"Ontbrekende waarde\",((G145/AVERAGE(G$16:G$532)+H145/AVERAGE(H$16:H$532)))))","v":{"v":1.45237673033485,"d":"1.45"}},{"$f":"IF('Gefilterde data'!CL132=0,\"\",'Gefilterde data'!CL132)","v":8.9},{"$f":"IF('Gefilterde data'!DX132=0,\"\",'Gefilterde data'!DX132)","v":{"v":46.98795180722892,"d":"47.0"}},null,{"$f":"IF('Gefilterde data'!DZ132=0,\"\",'Gefilterde data'!DZ132)","v":{"v":6.024096385542169,"d":"6"}},{"$f":"IF('Gefilterde data'!DW132=0,\"\",'Gefilterde data'!DW132)","v":{"v":11669,"d":"11,669"}},{"$f":"IF('Gefilterde data'!I132=0,\"\",'Gefilterde data'!I132)","v":{"v":1660,"d":"1,660"}},{"$f":"IF('Gefilterde data'!DI132=0,\"\",'Gefilterde data'!DI132)","v":0.3},{"$f":"IF('Gefilterde data'!EA132=0,\"\",'Gefilterde data'!EA132)","v":{"v":7.530120481927711,"d":"8"}},{"$f":"IF('Gefilterde data'!EA132=0,\"\",'Gefilterde data'!EB132)","v":{"v":7.83132530120482,"d":"8"}}]
[null,{"$f":"IF('Gefilterde data'!C133=0,\"\",'Gefilterde data'!C133)","v":"Orteliusbuurt-Midden"},{"$f":"IF(B146=\"\",\"\",IF(LEFT(D146,2)=\"BU\",'Gefilterde data'!G133,\"-\"))","v":"Hoofdweg e.o."},{"$f":"IF('Gefilterde data'!C133=0,\"\",'Gefilterde data'!A133)","v":"BU0363EM01"},{"v":1.028196226522364,"d":"1.03"},{"v":2.072816762866604,"d":"2.07"},{"$f":"IF('Gefilterde data'!CL133=0,\"\",'Gefilterde data'!CL133)","v":16.2},{"$f":"IF('Gefilterde data'!DX133=0,\"\",'Gefilterde data'!DX133)","v":{"v":53.825857519788926,"d":"53.8"}},null,{"$f":"IF('Gefilterde data'!DZ133=0,\"\",'Gefilterde data'!DZ133)","v":{"v":3.6939313984168867,"d":"4"}},{"$f":"IF('Gefilterde data'!DW133=0,\"\",'Gefilterde data'!DW133)","v":{"v":9207,"d":"9,207"}},{"$f":"IF('Gefilterde data'!I133=0,\"\",'Gefilterde data'!I133)","v":{"v":1895,"d":"1,895"}},{"$f":"IF('Gefilterde data'!DI133=0,\"\",'Gefilterde data'!DI133)","v":0.3},{"$f":"IF('Gefilterde data'!EA133=0,\"\",'Gefilterde data'!EA133)","v":{"v":10.817941952506596,"d":"11"}},{"$f":"IF('Gefilterde data'!EA133=0,\"\",'Gefilterde data'!EB133)","v":{"v":8.970976253298153,"d":"9"}}]
[null,{"$f":"IF('Gefilterde data'!C134=0,\"\",'Gefilterde data'!C134)","v":"Balboaplein e.o."},{"$f":"IF(B147=\"\",\"\",IF(LEFT(D147,2)=\"BU\",'Gefilterde data'!G134,\"-\"))","v":"Hoofdweg e.o."},{"$f":"IF('Gefilterde data'!C134=0,\"\",'Gefilterde data'!A134)","v":"BU0363EM02"},{"v":1.1394281104504929,"d":"1.14"},{"v":2.2970573383755073,"d":"2.30"},{"$f":"IF('Gefilterde data'!CL134=0,\"\",'Gefilterde data'!CL134)","v":18.1},{"$f":"IF('Gefilterde data'!DX134=0,\"\",'Gefilterde data'!DX134)","v":{"v":59.09090909090909,"d":"59.1"}},null,{"$f":"IF('Gefilterde data'!DZ134=0,\"\",'Gefilterde data'!DZ134)","v":{"v":4.713804713804714,"d":"5"}},{"$f":"IF('Gefilterde data'!DW134=0,\"\",'Gefilterde data'!DW134)","v":{"v":10846,"d":"10,846"}},{"$f":"IF('Gefilterde data'!I134=0,\"\",'Gefilterde data'!I134)","v":{"v":2970,"d":"2,970"}},{"$f":"IF('Gefilterde data'!DI134=0,\"\",'Gefilterde data'!DI134)","v":0.3},{"$f":"IF('Gefilterde data'!EA134=0,\"\",'Gefilterde data'!EA134)","v":{"v":10.606060606060606,"d":"11"}},{"$f":"IF('Gefilterde data'!EA134=0,\"\",'Gefilterde data'!EB134)","v":{"v":8.080808080808081,"d":"8"}}]
[null,{"$f":"IF('Gefilterde data'!C135=0,\"\",'Gefilterde data'!C135)","v":"Orteliusbuurt-Zuid"},{"$f":"IF(B148=\"\",\"\",IF(LEFT(D148,2)=\"BU\",'Gefilterde data'!G135,\"-\"))","v":"Hoofdweg e.o."},{"$f":"IF('Gefilterde data'!C135=0,\"\",'Gefilterde data'!A135)","v":"BU0363EM03"},{"v":1.04705213121757,"d":"1.05"},{"v":2.1108297747052425,"d":"2.11"},{"$f":"IF('Gefilterde data'!CL135=0,\"\",'Gefilterde data'!CL135)","v":16.6},{"$f":"IF('Gefilterde data'!DX135=0,\"\",'Gefilterde data'!DX135)","v":{"v":54.42359249329759,"d":"54.4"}},null,{"$f":"IF('Gefilterde data'!DZ135=0,\"\",'Gefilterde data'!DZ135)","v":{"v":3.753351206434316,"d":"4"}},{"$f":"IF('Gefilterde data'!DW135=0,\"\",'Gefilterde data'!DW135)","v":{"v":10211,"d":"10,211"}},{"$f":"IF('Gefilterde data'!I135=0,\"\",'Gefilterde data'!I135)","v":{"v":1865,"d":"1,865"}},{"$f":"IF('Gefilterde data'!DI135=0,\"\",'Gefilterde data'!DI135)","v":0.3},{"$f":"IF('Gefilterde data'!EA135=0,\"\",'Gefilterde data'!EA135)","v":{"v":7.774798927613941,"d":"8"}},{"$f":"IF('Gefilterde data'!EA135=0,\"\",'Gefilterde data'!EB135)","v":{"v":13.941018766756033,"d":"14"}}]
[null,{"$f":"IF('Gefilterde data'!C136=0,\"\",'Gefilterde data'!C136)","v":"Columbusplein e.o."},{"$f":"IF(B149=\"\",\"\",IF(LEFT(D149,2)=\"BU\",'Gefilterde data'!G136,\"-\"))","v":"Hoofdweg e.o."},{"$f":"IF('Gefilterde data'!C136=0,\"\",'Gefilterde data'!A136)","v":"BU0363EM04"},{"v":1.2617213377655025,"d":"1.26"},{"v":2.543597293517129,"d":"2.54"},{"$f":"IF('Gefilterde data'!CL136=0,\"\",'Gefilterde data'!CL136)","v":21.2},{"$f":"IF('Gefilterde data'!DX136=0,\"\",'Gefilterde data'!DX136)","v":{"v":61.05417276720352,"d":"61.1"}},null,{"$f":"IF('Gefilterde data'!DZ136=0,\"\",'Gefilterde data'!DZ136)","v":{"v":3.513909224011713,"d":"4"}},{"$f":"IF('Gefilterde data'!DW136=0,\"\",'Gefilterde data'!DW136)","v":{"v":10925,"d":"10,925"}},{"$f":"IF('Gefilterde data'!I136=0,\"\",'Gefilterde data'!I136)","v":{"v":3415,"d":"3,415"}},{"$f":"IF('Gefilterde data'!DI136=0,\"\",'Gefilterde data'!DI136)","v":0.4},{"$f":"IF('Gefilterde data'!EA136=0,\"\",'Gefilterde data'!EA136)","v":{"v":12.152269399707174,"d":"12"}},{"$f":"IF('Gefilterde data'!EA136=0,\"\",'Gefilterde data'!EB136)","v":{"v":10.248901903367496,"d":"10"}}]
[null,{"$f":"IF('Gefilterde data'!C137=0,\"\",'Gefilterde data'!C137)","v":"Filips van Almondekwartier"},{"$f":"IF(B150=\"\",\"\",IF(LEFT(D150,2)=\"BU\",'Gefilterde data'!G137,\"-\"))","v":"Chassébuurt"},{"$f":"IF('Gefilterde data'!C137=0,\"\",'Gefilterde data'!A137)","v":"BU0363EN01"},{"v":0.9621844473919418,"d":"0.96"},{"v":1.9397387386542566,"d":"1.94"},{"$f":"IF('Gefilterde data'!CL137=0,\"\",'Gefilterde data'!CL137)","v":14.6},{"$f":"IF('Gefilterde data'!DX137=0,\"\",'Gefilterde data'!DX137)","v":{"v":52.488687782805435,"d":"52.5"}},null,{"$f":"IF('Gefilterde data'!DZ137=0,\"\",'Gefilterde data'!DZ137)","v":{"v":4.524886877828054,"d":"5"}},{"$f":"IF('Gefilterde data'!DW137=0,\"\",'Gefilterde data'!DW137)","v":{"v":11062,"d":"11,062"}},{"$f":"IF('Gefilterde data'!I137=0,\"\",'Gefilterde data'!I137)","v":{"v":1105,"d":"1,105"}},{"$f":"IF('Gefilterde data'!DI137=0,\"\",'Gefilterde data'!DI137)","v":0.3},{"$f":"IF('Gefilterde data'!EA137=0,\"\",'Gefilterde data'!EA137)","v":{"v":10.85972850678733,"d":"11"}},{"$f":"IF('Gefilterde data'!EA137=0,\"\",'Gefilterde data'!EB137)","v":{"v":7.6923076923076925,"d":"8"}}]
[null,{"$f":"IF('Gefilterde data'!C138=0,\"\",'Gefilterde data'!C138)","v":"Kortenaerkwartier"},{"$f":"IF(B151=\"\",\"\",IF(LEFT(D151,2)=\"BU\",'Gefilterde data'!G138,\"-\"))","v":"Chassébuurt"},{"$f":"IF('Gefilterde data'!C138=0,\"\",'Gefilterde data'!A138)","v":"BU0363EN02"},{"v":0.9662671466660993,"d":"0.97"},{"v":1.9479693538568044,"d":"1.95"},{"$f":"IF('Gefilterde data'!CL138=0,\"\",'Gefilterde data'!CL138)","v":15.2},{"$f":"IF('Gefilterde data'!DX138=0,\"\",'Gefilterde data'!DX138)","v":{"v":50.67567567567568,"d":"50.7"}},null,{"$f":"IF('Gefilterde data'!DZ138=0,\"\",'Gefilterde data'!DZ138)","v":{"v":4.054054054054054,"d":"4"}},{"$f":"IF('Gefilterde data'!DW138=0,\"\",'Gefilterde data'!DW138)","v":{"v":12149,"d":"12,149"}},{"$f":"IF('Gefilterde data'!I138=0,\"\",'Gefilterde data'!I138)","v":{"v":2220,"d":"2,220"}},{"$f":"IF('Gefilterde data'!DI138=0,\"\",'Gefilterde data'!DI138)","v":0.4},{"$f":"IF('Gefilterde data'!EA138=0,\"\",'Gefilterde data'!EA138)","v":{"v":11.936936936936938,"d":"12"}},{"$f":"IF('Gefilterde data'!EA138=0,\"\",'Gefilterde data'!EB138)","v":{"v":10.135135135135135,"d":"10"}}]
[null,{"$f":"IF('Gefilterde data'!C139=0,\"\",'Gefilterde data'!C139)","v":"Van Brakelkwartier"},{"$f":"IF(B152=\"\",\"\",IF(LEFT(D152,2)=\"BU\",'Gefilterde data'!G139,\"-\"))","v":"Chassébuurt"},{"$f":"IF('Gefilterde data'!C139=0,\"\",'Gefilterde data'!A139)","v":"BU0363EN03"},{"v":1.2847999241377714,"d":"1.28"},{"v":2.5901231214298646,"d":"2.59"},{"$f":"IF('Gefilterde data'!CL139=0,\"\",'Gefilterde data'!CL139)","v":20.8},{"$f":"IF('Gefilterde data'!DX139=0,\"\",'Gefilterde data'!DX139)","v":{"v":65.15151515151516,"d":"65.2"}},null,{"$f":"IF('Gefilterde data'!DZ139=0,\"\",'Gefilterde data'!DZ139)","v":{"v":3.0303030303030303,"d":"3"}},{"$f":"IF('Gefilterde data'!DW139=0,\"\",'Gefilterde data'!DW139)","v":{"v":11620,"d":"11,620"}},{"$f":"IF('Gefilterde data'!I139=0,\"\",'Gefilterde data'!I139)","v":990},{"$f":"IF('Gefilterde data'!DI139=0,\"\",'Gefilterde data'!DI139)","v":0.4},{"$f":"IF('Gefilterde data'!EA139=0,\"\",'Gefilterde data'!EA139)","v":{"v":15.656565656565657,"d":"16"}},{"$f":"IF('Gefilterde data'!EA139=0,\"\",'Gefilterde data'!EB139)","v":{"v":11.11111111111111,"d":"11"}}]
[null,{"$f":"IF('Gefilterde data'!C140=0,\"\",'Gefilterde data'!C140)","v":"De Wester Quartier"},{"$f":"IF(B153=\"\",\"\",IF(LEFT(D153,2)=\"BU\",'Gefilterde data'!G140,\"-\"))","v":"Chassébuurt"},{"$f":"IF('Gefilterde data'!C140=0,\"\",'Gefilterde data'!A140)","v":"BU0363EN04"},{"v":1.2315509172643209,"d":"1.23"},{"v":2.482774513055171,"d":"2.48"},{"$f":"IF('Gefilterde data'!CL140=0,\"\",'Gefilterde data'!CL140)","v":19},{"$f":"IF('Gefilterde data'!DX140=0,\"\",'Gefilterde data'!DX140)","v":{"v":66,"d":"66.0"}},null,{"$f":"IF('Gefilterde data'!DZ140=0,\"\",'Gefilterde data'!DZ140)","v":{"v":3.428571428571429,"d":"3"}},{"$f":"IF('Gefilterde data'!DW140=0,\"\",'Gefilterde data'!DW140)","v":{"v":12559,"d":"12,559"}},{"$f":"IF('Gefilterde data'!I140=0,\"\",'Gefilterde data'!I140)","v":{"v":1750,"d":"1,750"}},{"$f":"IF('Gefilterde data'!DI140=0,\"\",'Gefilterde data'!DI140)","v":0.4},{"$f":"IF('Gefilterde data'!EA140=0,\"\",'Gefilterde data'!EA140)","v":{"v":13.714285714285715,"d":"14"}},{"$f":"IF('Gefilterde data'!EA140=0,\"\",'Gefilterde data'!EB140)","v":{"v":10.571428571428571,"d":"11"}}]
[null,{"$f":"IF('Gefilterde data'!C141=0,\"\",'Gefilterde data'!C141)","v":"Bellamybuurt-Noord"},{"$f":"IF(B154=\"\",\"\",IF(LEFT(D154,2)=\"BU\",'Gefilterde data'!G141,\"-\"))","v":"Bellamybuurt"},{"$f":"IF('Gefilterde data'!C141=0,\"\",'Gefilterde data'!A141)","v":"BU0363EP01"},{"v":0.9832029631670449,"d":"0.98"},{"v":1.982111517998689,"d":"1.98"},{"$f":"IF('Gefilterde data'!CL141=0,\"\",'Gefilterde data'!CL141)","v":16.1},{"$f":"IF('Gefilterde data'!DX141=0,\"\",'Gefilterde data'!DX141)","v":{"v":49.166666666666664,"d":"49.2"}},null,{"$f":"IF('Gefilterde data'!DZ141=0,\"\",'Gefilterde data'!DZ141)","v":{"v":3.75,"d":"4"}},{"$f":"IF('Gefilterde data'!DW141=0,\"\",'Gefilterde data'!DW141)","v":{"v":12419,"d":"12,419"}},{"$f":"IF('Gefilterde data'!I141=0,\"\",'Gefilterde data'!I141)","v":{"v":2400,"d":"2,400"}},{"$f":"IF('Gefilterde data'!DI141=0,\"\",'Gefilterde data'!DI141)","v":0.3},{"$f":"IF('Gefilterde data'!EA141=0,\"\",'Gefilterde data'!EA141)","v":{"v":11.041666666666666,"d":"11"}},{"$f":"IF('Gefilterde data'!EA141=0,\"\",'Gefilterde data'!EB141)","v":{"v":11.041666666666666,"d":"11"}}]
[null,{"$f":"IF('Gefilterde data'!C142=0,\"\",'Gefilterde data'!C142)","v":"Bellamybuurt-Zuid"},{"$f":"IF(B155=\"\",\"\",IF(LEFT(D155,2)=\"BU\",'Gefilterde data'!G142,\"-\"))","v":"Bellamybuurt"},{"$f":"IF('Gefilterde data'!C142=0,\"\",'Gefilterde data'!A142)","v":"BU0363EP02"},{"v":0.9206716028894363,"d":"0.92"},{"v":1.8560499273753948,"d":"1.86"},{"$f":"IF('Gefilterde data'!CL142=0,\"\",'Gefilterde data'!CL142)","v":13},{"$f":"IF('Gefilterde data'!DX142=0,\"\",'Gefilterde data'!DX142)","v":{"v":53.89447236180904,"d":"53.9"}},null,{"$f":"IF('Gefilterde data'!DZ142=0,\"\",'Gefilterde data'!DZ142)","v":{"v":4.773869346733668,"d":"5"}},{"$f":"IF('Gefilterde data'!DW142=0,\"\",'Gefilterde data'!DW142)","v":{"v":12192,"d":"12,192"}},{"$f":"IF('Gefilterde data'!I142=0,\"\",'Gefilterde data'!I142)","v":{"v":3980,"d":"3,980"}},{"$f":"IF('Gefilterde data'!DI142=0,\"\",'Gefilterde data'!DI142)","v":0.3},{"$f":"IF('Gefilterde data'!EA142=0,\"\",'Gefilterde data'!EA142)","v":{"v":10.552763819095476,"d":"11"}},{"$f":"IF('Gefilterde data'!EA142=0,\"\",'Gefilterde data'!EB142)","v":{"v":8.668341708542714,"d":"9"}}]
[null,{"$f":"IF('Gefilterde data'!C143=0,\"\",'Gefilterde data'!C143)","v":"Da Costabuurt-Noord"},{"$f":"IF(B156=\"\",\"\",IF(LEFT(D156,2)=\"BU\",'Gefilterde data'!G143,\"-\"))","v":"Da Costabuurt"},{"$f":"IF('Gefilterde data'!C143=0,\"\",'Gefilterde data'!A143)","v":"BU0363EQ01"},{"v":0.8665541610423384,"d":"0.87"},{"v":1.7469505767548124,"d":"1.75"},{"$f":"IF('Gefilterde data'!CL143=0,\"\",'Gefilterde data'!CL143)","v":12.4},{"$f":"IF('Gefilterde data'!DX143=0,\"\",'Gefilterde data'!DX143)","v":{"v":50.105485232067515,"d":"50.1"}},null,{"$f":"IF('Gefilterde data'!DZ143=0,\"\",'Gefilterde data'!DZ143)","v":{"v":4.430379746835443,"d":"4"}},{"$f":"IF('Gefilterde data'!DW143=0,\"\",'Gefilterde data'!DW143)","v":{"v":12219,"d":"12,219"}},{"$f":"IF('Gefilterde data'!I143=0,\"\",'Gefilterde data'!I143)","v":{"v":4740,"d":"4,740"}},{"$f":"IF('Gefilterde data'!DI143=0,\"\",'Gefilterde data'!DI143)","v":0.3},{"$f":"IF('Gefilterde data'!EA143=0,\"\",'Gefilterde data'!EA143)","v":{"v":8.438818565400844,"d":"8"}},{"$f":"IF('Gefilterde data'!EA143=0,\"\",'Gefilterde data'!EB143)","v":{"v":13.185654008438819,"d":"13"}}]
[null,{"$f":"IF('Gefilterde data'!C144=0,\"\",'Gefilterde data'!C144)","v":"Postjeskade e.o."},{"$f":"IF(B157=\"\",\"\",IF(LEFT(D157,2)=\"BU\",'Gefilterde data'!G144,\"-\"))","v":"Westindische Buurt"},{"$f":"IF('Gefilterde data'!C144=0,\"\",'Gefilterde data'!A144)","v":"BU0363ER01"},{"v":0.7795438796098129,"d":"0.78"},{"v":1.5715401198373684,"d":"1.57"},{"$f":"IF('Gefilterde data'!CL144=0,\"\",'Gefilterde data'!CL144)","v":11.4},{"$f":"IF('Gefilterde data'!DX144=0,\"\",'Gefilterde data'!DX144)","v":{"v":44.14715719063545,"d":"44.1"}},null,{"$f":"IF('Gefilterde data'!DZ144=0,\"\",'Gefilterde data'!DZ144)","v":{"v":4.3478260869565215,"d":"4"}},{"$f":"IF('Gefilterde data'!DW144=0,\"\",'Gefilterde data'!DW144)","v":{"v":8979,"d":"8,979"}},{"$f":"IF('Gefilterde data'!I144=0,\"\",'Gefilterde data'!I144)","v":{"v":2990,"d":"2,990"}},{"$f":"IF('Gefilterde data'!DI144=0,\"\",'Gefilterde data'!DI144)","v":0.4},{"$f":"IF('Gefilterde data'!EA144=0,\"\",'Gefilterde data'!EA144)","v":{"v":10.869565217391305,"d":"11"}},{"$f":"IF('Gefilterde data'!EA144=0,\"\",'Gefilterde data'!EB144)","v":{"v":11.036789297658862,"d":"11"}}]
[null,{"$f":"IF('Gefilterde data'!C145=0,\"\",'Gefilterde data'!C145)","v":"Paramariboplein e.o."},{"$f":"IF(B158=\"\",\"\",IF(LEFT(D158,2)=\"BU\",'Gefilterde data'!G145,\"-\"))","v":"Westindische Buurt"},{"$f":"IF('Gefilterde data'!C145=0,\"\",'Gefilterde data'!A145)","v":"BU0363ER02"},{"v":0.8097352654803777,"d":"0.81"},{"v":1.6324051659369316,"d":"1.63"},{"$f":"IF('Gefilterde data'!CL145=0,\"\",'Gefilterde data'!CL145)","v":10.8},{"$f":"IF('Gefilterde data'!DX145=0,\"\",'Gefilterde data'!DX145)","v":{"v":49.797570850202426,"d":"49.8"}},null,{"$f":"IF('Gefilterde data'!DZ145=0,\"\",'Gefilterde data'!DZ145)","v":{"v":4.588394062078273,"d":"5"}},{"$f":"IF('Gefilterde data'!DW145=0,\"\",'Gefilterde data'!DW145)","v":{"v":10025,"d":"10,025"}},{"$f":"IF('Gefilterde data'!I145=0,\"\",'Gefilterde data'!I145)","v":{"v":3705,"d":"3,705"}},{"$f":"IF('Gefilterde data'!DI145=0,\"\",'Gefilterde data'!DI145)","v":0.4},{"$f":"IF('Gefilterde data'!EA145=0,\"\",'Gefilterde data'!EA145)","v":{"v":12.550607287449392,"d":"13"}},{"$f":"IF('Gefilterde data'!EA145=0,\"\",'Gefilterde data'!EB145)","v":{"v":8.367071524966262,"d":"8"}}]
[null,{"$f":"IF('Gefilterde data'!C146=0,\"\",'Gefilterde data'!C146)","v":"Lootsbuurt"},{"$f":"IF(B159=\"\",\"\",IF(LEFT(D159,2)=\"BU\",'Gefilterde data'!G146,\"-\"))","v":"Van Lennepbuurt"},{"$f":"IF('Gefilterde data'!C146=0,\"\",'Gefilterde data'!A146)","v":"BU0363ES01"},{"v":1.2848778030095804,"d":"1.28"},{"v":2.5902801232032564,"d":"2.59"},{"$f":"IF('Gefilterde data'!CL146=0,\"\",'Gefilterde data'!CL146)","v":23},{"$f":"IF('Gefilterde data'!DX146=0,\"\",'Gefilterde data'!DX146)","v":{"v":56.83646112600537,"d":"56.8"}},null,{"$f":"IF('Gefilterde data'!DZ146=0,\"\",'Gefilterde data'!DZ146)","v":{"v":3.753351206434316,"d":"4"}},{"$f":"IF('Gefilterde data'!DW146=0,\"\",'Gefilterde data'!DW146)","v":{"v":10530,"d":"10,530"}},{"$f":"IF('Gefilterde data'!I146=0,\"\",'Gefilterde data'!I146)","v":{"v":1865,"d":"1,865"}},{"$f":"IF('Gefilterde data'!DI146=0,\"\",'Gefilterde data'!DI146)","v":0.3},{"$f":"IF('Gefilterde data'!EA146=0,\"\",'Gefilterde data'!EA146)","v":{"v":9.115281501340483,"d":"9"}},{"$f":"IF('Gefilterde data'!EA146=0,\"\",'Gefilterde data'!EB146)","v":{"v":10.991957104557642,"d":"11"}}]
[null,{"$f":"IF('Gefilterde data'!C147=0,\"\",'Gefilterde data'!C147)","v":"Borgerbuurt"},{"$f":"IF(B160=\"\",\"\",IF(LEFT(D160,2)=\"BU\",'Gefilterde data'!G147,\"-\"))","v":"Van Lennepbuurt"},{"$f":"IF('Gefilterde data'!C147=0,\"\",'Gefilterde data'!A147)","v":"BU0363ES02"},{"v":1.5062497715928564,"d":"1.51"},{"v":3.036560235376196,"d":"3.04"},{"$f":"IF('Gefilterde data'!CL147=0,\"\",'Gefilterde data'!CL147)","v":27.9},{"$f":"IF('Gefilterde data'!DX147=0,\"\",'Gefilterde data'!DX147)","v":{"v":63.08243727598566,"d":"63.1"}},null,{"$f":"IF('Gefilterde data'!DZ147=0,\"\",'Gefilterde data'!DZ147)","v":{"v":3.225806451612903,"d":"3"}},{"$f":"IF('Gefilterde data'!DW147=0,\"\",'Gefilterde data'!DW147)","v":{"v":11200,"d":"11,200"}},{"$f":"IF('Gefilterde data'!I147=0,\"\",'Gefilterde data'!I147)","v":{"v":2790,"d":"2,790"}},{"$f":"IF('Gefilterde data'!DI147=0,\"\",'Gefilterde data'!DI147)","v":0.3},{"$f":"IF('Gefilterde data'!EA147=0,\"\",'Gefilterde data'!EA147)","v":{"v":9.67741935483871,"d":"10"}},{"$f":"IF('Gefilterde data'!EA147=0,\"\",'Gefilterde data'!EB147)","v":{"v":24.372759856630825,"d":"24"}}]
[null,{"$f":"IF('Gefilterde data'!C148=0,\"\",'Gefilterde data'!C148)","v":"Da Costabuurt-Zuid"},{"$f":"IF(B161=\"\",\"\",IF(LEFT(D161,2)=\"BU\",'Gefilterde data'!G148,\"-\"))","v":"Van Lennepbuurt"},{"$f":"IF('Gefilterde data'!C148=0,\"\",'Gefilterde data'!A148)","v":"BU0363ES03"},{"v":0.9369870881007075,"d":"0.94"},{"v":1.8889415198242507,"d":"1.89"},{"$f":"IF('Gefilterde data'!CL148=0,\"\",'Gefilterde data'!CL148)","v":13.3},{"$f":"IF('Gefilterde data'!DX148=0,\"\",'Gefilterde data'!DX148)","v":{"v":54.58612975391499,"d":"54.6"}},null,{"$f":"IF('Gefilterde data'!DZ148=0,\"\",'Gefilterde data'!DZ148)","v":{"v":5.8165548098434,"d":"6"}},{"$f":"IF('Gefilterde data'!DW148=0,\"\",'Gefilterde data'!DW148)","v":{"v":11670,"d":"11,670"}},{"$f":"IF('Gefilterde data'!I148=0,\"\",'Gefilterde data'!I148)","v":{"v":2235,"d":"2,235"}},{"$f":"IF('Gefilterde data'!DI148=0,\"\",'Gefilterde data'!DI148)","v":0.2},{"$f":"IF('Gefilterde data'!EA148=0,\"\",'Gefilterde data'!EA148)","v":{"v":7.158836689038031,"d":"7"}},{"$f":"IF('Gefilterde data'!EA148=0,\"\",'Gefilterde data'!EB148)","v":{"v":8.501118568232663,"d":"9"}}]
[null,{"$f":"IF('Gefilterde data'!C149=0,\"\",'Gefilterde data'!C149)","v":"Cremerbuurt-West"},{"$f":"IF(B162=\"\",\"\",IF(LEFT(D162,2)=\"BU\",'Gefilterde data'!G149,\"-\"))","v":"Overtoomse Sluis"},{"$f":"IF('Gefilterde data'!C149=0,\"\",'Gefilterde data'!A149)","v":"BU0363ET01"},{"v":0.8680317146892577,"d":"0.87"},{"v":1.7499292863516447,"d":"1.75"},{"$f":"IF('Gefilterde data'!CL149=0,\"\",'Gefilterde data'!CL149)","v":12.1},{"$f":"IF('Gefilterde data'!DX149=0,\"\",'Gefilterde data'!DX149)","v":{"v":51.40597539543058,"d":"51.4"}},null,{"$f":"IF('Gefilterde data'!DZ149=0,\"\",'Gefilterde data'!DZ149)","v":{"v":4.042179261862917,"d":"4"}},{"$f":"IF('Gefilterde data'!DW149=0,\"\",'Gefilterde data'!DW149)","v":{"v":9720,"d":"9,720"}},{"$f":"IF('Gefilterde data'!I149=0,\"\",'Gefilterde data'!I149)","v":{"v":5690,"d":"5,690"}},{"$f":"IF('Gefilterde data'!DI149=0,\"\",'Gefilterde data'!DI149)","v":0.3},{"$f":"IF('Gefilterde data'!EA149=0,\"\",'Gefilterde data'!EA149)","v":{"v":9.578207381370826,"d":"10"}},{"$f":"IF('Gefilterde data'!EA149=0,\"\",'Gefilterde data'!EB149)","v":{"v":9.050966608084359,"d":"9"}}]
[null,{"$f":"IF('Gefilterde data'!C150=0,\"\",'Gefilterde data'!C150)","v":"Vondelparkbuurt-West"},{"$f":"IF(B163=\"\",\"\",IF(LEFT(D163,2)=\"BU\",'Gefilterde data'!G150,\"-\"))","v":"Overtoomse Sluis"},{"$f":"IF('Gefilterde data'!C150=0,\"\",'Gefilterde data'!A150)","v":"BU0363ET02"},{"v":0.7789823256303582,"d":"0.78"},{"v":1.5704080416680046,"d":"1.57"},{"$f":"IF('Gefilterde data'!CL150=0,\"\",'Gefilterde data'!CL150)","v":10.6},{"$f":"IF('Gefilterde data'!DX150=0,\"\",'Gefilterde data'!DX150)","v":{"v":47.11111111111111,"d":"47.1"}},null,{"$f":"IF('Gefilterde data'!DZ150=0,\"\",'Gefilterde data'!DZ150)","v":4},{"$f":"IF('Gefilterde data'!DW150=0,\"\",'Gefilterde data'!DW150)","v":{"v":8826,"d":"8,826"}},{"$f":"IF('Gefilterde data'!I150=0,\"\",'Gefilterde data'!I150)","v":{"v":2250,"d":"2,250"}},{"$f":"IF('Gefilterde data'!DI150=0,\"\",'Gefilterde data'!DI150)","v":0.3},{"$f":"IF('Gefilterde data'!EA150=0,\"\",'Gefilterde data'!EA150)","v":{"v":10.222222222222223,"d":"10"}},{"$f":"IF('Gefilterde data'!EA150=0,\"\",'Gefilterde data'!EB150)","v":{"v":13.555555555555557,"d":"14"}}]
[null,{"$f":"IF('Gefilterde data'!C151=0,\"\",'Gefilterde data'!C151)","v":"Cremerbuurt-Oost"},{"$f":"IF(B164=\"\",\"\",IF(LEFT(D164,2)=\"BU\",'Gefilterde data'!G151,\"-\"))","v":"Helmersbuurt"},{"$f":"IF('Gefilterde data'!C151=0,\"\",'Gefilterde data'!A151)","v":"BU0363EU01"},{"v":0.782473986319591,"d":"0.78"},{"v":1.5774471385059337,"d":"1.58"},{"$f":"IF('Gefilterde data'!CL151=0,\"\",'Gefilterde data'!CL151)","v":11.1},{"$f":"IF('Gefilterde data'!DX151=0,\"\",'Gefilterde data'!DX151)","v":{"v":45.610278372591004,"d":"45.6"}},null,{"$f":"IF('Gefilterde data'!DZ151=0,\"\",'Gefilterde data'!DZ151)","v":{"v":5.139186295503212,"d":"5"}},{"$f":"IF('Gefilterde data'!DW151=0,\"\",'Gefilterde data'!DW151)","v":{"v":10508,"d":"10,508"}},{"$f":"IF('Gefilterde data'!I151=0,\"\",'Gefilterde data'!I151)","v":{"v":2335,"d":"2,335"}},{"$f":"IF('Gefilterde data'!DI151=0,\"\",'Gefilterde data'!DI151)","v":0.3},{"$f":"IF('Gefilterde data'!EA151=0,\"\",'Gefilterde data'!EA151)","v":{"v":10.492505353319057,"d":"10"}},{"$f":"IF('Gefilterde data'!EA151=0,\"\",'Gefilterde data'!EB151)","v":{"v":7.28051391862955,"d":"7"}}]
[null,{"$f":"IF('Gefilterde data'!C152=0,\"\",'Gefilterde data'!C152)","v":"WG-terrein"},{"$f":"IF(B165=\"\",\"\",IF(LEFT(D165,2)=\"BU\",'Gefilterde data'!G152,\"-\"))","v":"Helmersbuurt"},{"$f":"IF('Gefilterde data'!C152=0,\"\",'Gefilterde data'!A152)","v":"BU0363EU02"},{"v":1.0564501217999203,"d":"1.06"},{"v":2.129775878487636,"d":"2.13"},{"$f":"IF('Gefilterde data'!CL152=0,\"\",'Gefilterde data'!CL152)","v":18.6},{"$f":"IF('Gefilterde data'!DX152=0,\"\",'Gefilterde data'!DX152)","v":{"v":47.90874524714829,"d":"47.9"}},null,{"$f":"IF('Gefilterde data'!DZ152=0,\"\",'Gefilterde data'!DZ152)","v":{"v":3.4220532319391634,"d":"3"}},{"$f":"IF('Gefilterde data'!DW152=0,\"\",'Gefilterde data'!DW152)","v":{"v":10597,"d":"10,597"}},{"$f":"IF('Gefilterde data'!I152=0,\"\",'Gefilterde data'!I152)","v":{"v":2630,"d":"2,630"}},{"$f":"IF('Gefilterde data'!DI152=0,\"\",'Gefilterde data'!DI152)","v":0.4},{"$f":"IF('Gefilterde data'!EA152=0,\"\",'Gefilterde data'!EA152)","v":{"v":9.125475285171103,"d":"9"}},{"$f":"IF('Gefilterde data'!EA152=0,\"\",'Gefilterde data'!EB152)","v":{"v":19.39163498098859,"d":"19"}}]
[null,{"$f":"IF('Gefilterde data'!C153=0,\"\",'Gefilterde data'!C153)","v":"Helmersbuurt-Oost"},{"$f":"IF(B166=\"\",\"\",IF(LEFT(D166,2)=\"BU\",'Gefilterde data'!G153,\"-\"))","v":"Helmersbuurt"},{"$f":"IF('Gefilterde data'!C153=0,\"\",'Gefilterde data'!A153)","v":"BU0363EU03"},{"v":0.6849084467932361,"d":"0.68"},{"v":1.380757556700749,"d":"1.38"},{"$f":"IF('Gefilterde data'!CL153=0,\"\",'Gefilterde data'!CL153)","v":7.6},{"$f":"IF('Gefilterde data'!DX153=0,\"\",'Gefilterde data'!DX153)","v":{"v":47.928994082840234,"d":"47.9"}},null,{"$f":"IF('Gefilterde data'!DZ153=0,\"\",'Gefilterde data'!DZ153)","v":{"v":6.70611439842209,"d":"7"}},{"$f":"IF('Gefilterde data'!DW153=0,\"\",'Gefilterde data'!DW153)","v":{"v":10472,"d":"10,472"}},{"$f":"IF('Gefilterde data'!I153=0,\"\",'Gefilterde data'!I153)","v":{"v":2535,"d":"2,535"}},{"$f":"IF('Gefilterde data'!DI153=0,\"\",'Gefilterde data'!DI153)","v":0.4},{"$f":"IF('Gefilterde data'!EA153=0,\"\",'Gefilterde data'!EA153)","v":{"v":10.650887573964498,"d":"11"}},{"$f":"IF('Gefilterde data'!EA153=0,\"\",'Gefilterde data'!EB153)","v":{"v":9.467455621301776,"d":"9"}}]
[null,{"$f":"IF('Gefilterde data'!C154=0,\"\",'Gefilterde data'!C154)","v":"Vondelparkbuurt-Midden"},{"$f":"IF(B167=\"\",\"\",IF(LEFT(D167,2)=\"BU\",'Gefilterde data'!G154,\"-\"))","v":"Vondelparkbuurt"},{"$f":"IF('Gefilterde data'!C154=0,\"\",'Gefilterde data'!A154)","v":"BU0363EV01"},{"v":0.8910805678929815,"d":"0.89"},{"v":1.7963951729724523,"d":"1.80"},{"$f":"IF('Gefilterde data'!CL154=0,\"\",'Gefilterde data'!CL154)","v":13},{"$f":"IF('Gefilterde data'!DX154=0,\"\",'Gefilterde data'!DX154)","v":{"v":50.58139534883721,"d":"50.6"}},null,{"$f":"IF('Gefilterde data'!DZ154=0,\"\",'Gefilterde data'!DZ154)","v":{"v":5.813953488372093,"d":"6"}},{"$f":"IF('Gefilterde data'!DW154=0,\"\",'Gefilterde data'!DW154)","v":{"v":9737,"d":"9,737"}},{"$f":"IF('Gefilterde data'!I154=0,\"\",'Gefilterde data'!I154)","v":860},{"$f":"IF('Gefilterde data'!DI154=0,\"\",'Gefilterde data'!DI154)","v":0.5},{"$f":"IF('Gefilterde data'!EA154=0,\"\",'Gefilterde data'!EA154)","v":{"v":11.046511627906977,"d":"11"}},{"$f":"IF('Gefilterde data'!EA154=0,\"\",'Gefilterde data'!EB154)","v":{"v":16.27906976744186,"d":"16"}}]
[null,{"$f":"IF('Gefilterde data'!C155=0,\"\",'Gefilterde data'!C155)","v":"Vondelparkbuurt-Oost"},{"$f":"IF(B168=\"\",\"\",IF(LEFT(D168,2)=\"BU\",'Gefilterde data'!G155,\"-\"))","v":"Vondelparkbuurt"},{"$f":"IF('Gefilterde data'!C155=0,\"\",'Gefilterde data'!A155)","v":"BU0363EV02"},{"v":1.006516921258524,"d":"1.01"},{"v":2.0291118491555515,"d":"2.03"},{"$f":"IF('Gefilterde data'!CL155=0,\"\",'Gefilterde data'!CL155)","v":14.4},{"$f":"IF('Gefilterde data'!DX155=0,\"\",'Gefilterde data'!DX155)","v":{"v":58.2089552238806,"d":"58.2"}},null,{"$f":"IF('Gefilterde data'!DZ155=0,\"\",'Gefilterde data'!DZ155)","v":{"v":4.975124378109453,"d":"5"}},{"$f":"IF('Gefilterde data'!DW155=0,\"\",'Gefilterde data'!DW155)","v":{"v":10016,"d":"10,016"}},{"$f":"IF('Gefilterde data'!I155=0,\"\",'Gefilterde data'!I155)","v":{"v":1005,"d":"1,005"}},{"$f":"IF('Gefilterde data'!DI155=0,\"\",'Gefilterde data'!DI155)","v":0.5},{"$f":"IF('Gefilterde data'!EA155=0,\"\",'Gefilterde data'!EA155)","v":{"v":7.960199004975125,"d":"8"}},{"$f":"IF('Gefilterde data'!EA155=0,\"\",'Gefilterde data'!EB155)","v":{"v":15.422885572139302,"d":"15"}}]
[null,{"$f":"IF('Gefilterde data'!C156=0,\"\",'Gefilterde data'!C156)","v":"Sloterdijk De Heining"},{"$f":"IF(B169=\"\",\"\",IF(LEFT(D169,2)=\"BU\",'Gefilterde data'!G156,\"-\"))","v":"Sloterdijk Nieuw-West"},{"$f":"IF('Gefilterde data'!C156=0,\"\",'Gefilterde data'!A156)","v":"BU0363FA01"},"Ontbrekende waarde","Ontbrekende waarde",{"$f":"IF('Gefilterde data'!CL156=0,\"\",'Gefilterde data'!CL156)","v":"."},{"$f":"IF('Gefilterde data'!DX156=0,\"\",'Gefilterde data'!DX156)","v":{"v":33.33333333333333,"d":"33.3"}},null,{"$f":"IF('Gefilterde data'!DZ156=0,\"\",'Gefilterde data'!DZ156)","v":""},{"$f":"IF('Gefilterde data'!DW156=0,\"\",'Gefilterde data'!DW156)","v":147},{"$f":"IF('Gefilterde data'!I156=0,\"\",'Gefilterde data'!I156)","v":30},{"$f":"IF('Gefilterde data'!DI156=0,\"\",'Gefilterde data'!DI156)","v":"."},{"$f":"IF('Gefilterde data'!EA156=0,\"\",'Gefilterde data'!EA156)","v":{"v":16.666666666666664,"d":"17"}},{"$f":"IF('Gefilterde data'!EA156=0,\"\",'Gefilterde data'!EB156)","v":{"v":16.666666666666664,"d":"17"}}]
[null,{"$f":"IF('Gefilterde data'!C157=0,\"\",'Gefilterde data'!C157)","v":"Sloterdijk Poort-Noord"},{"$f":"IF(B170=\"\",\"\",IF(LEFT(D170,2)=\"BU\",'Gefilterde data'!G157,\"-\"))","v":"Sloterdijk Nieuw-West"},{"$f":"IF('Gefilterde data'!C157=0,\"\",'Gefilterde data'!A157)","v":"BU0363FA02"},"Ontbrekende waarde","Ontbrekende waarde",{"$f":"IF('Gefilterde data'!CL157=0,\"\",'Gefilterde data'!CL157)","v":"."},{"$f":"IF('Gefilterde data'!DX157=0,\"\",'Gefilterde data'!DX157)","v":{"v":66.66666666666666,"d":"66.7"}},null,{"$f":"IF('Gefilterde data'!DZ157=0,\"\",'Gefilterde data'!DZ157)","v":""},{"$f":"IF('Gefilterde data'!DW157=0,\"\",'Gefilterde data'!DW157)","v":186},{"$f":"IF('Gefilterde data'!I157=0,\"\",'Gefilterde data'!I157)","v":15},{"$f":"IF('Gefilterde data'!DI157=0,\"\",'Gefilterde data'!DI157)","v":"."},{"$f":"IF('Gefilterde data'!EA157=0,\"\",'Gefilterde data'!EA157)","v":""},{"$f":"IF('Gefilterde data'!EA157=0,\"\",'Gefilterde data'!EB157)","v":""}]
[null,{"$f":"IF('Gefilterde data'!C158=0,\"\",'Gefilterde data'!C158)","v":"Sloterdijk Poort-Zuid"},{"$f":"IF(B171=\"\",\"\",IF(LEFT(D171,2)=\"BU\",'Gefilterde data'!G158,\"-\"))","v":"Sloterdijk Nieuw-West"},{"$f":"IF('Gefilterde data'!C158=0,\"\",'Gefilterde data'!A158)","v":"BU0363FA03"},"Ontbrekende waarde","Ontbrekende waarde",{"$f":"IF('Gefilterde data'!CL158=0,\"\",'Gefilterde data'!CL158)","v":"."},{"$f":"IF('Gefilterde data'!DX158=0,\"\",'Gefilterde data'!DX158)","v":{"v":78.26086956521739,"d":"78.3"}},null,{"$f":"IF('Gefilterde data'!DZ158=0,\"\",'Gefilterde data'!DZ158)","v":""},{"$f":"IF('Gefilterde data'!DW158=0,\"\",'Gefilterde data'!DW158)","v":387},{"$f":"IF('Gefilterde data'!I158=0,\"\",'Gefilterde data'!I158)","v":115},{"$f":"IF('Gefilterde data'!DI158=0,\"\",'Gefilterde data'!DI158)","v":"."},{"$f":"IF('Gefilterde data'!EA158=0,\"\",'Gefilterde data'!EA158)","v":{"v":4.3478260869565215,"d":"4"}},{"$f":"IF('Gefilterde data'!EA158=0,\"\",'Gefilterde data'!EB158)","v":{"v":4.3478260869565215,"d":"4"}}]
[null,{"$f":"IF('Gefilterde data'!C159=0,\"\",'Gefilterde data'!C159)","v":"Sloterdijk Rhônepark"},{"$f":"IF(B172=\"\",\"\",IF(LEFT(D172,2)=\"BU\",'Gefilterde data'!G159,\"-\"))","v":"Sloterdijk Nieuw-West"},{"$f":"IF('Gefilterde data'!C159=0,\"\",'Gefilterde data'!A159)","v":"BU0363FA04"},"Ontbrekende waarde","Ontbrekende waarde",{"$f":"IF('Gefilterde data'!CL159=0,\"\",'Gefilterde data'!CL159)","v":"."},{"$f":"IF('Gefilterde data'!DX159=0,\"\",'Gefilterde data'!DX159)","v":"Geen inwoners"},null,{"$f":"IF('Gefilterde data'!DZ159=0,\"\",'Gefilterde data'!DZ159)","v":"Geen inwoners"},{"$f":"IF('Gefilterde data'!DW159=0,\"\",'Gefilterde data'!DW159)","v":{"v":1193,"d":"1,193"}},{"$f":"IF('Gefilterde data'!I159=0,\"\",'Gefilterde data'!I159)","v":""},{"$f":"IF('Gefilterde data'!DI159=0,\"\",'Gefilterde data'!DI159)","v":"."},{"$f":"IF('Gefilterde data'!EA159=0,\"\",'Gefilterde data'!EA159)","v":"Geen inwoners"},{"$f":"IF('Gefilterde data'!EA159=0,\"\",'Gefilterde data'!EB159)","v":"Geen inwoners"}]
[null,{"$f":"IF('Gefilterde data'!C160=0,\"\",'Gefilterde data'!C160)","v":"Sloterdijk Donauhoek"},{"$f":"IF(B173=\"\",\"\",IF(LEFT(D173,2)=\"BU\",'Gefilterde data'!G160,\"-\"))","v":"Sloterdijk Nieuw-West"},{"$f":"IF('Gefilterde data'!C160=0,\"\",'Gefilterde data'!A160)","v":"BU0363FA05"},"Ontbrekende waarde","Ontbrekende waarde",{"$f":"IF('Gefilterde data'!CL160=0,\"\",'Gefilterde data'!CL160)","v":"."},{"$f":"IF('Gefilterde data'!DX160=0,\"\",'Gefilterde data'!DX160)","v":{"v":100,"d":"100.0"}},null,{"$f":"IF('Gefilterde data'!DZ160=0,\"\",'Gefilterde data'!DZ160)","v":""},{"$f":"IF('Gefilterde data'!DW160=0,\"\",'Gefilterde data'!DW160)","v":561},{"$f":"IF('Gefilterde data'!I160=0,\"\",'Gefilterde data'!I160)","v":10},{"$f":"IF('Gefilterde data'!DI160=0,\"\",'Gefilterde data'!DI160)","v":"."},{"$f":"IF('Gefilterde data'!EA160=0,\"\",'Gefilterde data'!EA160)","v":""},{"$f":"IF('Gefilterde data'!EA160=0,\"\",'Gefilterde data'!EB160)","v":""}]
[null,{"$f":"IF('Gefilterde data'!C161=0,\"\",'Gefilterde data'!C161)","v":"Bretten-West"},{"$f":"IF(B174=\"\",\"\",IF(LEFT(D174,2)=\"BU\",'Gefilterde data'!G161,\"-\"))","v":"Sloterdijk Nieuw-West"},{"$f":"IF('Gefilterde data'!C161=0,\"\",'Gefilterde data'!A161)","v":"BU0363FA06"},"Ontbrekende waarde","Ontbrekende waarde",{"$f":"IF('Gefilterde data'!CL161=0,\"\",'Gefilterde data'!CL161)","v":"."},{"$f":"IF('Gefilterde data'!DX161=0,\"\",'Gefilterde data'!DX161)","v":"Geen inwoners"},null,{"$f":"IF('Gefilterde data'!DZ161=0,\"\",'Gefilterde data'!DZ161)","v":"Geen inwoners"},{"$f":"IF('Gefilterde data'!DW161=0,\"\",'Gefilterde data'!DW161)","v":205},{"$f":"IF('Gefilterde data'!I161=0,\"\",'Gefilterde data'!I161)","v":""},{"$f":"IF('Gefilterde data'!DI161=0,\"\",'Gefilterde data'!DI161)","v":"."},{"$f":"IF('Gefilterde data'!EA161=0,\"\",'Gefilterde data'!EA161)","v":"Geen inwoners"},{"$f":"IF('Gefilterde data'!EA161=0,\"\",'Gefilterde data'!EB161)","v":"Geen inwoners"}]
[null,{"$f":"IF('Gefilterde data'!C162=0,\"\",'Gefilterde data'!C162)","v":"Bretten-Oost"},{"$f":"IF(B175=\"\",\"\",IF(LEFT(D175,2)=\"BU\",'Gefilterde data'!G162,\"-\"))","v":"Sloterdijk Nieuw-West"},{"$f":"IF('Gefilterde data'!C162=0,\"\",'Gefilterde data'!A162)","v":"BU0363FA07"},"Ontbrekende waarde","Ontbrekende waarde",{"$f":"IF('Gefilterde data'!CL162=0,\"\",'Gefilterde data'!CL162)","v":"."},{"$f":"IF('Gefilterde data'!DX162=0,\"\",'Gefilterde data'!DX162)","v":"Geen inwoners"},null,{"$f":"IF('Gefilterde data'!DZ162=0,\"\",'Gefilterde data'!DZ162)","v":"Geen inwoners"},{"$f":"IF('Gefilterde data'!DW162=0,\"\",'Gefilterde data'!DW162)","v":{"v":2416,"d":"2,416"}},{"$f":"IF('Gefilterde data'!I162=0,\"\",'Gefilterde data'!I162)","v":""},{"$f":"IF('Gefilterde data'!DI162=0,\"\",'Gefilterde data'!DI162)","v":"."},{"$f":"IF('Gefilterde data'!EA162=0,\"\",'Gefilterde data'!EA162)","v":"Geen inwoners"},{"$f":"IF('Gefilterde data'!EA162=0,\"\",'Gefilterde data'!EB162)","v":"Geen inwoners"}]
[null,{"$f":"IF('Gefilterde data'!C163=0,\"\",'Gefilterde data'!C163)","v":"Sloterdijk Stationskwartier"},{"$f":"IF(B176=\"\",\"\",IF(LEFT(D176,2)=\"BU\",'Gefilterde data'!G163,\"-\"))","v":"Sloterdijk Nieuw-West"},{"$f":"IF('Gefilterde data'!C163=0,\"\",'Gefilterde data'!A163)","v":"BU0363FA08"},{"v":1.271574839060464,"d":"1.27"},{"v":2.563461695010028,"d":"2.56"},{"$f":"IF('Gefilterde data'!CL163=0,\"\",'Gefilterde data'!CL163)","v":14.6},{"$f":"IF('Gefilterde data'!DX163=0,\"\",'Gefilterde data'!DX163)","v":{"v":87.12871287128714,"d":"87.1"}},null,{"$f":"IF('Gefilterde data'!DZ163=0,\"\",'Gefilterde data'!DZ163)","v":{"v":20.792079207920793,"d":"21"}},{"$f":"IF('Gefilterde data'!DW163=0,\"\",'Gefilterde data'!DW163)","v":{"v":2603,"d":"2,603"}},{"$f":"IF('Gefilterde data'!I163=0,\"\",'Gefilterde data'!I163)","v":{"v":1010,"d":"1,010"}},{"$f":"IF('Gefilterde data'!DI163=0,\"\",'Gefilterde data'!DI163)","v":1.4},{"$f":"IF('Gefilterde data'!EA163=0,\"\",'Gefilterde data'!EA163)","v":{"v":5.9405940594059405,"d":"6"}},{"$f":"IF('Gefilterde data'!EA163=0,\"\",'Gefilterde data'!EB163)","v":{"v":0.49504950495049505,"d":"0"}}]
[null,{"$f":"IF('Gefilterde data'!C164=0,\"\",'Gefilterde data'!C164)","v":"Osdorper Binnenpolder"},{"$f":"IF(B177=\"\",\"\",IF(LEFT(D177,2)=\"BU\",'Gefilterde data'!G164,\"-\"))","v":"Geuzenveld"},{"$f":"IF('Gefilterde data'!C164=0,\"\",'Gefilterde data'!A164)","v":"BU0363FB01"},"Ontbrekende waarde","Ontbrekende waarde",{"$f":"IF('Gefilterde data'!CL164=0,\"\",'Gefilterde data'!CL164)","v":"."},{"$f":"IF('Gefilterde data'!DX164=0,\"\",'Gefilterde data'!DX164)","v":{"v":40,"d":"40.0"}},null,{"$f":"IF('Gefilterde data'!DZ164=0,\"\",'Gefilterde data'!DZ164)","v":""},{"$f":"IF('Gefilterde data'!DW164=0,\"\",'Gefilterde data'!DW164)","v":672},{"$f":"IF('Gefilterde data'!I164=0,\"\",'Gefilterde data'!I164)","v":25},{"$f":"IF('Gefilterde data'!DI164=0,\"\",'Gefilterde data'!DI164)","v":"."},{"$f":"IF('Gefilterde data'!EA164=0,\"\",'Gefilterde data'!EA164)","v":""},{"$f":"IF('Gefilterde data'!EA164=0,\"\",'Gefilterde data'!EB164)","v":""}]
[null,{"$f":"IF('Gefilterde data'!C165=0,\"\",'Gefilterde data'!C165)","v":"De Eendracht"},{"$f":"IF(B178=\"\",\"\",IF(LEFT(D178,2)=\"BU\",'Gefilterde data'!G165,\"-\"))","v":"Geuzenveld"},{"$f":"IF('Gefilterde data'!C165=0,\"\",'Gefilterde data'!A165)","v":"BU0363FB02"},{"v":0.8277114057763275,"d":"0.83"},{"v":1.668644595703285,"d":"1.67"},{"$f":"IF('Gefilterde data'!CL165=0,\"\",'Gefilterde data'!CL165)","v":7.6},{"$f":"IF('Gefilterde data'!DX165=0,\"\",'Gefilterde data'!DX165)","v":{"v":63.91752577319587,"d":"63.9"}},null,{"$f":"IF('Gefilterde data'!DZ165=0,\"\",'Gefilterde data'!DZ165)","v":{"v":0.8247422680412372,"d":"1"}},{"$f":"IF('Gefilterde data'!DW165=0,\"\",'Gefilterde data'!DW165)","v":{"v":1752,"d":"1,752"}},{"$f":"IF('Gefilterde data'!I165=0,\"\",'Gefilterde data'!I165)","v":{"v":2425,"d":"2,425"}},{"$f":"IF('Gefilterde data'!DI165=0,\"\",'Gefilterde data'!DI165)","v":{"v":1,"d":"1.0"}},{"$f":"IF('Gefilterde data'!EA165=0,\"\",'Gefilterde data'!EA165)","v":{"v":19.381443298969074,"d":"19"}},{"$f":"IF('Gefilterde data'!EA165=0,\"\",'Gefilterde data'!EB165)","v":{"v":18.556701030927837,"d":"19"}}]
[null,{"$f":"IF('Gefilterde data'!C166=0,\"\",'Gefilterde data'!C166)","v":"Ruys de Beerenbrouckbuurt"},{"$f":"IF(B179=\"\",\"\",IF(LEFT(D179,2)=\"BU\",'Gefilterde data'!G166,\"-\"))","v":"Geuzenveld"},{"$f":"IF('Gefilterde data'!C166=0,\"\",'Gefilterde data'!A166)","v":"BU0363FB03"},{"v":1.4935804176053709,"d":"1.49"},{"v":3.0110191483321658,"d":"3.01"},{"$f":"IF('Gefilterde data'!CL166=0,\"\",'Gefilterde data'!CL166)","v":22.4},{"$f":"IF('Gefilterde data'!DX166=0,\"\",'Gefilterde data'!DX166)","v":{"v":82.47338247338247,"d":"82.5"}},null,{"$f":"IF('Gefilterde data'!DZ166=0,\"\",'Gefilterde data'!DZ166)","v":{"v":1.3104013104013106,"d":"1"}},{"$f":"IF('Gefilterde data'!DW166=0,\"\",'Gefilterde data'!DW166)","v":{"v":2845,"d":"2,845"}},{"$f":"IF('Gefilterde data'!I166=0,\"\",'Gefilterde data'!I166)","v":{"v":6105,"d":"6,105"}},{"$f":"IF('Gefilterde data'!DI166=0,\"\",'Gefilterde data'!DI166)","v":0.7},{"$f":"IF('Gefilterde data'!EA166=0,\"\",'Gefilterde data'!EA166)","v":{"v":21.785421785421786,"d":"22"}},{"$f":"IF('Gefilterde data'!EA166=0,\"\",'Gefilterde data'!EB166)","v":{"v":11.466011466011466,"d":"11"}}]
[null,{"$f":"IF('Gefilterde data'!C167=0,\"\",'Gefilterde data'!C167)","v":"Eendrachtspark"},{"$f":"IF(B180=\"\",\"\",IF(LEFT(D180,2)=\"BU\",'Gefilterde data'!G167,\"-\"))","v":"Geuzenveld"},{"$f":"IF('Gefilterde data'!C167=0,\"\",'Gefilterde data'!A167)","v":"BU0363FB04"},{"v":1.7340789847378977,"d":"1.73"},{"v":3.4958579840899997,"d":"3.50"},{"$f":"IF('Gefilterde data'!CL167=0,\"\",'Gefilterde data'!CL167)","v":32.5},{"$f":"IF('Gefilterde data'!DX167=0,\"\",'Gefilterde data'!DX167)","v":{"v":71.1864406779661,"d":"71.2"}},null,{"$f":"IF('Gefilterde data'!DZ167=0,\"\",'Gefilterde data'!DZ167)","v":{"v":3.389830508474576,"d":"3"}},{"$f":"IF('Gefilterde data'!DW167=0,\"\",'Gefilterde data'!DW167)","v":{"v":2175,"d":"2,175"}},{"$f":"IF('Gefilterde data'!I167=0,\"\",'Gefilterde data'!I167)","v":295},{"$f":"IF('Gefilterde data'!DI167=0,\"\",'Gefilterde data'!DI167)","v":0.7},{"$f":"IF('Gefilterde data'!EA167=0,\"\",'Gefilterde data'!EA167)","v":{"v":11.864406779661017,"d":"12"}},{"$f":"IF('Gefilterde data'!EA167=0,\"\",'Gefilterde data'!EB167)","v":{"v":6.779661016949152,"d":"7"}}]
[null,{"$f":"IF('Gefilterde data'!C168=0,\"\",'Gefilterde data'!C168)","v":"Van Tijenbuurt"},{"$f":"IF(B181=\"\",\"\",IF(LEFT(D181,2)=\"BU\",'Gefilterde data'!G168,\"-\"))","v":"Geuzenveld"},{"$f":"IF('Gefilterde data'!C168=0,\"\",'Gefilterde data'!A168)","v":"BU0363FB05"},{"v":1.1495507842898327,"d":"1.15"},{"v":2.3174643846940715,"d":"2.32"},{"$f":"IF('Gefilterde data'!CL168=0,\"\",'Gefilterde data'!CL168)","v":13.4},{"$f":"IF('Gefilterde data'!DX168=0,\"\",'Gefilterde data'!DX168)","v":{"v":78.00687285223368,"d":"78.0"}},null,{"$f":"IF('Gefilterde data'!DZ168=0,\"\",'Gefilterde data'!DZ168)","v":{"v":1.718213058419244,"d":"2"}},{"$f":"IF('Gefilterde data'!DW168=0,\"\",'Gefilterde data'!DW168)","v":{"v":2657,"d":"2,657"}},{"$f":"IF('Gefilterde data'!I168=0,\"\",'Gefilterde data'!I168)","v":{"v":2910,"d":"2,910"}},{"$f":"IF('Gefilterde data'!DI168=0,\"\",'Gefilterde data'!DI168)","v":0.9},{"$f":"IF('Gefilterde data'!EA168=0,\"\",'Gefilterde data'!EA168)","v":{"v":23.02405498281787,"d":"23"}},{"$f":"IF('Gefilterde data'!EA168=0,\"\",'Gefilterde data'!EB168)","v":{"v":12.542955326460481,"d":"13"}}]
[null,{"$f":"IF('Gefilterde data'!C169=0,\"\",'Gefilterde data'!C169)","v":"Dudokbuurt"},{"$f":"IF(B182=\"\",\"\",IF(LEFT(D182,2)=\"BU\",'Gefilterde data'!G169,\"-\"))","v":"Geuzenveld"},{"$f":"IF('Gefilterde data'!C169=0,\"\",'Gefilterde data'!A169)","v":"BU0363FB06"},{"v":1.6583071345588236,"d":"1.66"},{"v":3.3431039113233405,"d":"3.34"},{"$f":"IF('Gefilterde data'!CL169=0,\"\",'Gefilterde data'!CL169)","v":26},{"$f":"IF('Gefilterde data'!DX169=0,\"\",'Gefilterde data'!DX169)","v":{"v":87.29582577132487,"d":"87.3"}},null,{"$f":"IF('Gefilterde data'!DZ169=0,\"\",'Gefilterde data'!DZ169)","v":{"v":1.8148820326678767,"d":"2"}},{"$f":"IF('Gefilterde data'!DW169=0,\"\",'Gefilterde data'!DW169)","v":{"v":2906,"d":"2,906"}},{"$f":"IF('Gefilterde data'!I169=0,\"\",'Gefilterde data'!I169)","v":{"v":2755,"d":"2,755"}},{"$f":"IF('Gefilterde data'!DI169=0,\"\",'Gefilterde data'!DI169)","v":0.6},{"$f":"IF('Gefilterde data'!EA169=0,\"\",'Gefilterde data'!EA169)","v":{"v":23.41197822141561,"d":"23"}},{"$f":"IF('Gefilterde data'!EA169=0,\"\",'Gefilterde data'!EB169)","v":{"v":8.166969147005444,"d":"8"}}]
[null,{"$f":"IF('Gefilterde data'!C170=0,\"\",'Gefilterde data'!C170)","v":"Bakemabuurt"},{"$f":"IF(B183=\"\",\"\",IF(LEFT(D183,2)=\"BU\",'Gefilterde data'!G170,\"-\"))","v":"Geuzenveld"},{"$f":"IF('Gefilterde data'!C170=0,\"\",'Gefilterde data'!A170)","v":"BU0363FB07"},{"v":1.449799368901029,"d":"1.45"},{"v":2.9227576965690325,"d":"2.92"},{"$f":"IF('Gefilterde data'!CL170=0,\"\",'Gefilterde data'!CL170)","v":20.5},{"$f":"IF('Gefilterde data'!DX170=0,\"\",'Gefilterde data'!DX170)","v":{"v":84.76027397260275,"d":"84.8"}},null,{"$f":"IF('Gefilterde data'!DZ170=0,\"\",'Gefilterde data'!DZ170)","v":{"v":2.3972602739726026,"d":"2"}},{"$f":"IF('Gefilterde data'!DW170=0,\"\",'Gefilterde data'!DW170)","v":{"v":3375,"d":"3,375"}},{"$f":"IF('Gefilterde data'!I170=0,\"\",'Gefilterde data'!I170)","v":{"v":2920,"d":"2,920"}},{"$f":"IF('Gefilterde data'!DI170=0,\"\",'Gefilterde data'!DI170)","v":0.7},{"$f":"IF('Gefilterde data'!EA170=0,\"\",'Gefilterde data'!EA170)","v":{"v":20.205479452054796,"d":"20"}},{"$f":"IF('Gefilterde data'!EA170=0,\"\",'Gefilterde data'!EB170)","v":{"v":9.075342465753424,"d":"9"}}]
[null,{"$f":"IF('Gefilterde data'!C171=0,\"\",'Gefilterde data'!C171)","v":"Wegener Sleeswijkbuurt"},{"$f":"IF(B184=\"\",\"\",IF(LEFT(D184,2)=\"BU\",'Gefilterde data'!G171,\"-\"))","v":"Geuzenveld"},{"$f":"IF('Gefilterde data'!C171=0,\"\",'Gefilterde data'!A171)","v":"BU0363FB08"},{"v":1.45474816641472,"d":"1.45"},{"v":2.93273434322247,"d":"2.93"},{"$f":"IF('Gefilterde data'!CL171=0,\"\",'Gefilterde data'!CL171)","v":23.4},{"$f":"IF('Gefilterde data'!DX171=0,\"\",'Gefilterde data'!DX171)","v":{"v":74.3421052631579,"d":"74.3"}},null,{"$f":"IF('Gefilterde data'!DZ171=0,\"\",'Gefilterde data'!DZ171)","v":{"v":0.6578947368421052,"d":"1"}},{"$f":"IF('Gefilterde data'!DW171=0,\"\",'Gefilterde data'!DW171)","v":{"v":3337,"d":"3,337"}},{"$f":"IF('Gefilterde data'!I171=0,\"\",'Gefilterde data'!I171)","v":{"v":1520,"d":"1,520"}},{"$f":"IF('Gefilterde data'!DI171=0,\"\",'Gefilterde data'!DI171)","v":0.6},{"$f":"IF('Gefilterde data'!EA171=0,\"\",'Gefilterde data'!EA171)","v":{"v":19.078947368421055,"d":"19"}},{"$f":"IF('Gefilterde data'!EA171=0,\"\",'Gefilterde data'!EB171)","v":{"v":16.447368421052634,"d":"16"}}]
[null,{"$f":"IF('Gefilterde data'!C172=0,\"\",'Gefilterde data'!C172)","v":"Jan de Louterbuurt"},{"$f":"IF(B185=\"\",\"\",IF(LEFT(D185,2)=\"BU\",'Gefilterde data'!G172,\"-\"))","v":"Slotermeer-West"},{"$f":"IF('Gefilterde data'!C172=0,\"\",'Gefilterde data'!A172)","v":"BU0363FC01"},{"v":1.349049858273808,"d":"1.35"},{"v":2.719649312107199,"d":"2.72"},{"$f":"IF('Gefilterde data'!CL172=0,\"\",'Gefilterde data'!CL172)","v":19.3},{"$f":"IF('Gefilterde data'!DX172=0,\"\",'Gefilterde data'!DX172)","v":{"v":78.02037845705968,"d":"78.0"}},null,{"$f":"IF('Gefilterde data'!DZ172=0,\"\",'Gefilterde data'!DZ172)","v":{"v":2.037845705967977,"d":"2"}},{"$f":"IF('Gefilterde data'!DW172=0,\"\",'Gefilterde data'!DW172)","v":{"v":3535,"d":"3,535"}},{"$f":"IF('Gefilterde data'!I172=0,\"\",'Gefilterde data'!I172)","v":{"v":3435,"d":"3,435"}},{"$f":"IF('Gefilterde data'!DI172=0,\"\",'Gefilterde data'!DI172)","v":0.5},{"$f":"IF('Gefilterde data'!EA172=0,\"\",'Gefilterde data'!EA172)","v":{"v":15.72052401746725,"d":"16"}},{"$f":"IF('Gefilterde data'!EA172=0,\"\",'Gefilterde data'!EB172)","v":{"v":13.828238719068414,"d":"14"}}]
[null,{"$f":"IF('Gefilterde data'!C173=0,\"\",'Gefilterde data'!C173)","v":"Lodewijk van Deysselbuurt"},{"$f":"IF(B186=\"\",\"\",IF(LEFT(D186,2)=\"BU\",'Gefilterde data'!G173,\"-\"))","v":"Slotermeer-West"},{"$f":"IF('Gefilterde data'!C173=0,\"\",'Gefilterde data'!A173)","v":"BU0363FC02"},{"v":1.6962524704877227,"d":"1.70"},{"v":3.4196007184085544,"d":"3.42"},{"$f":"IF('Gefilterde data'!CL173=0,\"\",'Gefilterde data'!CL173)","v":26.8},{"$f":"IF('Gefilterde data'!DX173=0,\"\",'Gefilterde data'!DX173)","v":{"v":88.51744186046511,"d":"88.5"}},null,{"$f":"IF('Gefilterde data'!DZ173=0,\"\",'Gefilterde data'!DZ173)","v":{"v":1.744186046511628,"d":"2"}},{"$f":"IF('Gefilterde data'!DW173=0,\"\",'Gefilterde data'!DW173)","v":{"v":3767,"d":"3,767"}},{"$f":"IF('Gefilterde data'!I173=0,\"\",'Gefilterde data'!I173)","v":{"v":3440,"d":"3,440"}},{"$f":"IF('Gefilterde data'!DI173=0,\"\",'Gefilterde data'!DI173)","v":0.6},{"$f":"IF('Gefilterde data'!EA173=0,\"\",'Gefilterde data'!EA173)","v":{"v":19.186046511627907,"d":"19"}},{"$f":"IF('Gefilterde data'!EA173=0,\"\",'Gefilterde data'!EB173)","v":{"v":10.465116279069768,"d":"10"}}]
[null,{"$f":"IF('Gefilterde data'!C174=0,\"\",'Gefilterde data'!C174)","v":"Confuciusbuurt"},{"$f":"IF(B187=\"\",\"\",IF(LEFT(D187,2)=\"BU\",'Gefilterde data'!G174,\"-\"))","v":"Slotermeer-West"},{"$f":"IF('Gefilterde data'!C174=0,\"\",'Gefilterde data'!A174)","v":"BU0363FC03"},{"v":1.5286955561010056,"d":"1.53"},{"v":3.081810351243229,"d":"3.08"},{"$f":"IF('Gefilterde data'!CL174=0,\"\",'Gefilterde data'!CL174)","v":24.5},{"$f":"IF('Gefilterde data'!DX174=0,\"\",'Gefilterde data'!DX174)","v":{"v":78.45953002610966,"d":"78.5"}},null,{"$f":"IF('Gefilterde data'!DZ174=0,\"\",'Gefilterde data'!DZ174)","v":{"v":1.8276762402088773,"d":"2"}},{"$f":"IF('Gefilterde data'!DW174=0,\"\",'Gefilterde data'!DW174)","v":{"v":3405,"d":"3,405"}},{"$f":"IF('Gefilterde data'!I174=0,\"\",'Gefilterde data'!I174)","v":{"v":3830,"d":"3,830"}},{"$f":"IF('Gefilterde data'!DI174=0,\"\",'Gefilterde data'!DI174)","v":0.6},{"$f":"IF('Gefilterde data'!EA174=0,\"\",'Gefilterde data'!EA174)","v":{"v":19.5822454308094,"d":"20"}},{"$f":"IF('Gefilterde data'!EA174=0,\"\",'Gefilterde data'!EB174)","v":{"v":10.704960835509137,"d":"11"}}]
[null,{"$f":"IF('Gefilterde data'!C175=0,\"\",'Gefilterde data'!C175)","v":"Arondeusbuurt"},{"$f":"IF(B188=\"\",\"\",IF(LEFT(D188,2)=\"BU\",'Gefilterde data'!G175,\"-\"))","v":"Slotermeer-Noordoost"},{"$f":"IF('Gefilterde data'!C175=0,\"\",'Gefilterde data'!A175)","v":"BU0363FD01"},{"v":1.613962883354706,"d":"1.61"},{"v":3.253707058016893,"d":"3.25"},{"$f":"IF('Gefilterde data'!CL175=0,\"\",'Gefilterde data'!CL175)","v":26.2},{"$f":"IF('Gefilterde data'!DX175=0,\"\",'Gefilterde data'!DX175)","v":{"v":81.5742397137746,"d":"81.6"}},null,{"$f":"IF('Gefilterde data'!DZ175=0,\"\",'Gefilterde data'!DZ175)","v":{"v":1.4311270125223614,"d":"1"}},{"$f":"IF('Gefilterde data'!DW175=0,\"\",'Gefilterde data'!DW175)","v":{"v":3308,"d":"3,308"}},{"$f":"IF('Gefilterde data'!I175=0,\"\",'Gefilterde data'!I175)","v":{"v":2795,"d":"2,795"}},{"$f":"IF('Gefilterde data'!DI175=0,\"\",'Gefilterde data'!DI175)","v":0.5},{"$f":"IF('Gefilterde data'!EA175=0,\"\",'Gefilterde data'!EA175)","v":{"v":23.613595706618963,"d":"24"}},{"$f":"IF('Gefilterde data'!EA175=0,\"\",'Gefilterde data'!EB175)","v":{"v":9.30232558139535,"d":"9"}}]
[null,{"$f":"IF('Gefilterde data'!C176=0,\"\",'Gefilterde data'!C176)","v":"Coronelbuurt"},{"$f":"IF(B189=\"\",\"\",IF(LEFT(D189,2)=\"BU\",'Gefilterde data'!G176,\"-\"))","v":"Slotermeer-Noordoost"},{"$f":"IF('Gefilterde data'!C176=0,\"\",'Gefilterde data'!A176)","v":"BU0363FD02"},{"v":0.7469291314934559,"d":"0.75"},{"v":1.5057896386856207,"d":"1.51"},{"$f":"IF('Gefilterde data'!CL176=0,\"\",'Gefilterde data'!CL176)","v":6.7},{"$f":"IF('Gefilterde data'!DX176=0,\"\",'Gefilterde data'!DX176)","v":{"v":58.27814569536424,"d":"58.3"}},null,{"$f":"IF('Gefilterde data'!DZ176=0,\"\",'Gefilterde data'!DZ176)","v":{"v":4.635761589403973,"d":"5"}},{"$f":"IF('Gefilterde data'!DW176=0,\"\",'Gefilterde data'!DW176)","v":{"v":3489,"d":"3,489"}},{"$f":"IF('Gefilterde data'!I176=0,\"\",'Gefilterde data'!I176)","v":{"v":1510,"d":"1,510"}},{"$f":"IF('Gefilterde data'!DI176=0,\"\",'Gefilterde data'!DI176)","v":0.5},{"$f":"IF('Gefilterde data'!EA176=0,\"\",'Gefilterde data'!EA176)","v":{"v":16.887417218543046,"d":"17"}},{"$f":"IF('Gefilterde data'!EA176=0,\"\",'Gefilterde data'!EB176)","v":{"v":9.271523178807946,"d":"9"}}]
[null,{"$f":"IF('Gefilterde data'!C177=0,\"\",'Gefilterde data'!C177)","v":"Meerwaldtbuurt"},{"$f":"IF(B190=\"\",\"\",IF(LEFT(D190,2)=\"BU\",'Gefilterde data'!G177,\"-\"))","v":"Slotermeer-Noordoost"},{"$f":"IF('Gefilterde data'!C177=0,\"\",'Gefilterde data'!A177)","v":"BU0363FD03"},{"v":1.7754240288754242,"d":"1.78"},{"v":3.5792085142116545,"d":"3.58"},{"$f":"IF('Gefilterde data'!CL177=0,\"\",'Gefilterde data'!CL177)","v":31.9},{"$f":"IF('Gefilterde data'!DX177=0,\"\",'Gefilterde data'!DX177)","v":{"v":78.08564231738035,"d":"78.1"}},null,{"$f":"IF('Gefilterde data'!DZ177=0,\"\",'Gefilterde data'!DZ177)","v":{"v":1.5113350125944585,"d":"2"}},{"$f":"IF('Gefilterde data'!DW177=0,\"\",'Gefilterde data'!DW177)","v":{"v":4705,"d":"4,705"}},{"$f":"IF('Gefilterde data'!I177=0,\"\",'Gefilterde data'!I177)","v":{"v":1985,"d":"1,985"}},{"$f":"IF('Gefilterde data'!DI177=0,\"\",'Gefilterde data'!DI177)","v":0.6},{"$f":"IF('Gefilterde data'!EA177=0,\"\",'Gefilterde data'!EA177)","v":{"v":17.12846347607053,"d":"17"}},{"$f":"IF('Gefilterde data'!EA177=0,\"\",'Gefilterde data'!EB177)","v":{"v":14.105793450881613,"d":"14"}}]
[null,{"$f":"IF('Gefilterde data'!C178=0,\"\",'Gefilterde data'!C178)","v":"Dobbebuurt"},{"$f":"IF(B191=\"\",\"\",IF(LEFT(D191,2)=\"BU\",'Gefilterde data'!G178,\"-\"))","v":"Slotermeer-Noordoost"},{"$f":"IF('Gefilterde data'!C178=0,\"\",'Gefilterde data'!A178)","v":"BU0363FD04"},{"v":1.5031058021845294,"d":"1.50"},{"v":3.0302220750878996,"d":"3.03"},{"$f":"IF('Gefilterde data'!CL178=0,\"\",'Gefilterde data'!CL178)","v":22.5},{"$f":"IF('Gefilterde data'!DX178=0,\"\",'Gefilterde data'!DX178)","v":{"v":83.16151202749141,"d":"83.2"}},null,{"$f":"IF('Gefilterde data'!DZ178=0,\"\",'Gefilterde data'!DZ178)","v":{"v":2.0618556701030926,"d":"2"}},{"$f":"IF('Gefilterde data'!DW178=0,\"\",'Gefilterde data'!DW178)","v":{"v":4428,"d":"4,428"}},{"$f":"IF('Gefilterde data'!I178=0,\"\",'Gefilterde data'!I178)","v":{"v":2910,"d":"2,910"}},{"$f":"IF('Gefilterde data'!DI178=0,\"\",'Gefilterde data'!DI178)","v":0.5},{"$f":"IF('Gefilterde data'!EA178=0,\"\",'Gefilterde data'!EA178)","v":{"v":18.556701030927837,"d":"19"}},{"$f":"IF('Gefilterde data'!EA178=0,\"\",'Gefilterde data'!EB178)","v":{"v":9.621993127147768,"d":"10"}}]
[null,{"$f":"IF('Gefilterde data'!C179=0,\"\",'Gefilterde data'!C179)","v":"Dichtersbuurt"},{"$f":"IF(B192=\"\",\"\",IF(LEFT(D192,2)=\"BU\",'Gefilterde data'!G179,\"-\"))","v":"Slotermeer-Zuidoost"},{"$f":"IF('Gefilterde data'!C179=0,\"\",'Gefilterde data'!A179)","v":"BU0363FE01"},{"v":1.8483386939812654,"d":"1.85"},{"v":3.726202576426203,"d":"3.73"},{"$f":"IF('Gefilterde data'!CL179=0,\"\",'Gefilterde data'!CL179)","v":33.3},{"$f":"IF('Gefilterde data'!DX179=0,\"\",'Gefilterde data'!DX179)","v":{"v":80.95238095238095,"d":"81.0"}},null,{"$f":"IF('Gefilterde data'!DZ179=0,\"\",'Gefilterde data'!DZ179)","v":{"v":0.9523809523809524,"d":"1"}},{"$f":"IF('Gefilterde data'!DW179=0,\"\",'Gefilterde data'!DW179)","v":{"v":4003,"d":"4,003"}},{"$f":"IF('Gefilterde data'!I179=0,\"\",'Gefilterde data'!I179)","v":{"v":1050,"d":"1,050"}},{"$f":"IF('Gefilterde data'!DI179=0,\"\",'Gefilterde data'!DI179)","v":0.6},{"$f":"IF('Gefilterde data'!EA179=0,\"\",'Gefilterde data'!EA179)","v":{"v":11.904761904761903,"d":"12"}},{"$f":"IF('Gefilterde data'!EA179=0,\"\",'Gefilterde data'!EB179)","v":20}]
[null,{"$f":"IF('Gefilterde data'!C180=0,\"\",'Gefilterde data'!C180)","v":"Louis Couperusbuurt"},{"$f":"IF(B193=\"\",\"\",IF(LEFT(D193,2)=\"BU\",'Gefilterde data'!G180,\"-\"))","v":"Slotermeer-Zuidoost"},{"$f":"IF('Gefilterde data'!C180=0,\"\",'Gefilterde data'!A180)","v":"BU0363FE02"},{"v":1.6169295021316334,"d":"1.62"},{"v":3.2596876840600837,"d":"3.26"},{"$f":"IF('Gefilterde data'!CL180=0,\"\",'Gefilterde data'!CL180)","v":27.6},{"$f":"IF('Gefilterde data'!DX180=0,\"\",'Gefilterde data'!DX180)","v":{"v":76.60944206008584,"d":"76.6"}},null,{"$f":"IF('Gefilterde data'!DZ180=0,\"\",'Gefilterde data'!DZ180)","v":{"v":2.575107296137339,"d":"3"}},{"$f":"IF('Gefilterde data'!DW180=0,\"\",'Gefilterde data'!DW180)","v":{"v":4921,"d":"4,921"}},{"$f":"IF('Gefilterde data'!I180=0,\"\",'Gefilterde data'!I180)","v":{"v":2330,"d":"2,330"}},{"$f":"IF('Gefilterde data'!DI180=0,\"\",'Gefilterde data'!DI180)","v":0.5},{"$f":"IF('Gefilterde data'!EA180=0,\"\",'Gefilterde data'!EA180)","v":{"v":17.59656652360515,"d":"18"}},{"$f":"IF('Gefilterde data'!EA180=0,\"\",'Gefilterde data'!EB180)","v":{"v":9.871244635193133,"d":"10"}}]
[null,{"$f":"IF('Gefilterde data'!C181=0,\"\",'Gefilterde data'!C181)","v":"Noordoever Sloterplas"},{"$f":"IF(B194=\"\",\"\",IF(LEFT(D194,2)=\"BU\",'Gefilterde data'!G181,\"-\"))","v":"Slotermeer-Zuidoost"},{"$f":"IF('Gefilterde data'!C181=0,\"\",'Gefilterde data'!A181)","v":"BU0363FE03"},{"v":1.085391543980262,"d":"1.09"},{"v":2.188121030404323,"d":"2.19"},{"$f":"IF('Gefilterde data'!CL181=0,\"\",'Gefilterde data'!CL181)","v":15.8},{"$f":"IF('Gefilterde data'!DX181=0,\"\",'Gefilterde data'!DX181)","v":{"v":61.74298375184638,"d":"61.7"}},null,{"$f":"IF('Gefilterde data'!DZ181=0,\"\",'Gefilterde data'!DZ181)","v":{"v":3.8404726735598227,"d":"4"}},{"$f":"IF('Gefilterde data'!DW181=0,\"\",'Gefilterde data'!DW181)","v":{"v":3845,"d":"3,845"}},{"$f":"IF('Gefilterde data'!I181=0,\"\",'Gefilterde data'!I181)","v":{"v":3385,"d":"3,385"}},{"$f":"IF('Gefilterde data'!DI181=0,\"\",'Gefilterde data'!DI181)","v":0.5},{"$f":"IF('Gefilterde data'!EA181=0,\"\",'Gefilterde data'!EA181)","v":{"v":16.100443131462335,"d":"16"}},{"$f":"IF('Gefilterde data'!EA181=0,\"\",'Gefilterde data'!EB181)","v":{"v":11.37370753323486,"d":"11"}}]
[null,{"$f":"IF('Gefilterde data'!C182=0,\"\",'Gefilterde data'!C182)","v":"Sloterpark"},{"$f":"IF(B195=\"\",\"\",IF(LEFT(D195,2)=\"BU\",'Gefilterde data'!G182,\"-\"))","v":"Slotermeer-Zuidoost"},{"$f":"IF('Gefilterde data'!C182=0,\"\",'Gefilterde data'!A182)","v":"BU0363FE04"},"Ontbrekende waarde","Ontbrekende waarde",{"$f":"IF('Gefilterde data'!CL182=0,\"\",'Gefilterde data'!CL182)","v":"."},{"$f":"IF('Gefilterde data'!DX182=0,\"\",'Gefilterde data'!DX182)","v":"Geen inwoners"},null,{"$f":"IF('Gefilterde data'!DZ182=0,\"\",'Gefilterde data'!DZ182)","v":"Geen inwoners"},{"$f":"IF('Gefilterde data'!DW182=0,\"\",'Gefilterde data'!DW182)","v":{"v":2742,"d":"2,742"}},{"$f":"IF('Gefilterde data'!I182=0,\"\",'Gefilterde data'!I182)","v":""},{"$f":"IF('Gefilterde data'!DI182=0,\"\",'Gefilterde data'!DI182)","v":"."},{"$f":"IF('Gefilterde data'!EA182=0,\"\",'Gefilterde data'!EA182)","v":"Geen inwoners"},{"$f":"IF('Gefilterde data'!EA182=0,\"\",'Gefilterde data'!EB182)","v":"Geen inwoners"}]
[null,{"$f":"IF('Gefilterde data'!C183=0,\"\",'Gefilterde data'!C183)","v":"Osdorper Bovenpolder"},{"$f":"IF(B196=\"\",\"\",IF(LEFT(D196,2)=\"BU\",'Gefilterde data'!G183,\"-\"))","v":"Lutkemeer/Ookmeer"},{"$f":"IF('Gefilterde data'!C183=0,\"\",'Gefilterde data'!A183)","v":"BU0363FF01"},{"v":0.8008474504079829,"d":"0.80"},{"v":1.6144875626700637,"d":"1.61"},{"$f":"IF('Gefilterde data'!CL183=0,\"\",'Gefilterde data'!CL183)","v":15.7},{"$f":"IF('Gefilterde data'!DX183=0,\"\",'Gefilterde data'!DX183)","v":{"v":30.263157894736842,"d":"30.3"}},null,{"$f":"IF('Gefilterde data'!DZ183=0,\"\",'Gefilterde data'!DZ183)","v":{"v":1.3157894736842104,"d":"1"}},{"$f":"IF('Gefilterde data'!DW183=0,\"\",'Gefilterde data'!DW183)","v":{"v":1034,"d":"1,034"}},{"$f":"IF('Gefilterde data'!I183=0,\"\",'Gefilterde data'!I183)","v":760},{"$f":"IF('Gefilterde data'!DI183=0,\"\",'Gefilterde data'!DI183)","v":1.3},{"$f":"IF('Gefilterde data'!EA183=0,\"\",'Gefilterde data'!EA183)","v":{"v":13.157894736842104,"d":"13"}},{"$f":"IF('Gefilterde data'!EA183=0,\"\",'Gefilterde data'!EB183)","v":{"v":22.36842105263158,"d":"22"}}]
[null,{"$f":"IF('Gefilterde data'!C184=0,\"\",'Gefilterde data'!C184)","v":"Ookmeer"},{"$f":"IF(B197=\"\",\"\",IF(LEFT(D197,2)=\"BU\",'Gefilterde data'!G184,\"-\"))","v":"Lutkemeer/Ookmeer"},{"$f":"IF('Gefilterde data'!C184=0,\"\",'Gefilterde data'!A184)","v":"BU0363FF02"},"Ontbrekende waarde","Ontbrekende waarde",{"$f":"IF('Gefilterde data'!CL184=0,\"\",'Gefilterde data'!CL184)","v":"."},{"$f":"IF('Gefilterde data'!DX184=0,\"\",'Gefilterde data'!DX184)","v":{"v":100,"d":"100.0"}},null,{"$f":"IF('Gefilterde data'!DZ184=0,\"\",'Gefilterde data'!DZ184)","v":""},{"$f":"IF('Gefilterde data'!DW184=0,\"\",'Gefilterde data'!DW184)","v":{"v":2601,"d":"2,601"}},{"$f":"IF('Gefilterde data'!I184=0,\"\",'Gefilterde data'!I184)","v":420},{"$f":"IF('Gefilterde data'!DI184=0,\"\",'Gefilterde data'!DI184)","v":"."},{"$f":"IF('Gefilterde data'!EA184=0,\"\",'Gefilterde data'!EA184)","v":{"v":11.904761904761903,"d":"12"}},{"$f":"IF('Gefilterde data'!EA184=0,\"\",'Gefilterde data'!EB184)","v":{"v":2.380952380952381,"d":"2"}}]
[null,{"$f":"IF('Gefilterde data'!C185=0,\"\",'Gefilterde data'!C185)","v":"Bedrijvenpark Lutkemeer"},{"$f":"IF(B198=\"\",\"\",IF(LEFT(D198,2)=\"BU\",'Gefilterde data'!G185,\"-\"))","v":"Lutkemeer/Ookmeer"},{"$f":"IF('Gefilterde data'!C185=0,\"\",'Gefilterde data'!A185)","v":"BU0363FF03"},"Ontbrekende waarde","Ontbrekende waarde",{"$f":"IF('Gefilterde data'!CL185=0,\"\",'Gefilterde data'!CL185)","v":"."},{"$f":"IF('Gefilterde data'!DX185=0,\"\",'Gefilterde data'!DX185)","v":{"v":28.57142857142857,"d":"28.6"}},null,{"$f":"IF('Gefilterde data'!DZ185=0,\"\",'Gefilterde data'!DZ185)","v":""},{"$f":"IF('Gefilterde data'!DW185=0,\"\",'Gefilterde data'!DW185)","v":{"v":1004,"d":"1,004"}},{"$f":"IF('Gefilterde data'!I185=0,\"\",'Gefilterde data'!I185)","v":70},{"$f":"IF('Gefilterde data'!DI185=0,\"\",'Gefilterde data'!DI185)","v":"."},{"$f":"IF('Gefilterde data'!EA185=0,\"\",'Gefilterde data'!EA185)","v":{"v":14.285714285714285,"d":"14"}},{"$f":"IF('Gefilterde data'!EA185=0,\"\",'Gefilterde data'!EB185)","v":{"v":14.285714285714285,"d":"14"}}]
[null,{"$f":"IF('Gefilterde data'!C186=0,\"\",'Gefilterde data'!C186)","v":"Middelveldsche Akerpolder"},{"$f":"IF(B199=\"\",\"\",IF(LEFT(D199,2)=\"BU\",'Gefilterde data'!G186,\"-\"))","v":"De Aker"},{"$f":"IF('Gefilterde data'!C186=0,\"\",'Gefilterde data'!A186)","v":"BU0363FG01"},{"v":0.9469330363359496,"d":"0.95"},{"v":1.9089922919364404,"d":"1.91"},{"$f":"IF('Gefilterde data'!CL186=0,\"\",'Gefilterde data'!CL186)","v":11.8},{"$f":"IF('Gefilterde data'!DX186=0,\"\",'Gefilterde data'!DX186)","v":{"v":61.375,"d":"61.4"}},null,{"$f":"IF('Gefilterde data'!DZ186=0,\"\",'Gefilterde data'!DZ186)","v":{"v":1.25,"d":"1"}},{"$f":"IF('Gefilterde data'!DW186=0,\"\",'Gefilterde data'!DW186)","v":{"v":3264,"d":"3,264"}},{"$f":"IF('Gefilterde data'!I186=0,\"\",'Gefilterde data'!I186)","v":{"v":4000,"d":"4,000"}},{"$f":"IF('Gefilterde data'!DI186=0,\"\",'Gefilterde data'!DI186)","v":0.9},{"$f":"IF('Gefilterde data'!EA186=0,\"\",'Gefilterde data'!EA186)","v":{"v":21.5,"d":"22"}},{"$f":"IF('Gefilterde data'!EA186=0,\"\",'Gefilterde data'!EB186)","v":{"v":17.5,"d":"18"}}]
[null,{"$f":"IF('Gefilterde data'!C187=0,\"\",'Gefilterde data'!C187)","v":"De Aker-West"},{"$f":"IF(B200=\"\",\"\",IF(LEFT(D200,2)=\"BU\",'Gefilterde data'!G187,\"-\"))","v":"De Aker"},{"$f":"IF('Gefilterde data'!C187=0,\"\",'Gefilterde data'!A187)","v":"BU0363FG02"},{"v":0.9151262334232823,"d":"0.92"},{"v":1.8448706072327696,"d":"1.84"},{"$f":"IF('Gefilterde data'!CL187=0,\"\",'Gefilterde data'!CL187)","v":10.8},{"$f":"IF('Gefilterde data'!DX187=0,\"\",'Gefilterde data'!DX187)","v":{"v":61.59737417943107,"d":"61.6"}},null,{"$f":"IF('Gefilterde data'!DZ187=0,\"\",'Gefilterde data'!DZ187)","v":{"v":2.4070021881838075,"d":"2"}},{"$f":"IF('Gefilterde data'!DW187=0,\"\",'Gefilterde data'!DW187)","v":{"v":2789,"d":"2,789"}},{"$f":"IF('Gefilterde data'!I187=0,\"\",'Gefilterde data'!I187)","v":{"v":4570,"d":"4,570"}},{"$f":"IF('Gefilterde data'!DI187=0,\"\",'Gefilterde data'!DI187)","v":0.9},{"$f":"IF('Gefilterde data'!EA187=0,\"\",'Gefilterde data'!EA187)","v":{"v":15.317286652078774,"d":"15"}},{"$f":"IF('Gefilterde data'!EA187=0,\"\",'Gefilterde data'!EB187)","v":{"v":14.00437636761488,"d":"14"}}]
[null,{"$f":"IF('Gefilterde data'!C188=0,\"\",'Gefilterde data'!C188)","v":"De Aker-Oost"},{"$f":"IF(B201=\"\",\"\",IF(LEFT(D201,2)=\"BU\",'Gefilterde data'!G188,\"-\"))","v":"De Aker"},{"$f":"IF('Gefilterde data'!C188=0,\"\",'Gefilterde data'!A188)","v":"BU0363FG03"},{"v":0.8423234094459544,"d":"0.84"},{"v":1.6981020138149163,"d":"1.70"},{"$f":"IF('Gefilterde data'!CL188=0,\"\",'Gefilterde data'!CL188)","v":8.5},{"$f":"IF('Gefilterde data'!DX188=0,\"\",'Gefilterde data'!DX188)","v":{"v":62.14833759590793,"d":"62.1"}},null,{"$f":"IF('Gefilterde data'!DZ188=0,\"\",'Gefilterde data'!DZ188)","v":{"v":2.898550724637681,"d":"3"}},{"$f":"IF('Gefilterde data'!DW188=0,\"\",'Gefilterde data'!DW188)","v":{"v":3588,"d":"3,588"}},{"$f":"IF('Gefilterde data'!I188=0,\"\",'Gefilterde data'!I188)","v":{"v":5865,"d":"5,865"}},{"$f":"IF('Gefilterde data'!DI188=0,\"\",'Gefilterde data'!DI188)","v":{"v":1,"d":"1.0"}},{"$f":"IF('Gefilterde data'!EA188=0,\"\",'Gefilterde data'!EA188)","v":{"v":15.686274509803921,"d":"16"}},{"$f":"IF('Gefilterde data'!EA188=0,\"\",'Gefilterde data'!EB188)","v":{"v":11.935208866155158,"d":"12"}}]
[null,{"$f":"IF('Gefilterde data'!C189=0,\"\",'Gefilterde data'!C189)","v":"Bedrijvencentrum Osdorp"},{"$f":"IF(B202=\"\",\"\",IF(LEFT(D202,2)=\"BU\",'Gefilterde data'!G189,\"-\"))","v":"De Punt"},{"$f":"IF('Gefilterde data'!C189=0,\"\",'Gefilterde data'!A189)","v":"BU0363FH01"},"Ontbrekende waarde","Ontbrekende waarde",{"$f":"IF('Gefilterde data'!CL189=0,\"\",'Gefilterde data'!CL189)","v":"."},{"$f":"IF('Gefilterde data'!DX189=0,\"\",'Gefilterde data'!DX189)","v":{"v":65.21739130434783,"d":"65.2"}},null,{"$f":"IF('Gefilterde data'!DZ189=0,\"\",'Gefilterde data'!DZ189)","v":""},{"$f":"IF('Gefilterde data'!DW189=0,\"\",'Gefilterde data'!DW189)","v":{"v":2741,"d":"2,741"}},{"$f":"IF('Gefilterde data'!I189=0,\"\",'Gefilterde data'!I189)","v":115},{"$f":"IF('Gefilterde data'!DI189=0,\"\",'Gefilterde data'!DI189)","v":"."},{"$f":"IF('Gefilterde data'!EA189=0,\"\",'Gefilterde data'!EA189)","v":""},{"$f":"IF('Gefilterde data'!EA189=0,\"\",'Gefilterde data'!EB189)","v":""}]
[null,{"$f":"IF('Gefilterde data'!C190=0,\"\",'Gefilterde data'!C190)","v":"Dijkgraafpleinbuurt"},{"$f":"IF(B203=\"\",\"\",IF(LEFT(D203,2)=\"BU\",'Gefilterde data'!G190,\"-\"))","v":"De Punt"},{"$f":"IF('Gefilterde data'!C190=0,\"\",'Gefilterde data'!A190)","v":"BU0363FH02"},{"v":1.2545603090469242,"d":"1.25"},{"v":2.5291608464807074,"d":"2.53"},{"$f":"IF('Gefilterde data'!CL190=0,\"\",'Gefilterde data'!CL190)","v":17.1},{"$f":"IF('Gefilterde data'!DX190=0,\"\",'Gefilterde data'!DX190)","v":{"v":75.76489533011272,"d":"75.8"}},null,{"$f":"IF('Gefilterde data'!DZ190=0,\"\",'Gefilterde data'!DZ190)","v":{"v":2.254428341384863,"d":"2"}},{"$f":"IF('Gefilterde data'!DW190=0,\"\",'Gefilterde data'!DW190)","v":{"v":3915,"d":"3,915"}},{"$f":"IF('Gefilterde data'!I190=0,\"\",'Gefilterde data'!I190)","v":{"v":6210,"d":"6,210"}},{"$f":"IF('Gefilterde data'!DI190=0,\"\",'Gefilterde data'!DI190)","v":0.6},{"$f":"IF('Gefilterde data'!EA190=0,\"\",'Gefilterde data'!EA190)","v":{"v":17.47181964573269,"d":"17"}},{"$f":"IF('Gefilterde data'!EA190=0,\"\",'Gefilterde data'!EB190)","v":{"v":12.88244766505636,"d":"13"}}]
[null,{"$f":"IF('Gefilterde data'!C191=0,\"\",'Gefilterde data'!C191)","v":"Reimerswaal"},{"$f":"IF(B204=\"\",\"\",IF(LEFT(D204,2)=\"BU\",'Gefilterde data'!G191,\"-\"))","v":"Osdorp-Midden"},{"$f":"IF('Gefilterde data'!C191=0,\"\",'Gefilterde data'!A191)","v":"BU0363FJ01"},{"v":1.6921700054881825,"d":"1.69"},{"v":3.4113705754975223,"d":"3.41"},{"$f":"IF('Gefilterde data'!CL191=0,\"\",'Gefilterde data'!CL191)","v":28.6},{"$f":"IF('Gefilterde data'!DX191=0,\"\",'Gefilterde data'!DX191)","v":{"v":81.25,"d":"81.3"}},null,{"$f":"IF('Gefilterde data'!DZ191=0,\"\",'Gefilterde data'!DZ191)","v":{"v":1.4285714285714286,"d":"1"}},{"$f":"IF('Gefilterde data'!DW191=0,\"\",'Gefilterde data'!DW191)","v":{"v":3317,"d":"3,317"}},{"$f":"IF('Gefilterde data'!I191=0,\"\",'Gefilterde data'!I191)","v":{"v":2800,"d":"2,800"}},{"$f":"IF('Gefilterde data'!DI191=0,\"\",'Gefilterde data'!DI191)","v":0.7},{"$f":"IF('Gefilterde data'!EA191=0,\"\",'Gefilterde data'!EA191)","v":{"v":18.571428571428573,"d":"19"}},{"$f":"IF('Gefilterde data'!EA191=0,\"\",'Gefilterde data'!EB191)","v":{"v":20.17857142857143,"d":"20"}}]
[null,{"$f":"IF('Gefilterde data'!C192=0,\"\",'Gefilterde data'!C192)","v":"Botteskerkbuurt"},{"$f":"IF(B205=\"\",\"\",IF(LEFT(D205,2)=\"BU\",'Gefilterde data'!G192,\"-\"))","v":"Osdorp-Midden"},{"$f":"IF('Gefilterde data'!C192=0,\"\",'Gefilterde data'!A192)","v":"BU0363FJ02"},{"v":1.5269703678742663,"d":"1.53"},{"v":3.078332416795268,"d":"3.08"},{"$f":"IF('Gefilterde data'!CL192=0,\"\",'Gefilterde data'!CL192)","v":23.6},{"$f":"IF('Gefilterde data'!DX192=0,\"\",'Gefilterde data'!DX192)","v":{"v":81.67155425219941,"d":"81.7"}},null,{"$f":"IF('Gefilterde data'!DZ192=0,\"\",'Gefilterde data'!DZ192)","v":{"v":1.466275659824047,"d":"1"}},{"$f":"IF('Gefilterde data'!DW192=0,\"\",'Gefilterde data'!DW192)","v":{"v":4629,"d":"4,629"}},{"$f":"IF('Gefilterde data'!I192=0,\"\",'Gefilterde data'!I192)","v":{"v":3410,"d":"3,410"}},{"$f":"IF('Gefilterde data'!DI192=0,\"\",'Gefilterde data'!DI192)","v":0.6},{"$f":"IF('Gefilterde data'!EA192=0,\"\",'Gefilterde data'!EA192)","v":{"v":22.14076246334311,"d":"22"}},{"$f":"IF('Gefilterde data'!EA192=0,\"\",'Gefilterde data'!EB192)","v":{"v":10.997067448680351,"d":"11"}}]
[null,{"$f":"IF('Gefilterde data'!C193=0,\"\",'Gefilterde data'!C193)","v":"Zuidwestkwadrant-Noord"},{"$f":"IF(B206=\"\",\"\",IF(LEFT(D206,2)=\"BU\",'Gefilterde data'!G193,\"-\"))","v":"Osdorp-Midden"},{"$f":"IF('Gefilterde data'!C193=0,\"\",'Gefilterde data'!A193)","v":"BU0363FJ03"},{"v":1.4954808834551139,"d":"1.50"},{"v":3.014850437894399,"d":"3.01"},{"$f":"IF('Gefilterde data'!CL193=0,\"\",'Gefilterde data'!CL193)","v":22.3},{"$f":"IF('Gefilterde data'!DX193=0,\"\",'Gefilterde data'!DX193)","v":{"v":83.06451612903226,"d":"83.1"}},null,{"$f":"IF('Gefilterde data'!DZ193=0,\"\",'Gefilterde data'!DZ193)","v":{"v":2.903225806451613,"d":"3"}},{"$f":"IF('Gefilterde data'!DW193=0,\"\",'Gefilterde data'!DW193)","v":{"v":4989,"d":"4,989"}},{"$f":"IF('Gefilterde data'!I193=0,\"\",'Gefilterde data'!I193)","v":{"v":3100,"d":"3,100"}},{"$f":"IF('Gefilterde data'!DI193=0,\"\",'Gefilterde data'!DI193)","v":0.6},{"$f":"IF('Gefilterde data'!EA193=0,\"\",'Gefilterde data'!EA193)","v":{"v":18.225806451612904,"d":"18"}},{"$f":"IF('Gefilterde data'!EA193=0,\"\",'Gefilterde data'!EB193)","v":{"v":14.032258064516128,"d":"14"}}]
[null,{"$f":"IF('Gefilterde data'!C194=0,\"\",'Gefilterde data'!C194)","v":"Zuidwestkwadrant-Zuid"},{"$f":"IF(B207=\"\",\"\",IF(LEFT(D207,2)=\"BU\",'Gefilterde data'!G194,\"-\"))","v":"Osdorp-Midden"},{"$f":"IF('Gefilterde data'!C194=0,\"\",'Gefilterde data'!A194)","v":"BU0363FJ04"},{"v":1.1683255206155208,"d":"1.17"},{"v":2.355313763217773,"d":"2.36"},{"$f":"IF('Gefilterde data'!CL194=0,\"\",'Gefilterde data'!CL194)","v":13.6},{"$f":"IF('Gefilterde data'!DX194=0,\"\",'Gefilterde data'!DX194)","v":{"v":79.35222672064778,"d":"79.4"}},null,{"$f":"IF('Gefilterde data'!DZ194=0,\"\",'Gefilterde data'!DZ194)","v":{"v":3.2388663967611335,"d":"3"}},{"$f":"IF('Gefilterde data'!DW194=0,\"\",'Gefilterde data'!DW194)","v":{"v":4532,"d":"4,532"}},{"$f":"IF('Gefilterde data'!I194=0,\"\",'Gefilterde data'!I194)","v":{"v":6175,"d":"6,175"}},{"$f":"IF('Gefilterde data'!DI194=0,\"\",'Gefilterde data'!DI194)","v":0.6},{"$f":"IF('Gefilterde data'!EA194=0,\"\",'Gefilterde data'!EA194)","v":{"v":16.842105263157894,"d":"17"}},{"$f":"IF('Gefilterde data'!EA194=0,\"\",'Gefilterde data'!EB194)","v":{"v":8.178137651821862,"d":"8"}}]
[null,{"$f":"IF('Gefilterde data'!C195=0,\"\",'Gefilterde data'!C195)","v":"Wildeman"},{"$f":"IF(B208=\"\",\"\",IF(LEFT(D208,2)=\"BU\",'Gefilterde data'!G195,\"-\"))","v":"Osdorp-Oost"},{"$f":"IF('Gefilterde data'!C195=0,\"\",'Gefilterde data'!A195)","v":"BU0363FK01"},{"v":1.7149194283311953,"d":"1.71"},{"v":3.4572328183244867,"d":"3.46"},{"$f":"IF('Gefilterde data'!CL195=0,\"\",'Gefilterde data'!CL195)","v":30.1},{"$f":"IF('Gefilterde data'!DX195=0,\"\",'Gefilterde data'!DX195)","v":{"v":78.12177502579979,"d":"78.1"}},null,{"$f":"IF('Gefilterde data'!DZ195=0,\"\",'Gefilterde data'!DZ195)","v":{"v":1.6511867905056758,"d":"2"}},{"$f":"IF('Gefilterde data'!DW195=0,\"\",'Gefilterde data'!DW195)","v":{"v":3615,"d":"3,615"}},{"$f":"IF('Gefilterde data'!I195=0,\"\",'Gefilterde data'!I195)","v":{"v":4845,"d":"4,845"}},{"$f":"IF('Gefilterde data'!DI195=0,\"\",'Gefilterde data'!DI195)","v":0.5},{"$f":"IF('Gefilterde data'!EA195=0,\"\",'Gefilterde data'!EA195)","v":{"v":18.369453044375643,"d":"18"}},{"$f":"IF('Gefilterde data'!EA195=0,\"\",'Gefilterde data'!EB195)","v":{"v":18.369453044375643,"d":"18"}}]
[null,{"$f":"IF('Gefilterde data'!C196=0,\"\",'Gefilterde data'!C196)","v":"Meer en Oever"},{"$f":"IF(B209=\"\",\"\",IF(LEFT(D209,2)=\"BU\",'Gefilterde data'!G196,\"-\"))","v":"Osdorp-Oost"},{"$f":"IF('Gefilterde data'!C196=0,\"\",'Gefilterde data'!A196)","v":"BU0363FK02"},{"$f":"IF(G209=\"\",\"\",IF(OR(NOT(ISNUMBER(G209)),NOT(ISNUMBER(H209))),\"Ontbrekende waarde\",F209/F$1))","v":{"v":1.0255302006726148,"d":"1.03"}},{"$f":"IF(G209=\"\",\"\",IF(OR(NOT(ISNUMBER(G209)),NOT(ISNUMBER(H209))),\"Ontbrekende waarde\",((G209/AVERAGE(G$16:G$532)+H209/AVERAGE(H$16:H$532)))))","v":{"v":2.067442124320918,"d":"2.07"}},{"$f":"IF('Gefilterde data'!CL196=0,\"\",'Gefilterde data'!CL196)","v":11.9},{"$f":"IF('Gefilterde data'!DX196=0,\"\",'Gefilterde data'!DX196)","v":{"v":69.79655712050078,"d":"69.8"}},null,{"$f":"IF('Gefilterde data'!DZ196=0,\"\",'Gefilterde data'!DZ196)","v":{"v":2.503912363067293,"d":"3"}},{"$f":"IF('Gefilterde data'!DW196=0,\"\",'Gefilterde data'!DW196)","v":{"v":3077,"d":"3,077"}},{"$f":"IF('Gefilterde data'!I196=0,\"\",'Gefilterde data'!I196)","v":{"v":3195,"d":"3,195"}},{"$f":"IF('Gefilterde data'!DI196=0,\"\",'Gefilterde data'!DI196)","v":0.6},{"$f":"IF('Gefilterde data'!EA196=0,\"\",'Gefilterde data'!EA196)","v":{"v":13.928012519561817,"d":"14"}},{"$f":"IF('Gefilterde data'!EA196=0,\"\",'Gefilterde data'!EB196)","v":{"v":18.779342723004692,"d":"19"}}]
[null,{"$f":"IF('Gefilterde data'!C197=0,\"\",'Gefilterde data'!C197)","v":"Osdorpplein e.o."},{"$f":"IF(B210=\"\",\"\",IF(LEFT(D210,2)=\"BU\",'Gefilterde data'!G197,\"-\"))","v":"Osdorp-Oost"},{"$f":"IF('Gefilterde data'!C197=0,\"\",'Gefilterde data'!A197)","v":"BU0363FK03"},{"v":1.1454222193360957,"d":"1.15"},{"v":2.309141305478313,"d":"2.31"},{"$f":"IF('Gefilterde data'!CL197=0,\"\",'Gefilterde data'!CL197)","v":13.5},{"$f":"IF('Gefilterde data'!DX197=0,\"\",'Gefilterde data'!DX197)","v":{"v":77.1662763466042,"d":"77.2"}},null,{"$f":"IF('Gefilterde data'!DZ197=0,\"\",'Gefilterde data'!DZ197)","v":{"v":3.278688524590164,"d":"3"}},{"$f":"IF('Gefilterde data'!DW197=0,\"\",'Gefilterde data'!DW197)","v":{"v":4728,"d":"4,728"}},{"$f":"IF('Gefilterde data'!I197=0,\"\",'Gefilterde data'!I197)","v":{"v":4270,"d":"4,270"}},{"$f":"IF('Gefilterde data'!DI197=0,\"\",'Gefilterde data'!DI197)","v":0.5},{"$f":"IF('Gefilterde data'!EA197=0,\"\",'Gefilterde data'!EA197)","v":{"v":16.861826697892273,"d":"17"}},{"$f":"IF('Gefilterde data'!EA197=0,\"\",'Gefilterde data'!EB197)","v":{"v":10.304449648711945,"d":"10"}}]
[null,{"$f":"IF('Gefilterde data'!C198=0,\"\",'Gefilterde data'!C198)","v":"Calandlaan/Lelylaan"},{"$f":"IF(B211=\"\",\"\",IF(LEFT(D211,2)=\"BU\",'Gefilterde data'!G198,\"-\"))","v":"Osdorp-Oost"},{"$f":"IF('Gefilterde data'!C198=0,\"\",'Gefilterde data'!A198)","v":"BU0363FK04"},{"v":1.3416404149921142,"d":"1.34"},{"v":2.704712067793679,"d":"2.70"},{"$f":"IF('Gefilterde data'!CL198=0,\"\",'Gefilterde data'!CL198)","v":22.4},{"$f":"IF('Gefilterde data'!DX198=0,\"\",'Gefilterde data'!DX198)","v":{"v":65.46184738955823,"d":"65.5"}},null,{"$f":"IF('Gefilterde data'!DZ198=0,\"\",'Gefilterde data'!DZ198)","v":{"v":1.6064257028112447,"d":"2"}},{"$f":"IF('Gefilterde data'!DW198=0,\"\",'Gefilterde data'!DW198)","v":{"v":4567,"d":"4,567"}},{"$f":"IF('Gefilterde data'!I198=0,\"\",'Gefilterde data'!I198)","v":{"v":1245,"d":"1,245"}},{"$f":"IF('Gefilterde data'!DI198=0,\"\",'Gefilterde data'!DI198)","v":0.6},{"$f":"IF('Gefilterde data'!EA198=0,\"\",'Gefilterde data'!EA198)","v":{"v":14.457831325301203,"d":"14"}},{"$f":"IF('Gefilterde data'!EA198=0,\"\",'Gefilterde data'!EB198)","v":{"v":20.080321285140563,"d":"20"}}]
[null,{"$f":"IF('Gefilterde data'!C199=0,\"\",'Gefilterde data'!C199)","v":"Osdorp-Zuidoost"},{"$f":"IF(B212=\"\",\"\",IF(LEFT(D212,2)=\"BU\",'Gefilterde data'!G199,\"-\"))","v":"Osdorp-Oost"},{"$f":"IF('Gefilterde data'!C199=0,\"\",'Gefilterde data'!A199)","v":"BU0363FK05"},{"v":1.0609844858345894,"d":"1.06"},{"v":2.1389170380616127,"d":"2.14"},{"$f":"IF('Gefilterde data'!CL199=0,\"\",'Gefilterde data'!CL199)","v":16.4},{"$f":"IF('Gefilterde data'!DX199=0,\"\",'Gefilterde data'!DX199)","v":{"v":56.74019607843137,"d":"56.7"}},null,{"$f":"IF('Gefilterde data'!DZ199=0,\"\",'Gefilterde data'!DZ199)","v":{"v":7.352941176470589,"d":"7"}},{"$f":"IF('Gefilterde data'!DW199=0,\"\",'Gefilterde data'!DW199)","v":{"v":4091,"d":"4,091"}},{"$f":"IF('Gefilterde data'!I199=0,\"\",'Gefilterde data'!I199)","v":{"v":4080,"d":"4,080"}},{"$f":"IF('Gefilterde data'!DI199=0,\"\",'Gefilterde data'!DI199)","v":0.5},{"$f":"IF('Gefilterde data'!EA199=0,\"\",'Gefilterde data'!EA199)","v":{"v":13.112745098039216,"d":"13"}},{"$f":"IF('Gefilterde data'!EA199=0,\"\",'Gefilterde data'!EB199)","v":{"v":21.07843137254902,"d":"21"}}]
[null,{"$f":"IF('Gefilterde data'!C200=0,\"\",'Gefilterde data'!C200)","v":"Oostoever Sloterplas"},{"$f":"IF(B213=\"\",\"\",IF(LEFT(D213,2)=\"BU\",'Gefilterde data'!G200,\"-\"))","v":"Slotervaart-Noord"},{"$f":"IF('Gefilterde data'!C200=0,\"\",'Gefilterde data'!A200)","v":"BU0363FL01"},{"v":0.8463229073639993,"d":"0.85"},{"v":1.706164897254601,"d":"1.71"},{"$f":"IF('Gefilterde data'!CL200=0,\"\",'Gefilterde data'!CL200)","v":12.1},{"$f":"IF('Gefilterde data'!DX200=0,\"\",'Gefilterde data'!DX200)","v":{"v":48.97540983606557,"d":"49.0"}},null,{"$f":"IF('Gefilterde data'!DZ200=0,\"\",'Gefilterde data'!DZ200)","v":{"v":3.278688524590164,"d":"3"}},{"$f":"IF('Gefilterde data'!DW200=0,\"\",'Gefilterde data'!DW200)","v":{"v":4172,"d":"4,172"}},{"$f":"IF('Gefilterde data'!I200=0,\"\",'Gefilterde data'!I200)","v":{"v":2440,"d":"2,440"}},{"$f":"IF('Gefilterde data'!DI200=0,\"\",'Gefilterde data'!DI200)","v":0.7},{"$f":"IF('Gefilterde data'!EA200=0,\"\",'Gefilterde data'!EA200)","v":{"v":12.5,"d":"13"}},{"$f":"IF('Gefilterde data'!EA200=0,\"\",'Gefilterde data'!EB200)","v":{"v":24.59016393442623,"d":"25"}}]
[null,{"$f":"IF('Gefilterde data'!C201=0,\"\",'Gefilterde data'!C201)","v":"Emanuel van Meterenbuurt"},{"$f":"IF(B214=\"\",\"\",IF(LEFT(D214,2)=\"BU\",'Gefilterde data'!G201,\"-\"))","v":"Slotervaart-Noord"},{"$f":"IF('Gefilterde data'!C201=0,\"\",'Gefilterde data'!A201)","v":"BU0363FL02"},{"v":1.1062797608828205,"d":"1.11"},{"v":2.23023113062173,"d":"2.23"},{"$f":"IF('Gefilterde data'!CL201=0,\"\",'Gefilterde data'!CL201)","v":17.5},{"$f":"IF('Gefilterde data'!DX201=0,\"\",'Gefilterde data'!DX201)","v":{"v":57.64966740576497,"d":"57.6"}},null,{"$f":"IF('Gefilterde data'!DZ201=0,\"\",'Gefilterde data'!DZ201)","v":{"v":2.6607538802660753,"d":"3"}},{"$f":"IF('Gefilterde data'!DW201=0,\"\",'Gefilterde data'!DW201)","v":{"v":3581,"d":"3,581"}},{"$f":"IF('Gefilterde data'!I201=0,\"\",'Gefilterde data'!I201)","v":{"v":2255,"d":"2,255"}},{"$f":"IF('Gefilterde data'!DI201=0,\"\",'Gefilterde data'!DI201)","v":0.6},{"$f":"IF('Gefilterde data'!EA201=0,\"\",'Gefilterde data'!EA201)","v":{"v":19.733924611973393,"d":"20"}},{"$f":"IF('Gefilterde data'!EA201=0,\"\",'Gefilterde data'!EB201)","v":{"v":17.96008869179601,"d":"18"}}]
[null,{"$f":"IF('Gefilterde data'!C202=0,\"\",'Gefilterde data'!C202)","v":"Jacob Geelbuurt"},{"$f":"IF(B215=\"\",\"\",IF(LEFT(D215,2)=\"BU\",'Gefilterde data'!G202,\"-\"))","v":"Slotervaart-Noord"},{"$f":"IF('Gefilterde data'!C202=0,\"\",'Gefilterde data'!A202)","v":"BU0363FL03"},{"v":1.5040942789025908,"d":"1.50"},{"v":3.0322148183581517,"d":"3.03"},{"$f":"IF('Gefilterde data'!CL202=0,\"\",'Gefilterde data'!CL202)","v":23},{"$f":"IF('Gefilterde data'!DX202=0,\"\",'Gefilterde data'!DX202)","v":{"v":81.38041733547352,"d":"81.4"}},null,{"$f":"IF('Gefilterde data'!DZ202=0,\"\",'Gefilterde data'!DZ202)","v":{"v":2.247191011235955,"d":"2"}},{"$f":"IF('Gefilterde data'!DW202=0,\"\",'Gefilterde data'!DW202)","v":{"v":4561,"d":"4,561"}},{"$f":"IF('Gefilterde data'!I202=0,\"\",'Gefilterde data'!I202)","v":{"v":3115,"d":"3,115"}},{"$f":"IF('Gefilterde data'!DI202=0,\"\",'Gefilterde data'!DI202)","v":0.5},{"$f":"IF('Gefilterde data'!EA202=0,\"\",'Gefilterde data'!EA202)","v":{"v":21.187800963081862,"d":"21"}},{"$f":"IF('Gefilterde data'!EA202=0,\"\",'Gefilterde data'!EB202)","v":{"v":8.667736757624397,"d":"9"}}]
[null,{"$f":"IF('Gefilterde data'!C203=0,\"\",'Gefilterde data'!C203)","v":"Lucas/Andreasziekenhuis e.o."},{"$f":"IF(B216=\"\",\"\",IF(LEFT(D216,2)=\"BU\",'Gefilterde data'!G203,\"-\"))","v":"Overtoomse Veld"},{"$f":"IF('Gefilterde data'!C203=0,\"\",'Gefilterde data'!A203)","v":"BU0363FM01"},{"v":0.847263578013868,"d":"0.85"},{"v":1.7080612647388305,"d":"1.71"},{"$f":"IF('Gefilterde data'!CL203=0,\"\",'Gefilterde data'!CL203)","v":3.1},{"$f":"IF('Gefilterde data'!DX203=0,\"\",'Gefilterde data'!DX203)","v":{"v":83.13253012048193,"d":"83.1"}},null,{"$f":"IF('Gefilterde data'!DZ203=0,\"\",'Gefilterde data'!DZ203)","v":{"v":24.096385542168676,"d":"24"}},{"$f":"IF('Gefilterde data'!DW203=0,\"\",'Gefilterde data'!DW203)","v":{"v":6954,"d":"6,954"}},{"$f":"IF('Gefilterde data'!I203=0,\"\",'Gefilterde data'!I203)","v":{"v":1245,"d":"1,245"}},{"$f":"IF('Gefilterde data'!DI203=0,\"\",'Gefilterde data'!DI203)","v":0.1},{"$f":"IF('Gefilterde data'!EA203=0,\"\",'Gefilterde data'!EA203)","v":{"v":1.6064257028112447,"d":"2"}},{"$f":"IF('Gefilterde data'!EA203=0,\"\",'Gefilterde data'!EB203)","v":{"v":0.4016064257028112,"d":"0"}}]
[null,{"$f":"IF('Gefilterde data'!C204=0,\"\",'Gefilterde data'!C204)","v":"Overtoomse Veld-Noord"},{"$f":"IF(B217=\"\",\"\",IF(LEFT(D217,2)=\"BU\",'Gefilterde data'!G204,\"-\"))","v":"Overtoomse Veld"},{"$f":"IF('Gefilterde data'!C204=0,\"\",'Gefilterde data'!A204)","v":"BU0363FM02"},{"v":1.3868312295786092,"d":"1.39"},{"v":2.795815570788733,"d":"2.80"},{"$f":"IF('Gefilterde data'!CL204=0,\"\",'Gefilterde data'!CL204)","v":20},{"$f":"IF('Gefilterde data'!DX204=0,\"\",'Gefilterde data'!DX204)","v":{"v":79.60199004975125,"d":"79.6"}},null,{"$f":"IF('Gefilterde data'!DZ204=0,\"\",'Gefilterde data'!DZ204)","v":{"v":2.155887230514096,"d":"2"}},{"$f":"IF('Gefilterde data'!DW204=0,\"\",'Gefilterde data'!DW204)","v":{"v":5509,"d":"5,509"}},{"$f":"IF('Gefilterde data'!I204=0,\"\",'Gefilterde data'!I204)","v":{"v":6030,"d":"6,030"}},{"$f":"IF('Gefilterde data'!DI204=0,\"\",'Gefilterde data'!DI204)","v":0.6},{"$f":"IF('Gefilterde data'!EA204=0,\"\",'Gefilterde data'!EA204)","v":{"v":18.988391376451077,"d":"19"}},{"$f":"IF('Gefilterde data'!EA204=0,\"\",'Gefilterde data'!EB204)","v":{"v":9.12106135986733,"d":"9"}}]
[null,{"$f":"IF('Gefilterde data'!C205=0,\"\",'Gefilterde data'!C205)","v":"Rembrandtpark-Noord"},{"$f":"IF(B218=\"\",\"\",IF(LEFT(D218,2)=\"BU\",'Gefilterde data'!G205,\"-\"))","v":"Overtoomse Veld"},{"$f":"IF('Gefilterde data'!C205=0,\"\",'Gefilterde data'!A205)","v":"BU0363FM03"},{"v":0.6494959811728427,"d":"0.65"},{"v":1.309366950064641,"d":"1.31"},{"$f":"IF('Gefilterde data'!CL205=0,\"\",'Gefilterde data'!CL205)","v":6.2},{"$f":"IF('Gefilterde data'!DX205=0,\"\",'Gefilterde data'!DX205)","v":{"v":49.26108374384236,"d":"49.3"}},null,{"$f":"IF('Gefilterde data'!DZ205=0,\"\",'Gefilterde data'!DZ205)","v":{"v":1.9704433497536946,"d":"2"}},{"$f":"IF('Gefilterde data'!DW205=0,\"\",'Gefilterde data'!DW205)","v":{"v":7000,"d":"7,000"}},{"$f":"IF('Gefilterde data'!I205=0,\"\",'Gefilterde data'!I205)","v":{"v":1015,"d":"1,015"}},{"$f":"IF('Gefilterde data'!DI205=0,\"\",'Gefilterde data'!DI205)","v":0.2},{"$f":"IF('Gefilterde data'!EA205=0,\"\",'Gefilterde data'!EA205)","v":{"v":6.896551724137931,"d":"7"}},{"$f":"IF('Gefilterde data'!EA205=0,\"\",'Gefilterde data'!EB205)","v":{"v":6.403940886699508,"d":"6"}}]
[null,{"$f":"IF('Gefilterde data'!C206=0,\"\",'Gefilterde data'!C206)","v":"Overtoomse Veld-Zuid"},{"$f":"IF(B219=\"\",\"\",IF(LEFT(D219,2)=\"BU\",'Gefilterde data'!G206,\"-\"))","v":"Overtoomse Veld"},{"$f":"IF('Gefilterde data'!C206=0,\"\",'Gefilterde data'!A206)","v":"BU0363FM04"},{"v":0.9673271646283248,"d":"0.97"},{"v":1.9501063224084905,"d":"1.95"},{"$f":"IF('Gefilterde data'!CL206=0,\"\",'Gefilterde data'!CL206)","v":9.9},{"$f":"IF('Gefilterde data'!DX206=0,\"\",'Gefilterde data'!DX206)","v":{"v":70.84708470847085,"d":"70.8"}},null,{"$f":"IF('Gefilterde data'!DZ206=0,\"\",'Gefilterde data'!DZ206)","v":{"v":3.52035203520352,"d":"4"}},{"$f":"IF('Gefilterde data'!DW206=0,\"\",'Gefilterde data'!DW206)","v":{"v":5795,"d":"5,795"}},{"$f":"IF('Gefilterde data'!I206=0,\"\",'Gefilterde data'!I206)","v":{"v":4545,"d":"4,545"}},{"$f":"IF('Gefilterde data'!DI206=0,\"\",'Gefilterde data'!DI206)","v":0.4},{"$f":"IF('Gefilterde data'!EA206=0,\"\",'Gefilterde data'!EA206)","v":{"v":14.74147414741474,"d":"15"}},{"$f":"IF('Gefilterde data'!EA206=0,\"\",'Gefilterde data'!EB206)","v":{"v":7.590759075907591,"d":"8"}}]
[null,{"$f":"IF('Gefilterde data'!C207=0,\"\",'Gefilterde data'!C207)","v":"Rembrandtpark-Zuid"},{"$f":"IF(B220=\"\",\"\",IF(LEFT(D220,2)=\"BU\",'Gefilterde data'!G207,\"-\"))","v":"Overtoomse Veld"},{"$f":"IF('Gefilterde data'!C207=0,\"\",'Gefilterde data'!A207)","v":"BU0363FM05"},{"v":0.6832231882004756,"d":"0.68"},{"v":1.3773601193529637,"d":"1.38"},{"$f":"IF('Gefilterde data'!CL207=0,\"\",'Gefilterde data'!CL207)","v":4.6},{"$f":"IF('Gefilterde data'!DX207=0,\"\",'Gefilterde data'!DX207)","v":{"v":59.09090909090909,"d":"59.1"}},null,{"$f":"IF('Gefilterde data'!DZ207=0,\"\",'Gefilterde data'!DZ207)","v":{"v":3.4090909090909087,"d":"3"}},{"$f":"IF('Gefilterde data'!DW207=0,\"\",'Gefilterde data'!DW207)","v":{"v":6079,"d":"6,079"}},{"$f":"IF('Gefilterde data'!I207=0,\"\",'Gefilterde data'!I207)","v":880},{"$f":"IF('Gefilterde data'!DI207=0,\"\",'Gefilterde data'!DI207)","v":0.4},{"$f":"IF('Gefilterde data'!EA207=0,\"\",'Gefilterde data'!EA207)","v":{"v":9.659090909090908,"d":"10"}},{"$f":"IF('Gefilterde data'!EA207=0,\"\",'Gefilterde data'!EB207)","v":{"v":9.090909090909092,"d":"9"}}]
[null,{"$f":"IF('Gefilterde data'!C208=0,\"\",'Gefilterde data'!C208)","v":"Johan Jongkindbuurt"},{"$f":"IF(B221=\"\",\"\",IF(LEFT(D221,2)=\"BU\",'Gefilterde data'!G208,\"-\"))","v":"Overtoomse Veld"},{"$f":"IF('Gefilterde data'!C208=0,\"\",'Gefilterde data'!A208)","v":"BU0363FM06"},{"v":2.013824351711103,"d":"2.01"},{"v":4.0598173442187315,"d":"4.06"},{"$f":"IF('Gefilterde data'!CL208=0,\"\",'Gefilterde data'!CL208)","v":35.1},{"$f":"IF('Gefilterde data'!DX208=0,\"\",'Gefilterde data'!DX208)","v":{"v":92.67015706806284,"d":"92.7"}},null,{"$f":"IF('Gefilterde data'!DZ208=0,\"\",'Gefilterde data'!DZ208)","v":{"v":1.0471204188481675,"d":"1"}},{"$f":"IF('Gefilterde data'!DW208=0,\"\",'Gefilterde data'!DW208)","v":{"v":6705,"d":"6,705"}},{"$f":"IF('Gefilterde data'!I208=0,\"\",'Gefilterde data'!I208)","v":955},{"$f":"IF('Gefilterde data'!DI208=0,\"\",'Gefilterde data'!DI208)","v":0.3},{"$f":"IF('Gefilterde data'!EA208=0,\"\",'Gefilterde data'!EA208)","v":{"v":23.56020942408377,"d":"24"}},{"$f":"IF('Gefilterde data'!EA208=0,\"\",'Gefilterde data'!EB208)","v":{"v":5.2356020942408374,"d":"5"}}]
[null,{"$f":"IF('Gefilterde data'!C209=0,\"\",'Gefilterde data'!C209)","v":"Louis Crispijnbuurt"},{"$f":"IF(B222=\"\",\"\",IF(LEFT(D222,2)=\"BU\",'Gefilterde data'!G209,\"-\"))","v":"Slotervaart-Zuid"},{"$f":"IF('Gefilterde data'!C209=0,\"\",'Gefilterde data'!A209)","v":"BU0363FN01"},{"v":1.147020022210117,"d":"1.15"},{"v":2.3123624343791938,"d":"2.31"},{"$f":"IF('Gefilterde data'!CL209=0,\"\",'Gefilterde data'!CL209)","v":16.2},{"$f":"IF('Gefilterde data'!DX209=0,\"\",'Gefilterde data'!DX209)","v":{"v":67.12962962962963,"d":"67.1"}},null,{"$f":"IF('Gefilterde data'!DZ209=0,\"\",'Gefilterde data'!DZ209)","v":{"v":4.938271604938271,"d":"5"}},{"$f":"IF('Gefilterde data'!DW209=0,\"\",'Gefilterde data'!DW209)","v":{"v":3977,"d":"3,977"}},{"$f":"IF('Gefilterde data'!I209=0,\"\",'Gefilterde data'!I209)","v":{"v":3240,"d":"3,240"}},{"$f":"IF('Gefilterde data'!DI209=0,\"\",'Gefilterde data'!DI209)","v":0.5},{"$f":"IF('Gefilterde data'!EA209=0,\"\",'Gefilterde data'!EA209)","v":{"v":15.58641975308642,"d":"16"}},{"$f":"IF('Gefilterde data'!EA209=0,\"\",'Gefilterde data'!EB209)","v":{"v":19.290123456790123,"d":"19"}}]
[null,{"$f":"IF('Gefilterde data'!C210=0,\"\",'Gefilterde data'!C210)","v":"Jacques Veldmanbuurt"},{"$f":"IF(B223=\"\",\"\",IF(LEFT(D223,2)=\"BU\",'Gefilterde data'!G210,\"-\"))","v":"Slotervaart-Zuid"},{"$f":"IF('Gefilterde data'!C210=0,\"\",'Gefilterde data'!A210)","v":"BU0363FN02"},{"v":1.1115384143395186,"d":"1.11"},{"v":2.240832438770874,"d":"2.24"},{"$f":"IF('Gefilterde data'!CL210=0,\"\",'Gefilterde data'!CL210)","v":14.3},{"$f":"IF('Gefilterde data'!DX210=0,\"\",'Gefilterde data'!DX210)","v":{"v":70.34574468085107,"d":"70.3"}},null,{"$f":"IF('Gefilterde data'!DZ210=0,\"\",'Gefilterde data'!DZ210)","v":{"v":5.053191489361701,"d":"5"}},{"$f":"IF('Gefilterde data'!DW210=0,\"\",'Gefilterde data'!DW210)","v":{"v":5122,"d":"5,122"}},{"$f":"IF('Gefilterde data'!I210=0,\"\",'Gefilterde data'!I210)","v":{"v":3760,"d":"3,760"}},{"$f":"IF('Gefilterde data'!DI210=0,\"\",'Gefilterde data'!DI210)","v":0.4},{"$f":"IF('Gefilterde data'!EA210=0,\"\",'Gefilterde data'!EA210)","v":{"v":14.095744680851062,"d":"14"}},{"$f":"IF('Gefilterde data'!EA210=0,\"\",'Gefilterde data'!EB210)","v":{"v":11.170212765957446,"d":"11"}}]
[null,{"$f":"IF('Gefilterde data'!C211=0,\"\",'Gefilterde data'!C211)","v":"Medisch Centrum Slotervaart"},{"$f":"IF(B224=\"\",\"\",IF(LEFT(D224,2)=\"BU\",'Gefilterde data'!G211,\"-\"))","v":"Slotervaart-Zuid"},{"$f":"IF('Gefilterde data'!C211=0,\"\",'Gefilterde data'!A211)","v":"BU0363FN03"},{"v":1.4333608935393989,"d":"1.43"},{"v":2.889618159186364,"d":"2.89"},{"$f":"IF('Gefilterde data'!CL211=0,\"\",'Gefilterde data'!CL211)","v":24},{"$f":"IF('Gefilterde data'!DX211=0,\"\",'Gefilterde data'!DX211)","v":{"v":69.6774193548387,"d":"69.7"}},null,{"$f":"IF('Gefilterde data'!DZ211=0,\"\",'Gefilterde data'!DZ211)","v":{"v":25.806451612903224,"d":"26"}},{"$f":"IF('Gefilterde data'!DW211=0,\"\",'Gefilterde data'!DW211)","v":{"v":2536,"d":"2,536"}},{"$f":"IF('Gefilterde data'!I211=0,\"\",'Gefilterde data'!I211)","v":775},{"$f":"IF('Gefilterde data'!DI211=0,\"\",'Gefilterde data'!DI211)","v":0.1},{"$f":"IF('Gefilterde data'!EA211=0,\"\",'Gefilterde data'!EA211)","v":{"v":5.161290322580645,"d":"5"}},{"$f":"IF('Gefilterde data'!EA211=0,\"\",'Gefilterde data'!EB211)","v":{"v":6.451612903225806,"d":"6"}}]
[null,{"$f":"IF('Gefilterde data'!C212=0,\"\",'Gefilterde data'!C212)","v":"Staalmanbuurt"},{"$f":"IF(B225=\"\",\"\",IF(LEFT(D225,2)=\"BU\",'Gefilterde data'!G212,\"-\"))","v":"Slotervaart-Zuid"},{"$f":"IF('Gefilterde data'!C212=0,\"\",'Gefilterde data'!A212)","v":"BU0363FN04"},{"v":1.3872443554884064,"d":"1.39"},{"v":2.7966484218427565,"d":"2.80"},{"$f":"IF('Gefilterde data'!CL212=0,\"\",'Gefilterde data'!CL212)","v":20.8},{"$f":"IF('Gefilterde data'!DX212=0,\"\",'Gefilterde data'!DX212)","v":{"v":76.6214177978884,"d":"76.6"}},null,{"$f":"IF('Gefilterde data'!DZ212=0,\"\",'Gefilterde data'!DZ212)","v":{"v":1.5082956259426847,"d":"2"}},{"$f":"IF('Gefilterde data'!DW212=0,\"\",'Gefilterde data'!DW212)","v":{"v":4859,"d":"4,859"}},{"$f":"IF('Gefilterde data'!I212=0,\"\",'Gefilterde data'!I212)","v":{"v":3315,"d":"3,315"}},{"$f":"IF('Gefilterde data'!DI212=0,\"\",'Gefilterde data'!DI212)","v":0.6},{"$f":"IF('Gefilterde data'!EA212=0,\"\",'Gefilterde data'!EA212)","v":{"v":21.116138763197586,"d":"21"}},{"$f":"IF('Gefilterde data'!EA212=0,\"\",'Gefilterde data'!EB212)","v":{"v":11.312217194570136,"d":"11"}}]
[null,{"$f":"IF('Gefilterde data'!C213=0,\"\",'Gefilterde data'!C213)","v":"Schipluidenbuurt"},{"$f":"IF(B226=\"\",\"\",IF(LEFT(D226,2)=\"BU\",'Gefilterde data'!G213,\"-\"))","v":"Westlandgracht"},{"$f":"IF('Gefilterde data'!C213=0,\"\",'Gefilterde data'!A213)","v":"BU0363FP01"},{"v":1.0849792200933859,"d":"1.08"},{"v":2.18728979620758,"d":"2.19"},{"$f":"IF('Gefilterde data'!CL213=0,\"\",'Gefilterde data'!CL213)","v":11.9},{"$f":"IF('Gefilterde data'!DX213=0,\"\",'Gefilterde data'!DX213)","v":{"v":76.45259938837921,"d":"76.5"}},null,{"$f":"IF('Gefilterde data'!DZ213=0,\"\",'Gefilterde data'!DZ213)","v":{"v":23.853211009174313,"d":"24"}},{"$f":"IF('Gefilterde data'!DW213=0,\"\",'Gefilterde data'!DW213)","v":{"v":5872,"d":"5,872"}},{"$f":"IF('Gefilterde data'!I213=0,\"\",'Gefilterde data'!I213)","v":{"v":1635,"d":"1,635"}},{"$f":"IF('Gefilterde data'!DI213=0,\"\",'Gefilterde data'!DI213)","v":0.1},{"$f":"IF('Gefilterde data'!EA213=0,\"\",'Gefilterde data'!EA213)","v":{"v":4.587155963302752,"d":"5"}},{"$f":"IF('Gefilterde data'!EA213=0,\"\",'Gefilterde data'!EB213)","v":{"v":1.2232415902140672,"d":"1"}}]
[null,{"$f":"IF('Gefilterde data'!C214=0,\"\",'Gefilterde data'!C214)","v":"Koningin Wilhelminaplein"},{"$f":"IF(B227=\"\",\"\",IF(LEFT(D227,2)=\"BU\",'Gefilterde data'!G214,\"-\"))","v":"Westlandgracht"},{"$f":"IF('Gefilterde data'!C214=0,\"\",'Gefilterde data'!A214)","v":"BU0363FP02"},{"v":0.7584938883871544,"d":"0.76"},{"v":1.5291038868119864,"d":"1.53"},{"$f":"IF('Gefilterde data'!CL214=0,\"\",'Gefilterde data'!CL214)","v":3.3},{"$f":"IF('Gefilterde data'!DX214=0,\"\",'Gefilterde data'!DX214)","v":{"v":72.43697478991596,"d":"72.4"}},null,{"$f":"IF('Gefilterde data'!DZ214=0,\"\",'Gefilterde data'!DZ214)","v":{"v":6.050420168067227,"d":"6"}},{"$f":"IF('Gefilterde data'!DW214=0,\"\",'Gefilterde data'!DW214)","v":{"v":6943,"d":"6,943"}},{"$f":"IF('Gefilterde data'!I214=0,\"\",'Gefilterde data'!I214)","v":{"v":2975,"d":"2,975"}},{"$f":"IF('Gefilterde data'!DI214=0,\"\",'Gefilterde data'!DI214)","v":0.3},{"$f":"IF('Gefilterde data'!EA214=0,\"\",'Gefilterde data'!EA214)","v":{"v":8.403361344537815,"d":"8"}},{"$f":"IF('Gefilterde data'!EA214=0,\"\",'Gefilterde data'!EB214)","v":{"v":6.218487394957983,"d":"6"}}]
[null,{"$f":"IF('Gefilterde data'!C215=0,\"\",'Gefilterde data'!C215)","v":"Andreasterrein"},{"$f":"IF(B228=\"\",\"\",IF(LEFT(D228,2)=\"BU\",'Gefilterde data'!G215,\"-\"))","v":"Westlandgracht"},{"$f":"IF('Gefilterde data'!C215=0,\"\",'Gefilterde data'!A215)","v":"BU0363FP03"},{"v":0.9900769968058323,"d":"0.99"},{"v":1.9959693904431153,"d":"2.00"},{"$f":"IF('Gefilterde data'!CL215=0,\"\",'Gefilterde data'!CL215)","v":12.3},{"$f":"IF('Gefilterde data'!DX215=0,\"\",'Gefilterde data'!DX215)","v":{"v":64.31372549019608,"d":"64.3"}},null,{"$f":"IF('Gefilterde data'!DZ215=0,\"\",'Gefilterde data'!DZ215)","v":{"v":1.5686274509803921,"d":"2"}},{"$f":"IF('Gefilterde data'!DW215=0,\"\",'Gefilterde data'!DW215)","v":{"v":7863,"d":"7,863"}},{"$f":"IF('Gefilterde data'!I215=0,\"\",'Gefilterde data'!I215)","v":{"v":1275,"d":"1,275"}},{"$f":"IF('Gefilterde data'!DI215=0,\"\",'Gefilterde data'!DI215)","v":0.6},{"$f":"IF('Gefilterde data'!EA215=0,\"\",'Gefilterde data'!EA215)","v":{"v":17.647058823529413,"d":"18"}},{"$f":"IF('Gefilterde data'!EA215=0,\"\",'Gefilterde data'!EB215)","v":{"v":11.76470588235294,"d":"12"}}]
[null,{"$f":"IF('Gefilterde data'!C216=0,\"\",'Gefilterde data'!C216)","v":"Delflandpleinbuurt-West"},{"$f":"IF(B229=\"\",\"\",IF(LEFT(D229,2)=\"BU\",'Gefilterde data'!G216,\"-\"))","v":"Westlandgracht"},{"$f":"IF('Gefilterde data'!C216=0,\"\",'Gefilterde data'!A216)","v":"BU0363FP04"},{"v":1.1594544311546906,"d":"1.16"},{"v":2.337429878347381,"d":"2.34"},{"$f":"IF('Gefilterde data'!CL216=0,\"\",'Gefilterde data'!CL216)","v":16.3},{"$f":"IF('Gefilterde data'!DX216=0,\"\",'Gefilterde data'!DX216)","v":{"v":68.14345991561181,"d":"68.1"}},null,{"$f":"IF('Gefilterde data'!DZ216=0,\"\",'Gefilterde data'!DZ216)","v":{"v":9.49367088607595,"d":"9"}},{"$f":"IF('Gefilterde data'!DW216=0,\"\",'Gefilterde data'!DW216)","v":{"v":5414,"d":"5,414"}},{"$f":"IF('Gefilterde data'!I216=0,\"\",'Gefilterde data'!I216)","v":{"v":4740,"d":"4,740"}},{"$f":"IF('Gefilterde data'!DI216=0,\"\",'Gefilterde data'!DI216)","v":0.3},{"$f":"IF('Gefilterde data'!EA216=0,\"\",'Gefilterde data'!EA216)","v":{"v":10.337552742616033,"d":"10"}},{"$f":"IF('Gefilterde data'!EA216=0,\"\",'Gefilterde data'!EB216)","v":{"v":6.962025316455696,"d":"7"}}]
[null,{"$f":"IF('Gefilterde data'!C217=0,\"\",'Gefilterde data'!C217)","v":"Delflandpleinbuurt-Oost"},{"$f":"IF(B230=\"\",\"\",IF(LEFT(D230,2)=\"BU\",'Gefilterde data'!G217,\"-\"))","v":"Westlandgracht"},{"$f":"IF('Gefilterde data'!C217=0,\"\",'Gefilterde data'!A217)","v":"BU0363FP05"},{"v":1.405507170539355,"d":"1.41"},{"v":2.833465780434682,"d":"2.83"},{"$f":"IF('Gefilterde data'!CL217=0,\"\",'Gefilterde data'!CL217)","v":21.8},{"$f":"IF('Gefilterde data'!DX217=0,\"\",'Gefilterde data'!DX217)","v":{"v":74.88262910798123,"d":"74.9"}},null,{"$f":"IF('Gefilterde data'!DZ217=0,\"\",'Gefilterde data'!DZ217)","v":{"v":20.187793427230048,"d":"20"}},{"$f":"IF('Gefilterde data'!DW217=0,\"\",'Gefilterde data'!DW217)","v":{"v":5976,"d":"5,976"}},{"$f":"IF('Gefilterde data'!I217=0,\"\",'Gefilterde data'!I217)","v":{"v":2130,"d":"2,130"}},{"$f":"IF('Gefilterde data'!DI217=0,\"\",'Gefilterde data'!DI217)","v":0.3},{"$f":"IF('Gefilterde data'!EA217=0,\"\",'Gefilterde data'!EA217)","v":{"v":11.032863849765258,"d":"11"}},{"$f":"IF('Gefilterde data'!EA217=0,\"\",'Gefilterde data'!EB217)","v":{"v":6.572769953051644,"d":"7"}}]
[null,{"$f":"IF('Gefilterde data'!C218=0,\"\",'Gefilterde data'!C218)","v":"Riekerhaven"},{"$f":"IF(B231=\"\",\"\",IF(LEFT(D231,2)=\"BU\",'Gefilterde data'!G218,\"-\"))","v":"Westlandgracht"},{"$f":"IF('Gefilterde data'!C218=0,\"\",'Gefilterde data'!A218)","v":"BU0363FP06"},{"v":1.9262399300331696,"d":"1.93"},{"v":3.8832494355481892,"d":"3.88"},{"$f":"IF('Gefilterde data'!CL218=0,\"\",'Gefilterde data'!CL218)","v":38.5},{"$f":"IF('Gefilterde data'!DX218=0,\"\",'Gefilterde data'!DX218)","v":{"v":70,"d":"70.0"}},null,{"$f":"IF('Gefilterde data'!DZ218=0,\"\",'Gefilterde data'!DZ218)","v":{"v":6.666666666666667,"d":"7"}},{"$f":"IF('Gefilterde data'!DW218=0,\"\",'Gefilterde data'!DW218)","v":{"v":2314,"d":"2,314"}},{"$f":"IF('Gefilterde data'!I218=0,\"\",'Gefilterde data'!I218)","v":450},{"$f":"IF('Gefilterde data'!DI218=0,\"\",'Gefilterde data'!DI218)","v":0.2},{"$f":"IF('Gefilterde data'!EA218=0,\"\",'Gefilterde data'!EA218)","v":{"v":2.2222222222222223,"d":"2"}},{"$f":"IF('Gefilterde data'!EA218=0,\"\",'Gefilterde data'!EB218)","v":0}]
[null,{"$f":"IF('Gefilterde data'!C219=0,\"\",'Gefilterde data'!C219)","v":"Dorp Sloten"},{"$f":"IF(B232=\"\",\"\",IF(LEFT(D232,2)=\"BU\",'Gefilterde data'!G219,\"-\"))","v":"Sloten/Nieuw-Sloten"},{"$f":"IF('Gefilterde data'!C219=0,\"\",'Gefilterde data'!A219)","v":"BU0363FQ01"},{"v":0.45419398077022693,"d":"0.45"},{"v":0.9156432134728913,"d":"0.92"},{"$f":"IF('Gefilterde data'!CL219=0,\"\",'Gefilterde data'!CL219)","v":7.2},{"$f":"IF('Gefilterde data'!DX219=0,\"\",'Gefilterde data'!DX219)","v":{"v":23.61111111111111,"d":"23.6"}},null,{"$f":"IF('Gefilterde data'!DZ219=0,\"\",'Gefilterde data'!DZ219)","v":{"v":1.3888888888888888,"d":"1"}},{"$f":"IF('Gefilterde data'!DW219=0,\"\",'Gefilterde data'!DW219)","v":{"v":2337,"d":"2,337"}},{"$f":"IF('Gefilterde data'!I219=0,\"\",'Gefilterde data'!I219)","v":720},{"$f":"IF('Gefilterde data'!DI219=0,\"\",'Gefilterde data'!DI219)","v":{"v":1,"d":"1.0"}},{"$f":"IF('Gefilterde data'!EA219=0,\"\",'Gefilterde data'!EA219)","v":{"v":13.194444444444445,"d":"13"}},{"$f":"IF('Gefilterde data'!EA219=0,\"\",'Gefilterde data'!EB219)","v":{"v":20.13888888888889,"d":"20"}}]
[null,{"$f":"IF('Gefilterde data'!C220=0,\"\",'Gefilterde data'!C220)","v":"Nieuw-Sloten-Noordwest"},{"$f":"IF(B233=\"\",\"\",IF(LEFT(D233,2)=\"BU\",'Gefilterde data'!G220,\"-\"))","v":"Sloten/Nieuw-Sloten"},{"$f":"IF('Gefilterde data'!C220=0,\"\",'Gefilterde data'!A220)","v":"BU0363FQ02"},{"v":0.8350356501754781,"d":"0.84"},{"v":1.683410081292782,"d":"1.68"},{"$f":"IF('Gefilterde data'!CL220=0,\"\",'Gefilterde data'!CL220)","v":9.7},{"$f":"IF('Gefilterde data'!DX220=0,\"\",'Gefilterde data'!DX220)","v":{"v":56.79214402618658,"d":"56.8"}},null,{"$f":"IF('Gefilterde data'!DZ220=0,\"\",'Gefilterde data'!DZ220)","v":{"v":1.309328968903437,"d":"1"}},{"$f":"IF('Gefilterde data'!DW220=0,\"\",'Gefilterde data'!DW220)","v":{"v":3222,"d":"3,222"}},{"$f":"IF('Gefilterde data'!I220=0,\"\",'Gefilterde data'!I220)","v":{"v":3055,"d":"3,055"}},{"$f":"IF('Gefilterde data'!DI220=0,\"\",'Gefilterde data'!DI220)","v":0.9},{"$f":"IF('Gefilterde data'!EA220=0,\"\",'Gefilterde data'!EA220)","v":{"v":16.20294599018003,"d":"16"}},{"$f":"IF('Gefilterde data'!EA220=0,\"\",'Gefilterde data'!EB220)","v":{"v":17.51227495908347,"d":"18"}}]
[null,{"$f":"IF('Gefilterde data'!C221=0,\"\",'Gefilterde data'!C221)","v":"Nieuw-Sloten-Noordoost"},{"$f":"IF(B234=\"\",\"\",IF(LEFT(D234,2)=\"BU\",'Gefilterde data'!G221,\"-\"))","v":"Sloten/Nieuw-Sloten"},{"$f":"IF('Gefilterde data'!C221=0,\"\",'Gefilterde data'!A221)","v":"BU0363FQ03"},{"v":0.7048233166462473,"d":"0.70"},{"v":1.4209054146648343,"d":"1.42"},{"$f":"IF('Gefilterde data'!CL221=0,\"\",'Gefilterde data'!CL221)","v":7.1},{"$f":"IF('Gefilterde data'!DX221=0,\"\",'Gefilterde data'!DX221)","v":{"v":52.05047318611987,"d":"52.1"}},null,{"$f":"IF('Gefilterde data'!DZ221=0,\"\",'Gefilterde data'!DZ221)","v":{"v":1.5772870662460567,"d":"2"}},{"$f":"IF('Gefilterde data'!DW221=0,\"\",'Gefilterde data'!DW221)","v":{"v":3111,"d":"3,111"}},{"$f":"IF('Gefilterde data'!I221=0,\"\",'Gefilterde data'!I221)","v":{"v":3170,"d":"3,170"}},{"$f":"IF('Gefilterde data'!DI221=0,\"\",'Gefilterde data'!DI221)","v":0.8},{"$f":"IF('Gefilterde data'!EA221=0,\"\",'Gefilterde data'!EA221)","v":{"v":15.141955835962145,"d":"15"}},{"$f":"IF('Gefilterde data'!EA221=0,\"\",'Gefilterde data'!EB221)","v":{"v":22.082018927444793,"d":"22"}}]
[null,{"$f":"IF('Gefilterde data'!C222=0,\"\",'Gefilterde data'!C222)","v":"Nieuw-Sloten-Zuidwest"},{"$f":"IF(B235=\"\",\"\",IF(LEFT(D235,2)=\"BU\",'Gefilterde data'!G222,\"-\"))","v":"Sloten/Nieuw-Sloten"},{"$f":"IF('Gefilterde data'!C222=0,\"\",'Gefilterde data'!A222)","v":"BU0363FQ04"},{"v":0.48061168008324046,"d":"0.48"},{"v":0.9689006059431923,"d":"0.97"},{"$f":"IF('Gefilterde data'!CL222=0,\"\",'Gefilterde data'!CL222)","v":1.9},{"$f":"IF('Gefilterde data'!DX222=0,\"\",'Gefilterde data'!DX222)","v":{"v":46.62162162162162,"d":"46.6"}},null,{"$f":"IF('Gefilterde data'!DZ222=0,\"\",'Gefilterde data'!DZ222)","v":{"v":2.7027027027027026,"d":"3"}},{"$f":"IF('Gefilterde data'!DW222=0,\"\",'Gefilterde data'!DW222)","v":{"v":2498,"d":"2,498"}},{"$f":"IF('Gefilterde data'!I222=0,\"\",'Gefilterde data'!I222)","v":{"v":2220,"d":"2,220"}},{"$f":"IF('Gefilterde data'!DI222=0,\"\",'Gefilterde data'!DI222)","v":{"v":1,"d":"1.0"}},{"$f":"IF('Gefilterde data'!EA222=0,\"\",'Gefilterde data'!EA222)","v":{"v":14.414414414414415,"d":"14"}},{"$f":"IF('Gefilterde data'!EA222=0,\"\",'Gefilterde data'!EB222)","v":{"v":13.73873873873874,"d":"14"}}]
[null,{"$f":"IF('Gefilterde data'!C223=0,\"\",'Gefilterde data'!C223)","v":"Belgiëplein e.o."},{"$f":"IF(B236=\"\",\"\",IF(LEFT(D236,2)=\"BU\",'Gefilterde data'!G223,\"-\"))","v":"Sloten/Nieuw-Sloten"},{"$f":"IF('Gefilterde data'!C223=0,\"\",'Gefilterde data'!A223)","v":"BU0363FQ05"},{"v":1.1095788593880238,"d":"1.11"},{"v":2.236882027121383,"d":"2.24"},{"$f":"IF('Gefilterde data'!CL223=0,\"\",'Gefilterde data'!CL223)","v":16.5},{"$f":"IF('Gefilterde data'!DX223=0,\"\",'Gefilterde data'!DX223)","v":{"v":61.80257510729614,"d":"61.8"}},null,{"$f":"IF('Gefilterde data'!DZ223=0,\"\",'Gefilterde data'!DZ223)","v":{"v":3.4334763948497855,"d":"3"}},{"$f":"IF('Gefilterde data'!DW223=0,\"\",'Gefilterde data'!DW223)","v":{"v":2470,"d":"2,470"}},{"$f":"IF('Gefilterde data'!I223=0,\"\",'Gefilterde data'!I223)","v":{"v":1165,"d":"1,165"}},{"$f":"IF('Gefilterde data'!DI223=0,\"\",'Gefilterde data'!DI223)","v":0.5},{"$f":"IF('Gefilterde data'!EA223=0,\"\",'Gefilterde data'!EA223)","v":{"v":8.15450643776824,"d":"8"}},{"$f":"IF('Gefilterde data'!EA223=0,\"\",'Gefilterde data'!EB223)","v":{"v":30.90128755364807,"d":"31"}}]
[null,{"$f":"IF('Gefilterde data'!C224=0,\"\",'Gefilterde data'!C224)","v":"Nieuw-Sloten-Zuidoost"},{"$f":"IF(B237=\"\",\"\",IF(LEFT(D237,2)=\"BU\",'Gefilterde data'!G224,\"-\"))","v":"Sloten/Nieuw-Sloten"},{"$f":"IF('Gefilterde data'!C224=0,\"\",'Gefilterde data'!A224)","v":"BU0363FQ06"},{"v":0.6757561281609972,"d":"0.68"},{"v":1.3623067211592041,"d":"1.36"},{"$f":"IF('Gefilterde data'!CL224=0,\"\",'Gefilterde data'!CL224)","v":5.3},{"$f":"IF('Gefilterde data'!DX224=0,\"\",'Gefilterde data'!DX224)","v":{"v":55.60640732265446,"d":"55.6"}},null,{"$f":"IF('Gefilterde data'!DZ224=0,\"\",'Gefilterde data'!DZ224)","v":{"v":1.8306636155606408,"d":"2"}},{"$f":"IF('Gefilterde data'!DW224=0,\"\",'Gefilterde data'!DW224)","v":{"v":2214,"d":"2,214"}},{"$f":"IF('Gefilterde data'!I224=0,\"\",'Gefilterde data'!I224)","v":{"v":2185,"d":"2,185"}},{"$f":"IF('Gefilterde data'!DI224=0,\"\",'Gefilterde data'!DI224)","v":0.8},{"$f":"IF('Gefilterde data'!EA224=0,\"\",'Gefilterde data'!EA224)","v":{"v":19.450800915331808,"d":"19"}},{"$f":"IF('Gefilterde data'!EA224=0,\"\",'Gefilterde data'!EB224)","v":{"v":10.983981693363845,"d":"11"}}]
[null,{"$f":"IF('Gefilterde data'!C225=0,\"\",'Gefilterde data'!C225)","v":"Sloterweg e.o."},{"$f":"IF(B238=\"\",\"\",IF(LEFT(D238,2)=\"BU\",'Gefilterde data'!G225,\"-\"))","v":"Sloten/Nieuw-Sloten"},{"$f":"IF('Gefilterde data'!C225=0,\"\",'Gefilterde data'!A225)","v":"BU0363FQ07"},{"v":0.6636933205634578,"d":"0.66"},{"v":1.3379884158100543,"d":"1.34"},{"$f":"IF('Gefilterde data'!CL225=0,\"\",'Gefilterde data'!CL225)","v":8.2},{"$f":"IF('Gefilterde data'!DX225=0,\"\",'Gefilterde data'!DX225)","v":{"v":43.28358208955223,"d":"43.3"}},null,{"$f":"IF('Gefilterde data'!DZ225=0,\"\",'Gefilterde data'!DZ225)","v":{"v":2.9850746268656714,"d":"3"}},{"$f":"IF('Gefilterde data'!DW225=0,\"\",'Gefilterde data'!DW225)","v":{"v":1483,"d":"1,483"}},{"$f":"IF('Gefilterde data'!I225=0,\"\",'Gefilterde data'!I225)","v":335},{"$f":"IF('Gefilterde data'!DI225=0,\"\",'Gefilterde data'!DI225)","v":1.6},{"$f":"IF('Gefilterde data'!EA225=0,\"\",'Gefilterde data'!EA225)","v":{"v":20.8955223880597,"d":"21"}},{"$f":"IF('Gefilterde data'!EA225=0,\"\",'Gefilterde data'!EB225)","v":{"v":17.91044776119403,"d":"18"}}]
[null,{"$f":"IF('Gefilterde data'!C226=0,\"\",'Gefilterde data'!C226)","v":"Park Haagseweg"},{"$f":"IF(B239=\"\",\"\",IF(LEFT(D239,2)=\"BU\",'Gefilterde data'!G226,\"-\"))","v":"Sloten/Nieuw-Sloten"},{"$f":"IF('Gefilterde data'!C226=0,\"\",'Gefilterde data'!A226)","v":"BU0363FQ08"},{"v":0.44354115980927855,"d":"0.44"},{"v":0.8941674043908491,"d":"0.89"},{"$f":"IF('Gefilterde data'!CL226=0,\"\",'Gefilterde data'!CL226)","v":2.5},{"$f":"IF('Gefilterde data'!DX226=0,\"\",'Gefilterde data'!DX226)","v":{"v":40.20100502512563,"d":"40.2"}},null,{"$f":"IF('Gefilterde data'!DZ226=0,\"\",'Gefilterde data'!DZ226)","v":{"v":1.0050251256281406,"d":"1"}},{"$f":"IF('Gefilterde data'!DW226=0,\"\",'Gefilterde data'!DW226)","v":{"v":2396,"d":"2,396"}},{"$f":"IF('Gefilterde data'!I226=0,\"\",'Gefilterde data'!I226)","v":995},{"$f":"IF('Gefilterde data'!DI226=0,\"\",'Gefilterde data'!DI226)","v":{"v":1,"d":"1.0"}},{"$f":"IF('Gefilterde data'!EA226=0,\"\",'Gefilterde data'!EA226)","v":{"v":14.07035175879397,"d":"14"}},{"$f":"IF('Gefilterde data'!EA226=0,\"\",'Gefilterde data'!EB226)","v":{"v":21.608040201005025,"d":"22"}}]
[null,{"$f":"IF('Gefilterde data'!C227=0,\"\",'Gefilterde data'!C227)","v":"Riekerpolder"},{"$f":"IF(B240=\"\",\"\",IF(LEFT(D240,2)=\"BU\",'Gefilterde data'!G227,\"-\"))","v":"Sloten/Nieuw-Sloten"},{"$f":"IF('Gefilterde data'!C227=0,\"\",'Gefilterde data'!A227)","v":"BU0363FQ09"},{"v":0.6313527423147756,"d":"0.63"},{"v":1.2727906539573373,"d":"1.27"},{"$f":"IF('Gefilterde data'!CL227=0,\"\",'Gefilterde data'!CL227)","v":2},{"$f":"IF('Gefilterde data'!DX227=0,\"\",'Gefilterde data'!DX227)","v":{"v":63.12056737588653,"d":"63.1"}},null,{"$f":"IF('Gefilterde data'!DZ227=0,\"\",'Gefilterde data'!DZ227)","v":{"v":2.8368794326241136,"d":"3"}},{"$f":"IF('Gefilterde data'!DW227=0,\"\",'Gefilterde data'!DW227)","v":{"v":1030,"d":"1,030"}},{"$f":"IF('Gefilterde data'!I227=0,\"\",'Gefilterde data'!I227)","v":705},{"$f":"IF('Gefilterde data'!DI227=0,\"\",'Gefilterde data'!DI227)","v":0.4},{"$f":"IF('Gefilterde data'!EA227=0,\"\",'Gefilterde data'!EA227)","v":{"v":5.673758865248227,"d":"6"}},{"$f":"IF('Gefilterde data'!EA227=0,\"\",'Gefilterde data'!EB227)","v":{"v":0.7092198581560284,"d":"1"}}]
[null,{"$f":"IF('Gefilterde data'!C228=0,\"\",'Gefilterde data'!C228)","v":"Nieuwe Meer"},{"$f":"IF(B241=\"\",\"\",IF(LEFT(D241,2)=\"BU\",'Gefilterde data'!G228,\"-\"))","v":"Sloten/Nieuw-Sloten"},{"$f":"IF('Gefilterde data'!C228=0,\"\",'Gefilterde data'!A228)","v":"BU0363FQ10"},"Ontbrekende waarde","Ontbrekende waarde",{"$f":"IF('Gefilterde data'!CL228=0,\"\",'Gefilterde data'!CL228)","v":"."},{"$f":"IF('Gefilterde data'!DX228=0,\"\",'Gefilterde data'!DX228)","v":{"v":27.27272727272727,"d":"27.3"}},null,{"$f":"IF('Gefilterde data'!DZ228=0,\"\",'Gefilterde data'!DZ228)","v":""},{"$f":"IF('Gefilterde data'!DW228=0,\"\",'Gefilterde data'!DW228)","v":270},{"$f":"IF('Gefilterde data'!I228=0,\"\",'Gefilterde data'!I228)","v":165},{"$f":"IF('Gefilterde data'!DI228=0,\"\",'Gefilterde data'!DI228)","v":0.6},{"$f":"IF('Gefilterde data'!EA228=0,\"\",'Gefilterde data'!EA228)","v":{"v":12.121212121212121,"d":"12"}},{"$f":"IF('Gefilterde data'!EA228=0,\"\",'Gefilterde data'!EB228)","v":{"v":9.090909090909092,"d":"9"}}]
[null,{"$f":"IF('Gefilterde data'!C229=0,\"\",'Gefilterde data'!C229)","v":"Westlandgrachtbuurt"},{"$f":"IF(B242=\"\",\"\",IF(LEFT(D242,2)=\"BU\",'Gefilterde data'!G229,\"-\"))","v":"Hoofddorppleinbuurt"},{"$f":"IF('Gefilterde data'!C229=0,\"\",'Gefilterde data'!A229)","v":"BU0363KA01"},{"v":0.744154232101859,"d":"0.74"},{"v":1.5001955139205214,"d":"1.50"},{"$f":"IF('Gefilterde data'!CL229=0,\"\",'Gefilterde data'!CL229)","v":10.1},{"$f":"IF('Gefilterde data'!DX229=0,\"\",'Gefilterde data'!DX229)","v":{"v":45.10344827586207,"d":"45.1"}},null,{"$f":"IF('Gefilterde data'!DZ229=0,\"\",'Gefilterde data'!DZ229)","v":{"v":4.137931034482759,"d":"4"}},{"$f":"IF('Gefilterde data'!DW229=0,\"\",'Gefilterde data'!DW229)","v":{"v":7197,"d":"7,197"}},{"$f":"IF('Gefilterde data'!I229=0,\"\",'Gefilterde data'!I229)","v":{"v":3625,"d":"3,625"}},{"$f":"IF('Gefilterde data'!DI229=0,\"\",'Gefilterde data'!DI229)","v":0.4},{"$f":"IF('Gefilterde data'!EA229=0,\"\",'Gefilterde data'!EA229)","v":{"v":11.724137931034482,"d":"12"}},{"$f":"IF('Gefilterde data'!EA229=0,\"\",'Gefilterde data'!EB229)","v":{"v":10.620689655172413,"d":"11"}}]
[null,{"$f":"IF('Gefilterde data'!C230=0,\"\",'Gefilterde data'!C230)","v":"Surinamepleinbuurt"},{"$f":"IF(B243=\"\",\"\",IF(LEFT(D243,2)=\"BU\",'Gefilterde data'!G230,\"-\"))","v":"Hoofddorppleinbuurt"},{"$f":"IF('Gefilterde data'!C230=0,\"\",'Gefilterde data'!A230)","v":"BU0363KA02"},{"v":0.7536929186344513,"d":"0.75"},{"v":1.519425257067276,"d":"1.52"},{"$f":"IF('Gefilterde data'!CL230=0,\"\",'Gefilterde data'!CL230)","v":11.8},{"$f":"IF('Gefilterde data'!DX230=0,\"\",'Gefilterde data'!DX230)","v":{"v":39.73941368078176,"d":"39.7"}},null,{"$f":"IF('Gefilterde data'!DZ230=0,\"\",'Gefilterde data'!DZ230)","v":{"v":4.5602605863192185,"d":"5"}},{"$f":"IF('Gefilterde data'!DW230=0,\"\",'Gefilterde data'!DW230)","v":{"v":8113,"d":"8,113"}},{"$f":"IF('Gefilterde data'!I230=0,\"\",'Gefilterde data'!I230)","v":{"v":1535,"d":"1,535"}},{"$f":"IF('Gefilterde data'!DI230=0,\"\",'Gefilterde data'!DI230)","v":0.4},{"$f":"IF('Gefilterde data'!EA230=0,\"\",'Gefilterde data'!EA230)","v":{"v":13.355048859934854,"d":"13"}},{"$f":"IF('Gefilterde data'!EA230=0,\"\",'Gefilterde data'!EB230)","v":{"v":12.703583061889251,"d":"13"}}]
[null,{"$f":"IF('Gefilterde data'!C231=0,\"\",'Gefilterde data'!C231)","v":"Legmeerpleinbuurt"},{"$f":"IF(B244=\"\",\"\",IF(LEFT(D244,2)=\"BU\",'Gefilterde data'!G231,\"-\"))","v":"Hoofddorppleinbuurt"},{"$f":"IF('Gefilterde data'!C231=0,\"\",'Gefilterde data'!A231)","v":"BU0363KA03"},{"v":0.730185223973036,"d":"0.73"},{"v":1.4720343580407935,"d":"1.47"},{"$f":"IF('Gefilterde data'!CL231=0,\"\",'Gefilterde data'!CL231)","v":10.2},{"$f":"IF('Gefilterde data'!DX231=0,\"\",'Gefilterde data'!DX231)","v":{"v":43.161094224924014,"d":"43.2"}},null,{"$f":"IF('Gefilterde data'!DZ231=0,\"\",'Gefilterde data'!DZ231)","v":{"v":4.25531914893617,"d":"4"}},{"$f":"IF('Gefilterde data'!DW231=0,\"\",'Gefilterde data'!DW231)","v":{"v":7690,"d":"7,690"}},{"$f":"IF('Gefilterde data'!I231=0,\"\",'Gefilterde data'!I231)","v":{"v":1645,"d":"1,645"}},{"$f":"IF('Gefilterde data'!DI231=0,\"\",'Gefilterde data'!DI231)","v":0.4},{"$f":"IF('Gefilterde data'!EA231=0,\"\",'Gefilterde data'!EA231)","v":{"v":12.462006079027356,"d":"12"}},{"$f":"IF('Gefilterde data'!EA231=0,\"\",'Gefilterde data'!EB231)","v":{"v":12.158054711246201,"d":"12"}}]
[null,{"$f":"IF('Gefilterde data'!C232=0,\"\",'Gefilterde data'!C232)","v":"Aalsmeerwegbuurt-West"},{"$f":"IF(B245=\"\",\"\",IF(LEFT(D245,2)=\"BU\",'Gefilterde data'!G232,\"-\"))","v":"Hoofddorppleinbuurt"},{"$f":"IF('Gefilterde data'!C232=0,\"\",'Gefilterde data'!A232)","v":"BU0363KA04"},{"v":0.7109771153391523,"d":"0.71"},{"v":1.4333113122522076,"d":"1.43"},{"$f":"IF('Gefilterde data'!CL232=0,\"\",'Gefilterde data'!CL232)","v":9.6},{"$f":"IF('Gefilterde data'!DX232=0,\"\",'Gefilterde data'!DX232)","v":{"v":43.280632411067195,"d":"43.3"}},null,{"$f":"IF('Gefilterde data'!DZ232=0,\"\",'Gefilterde data'!DZ232)","v":{"v":4.743083003952568,"d":"5"}},{"$f":"IF('Gefilterde data'!DW232=0,\"\",'Gefilterde data'!DW232)","v":{"v":6853,"d":"6,853"}},{"$f":"IF('Gefilterde data'!I232=0,\"\",'Gefilterde data'!I232)","v":{"v":2530,"d":"2,530"}},{"$f":"IF('Gefilterde data'!DI232=0,\"\",'Gefilterde data'!DI232)","v":0.4},{"$f":"IF('Gefilterde data'!EA232=0,\"\",'Gefilterde data'!EA232)","v":{"v":11.067193675889328,"d":"11"}},{"$f":"IF('Gefilterde data'!EA232=0,\"\",'Gefilterde data'!EB232)","v":{"v":8.102766798418973,"d":"8"}}]
[null,{"$f":"IF('Gefilterde data'!C233=0,\"\",'Gefilterde data'!C233)","v":"Aalsmeerwegbuurt-Oost"},{"$f":"IF(B246=\"\",\"\",IF(LEFT(D246,2)=\"BU\",'Gefilterde data'!G233,\"-\"))","v":"Hoofddorppleinbuurt"},{"$f":"IF('Gefilterde data'!C233=0,\"\",'Gefilterde data'!A233)","v":"BU0363KA05"},{"v":0.780711936087807,"d":"0.78"},{"v":1.5738948912176818,"d":"1.57"},{"$f":"IF('Gefilterde data'!CL233=0,\"\",'Gefilterde data'!CL233)","v":11.2},{"$f":"IF('Gefilterde data'!DX233=0,\"\",'Gefilterde data'!DX233)","v":{"v":45.03464203233256,"d":"45.0"}},null,{"$f":"IF('Gefilterde data'!DZ233=0,\"\",'Gefilterde data'!DZ233)","v":{"v":4.157043879907621,"d":"4"}},{"$f":"IF('Gefilterde data'!DW233=0,\"\",'Gefilterde data'!DW233)","v":{"v":6777,"d":"6,777"}},{"$f":"IF('Gefilterde data'!I233=0,\"\",'Gefilterde data'!I233)","v":{"v":2165,"d":"2,165"}},{"$f":"IF('Gefilterde data'!DI233=0,\"\",'Gefilterde data'!DI233)","v":0.4},{"$f":"IF('Gefilterde data'!EA233=0,\"\",'Gefilterde data'!EA233)","v":{"v":9.237875288683602,"d":"9"}},{"$f":"IF('Gefilterde data'!EA233=0,\"\",'Gefilterde data'!EB233)","v":{"v":10.854503464203233,"d":"11"}}]
[null,{"$f":"IF('Gefilterde data'!C234=0,\"\",'Gefilterde data'!C234)","v":"Bedrijventerrein Schinkel"},{"$f":"IF(B247=\"\",\"\",IF(LEFT(D247,2)=\"BU\",'Gefilterde data'!G234,\"-\"))","v":"Hoofddorppleinbuurt"},{"$f":"IF('Gefilterde data'!C234=0,\"\",'Gefilterde data'!A234)","v":"BU0363KA06"},"Ontbrekende waarde","Ontbrekende waarde",{"$f":"IF('Gefilterde data'!CL234=0,\"\",'Gefilterde data'!CL234)","v":"."},{"$f":"IF('Gefilterde data'!DX234=0,\"\",'Gefilterde data'!DX234)","v":{"v":70.37037037037037,"d":"70.4"}},null,{"$f":"IF('Gefilterde data'!DZ234=0,\"\",'Gefilterde data'!DZ234)","v":{"v":18.51851851851852,"d":"19"}},{"$f":"IF('Gefilterde data'!DW234=0,\"\",'Gefilterde data'!DW234)","v":{"v":2906,"d":"2,906"}},{"$f":"IF('Gefilterde data'!I234=0,\"\",'Gefilterde data'!I234)","v":270},{"$f":"IF('Gefilterde data'!DI234=0,\"\",'Gefilterde data'!DI234)","v":1.1},{"$f":"IF('Gefilterde data'!EA234=0,\"\",'Gefilterde data'!EA234)","v":{"v":1.8518518518518516,"d":"2"}},{"$f":"IF('Gefilterde data'!EA234=0,\"\",'Gefilterde data'!EB234)","v":{"v":5.555555555555555,"d":"6"}}]
[null,{"$f":"IF('Gefilterde data'!C235=0,\"\",'Gefilterde data'!C235)","v":"Schinkelbuurt-Noord"},{"$f":"IF(B248=\"\",\"\",IF(LEFT(D248,2)=\"BU\",'Gefilterde data'!G235,\"-\"))","v":"Schinkelbuurt"},{"$f":"IF('Gefilterde data'!C235=0,\"\",'Gefilterde data'!A235)","v":"BU0363KB01"},{"v":0.8275302273828944,"d":"0.83"},{"v":1.6682793447898014,"d":"1.67"},{"$f":"IF('Gefilterde data'!CL235=0,\"\",'Gefilterde data'!CL235)","v":11.3},{"$f":"IF('Gefilterde data'!DX235=0,\"\",'Gefilterde data'!DX235)","v":{"v":49.89816700610998,"d":"49.9"}},null,{"$f":"IF('Gefilterde data'!DZ235=0,\"\",'Gefilterde data'!DZ235)","v":{"v":5.295315682281059,"d":"5"}},{"$f":"IF('Gefilterde data'!DW235=0,\"\",'Gefilterde data'!DW235)","v":{"v":8192,"d":"8,192"}},{"$f":"IF('Gefilterde data'!I235=0,\"\",'Gefilterde data'!I235)","v":{"v":2455,"d":"2,455"}},{"$f":"IF('Gefilterde data'!DI235=0,\"\",'Gefilterde data'!DI235)","v":0.4},{"$f":"IF('Gefilterde data'!EA235=0,\"\",'Gefilterde data'!EA235)","v":{"v":7.739307535641547,"d":"8"}},{"$f":"IF('Gefilterde data'!EA235=0,\"\",'Gefilterde data'!EB235)","v":{"v":8.961303462321792,"d":"9"}}]
[null,{"$f":"IF('Gefilterde data'!C236=0,\"\",'Gefilterde data'!C236)","v":"Schinkelbuurt-Zuid"},{"$f":"IF(B249=\"\",\"\",IF(LEFT(D249,2)=\"BU\",'Gefilterde data'!G236,\"-\"))","v":"Schinkelbuurt"},{"$f":"IF('Gefilterde data'!C236=0,\"\",'Gefilterde data'!A236)","v":"BU0363KB02"},{"v":1.0985440335670105,"d":"1.10"},{"v":2.214636106209503,"d":"2.21"},{"$f":"IF('Gefilterde data'!CL236=0,\"\",'Gefilterde data'!CL236)","v":18.4},{"$f":"IF('Gefilterde data'!DX236=0,\"\",'Gefilterde data'!DX236)","v":{"v":53.37837837837838,"d":"53.4"}},null,{"$f":"IF('Gefilterde data'!DZ236=0,\"\",'Gefilterde data'!DZ236)","v":{"v":4.72972972972973,"d":"5"}},{"$f":"IF('Gefilterde data'!DW236=0,\"\",'Gefilterde data'!DW236)","v":{"v":7691,"d":"7,691"}},{"$f":"IF('Gefilterde data'!I236=0,\"\",'Gefilterde data'!I236)","v":{"v":1480,"d":"1,480"}},{"$f":"IF('Gefilterde data'!DI236=0,\"\",'Gefilterde data'!DI236)","v":0.3},{"$f":"IF('Gefilterde data'!EA236=0,\"\",'Gefilterde data'!EA236)","v":{"v":8.783783783783784,"d":"9"}},{"$f":"IF('Gefilterde data'!EA236=0,\"\",'Gefilterde data'!EB236)","v":{"v":15.54054054054054,"d":"16"}}]
[null,{"$f":"IF('Gefilterde data'!C237=0,\"\",'Gefilterde data'!C237)","v":"Vondelpark-West"},{"$f":"IF(B250=\"\",\"\",IF(LEFT(D250,2)=\"BU\",'Gefilterde data'!G237,\"-\"))","v":"Willemspark"},{"$f":"IF('Gefilterde data'!C237=0,\"\",'Gefilterde data'!A237)","v":"BU0363KC01"},"Ontbrekende waarde","Ontbrekende waarde",{"$f":"IF('Gefilterde data'!CL237=0,\"\",'Gefilterde data'!CL237)","v":"."},{"$f":"IF('Gefilterde data'!DX237=0,\"\",'Gefilterde data'!DX237)","v":"Geen inwoners"},null,{"$f":"IF('Gefilterde data'!DZ237=0,\"\",'Gefilterde data'!DZ237)","v":"Geen inwoners"},{"$f":"IF('Gefilterde data'!DW237=0,\"\",'Gefilterde data'!DW237)","v":{"v":8327,"d":"8,327"}},{"$f":"IF('Gefilterde data'!I237=0,\"\",'Gefilterde data'!I237)","v":""},{"$f":"IF('Gefilterde data'!DI237=0,\"\",'Gefilterde data'!DI237)","v":"."},{"$f":"IF('Gefilterde data'!EA237=0,\"\",'Gefilterde data'!EA237)","v":"Geen inwoners"},{"$f":"IF('Gefilterde data'!EA237=0,\"\",'Gefilterde data'!EB237)","v":"Geen inwoners"}]
[null,{"$f":"IF('Gefilterde data'!C238=0,\"\",'Gefilterde data'!C238)","v":"Willemsparkbuurt-Noord"},{"$f":"IF(B251=\"\",\"\",IF(LEFT(D251,2)=\"BU\",'Gefilterde data'!G238,\"-\"))","v":"Willemspark"},{"$f":"IF('Gefilterde data'!C238=0,\"\",'Gefilterde data'!A238)","v":"BU0363KC02"},{"v":0.6759809865542752,"d":"0.68"},{"v":1.3627600298125868,"d":"1.36"},{"$f":"IF('Gefilterde data'!CL238=0,\"\",'Gefilterde data'!CL238)","v":7.3},{"$f":"IF('Gefilterde data'!DX238=0,\"\",'Gefilterde data'!DX238)","v":{"v":48.064516129032256,"d":"48.1"}},null,{"$f":"IF('Gefilterde data'!DZ238=0,\"\",'Gefilterde data'!DZ238)","v":{"v":5.161290322580645,"d":"5"}},{"$f":"IF('Gefilterde data'!DW238=0,\"\",'Gefilterde data'!DW238)","v":{"v":8317,"d":"8,317"}},{"$f":"IF('Gefilterde data'!I238=0,\"\",'Gefilterde data'!I238)","v":{"v":1550,"d":"1,550"}},{"$f":"IF('Gefilterde data'!DI238=0,\"\",'Gefilterde data'!DI238)","v":0.8},{"$f":"IF('Gefilterde data'!EA238=0,\"\",'Gefilterde data'!EA238)","v":{"v":12.903225806451612,"d":"13"}},{"$f":"IF('Gefilterde data'!EA238=0,\"\",'Gefilterde data'!EB238)","v":{"v":13.225806451612904,"d":"13"}}]
[null,{"$f":"IF('Gefilterde data'!C239=0,\"\",'Gefilterde data'!C239)","v":"Valeriusbuurt-West"},{"$f":"IF(B252=\"\",\"\",IF(LEFT(D252,2)=\"BU\",'Gefilterde data'!G239,\"-\"))","v":"Willemspark"},{"$f":"IF('Gefilterde data'!C239=0,\"\",'Gefilterde data'!A239)","v":"BU0363KC03"},{"v":0.7162140188583791,"d":"0.72"},{"v":1.443868773094953,"d":"1.44"},{"$f":"IF('Gefilterde data'!CL239=0,\"\",'Gefilterde data'!CL239)","v":7.6},{"$f":"IF('Gefilterde data'!DX239=0,\"\",'Gefilterde data'!DX239)","v":{"v":51.434034416826,"d":"51.4"}},null,{"$f":"IF('Gefilterde data'!DZ239=0,\"\",'Gefilterde data'!DZ239)","v":{"v":3.0592734225621414,"d":"3"}},{"$f":"IF('Gefilterde data'!DW239=0,\"\",'Gefilterde data'!DW239)","v":{"v":7703,"d":"7,703"}},{"$f":"IF('Gefilterde data'!I239=0,\"\",'Gefilterde data'!I239)","v":{"v":2615,"d":"2,615"}},{"$f":"IF('Gefilterde data'!DI239=0,\"\",'Gefilterde data'!DI239)","v":0.6},{"$f":"IF('Gefilterde data'!EA239=0,\"\",'Gefilterde data'!EA239)","v":{"v":17.208413001912046,"d":"17"}},{"$f":"IF('Gefilterde data'!EA239=0,\"\",'Gefilterde data'!EB239)","v":{"v":14.531548757170173,"d":"15"}}]
[null,{"$f":"IF('Gefilterde data'!C240=0,\"\",'Gefilterde data'!C240)","v":"Valeriusbuurt-Oost"},{"$f":"IF(B253=\"\",\"\",IF(LEFT(D253,2)=\"BU\",'Gefilterde data'!G240,\"-\"))","v":"Willemspark"},{"$f":"IF('Gefilterde data'!C240=0,\"\",'Gefilterde data'!A240)","v":"BU0363KC04"},{"v":0.7052695654106569,"d":"0.71"},{"v":1.4218050405294471,"d":"1.42"},{"$f":"IF('Gefilterde data'!CL240=0,\"\",'Gefilterde data'!CL240)","v":6.9},{"$f":"IF('Gefilterde data'!DX240=0,\"\",'Gefilterde data'!DX240)","v":{"v":52.85714285714286,"d":"52.9"}},null,{"$f":"IF('Gefilterde data'!DZ240=0,\"\",'Gefilterde data'!DZ240)","v":{"v":3.571428571428571,"d":"4"}},{"$f":"IF('Gefilterde data'!DW240=0,\"\",'Gefilterde data'!DW240)","v":{"v":7481,"d":"7,481"}},{"$f":"IF('Gefilterde data'!I240=0,\"\",'Gefilterde data'!I240)","v":{"v":1400,"d":"1,400"}},{"$f":"IF('Gefilterde data'!DI240=0,\"\",'Gefilterde data'!DI240)","v":0.8},{"$f":"IF('Gefilterde data'!EA240=0,\"\",'Gefilterde data'!EA240)","v":{"v":19.28571428571429,"d":"19"}},{"$f":"IF('Gefilterde data'!EA240=0,\"\",'Gefilterde data'!EB240)","v":{"v":13.571428571428571,"d":"14"}}]
[null,{"$f":"IF('Gefilterde data'!C241=0,\"\",'Gefilterde data'!C241)","v":"Vondelpark-Oost"},{"$f":"IF(B254=\"\",\"\",IF(LEFT(D254,2)=\"BU\",'Gefilterde data'!G241,\"-\"))","v":"Museumkwartier"},{"$f":"IF('Gefilterde data'!C241=0,\"\",'Gefilterde data'!A241)","v":"BU0363KD01"},"Ontbrekende waarde","Ontbrekende waarde",{"$f":"IF('Gefilterde data'!CL241=0,\"\",'Gefilterde data'!CL241)","v":"."},{"$f":"IF('Gefilterde data'!DX241=0,\"\",'Gefilterde data'!DX241)","v":"Geen inwoners"},null,{"$f":"IF('Gefilterde data'!DZ241=0,\"\",'Gefilterde data'!DZ241)","v":"Geen inwoners"},{"$f":"IF('Gefilterde data'!DW241=0,\"\",'Gefilterde data'!DW241)","v":{"v":8476,"d":"8,476"}},{"$f":"IF('Gefilterde data'!I241=0,\"\",'Gefilterde data'!I241)","v":""},{"$f":"IF('Gefilterde data'!DI241=0,\"\",'Gefilterde data'!DI241)","v":"."},{"$f":"IF('Gefilterde data'!EA241=0,\"\",'Gefilterde data'!EA241)","v":"Geen inwoners"},{"$f":"IF('Gefilterde data'!EA241=0,\"\",'Gefilterde data'!EB241)","v":"Geen inwoners"}]
[null,{"$f":"IF('Gefilterde data'!C242=0,\"\",'Gefilterde data'!C242)","v":"Cornelis Schuytbuurt"},{"$f":"IF(B255=\"\",\"\",IF(LEFT(D255,2)=\"BU\",'Gefilterde data'!G242,\"-\"))","v":"Museumkwartier"},{"$f":"IF('Gefilterde data'!C242=0,\"\",'Gefilterde data'!A242)","v":"BU0363KD02"},{"v":0.6741390007236707,"d":"0.67"},{"v":1.3590466344429561,"d":"1.36"},{"$f":"IF('Gefilterde data'!CL242=0,\"\",'Gefilterde data'!CL242)","v":6.6},{"$f":"IF('Gefilterde data'!DX242=0,\"\",'Gefilterde data'!DX242)","v":{"v":50.50675675675676,"d":"50.5"}},null,{"$f":"IF('Gefilterde data'!DZ242=0,\"\",'Gefilterde data'!DZ242)","v":{"v":4.72972972972973,"d":"5"}},{"$f":"IF('Gefilterde data'!DW242=0,\"\",'Gefilterde data'!DW242)","v":{"v":7309,"d":"7,309"}},{"$f":"IF('Gefilterde data'!I242=0,\"\",'Gefilterde data'!I242)","v":{"v":2960,"d":"2,960"}},{"$f":"IF('Gefilterde data'!DI242=0,\"\",'Gefilterde data'!DI242)","v":0.7},{"$f":"IF('Gefilterde data'!EA242=0,\"\",'Gefilterde data'!EA242)","v":{"v":17.06081081081081,"d":"17"}},{"$f":"IF('Gefilterde data'!EA242=0,\"\",'Gefilterde data'!EB242)","v":{"v":14.864864864864865,"d":"15"}}]
[null,{"$f":"IF('Gefilterde data'!C243=0,\"\",'Gefilterde data'!C243)","v":"Concertgebouwbuurt"},{"$f":"IF(B256=\"\",\"\",IF(LEFT(D256,2)=\"BU\",'Gefilterde data'!G243,\"-\"))","v":"Museumkwartier"},{"$f":"IF('Gefilterde data'!C243=0,\"\",'Gefilterde data'!A243)","v":"BU0363KD03"},{"v":0.7023433398172815,"d":"0.70"},{"v":1.4159058460902756,"d":"1.42"},{"$f":"IF('Gefilterde data'!CL243=0,\"\",'Gefilterde data'!CL243)","v":8.1},{"$f":"IF('Gefilterde data'!DX243=0,\"\",'Gefilterde data'!DX243)","v":{"v":47.98927613941019,"d":"48.0"}},null,{"$f":"IF('Gefilterde data'!DZ243=0,\"\",'Gefilterde data'!DZ243)","v":{"v":5.361930294906166,"d":"5"}},{"$f":"IF('Gefilterde data'!DW243=0,\"\",'Gefilterde data'!DW243)","v":{"v":7858,"d":"7,858"}},{"$f":"IF('Gefilterde data'!I243=0,\"\",'Gefilterde data'!I243)","v":{"v":1865,"d":"1,865"}},{"$f":"IF('Gefilterde data'!DI243=0,\"\",'Gefilterde data'!DI243)","v":0.6},{"$f":"IF('Gefilterde data'!EA243=0,\"\",'Gefilterde data'!EA243)","v":{"v":15.013404825737265,"d":"15"}},{"$f":"IF('Gefilterde data'!EA243=0,\"\",'Gefilterde data'!EB243)","v":{"v":15.549597855227882,"d":"16"}}]
[null,{"$f":"IF('Gefilterde data'!C244=0,\"\",'Gefilterde data'!C244)","v":"P.C. Hooftbuurt"},{"$f":"IF(B257=\"\",\"\",IF(LEFT(D257,2)=\"BU\",'Gefilterde data'!G244,\"-\"))","v":"Museumkwartier"},{"$f":"IF('Gefilterde data'!C244=0,\"\",'Gefilterde data'!A244)","v":"BU0363KD04"},{"v":0.7396657824265164,"d":"0.74"},{"v":1.4911469164968554,"d":"1.49"},{"$f":"IF('Gefilterde data'!CL244=0,\"\",'Gefilterde data'!CL244)","v":7.3},{"$f":"IF('Gefilterde data'!DX244=0,\"\",'Gefilterde data'!DX244)","v":{"v":55.1948051948052,"d":"55.2"}},null,{"$f":"IF('Gefilterde data'!DZ244=0,\"\",'Gefilterde data'!DZ244)","v":{"v":3.896103896103896,"d":"4"}},{"$f":"IF('Gefilterde data'!DW244=0,\"\",'Gefilterde data'!DW244)","v":{"v":8562,"d":"8,562"}},{"$f":"IF('Gefilterde data'!I244=0,\"\",'Gefilterde data'!I244)","v":770},{"$f":"IF('Gefilterde data'!DI244=0,\"\",'Gefilterde data'!DI244)","v":0.7},{"$f":"IF('Gefilterde data'!EA244=0,\"\",'Gefilterde data'!EA244)","v":{"v":10.38961038961039,"d":"10"}},{"$f":"IF('Gefilterde data'!EA244=0,\"\",'Gefilterde data'!EB244)","v":{"v":16.883116883116884,"d":"17"}}]
[null,{"$f":"IF('Gefilterde data'!C245=0,\"\",'Gefilterde data'!C245)","v":"Museumplein"},{"$f":"IF(B258=\"\",\"\",IF(LEFT(D258,2)=\"BU\",'Gefilterde data'!G245,\"-\"))","v":"Museumkwartier"},{"$f":"IF('Gefilterde data'!C245=0,\"\",'Gefilterde data'!A245)","v":"BU0363KD05"},"Ontbrekende waarde","Ontbrekende waarde",{"$f":"IF('Gefilterde data'!CL245=0,\"\",'Gefilterde data'!CL245)","v":"."},{"$f":"IF('Gefilterde data'!DX245=0,\"\",'Gefilterde data'!DX245)","v":{"v":50,"d":"50.0"}},null,{"$f":"IF('Gefilterde data'!DZ245=0,\"\",'Gefilterde data'!DZ245)","v":""},{"$f":"IF('Gefilterde data'!DW245=0,\"\",'Gefilterde data'!DW245)","v":{"v":8644,"d":"8,644"}},{"$f":"IF('Gefilterde data'!I245=0,\"\",'Gefilterde data'!I245)","v":10},{"$f":"IF('Gefilterde data'!DI245=0,\"\",'Gefilterde data'!DI245)","v":"."},{"$f":"IF('Gefilterde data'!EA245=0,\"\",'Gefilterde data'!EA245)","v":""},{"$f":"IF('Gefilterde data'!EA245=0,\"\",'Gefilterde data'!EB245)","v":""}]
[null,{"$f":"IF('Gefilterde data'!C246=0,\"\",'Gefilterde data'!C246)","v":"Banpleinbuurt"},{"$f":"IF(B259=\"\",\"\",IF(LEFT(D259,2)=\"BU\",'Gefilterde data'!G246,\"-\"))","v":"Museumkwartier"},{"$f":"IF('Gefilterde data'!C246=0,\"\",'Gefilterde data'!A246)","v":"BU0363KD06"},{"v":0.514306407394379,"d":"0.51"},{"v":1.03682829697059,"d":"1.04"},{"$f":"IF('Gefilterde data'!CL246=0,\"\",'Gefilterde data'!CL246)","v":5.2},{"$f":"IF('Gefilterde data'!DX246=0,\"\",'Gefilterde data'!DX246)","v":{"v":37.908496732026144,"d":"37.9"}},null,{"$f":"IF('Gefilterde data'!DZ246=0,\"\",'Gefilterde data'!DZ246)","v":{"v":2.6143790849673203,"d":"3"}},{"$f":"IF('Gefilterde data'!DW246=0,\"\",'Gefilterde data'!DW246)","v":{"v":6934,"d":"6,934"}},{"$f":"IF('Gefilterde data'!I246=0,\"\",'Gefilterde data'!I246)","v":765},{"$f":"IF('Gefilterde data'!DI246=0,\"\",'Gefilterde data'!DI246)","v":0.8},{"$f":"IF('Gefilterde data'!EA246=0,\"\",'Gefilterde data'!EA246)","v":{"v":12.418300653594772,"d":"12"}},{"$f":"IF('Gefilterde data'!EA246=0,\"\",'Gefilterde data'!EB246)","v":{"v":26.143790849673206,"d":"26"}}]
[null,{"$f":"IF('Gefilterde data'!C247=0,\"\",'Gefilterde data'!C247)","v":"Hondecoeterbuurt"},{"$f":"IF(B260=\"\",\"\",IF(LEFT(D260,2)=\"BU\",'Gefilterde data'!G247,\"-\"))","v":"Museumkwartier"},{"$f":"IF('Gefilterde data'!C247=0,\"\",'Gefilterde data'!A247)","v":"BU0363KD07"},{"v":0.6694214591184365,"d":"0.67"},{"v":1.3495361936665649,"d":"1.35"},{"$f":"IF('Gefilterde data'!CL247=0,\"\",'Gefilterde data'!CL247)","v":7.3},{"$f":"IF('Gefilterde data'!DX247=0,\"\",'Gefilterde data'!DX247)","v":{"v":47.33009708737864,"d":"47.3"}},null,{"$f":"IF('Gefilterde data'!DZ247=0,\"\",'Gefilterde data'!DZ247)","v":{"v":3.8834951456310676,"d":"4"}},{"$f":"IF('Gefilterde data'!DW247=0,\"\",'Gefilterde data'!DW247)","v":{"v":7175,"d":"7,175"}},{"$f":"IF('Gefilterde data'!I247=0,\"\",'Gefilterde data'!I247)","v":{"v":2060,"d":"2,060"}},{"$f":"IF('Gefilterde data'!DI247=0,\"\",'Gefilterde data'!DI247)","v":0.6},{"$f":"IF('Gefilterde data'!EA247=0,\"\",'Gefilterde data'!EA247)","v":{"v":14.563106796116504,"d":"15"}},{"$f":"IF('Gefilterde data'!EA247=0,\"\",'Gefilterde data'!EB247)","v":{"v":17.718446601941746,"d":"18"}}]
[null,{"$f":"IF('Gefilterde data'!C248=0,\"\",'Gefilterde data'!C248)","v":"Johannes Vermeerbuurt"},{"$f":"IF(B261=\"\",\"\",IF(LEFT(D261,2)=\"BU\",'Gefilterde data'!G248,\"-\"))","v":"Museumkwartier"},{"$f":"IF('Gefilterde data'!C248=0,\"\",'Gefilterde data'!A248)","v":"BU0363KD08"},{"v":0.6740935879279679,"d":"0.67"},{"v":1.3589550834318231,"d":"1.36"},{"$f":"IF('Gefilterde data'!CL248=0,\"\",'Gefilterde data'!CL248)","v":6.6},{"$f":"IF('Gefilterde data'!DX248=0,\"\",'Gefilterde data'!DX248)","v":{"v":50.50167224080268,"d":"50.5"}},null,{"$f":"IF('Gefilterde data'!DZ248=0,\"\",'Gefilterde data'!DZ248)","v":{"v":3.3444816053511706,"d":"3"}},{"$f":"IF('Gefilterde data'!DW248=0,\"\",'Gefilterde data'!DW248)","v":{"v":8922,"d":"8,922"}},{"$f":"IF('Gefilterde data'!I248=0,\"\",'Gefilterde data'!I248)","v":{"v":1495,"d":"1,495"}},{"$f":"IF('Gefilterde data'!DI248=0,\"\",'Gefilterde data'!DI248)","v":0.6},{"$f":"IF('Gefilterde data'!EA248=0,\"\",'Gefilterde data'!EA248)","v":{"v":12.709030100334449,"d":"13"}},{"$f":"IF('Gefilterde data'!EA248=0,\"\",'Gefilterde data'!EB248)","v":{"v":18.06020066889632,"d":"18"}}]
[null,{"$f":"IF('Gefilterde data'!C249=0,\"\",'Gefilterde data'!C249)","v":"Duivelseiland"},{"$f":"IF(B262=\"\",\"\",IF(LEFT(D262,2)=\"BU\",'Gefilterde data'!G249,\"-\"))","v":"Museumkwartier"},{"$f":"IF('Gefilterde data'!C249=0,\"\",'Gefilterde data'!A249)","v":"BU0363KD09"},{"v":0.8578509243287695,"d":"0.86"},{"v":1.729405078642941,"d":"1.73"},{"$f":"IF('Gefilterde data'!CL249=0,\"\",'Gefilterde data'!CL249)","v":11.5},{"$f":"IF('Gefilterde data'!DX249=0,\"\",'Gefilterde data'!DX249)","v":{"v":52.53623188405797,"d":"52.5"}},null,{"$f":"IF('Gefilterde data'!DZ249=0,\"\",'Gefilterde data'!DZ249)","v":{"v":5.072463768115942,"d":"5"}},{"$f":"IF('Gefilterde data'!DW249=0,\"\",'Gefilterde data'!DW249)","v":{"v":9066,"d":"9,066"}},{"$f":"IF('Gefilterde data'!I249=0,\"\",'Gefilterde data'!I249)","v":{"v":1380,"d":"1,380"}},{"$f":"IF('Gefilterde data'!DI249=0,\"\",'Gefilterde data'!DI249)","v":0.4},{"$f":"IF('Gefilterde data'!EA249=0,\"\",'Gefilterde data'!EA249)","v":{"v":9.057971014492754,"d":"9"}},{"$f":"IF('Gefilterde data'!EA249=0,\"\",'Gefilterde data'!EB249)","v":{"v":9.420289855072465,"d":"9"}}]
[null,{"$f":"IF('Gefilterde data'!C250=0,\"\",'Gefilterde data'!C250)","v":"Harmoniehofbuurt"},{"$f":"IF(B263=\"\",\"\",IF(LEFT(D263,2)=\"BU\",'Gefilterde data'!G250,\"-\"))","v":"Museumkwartier"},{"$f":"IF('Gefilterde data'!C250=0,\"\",'Gefilterde data'!A250)","v":"BU0363KD10"},{"v":0.5211967958551234,"d":"0.52"},{"v":1.050719140309318,"d":"1.05"},{"$f":"IF('Gefilterde data'!CL250=0,\"\",'Gefilterde data'!CL250)","v":7.9},{"$f":"IF('Gefilterde data'!DX250=0,\"\",'Gefilterde data'!DX250)","v":{"v":28.46441947565543,"d":"28.5"}},null,{"$f":"IF('Gefilterde data'!DZ250=0,\"\",'Gefilterde data'!DZ250)","v":{"v":2.247191011235955,"d":"2"}},{"$f":"IF('Gefilterde data'!DW250=0,\"\",'Gefilterde data'!DW250)","v":{"v":8200,"d":"8,200"}},{"$f":"IF('Gefilterde data'!I250=0,\"\",'Gefilterde data'!I250)","v":{"v":1335,"d":"1,335"}},{"$f":"IF('Gefilterde data'!DI250=0,\"\",'Gefilterde data'!DI250)","v":0.5},{"$f":"IF('Gefilterde data'!EA250=0,\"\",'Gefilterde data'!EA250)","v":{"v":6.741573033707865,"d":"7"}},{"$f":"IF('Gefilterde data'!EA250=0,\"\",'Gefilterde data'!EB250)","v":{"v":49.43820224719101,"d":"49"}}]
[null,{"$f":"IF('Gefilterde data'!C251=0,\"\",'Gefilterde data'!C251)","v":"Frans Halsbuurt"},{"$f":"IF(B264=\"\",\"\",IF(LEFT(D264,2)=\"BU\",'Gefilterde data'!G251,\"-\"))","v":"Oude Pijp"},{"$f":"IF('Gefilterde data'!C251=0,\"\",'Gefilterde data'!A251)","v":"BU0363KE01"},{"v":0.9782020445974435,"d":"0.98"},{"v":1.9720297966565856,"d":"1.97"},{"$f":"IF('Gefilterde data'!CL251=0,\"\",'Gefilterde data'!CL251)","v":14.4},{"$f":"IF('Gefilterde data'!DX251=0,\"\",'Gefilterde data'!DX251)","v":{"v":55.03875968992248,"d":"55.0"}},null,{"$f":"IF('Gefilterde data'!DZ251=0,\"\",'Gefilterde data'!DZ251)","v":{"v":6.2015503875969,"d":"6"}},{"$f":"IF('Gefilterde data'!DW251=0,\"\",'Gefilterde data'!DW251)","v":{"v":9960,"d":"9,960"}},{"$f":"IF('Gefilterde data'!I251=0,\"\",'Gefilterde data'!I251)","v":{"v":2580,"d":"2,580"}},{"$f":"IF('Gefilterde data'!DI251=0,\"\",'Gefilterde data'!DI251)","v":0.3},{"$f":"IF('Gefilterde data'!EA251=0,\"\",'Gefilterde data'!EA251)","v":{"v":7.170542635658915,"d":"7"}},{"$f":"IF('Gefilterde data'!EA251=0,\"\",'Gefilterde data'!EB251)","v":{"v":10.077519379844961,"d":"10"}}]
[null,{"$f":"IF('Gefilterde data'!C252=0,\"\",'Gefilterde data'!C252)","v":"Gerard Doubuurt"},{"$f":"IF(B265=\"\",\"\",IF(LEFT(D265,2)=\"BU\",'Gefilterde data'!G252,\"-\"))","v":"Oude Pijp"},{"$f":"IF('Gefilterde data'!C252=0,\"\",'Gefilterde data'!A252)","v":"BU0363KE02"},{"v":1.1386810883302605,"d":"1.14"},{"v":2.2955513612739504,"d":"2.30"},{"$f":"IF('Gefilterde data'!CL252=0,\"\",'Gefilterde data'!CL252)","v":18.5},{"$f":"IF('Gefilterde data'!DX252=0,\"\",'Gefilterde data'!DX252)","v":{"v":57.49385749385749,"d":"57.5"}},null,{"$f":"IF('Gefilterde data'!DZ252=0,\"\",'Gefilterde data'!DZ252)","v":{"v":5.405405405405405,"d":"5"}},{"$f":"IF('Gefilterde data'!DW252=0,\"\",'Gefilterde data'!DW252)","v":{"v":10461,"d":"10,461"}},{"$f":"IF('Gefilterde data'!I252=0,\"\",'Gefilterde data'!I252)","v":{"v":2035,"d":"2,035"}},{"$f":"IF('Gefilterde data'!DI252=0,\"\",'Gefilterde data'!DI252)","v":0.2},{"$f":"IF('Gefilterde data'!EA252=0,\"\",'Gefilterde data'!EA252)","v":{"v":7.125307125307126,"d":"7"}},{"$f":"IF('Gefilterde data'!EA252=0,\"\",'Gefilterde data'!EB252)","v":{"v":11.793611793611793,"d":"12"}}]
[null,{"$f":"IF('Gefilterde data'!C253=0,\"\",'Gefilterde data'!C253)","v":"Hercules Seghersbuurt"},{"$f":"IF(B266=\"\",\"\",IF(LEFT(D266,2)=\"BU\",'Gefilterde data'!G253,\"-\"))","v":"Oude Pijp"},{"$f":"IF('Gefilterde data'!C253=0,\"\",'Gefilterde data'!A253)","v":"BU0363KE03"},{"v":1.0531846764982824,"d":"1.05"},{"v":2.123192825968223,"d":"2.12"},{"$f":"IF('Gefilterde data'!CL253=0,\"\",'Gefilterde data'!CL253)","v":16.1},{"$f":"IF('Gefilterde data'!DX253=0,\"\",'Gefilterde data'!DX253)","v":{"v":57.001972386587774,"d":"57.0"}},null,{"$f":"IF('Gefilterde data'!DZ253=0,\"\",'Gefilterde data'!DZ253)","v":{"v":7.495069033530571,"d":"7"}},{"$f":"IF('Gefilterde data'!DW253=0,\"\",'Gefilterde data'!DW253)","v":{"v":10280,"d":"10,280"}},{"$f":"IF('Gefilterde data'!I253=0,\"\",'Gefilterde data'!I253)","v":{"v":2535,"d":"2,535"}},{"$f":"IF('Gefilterde data'!DI253=0,\"\",'Gefilterde data'!DI253)","v":0.2},{"$f":"IF('Gefilterde data'!EA253=0,\"\",'Gefilterde data'!EA253)","v":{"v":6.70611439842209,"d":"7"}},{"$f":"IF('Gefilterde data'!EA253=0,\"\",'Gefilterde data'!EB253)","v":{"v":10.650887573964498,"d":"11"}}]
[null,{"$f":"IF('Gefilterde data'!C254=0,\"\",'Gefilterde data'!C254)","v":"Sarphatiparkbuurt"},{"$f":"IF(B267=\"\",\"\",IF(LEFT(D267,2)=\"BU\",'Gefilterde data'!G254,\"-\"))","v":"Oude Pijp"},{"$f":"IF('Gefilterde data'!C254=0,\"\",'Gefilterde data'!A254)","v":"BU0363KE04"},{"v":0.9571471467462273,"d":"0.96"},{"v":1.929583671996065,"d":"1.93"},{"$f":"IF('Gefilterde data'!CL254=0,\"\",'Gefilterde data'!CL254)","v":14.2},{"$f":"IF('Gefilterde data'!DX254=0,\"\",'Gefilterde data'!DX254)","v":{"v":53.43811394891945,"d":"53.4"}},null,{"$f":"IF('Gefilterde data'!DZ254=0,\"\",'Gefilterde data'!DZ254)","v":{"v":9.037328094302556,"d":"9"}},{"$f":"IF('Gefilterde data'!DW254=0,\"\",'Gefilterde data'!DW254)","v":{"v":11206,"d":"11,206"}},{"$f":"IF('Gefilterde data'!I254=0,\"\",'Gefilterde data'!I254)","v":{"v":5090,"d":"5,090"}},{"$f":"IF('Gefilterde data'!DI254=0,\"\",'Gefilterde data'!DI254)","v":0.2},{"$f":"IF('Gefilterde data'!EA254=0,\"\",'Gefilterde data'!EA254)","v":{"v":6.286836935166994,"d":"6"}},{"$f":"IF('Gefilterde data'!EA254=0,\"\",'Gefilterde data'!EB254)","v":{"v":9.823182711198427,"d":"10"}}]
[null,{"$f":"IF('Gefilterde data'!C255=0,\"\",'Gefilterde data'!C255)","v":"Hemonybuurt"},{"$f":"IF(B268=\"\",\"\",IF(LEFT(D268,2)=\"BU\",'Gefilterde data'!G255,\"-\"))","v":"Oude Pijp"},{"$f":"IF('Gefilterde data'!C255=0,\"\",'Gefilterde data'!A255)","v":"BU0363KE05"},{"v":0.8480273994368309,"d":"0.85"},{"v":1.7096011087963303,"d":"1.71"},{"$f":"IF('Gefilterde data'!CL255=0,\"\",'Gefilterde data'!CL255)","v":11.2},{"$f":"IF('Gefilterde data'!DX255=0,\"\",'Gefilterde data'!DX255)","v":{"v":52.57142857142857,"d":"52.6"}},null,{"$f":"IF('Gefilterde data'!DZ255=0,\"\",'Gefilterde data'!DZ255)","v":{"v":6.476190476190475,"d":"6"}},{"$f":"IF('Gefilterde data'!DW255=0,\"\",'Gefilterde data'!DW255)","v":{"v":10979,"d":"10,979"}},{"$f":"IF('Gefilterde data'!I255=0,\"\",'Gefilterde data'!I255)","v":{"v":2625,"d":"2,625"}},{"$f":"IF('Gefilterde data'!DI255=0,\"\",'Gefilterde data'!DI255)","v":0.3},{"$f":"IF('Gefilterde data'!EA255=0,\"\",'Gefilterde data'!EA255)","v":{"v":9.904761904761905,"d":"10"}},{"$f":"IF('Gefilterde data'!EA255=0,\"\",'Gefilterde data'!EB255)","v":{"v":8.571428571428571,"d":"9"}}]
[null,{"$f":"IF('Gefilterde data'!C256=0,\"\",'Gefilterde data'!C256)","v":"Cornelis Troostbuurt"},{"$f":"IF(B269=\"\",\"\",IF(LEFT(D269,2)=\"BU\",'Gefilterde data'!G256,\"-\"))","v":"Nieuwe Pijp"},{"$f":"IF('Gefilterde data'!C256=0,\"\",'Gefilterde data'!A256)","v":"BU0363KF01"},{"v":0.9754994211640207,"d":"0.98"},{"v":1.9665813783371928,"d":"1.97"},{"$f":"IF('Gefilterde data'!CL256=0,\"\",'Gefilterde data'!CL256)","v":14.7},{"$f":"IF('Gefilterde data'!DX256=0,\"\",'Gefilterde data'!DX256)","v":{"v":53.601108033241,"d":"53.6"}},null,{"$f":"IF('Gefilterde data'!DZ256=0,\"\",'Gefilterde data'!DZ256)","v":{"v":5.540166204986149,"d":"6"}},{"$f":"IF('Gefilterde data'!DW256=0,\"\",'Gefilterde data'!DW256)","v":{"v":9684,"d":"9,684"}},{"$f":"IF('Gefilterde data'!I256=0,\"\",'Gefilterde data'!I256)","v":{"v":3610,"d":"3,610"}},{"$f":"IF('Gefilterde data'!DI256=0,\"\",'Gefilterde data'!DI256)","v":0.3},{"$f":"IF('Gefilterde data'!EA256=0,\"\",'Gefilterde data'!EA256)","v":{"v":8.448753462603879,"d":"8"}},{"$f":"IF('Gefilterde data'!EA256=0,\"\",'Gefilterde data'!EB256)","v":{"v":12.326869806094184,"d":"12"}}]
[null,{"$f":"IF('Gefilterde data'!C257=0,\"\",'Gefilterde data'!C257)","v":"Lizzy Ansinghbuurt"},{"$f":"IF(B270=\"\",\"\",IF(LEFT(D270,2)=\"BU\",'Gefilterde data'!G257,\"-\"))","v":"Nieuwe Pijp"},{"$f":"IF('Gefilterde data'!C257=0,\"\",'Gefilterde data'!A257)","v":"BU0363KF02"},{"v":1.069903903650009,"d":"1.07"},{"v":2.156898351633775,"d":"2.16"},{"$f":"IF('Gefilterde data'!CL257=0,\"\",'Gefilterde data'!CL257)","v":16.7},{"$f":"IF('Gefilterde data'!DX257=0,\"\",'Gefilterde data'!DX257)","v":{"v":56.60377358490566,"d":"56.6"}},null,{"$f":"IF('Gefilterde data'!DZ257=0,\"\",'Gefilterde data'!DZ257)","v":{"v":5.450733752620545,"d":"5"}},{"$f":"IF('Gefilterde data'!DW257=0,\"\",'Gefilterde data'!DW257)","v":{"v":10548,"d":"10,548"}},{"$f":"IF('Gefilterde data'!I257=0,\"\",'Gefilterde data'!I257)","v":{"v":2385,"d":"2,385"}},{"$f":"IF('Gefilterde data'!DI257=0,\"\",'Gefilterde data'!DI257)","v":0.3},{"$f":"IF('Gefilterde data'!EA257=0,\"\",'Gefilterde data'!EA257)","v":{"v":7.756813417190776,"d":"8"}},{"$f":"IF('Gefilterde data'!EA257=0,\"\",'Gefilterde data'!EB257)","v":{"v":15.723270440251572,"d":"16"}}]
[null,{"$f":"IF('Gefilterde data'!C258=0,\"\",'Gefilterde data'!C258)","v":"Van der Helstpleinbuurt"},{"$f":"IF(B271=\"\",\"\",IF(LEFT(D271,2)=\"BU\",'Gefilterde data'!G258,\"-\"))","v":"Nieuwe Pijp"},{"$f":"IF('Gefilterde data'!C258=0,\"\",'Gefilterde data'!A258)","v":"BU0363KF03"},{"v":0.9470223343782175,"d":"0.95"},{"v":1.909172314459505,"d":"1.91"},{"$f":"IF('Gefilterde data'!CL258=0,\"\",'Gefilterde data'!CL258)","v":14},{"$f":"IF('Gefilterde data'!DX258=0,\"\",'Gefilterde data'!DX258)","v":{"v":53.06122448979592,"d":"53.1"}},null,{"$f":"IF('Gefilterde data'!DZ258=0,\"\",'Gefilterde data'!DZ258)","v":{"v":5.1020408163265305,"d":"5"}},{"$f":"IF('Gefilterde data'!DW258=0,\"\",'Gefilterde data'!DW258)","v":{"v":11882,"d":"11,882"}},{"$f":"IF('Gefilterde data'!I258=0,\"\",'Gefilterde data'!I258)","v":{"v":3920,"d":"3,920"}},{"$f":"IF('Gefilterde data'!DI258=0,\"\",'Gefilterde data'!DI258)","v":0.5},{"$f":"IF('Gefilterde data'!EA258=0,\"\",'Gefilterde data'!EA258)","v":{"v":8.545918367346939,"d":"9"}},{"$f":"IF('Gefilterde data'!EA258=0,\"\",'Gefilterde data'!EB258)","v":{"v":9.438775510204081,"d":"9"}}]
[null,{"$f":"IF('Gefilterde data'!C259=0,\"\",'Gefilterde data'!C259)","v":"Willibrordusbuurt"},{"$f":"IF(B272=\"\",\"\",IF(LEFT(D272,2)=\"BU\",'Gefilterde data'!G259,\"-\"))","v":"Nieuwe Pijp"},{"$f":"IF('Gefilterde data'!C259=0,\"\",'Gefilterde data'!A259)","v":"BU0363KF04"},{"v":1.164613039800879,"d":"1.16"},{"v":2.347829498769111,"d":"2.35"},{"$f":"IF('Gefilterde data'!CL259=0,\"\",'Gefilterde data'!CL259)","v":20.5},{"$f":"IF('Gefilterde data'!DX259=0,\"\",'Gefilterde data'!DX259)","v":{"v":52.83018867924528,"d":"52.8"}},null,{"$f":"IF('Gefilterde data'!DZ259=0,\"\",'Gefilterde data'!DZ259)","v":{"v":6.7924528301886795,"d":"7"}},{"$f":"IF('Gefilterde data'!DW259=0,\"\",'Gefilterde data'!DW259)","v":{"v":11609,"d":"11,609"}},{"$f":"IF('Gefilterde data'!I259=0,\"\",'Gefilterde data'!I259)","v":{"v":2650,"d":"2,650"}},{"$f":"IF('Gefilterde data'!DI259=0,\"\",'Gefilterde data'!DI259)","v":0.3},{"$f":"IF('Gefilterde data'!EA259=0,\"\",'Gefilterde data'!EA259)","v":{"v":6.981132075471698,"d":"7"}},{"$f":"IF('Gefilterde data'!EA259=0,\"\",'Gefilterde data'!EB259)","v":{"v":16.60377358490566,"d":"17"}}]
[null,{"$f":"IF('Gefilterde data'!C260=0,\"\",'Gefilterde data'!C260)","v":"BurgemeesterTellegenbuurt-West"},{"$f":"IF(B273=\"\",\"\",IF(LEFT(D273,2)=\"BU\",'Gefilterde data'!G260,\"-\"))","v":"Zuid Pijp"},{"$f":"IF('Gefilterde data'!C260=0,\"\",'Gefilterde data'!A260)","v":"BU0363KG01"},{"$f":"IF(G273=\"\",\"\",IF(OR(NOT(ISNUMBER(G273)),NOT(ISNUMBER(H273))),\"Ontbrekende waarde\",F273/F$1))","v":{"v":1.3549263632531303,"d":"1.35"}},{"$f":"IF(G273=\"\",\"\",IF(OR(NOT(ISNUMBER(G273)),NOT(ISNUMBER(H273))),\"Ontbrekende waarde\",((G273/AVERAGE(G$16:G$532)+H273/AVERAGE(H$16:H$532)))))","v":{"v":2.7314961928037054,"d":"2.73"}},{"$f":"IF('Gefilterde data'!CL260=0,\"\",'Gefilterde data'!CL260)","v":25.5},{"$f":"IF('Gefilterde data'!DX260=0,\"\",'Gefilterde data'!DX260)","v":{"v":55.22041763341067,"d":"55.2"}},null,{"$f":"IF('Gefilterde data'!DZ260=0,\"\",'Gefilterde data'!DZ260)","v":{"v":2.320185614849188,"d":"2"}},{"$f":"IF('Gefilterde data'!DW260=0,\"\",'Gefilterde data'!DW260)","v":{"v":11158,"d":"11,158"}},{"$f":"IF('Gefilterde data'!I260=0,\"\",'Gefilterde data'!I260)","v":{"v":2155,"d":"2,155"}},{"$f":"IF('Gefilterde data'!DI260=0,\"\",'Gefilterde data'!DI260)","v":0.3},{"$f":"IF('Gefilterde data'!EA260=0,\"\",'Gefilterde data'!EA260)","v":{"v":11.1368909512761,"d":"11"}},{"$f":"IF('Gefilterde data'!EA260=0,\"\",'Gefilterde data'!EB260)","v":{"v":19.953596287703014,"d":"20"}}]
[null,{"$f":"IF('Gefilterde data'!C261=0,\"\",'Gefilterde data'!C261)","v":"Burgemeester Tellegenbuurt-Oost"},{"$f":"IF(B274=\"\",\"\",IF(LEFT(D274,2)=\"BU\",'Gefilterde data'!G261,\"-\"))","v":"Zuid Pijp"},{"$f":"IF('Gefilterde data'!C261=0,\"\",'Gefilterde data'!A261)","v":"BU0363KG02"},{"v":1.285371769615339,"d":"1.29"},{"v":2.5912759469908773,"d":"2.59"},{"$f":"IF('Gefilterde data'!CL261=0,\"\",'Gefilterde data'!CL261)","v":23.5},{"$f":"IF('Gefilterde data'!DX261=0,\"\",'Gefilterde data'!DX261)","v":{"v":55.00000000000001,"d":"55.0"}},null,{"$f":"IF('Gefilterde data'!DZ261=0,\"\",'Gefilterde data'!DZ261)","v":{"v":3.7037037037037033,"d":"4"}},{"$f":"IF('Gefilterde data'!DW261=0,\"\",'Gefilterde data'!DW261)","v":{"v":11191,"d":"11,191"}},{"$f":"IF('Gefilterde data'!I261=0,\"\",'Gefilterde data'!I261)","v":{"v":2700,"d":"2,700"}},{"$f":"IF('Gefilterde data'!DI261=0,\"\",'Gefilterde data'!DI261)","v":0.3},{"$f":"IF('Gefilterde data'!EA261=0,\"\",'Gefilterde data'!EA261)","v":{"v":9.444444444444445,"d":"9"}},{"$f":"IF('Gefilterde data'!EA261=0,\"\",'Gefilterde data'!EB261)","v":{"v":17.037037037037038,"d":"17"}}]
[null,{"$f":"IF('Gefilterde data'!C262=0,\"\",'Gefilterde data'!C262)","v":"Diamantbuurt"},{"$f":"IF(B275=\"\",\"\",IF(LEFT(D275,2)=\"BU\",'Gefilterde data'!G262,\"-\"))","v":"Zuid Pijp"},{"$f":"IF('Gefilterde data'!C262=0,\"\",'Gefilterde data'!A262)","v":"BU0363KG03"},{"v":1.4505187265928678,"d":"1.45"},{"v":2.924207902904825,"d":"2.92"},{"$f":"IF('Gefilterde data'!CL262=0,\"\",'Gefilterde data'!CL262)","v":27.1},{"$f":"IF('Gefilterde data'!DX262=0,\"\",'Gefilterde data'!DX262)","v":{"v":59.8694942903752,"d":"59.9"}},null,{"$f":"IF('Gefilterde data'!DZ262=0,\"\",'Gefilterde data'!DZ262)","v":{"v":3.588907014681892,"d":"4"}},{"$f":"IF('Gefilterde data'!DW262=0,\"\",'Gefilterde data'!DW262)","v":{"v":10257,"d":"10,257"}},{"$f":"IF('Gefilterde data'!I262=0,\"\",'Gefilterde data'!I262)","v":{"v":3065,"d":"3,065"}},{"$f":"IF('Gefilterde data'!DI262=0,\"\",'Gefilterde data'!DI262)","v":0.3},{"$f":"IF('Gefilterde data'!EA262=0,\"\",'Gefilterde data'!EA262)","v":{"v":11.419249592169658,"d":"11"}},{"$f":"IF('Gefilterde data'!EA262=0,\"\",'Gefilterde data'!EB262)","v":{"v":17.128874388254488,"d":"17"}}]
[null,{"$f":"IF('Gefilterde data'!C263=0,\"\",'Gefilterde data'!C263)","v":"Bertelmanpleinbuurt"},{"$f":"IF(B276=\"\",\"\",IF(LEFT(D276,2)=\"BU\",'Gefilterde data'!G263,\"-\"))","v":"Stadionbuurt"},{"$f":"IF('Gefilterde data'!C263=0,\"\",'Gefilterde data'!A263)","v":"BU0363KH01"},{"v":1.2440295220466973,"d":"1.24"},{"v":2.5079310546791196,"d":"2.51"},{"$f":"IF('Gefilterde data'!CL263=0,\"\",'Gefilterde data'!CL263)","v":22.7},{"$f":"IF('Gefilterde data'!DX263=0,\"\",'Gefilterde data'!DX263)","v":{"v":53.398058252427184,"d":"53.4"}},null,{"$f":"IF('Gefilterde data'!DZ263=0,\"\",'Gefilterde data'!DZ263)","v":{"v":1.9417475728155338,"d":"2"}},{"$f":"IF('Gefilterde data'!DW263=0,\"\",'Gefilterde data'!DW263)","v":{"v":7438,"d":"7,438"}},{"$f":"IF('Gefilterde data'!I263=0,\"\",'Gefilterde data'!I263)","v":{"v":1030,"d":"1,030"}},{"$f":"IF('Gefilterde data'!DI263=0,\"\",'Gefilterde data'!DI263)","v":0.4},{"$f":"IF('Gefilterde data'!EA263=0,\"\",'Gefilterde data'!EA263)","v":{"v":8.737864077669903,"d":"9"}},{"$f":"IF('Gefilterde data'!EA263=0,\"\",'Gefilterde data'!EB263)","v":{"v":21.844660194174757,"d":"22"}}]
[null,{"$f":"IF('Gefilterde data'!C264=0,\"\",'Gefilterde data'!C264)","v":"Olympisch Stadion e.o."},{"$f":"IF(B277=\"\",\"\",IF(LEFT(D277,2)=\"BU\",'Gefilterde data'!G264,\"-\"))","v":"Stadionbuurt"},{"$f":"IF('Gefilterde data'!C264=0,\"\",'Gefilterde data'!A264)","v":"BU0363KH02"},{"v":0.9553055357231327,"d":"0.96"},{"v":1.9258710322285943,"d":"1.93"},{"$f":"IF('Gefilterde data'!CL264=0,\"\",'Gefilterde data'!CL264)","v":12.4},{"$f":"IF('Gefilterde data'!DX264=0,\"\",'Gefilterde data'!DX264)","v":{"v":60.04228329809725,"d":"60.0"}},null,{"$f":"IF('Gefilterde data'!DZ264=0,\"\",'Gefilterde data'!DZ264)","v":{"v":2.1141649048625792,"d":"2"}},{"$f":"IF('Gefilterde data'!DW264=0,\"\",'Gefilterde data'!DW264)","v":{"v":5281,"d":"5,281"}},{"$f":"IF('Gefilterde data'!I264=0,\"\",'Gefilterde data'!I264)","v":{"v":2365,"d":"2,365"}},{"$f":"IF('Gefilterde data'!DI264=0,\"\",'Gefilterde data'!DI264)","v":0.5},{"$f":"IF('Gefilterde data'!EA264=0,\"\",'Gefilterde data'!EA264)","v":{"v":18.6046511627907,"d":"19"}},{"$f":"IF('Gefilterde data'!EA264=0,\"\",'Gefilterde data'!EB264)","v":{"v":15.433403805496829,"d":"15"}}]
[null,{"$f":"IF('Gefilterde data'!C265=0,\"\",'Gefilterde data'!C265)","v":"Marathonbuurt-West"},{"$f":"IF(B278=\"\",\"\",IF(LEFT(D278,2)=\"BU\",'Gefilterde data'!G265,\"-\"))","v":"Stadionbuurt"},{"$f":"IF('Gefilterde data'!C265=0,\"\",'Gefilterde data'!A265)","v":"BU0363KH03"},{"v":1.4621119742529936,"d":"1.46"},{"v":2.9475795876728688,"d":"2.95"},{"$f":"IF('Gefilterde data'!CL265=0,\"\",'Gefilterde data'!CL265)","v":28.1},{"$f":"IF('Gefilterde data'!DX265=0,\"\",'Gefilterde data'!DX265)","v":{"v":57.383966244725734,"d":"57.4"}},null,{"$f":"IF('Gefilterde data'!DZ265=0,\"\",'Gefilterde data'!DZ265)","v":{"v":2.5316455696202533,"d":"3"}},{"$f":"IF('Gefilterde data'!DW265=0,\"\",'Gefilterde data'!DW265)","v":{"v":5365,"d":"5,365"}},{"$f":"IF('Gefilterde data'!I265=0,\"\",'Gefilterde data'!I265)","v":{"v":2370,"d":"2,370"}},{"$f":"IF('Gefilterde data'!DI265=0,\"\",'Gefilterde data'!DI265)","v":0.4},{"$f":"IF('Gefilterde data'!EA265=0,\"\",'Gefilterde data'!EA265)","v":{"v":9.915611814345992,"d":"10"}},{"$f":"IF('Gefilterde data'!EA265=0,\"\",'Gefilterde data'!EB265)","v":{"v":18.143459915611814,"d":"18"}}]
[null,{"$f":"IF('Gefilterde data'!C266=0,\"\",'Gefilterde data'!C266)","v":"Marathonbuurt-Oost"},{"$f":"IF(B279=\"\",\"\",IF(LEFT(D279,2)=\"BU\",'Gefilterde data'!G266,\"-\"))","v":"Stadionbuurt"},{"$f":"IF('Gefilterde data'!C266=0,\"\",'Gefilterde data'!A266)","v":"BU0363KH04"},{"v":1.1473756877616534,"d":"1.15"},{"v":2.3130794468503373,"d":"2.31"},{"$f":"IF('Gefilterde data'!CL266=0,\"\",'Gefilterde data'!CL266)","v":21.1},{"$f":"IF('Gefilterde data'!DX266=0,\"\",'Gefilterde data'!DX266)","v":{"v":48.63013698630137,"d":"48.6"}},null,{"$f":"IF('Gefilterde data'!DZ266=0,\"\",'Gefilterde data'!DZ266)","v":{"v":2.73972602739726,"d":"3"}},{"$f":"IF('Gefilterde data'!DW266=0,\"\",'Gefilterde data'!DW266)","v":{"v":6924,"d":"6,924"}},{"$f":"IF('Gefilterde data'!I266=0,\"\",'Gefilterde data'!I266)","v":{"v":1460,"d":"1,460"}},{"$f":"IF('Gefilterde data'!DI266=0,\"\",'Gefilterde data'!DI266)","v":0.4},{"$f":"IF('Gefilterde data'!EA266=0,\"\",'Gefilterde data'!EA266)","v":{"v":10.616438356164384,"d":"11"}},{"$f":"IF('Gefilterde data'!EA266=0,\"\",'Gefilterde data'!EB266)","v":{"v":20.205479452054796,"d":"20"}}]
[null,{"$f":"IF('Gefilterde data'!C267=0,\"\",'Gefilterde data'!C267)","v":"Van Tuyllbuurt"},{"$f":"IF(B280=\"\",\"\",IF(LEFT(D280,2)=\"BU\",'Gefilterde data'!G267,\"-\"))","v":"Stadionbuurt"},{"$f":"IF('Gefilterde data'!C267=0,\"\",'Gefilterde data'!A267)","v":"BU0363KH05"},{"v":0.7564914054288654,"d":"0.76"},{"v":1.5250669334209639,"d":"1.53"},{"$f":"IF('Gefilterde data'!CL267=0,\"\",'Gefilterde data'!CL267)","v":10.3},{"$f":"IF('Gefilterde data'!DX267=0,\"\",'Gefilterde data'!DX267)","v":{"v":45.7280385078219,"d":"45.7"}},null,{"$f":"IF('Gefilterde data'!DZ267=0,\"\",'Gefilterde data'!DZ267)","v":{"v":4.332129963898916,"d":"4"}},{"$f":"IF('Gefilterde data'!DW267=0,\"\",'Gefilterde data'!DW267)","v":{"v":4706,"d":"4,706"}},{"$f":"IF('Gefilterde data'!I267=0,\"\",'Gefilterde data'!I267)","v":{"v":4155,"d":"4,155"}},{"$f":"IF('Gefilterde data'!DI267=0,\"\",'Gefilterde data'!DI267)","v":0.5},{"$f":"IF('Gefilterde data'!EA267=0,\"\",'Gefilterde data'!EA267)","v":{"v":12.394705174488568,"d":"12"}},{"$f":"IF('Gefilterde data'!EA267=0,\"\",'Gefilterde data'!EB267)","v":{"v":12.274368231046932,"d":"12"}}]
[null,{"$f":"IF('Gefilterde data'!C268=0,\"\",'Gefilterde data'!C268)","v":"IJsbaanpad e.o."},{"$f":"IF(B281=\"\",\"\",IF(LEFT(D281,2)=\"BU\",'Gefilterde data'!G268,\"-\"))","v":"Stadionbuurt"},{"$f":"IF('Gefilterde data'!C268=0,\"\",'Gefilterde data'!A268)","v":"BU0363KH06"},{"v":0.3642379444808184,"d":"0.36"},{"v":0.734294191630642,"d":"0.73"},{"$f":"IF('Gefilterde data'!CL268=0,\"\",'Gefilterde data'!CL268)","v":4.6},{"$f":"IF('Gefilterde data'!DX268=0,\"\",'Gefilterde data'!DX268)","v":{"v":23.376623376623375,"d":"23.4"}},null,{"$f":"IF('Gefilterde data'!DZ268=0,\"\",'Gefilterde data'!DZ268)","v":{"v":2.5974025974025974,"d":"3"}},{"$f":"IF('Gefilterde data'!DW268=0,\"\",'Gefilterde data'!DW268)","v":{"v":2113,"d":"2,113"}},{"$f":"IF('Gefilterde data'!I268=0,\"\",'Gefilterde data'!I268)","v":385},{"$f":"IF('Gefilterde data'!DI268=0,\"\",'Gefilterde data'!DI268)","v":0.9},{"$f":"IF('Gefilterde data'!EA268=0,\"\",'Gefilterde data'!EA268)","v":{"v":18.181818181818183,"d":"18"}},{"$f":"IF('Gefilterde data'!EA268=0,\"\",'Gefilterde data'!EB268)","v":{"v":15.584415584415584,"d":"16"}}]
[null,{"$f":"IF('Gefilterde data'!C269=0,\"\",'Gefilterde data'!C269)","v":"Hiltonbuurt"},{"$f":"IF(B282=\"\",\"\",IF(LEFT(D282,2)=\"BU\",'Gefilterde data'!G269,\"-\"))","v":"Apollobuurt"},{"$f":"IF('Gefilterde data'!C269=0,\"\",'Gefilterde data'!A269)","v":"BU0363KJ01"},"Ontbrekende waarde","Ontbrekende waarde",{"$f":"IF('Gefilterde data'!CL269=0,\"\",'Gefilterde data'!CL269)","v":"."},{"$f":"IF('Gefilterde data'!DX269=0,\"\",'Gefilterde data'!DX269)","v":{"v":33.33333333333333,"d":"33.3"}},null,{"$f":"IF('Gefilterde data'!DZ269=0,\"\",'Gefilterde data'!DZ269)","v":""},{"$f":"IF('Gefilterde data'!DW269=0,\"\",'Gefilterde data'!DW269)","v":{"v":6096,"d":"6,096"}},{"$f":"IF('Gefilterde data'!I269=0,\"\",'Gefilterde data'!I269)","v":75},{"$f":"IF('Gefilterde data'!DI269=0,\"\",'Gefilterde data'!DI269)","v":"."},{"$f":"IF('Gefilterde data'!EA269=0,\"\",'Gefilterde data'!EA269)","v":20},{"$f":"IF('Gefilterde data'!EA269=0,\"\",'Gefilterde data'!EB269)","v":{"v":13.333333333333334,"d":"13"}}]
[null,{"$f":"IF('Gefilterde data'!C270=0,\"\",'Gefilterde data'!C270)","v":"Minervabuurt-Noord"},{"$f":"IF(B283=\"\",\"\",IF(LEFT(D283,2)=\"BU\",'Gefilterde data'!G270,\"-\"))","v":"Apollobuurt"},{"$f":"IF('Gefilterde data'!C270=0,\"\",'Gefilterde data'!A270)","v":"BU0363KJ02"},{"v":0.6575928668444978,"d":"0.66"},{"v":1.325690060298168,"d":"1.33"},{"$f":"IF('Gefilterde data'!CL270=0,\"\",'Gefilterde data'!CL270)","v":6.7},{"$f":"IF('Gefilterde data'!DX270=0,\"\",'Gefilterde data'!DX270)","v":{"v":48.275862068965516,"d":"48.3"}},null,{"$f":"IF('Gefilterde data'!DZ270=0,\"\",'Gefilterde data'!DZ270)","v":{"v":2.0689655172413794,"d":"2"}},{"$f":"IF('Gefilterde data'!DW270=0,\"\",'Gefilterde data'!DW270)","v":{"v":6049,"d":"6,049"}},{"$f":"IF('Gefilterde data'!I270=0,\"\",'Gefilterde data'!I270)","v":{"v":1450,"d":"1,450"}},{"$f":"IF('Gefilterde data'!DI270=0,\"\",'Gefilterde data'!DI270)","v":0.8},{"$f":"IF('Gefilterde data'!EA270=0,\"\",'Gefilterde data'!EA270)","v":20},{"$f":"IF('Gefilterde data'!EA270=0,\"\",'Gefilterde data'!EB270)","v":{"v":17.586206896551722,"d":"18"}}]
[null,{"$f":"IF('Gefilterde data'!C271=0,\"\",'Gefilterde data'!C271)","v":"Minervabuurt-Midden"},{"$f":"IF(B284=\"\",\"\",IF(LEFT(D284,2)=\"BU\",'Gefilterde data'!G271,\"-\"))","v":"Apollobuurt"},{"$f":"IF('Gefilterde data'!C271=0,\"\",'Gefilterde data'!A271)","v":"BU0363KJ03"},{"v":0.6877630751873485,"d":"0.69"},{"v":1.386512413054467,"d":"1.39"},{"$f":"IF('Gefilterde data'!CL271=0,\"\",'Gefilterde data'!CL271)","v":6.4},{"$f":"IF('Gefilterde data'!DX271=0,\"\",'Gefilterde data'!DX271)","v":{"v":52.788844621513945,"d":"52.8"}},null,{"$f":"IF('Gefilterde data'!DZ271=0,\"\",'Gefilterde data'!DZ271)","v":{"v":3.187250996015936,"d":"3"}},{"$f":"IF('Gefilterde data'!DW271=0,\"\",'Gefilterde data'!DW271)","v":{"v":5821,"d":"5,821"}},{"$f":"IF('Gefilterde data'!I271=0,\"\",'Gefilterde data'!I271)","v":{"v":2510,"d":"2,510"}},{"$f":"IF('Gefilterde data'!DI271=0,\"\",'Gefilterde data'!DI271)","v":0.8},{"$f":"IF('Gefilterde data'!EA271=0,\"\",'Gefilterde data'!EA271)","v":{"v":18.725099601593627,"d":"19"}},{"$f":"IF('Gefilterde data'!EA271=0,\"\",'Gefilterde data'!EB271)","v":{"v":17.928286852589643,"d":"18"}}]
[null,{"$f":"IF('Gefilterde data'!C272=0,\"\",'Gefilterde data'!C272)","v":"Minervabuurt-Zuid"},{"$f":"IF(B285=\"\",\"\",IF(LEFT(D285,2)=\"BU\",'Gefilterde data'!G272,\"-\"))","v":"Apollobuurt"},{"$f":"IF('Gefilterde data'!C272=0,\"\",'Gefilterde data'!A272)","v":"BU0363KJ04"},{"v":0.6915931343765146,"d":"0.69"},{"v":1.3942337124380746,"d":"1.39"},{"$f":"IF('Gefilterde data'!CL272=0,\"\",'Gefilterde data'!CL272)","v":7.2},{"$f":"IF('Gefilterde data'!DX272=0,\"\",'Gefilterde data'!DX272)","v":{"v":50.19083969465649,"d":"50.2"}},null,{"$f":"IF('Gefilterde data'!DZ272=0,\"\",'Gefilterde data'!DZ272)","v":{"v":3.0534351145038165,"d":"3"}},{"$f":"IF('Gefilterde data'!DW272=0,\"\",'Gefilterde data'!DW272)","v":{"v":5239,"d":"5,239"}},{"$f":"IF('Gefilterde data'!I272=0,\"\",'Gefilterde data'!I272)","v":{"v":2620,"d":"2,620"}},{"$f":"IF('Gefilterde data'!DI272=0,\"\",'Gefilterde data'!DI272)","v":0.7},{"$f":"IF('Gefilterde data'!EA272=0,\"\",'Gefilterde data'!EA272)","v":{"v":17.17557251908397,"d":"17"}},{"$f":"IF('Gefilterde data'!EA272=0,\"\",'Gefilterde data'!EB272)","v":{"v":18.51145038167939,"d":"19"}}]
[null,{"$f":"IF('Gefilterde data'!C273=0,\"\",'Gefilterde data'!C273)","v":"Beethovenbuurt"},{"$f":"IF(B286=\"\",\"\",IF(LEFT(D286,2)=\"BU\",'Gefilterde data'!G273,\"-\"))","v":"Apollobuurt"},{"$f":"IF('Gefilterde data'!C273=0,\"\",'Gefilterde data'!A273)","v":"BU0363KJ05"},{"v":0.8609198496355484,"d":"0.86"},{"v":1.7355919519807204,"d":"1.74"},{"$f":"IF('Gefilterde data'!CL273=0,\"\",'Gefilterde data'!CL273)","v":12.6},{"$f":"IF('Gefilterde data'!DX273=0,\"\",'Gefilterde data'!DX273)","v":{"v":48.717948717948715,"d":"48.7"}},null,{"$f":"IF('Gefilterde data'!DZ273=0,\"\",'Gefilterde data'!DZ273)","v":{"v":2.93040293040293,"d":"3"}},{"$f":"IF('Gefilterde data'!DW273=0,\"\",'Gefilterde data'!DW273)","v":{"v":6424,"d":"6,424"}},{"$f":"IF('Gefilterde data'!I273=0,\"\",'Gefilterde data'!I273)","v":{"v":1365,"d":"1,365"}},{"$f":"IF('Gefilterde data'!DI273=0,\"\",'Gefilterde data'!DI273)","v":0.7},{"$f":"IF('Gefilterde data'!EA273=0,\"\",'Gefilterde data'!EA273)","v":{"v":17.216117216117215,"d":"17"}},{"$f":"IF('Gefilterde data'!EA273=0,\"\",'Gefilterde data'!EB273)","v":{"v":16.84981684981685,"d":"17"}}]
[null,{"$f":"IF('Gefilterde data'!C274=0,\"\",'Gefilterde data'!C274)","v":"Diepenbrockbuurt"},{"$f":"IF(B287=\"\",\"\",IF(LEFT(D287,2)=\"BU\",'Gefilterde data'!G274,\"-\"))","v":"Apollobuurt"},{"$f":"IF('Gefilterde data'!C274=0,\"\",'Gefilterde data'!A274)","v":"BU0363KJ06"},{"v":0.6724148180229782,"d":"0.67"},{"v":1.3555707271092676,"d":"1.36"},{"$f":"IF('Gefilterde data'!CL274=0,\"\",'Gefilterde data'!CL274)","v":8.5},{"$f":"IF('Gefilterde data'!DX274=0,\"\",'Gefilterde data'!DX274)","v":{"v":43.125,"d":"43.1"}},null,{"$f":"IF('Gefilterde data'!DZ274=0,\"\",'Gefilterde data'!DZ274)","v":{"v":3.75,"d":"4"}},{"$f":"IF('Gefilterde data'!DW274=0,\"\",'Gefilterde data'!DW274)","v":{"v":5530,"d":"5,530"}},{"$f":"IF('Gefilterde data'!I274=0,\"\",'Gefilterde data'!I274)","v":800},{"$f":"IF('Gefilterde data'!DI274=0,\"\",'Gefilterde data'!DI274)","v":1.3},{"$f":"IF('Gefilterde data'!EA274=0,\"\",'Gefilterde data'!EA274)","v":{"v":21.25,"d":"21"}},{"$f":"IF('Gefilterde data'!EA274=0,\"\",'Gefilterde data'!EB274)","v":{"v":16.875,"d":"17"}}]
[null,{"$f":"IF('Gefilterde data'!C275=0,\"\",'Gefilterde data'!C275)","v":"Wielingenbuurt"},{"$f":"IF(B288=\"\",\"\",IF(LEFT(D288,2)=\"BU\",'Gefilterde data'!G275,\"-\"))","v":"Scheldebuurt"},{"$f":"IF('Gefilterde data'!C275=0,\"\",'Gefilterde data'!A275)","v":"BU0363KK01"},{"v":0.6245272730700867,"d":"0.62"},{"v":1.2590306860641718,"d":"1.26"},{"$f":"IF('Gefilterde data'!CL275=0,\"\",'Gefilterde data'!CL275)","v":8},{"$f":"IF('Gefilterde data'!DX275=0,\"\",'Gefilterde data'!DX275)","v":{"v":39.6551724137931,"d":"39.7"}},null,{"$f":"IF('Gefilterde data'!DZ275=0,\"\",'Gefilterde data'!DZ275)","v":{"v":3.793103448275862,"d":"4"}},{"$f":"IF('Gefilterde data'!DW275=0,\"\",'Gefilterde data'!DW275)","v":{"v":7655,"d":"7,655"}},{"$f":"IF('Gefilterde data'!I275=0,\"\",'Gefilterde data'!I275)","v":{"v":2900,"d":"2,900"}},{"$f":"IF('Gefilterde data'!DI275=0,\"\",'Gefilterde data'!DI275)","v":0.5},{"$f":"IF('Gefilterde data'!EA275=0,\"\",'Gefilterde data'!EA275)","v":{"v":12.758620689655173,"d":"13"}},{"$f":"IF('Gefilterde data'!EA275=0,\"\",'Gefilterde data'!EB275)","v":{"v":15.344827586206897,"d":"15"}}]
[null,{"$f":"IF('Gefilterde data'!C276=0,\"\",'Gefilterde data'!C276)","v":"Scheldebuurt-West"},{"$f":"IF(B289=\"\",\"\",IF(LEFT(D289,2)=\"BU\",'Gefilterde data'!G276,\"-\"))","v":"Scheldebuurt"},{"$f":"IF('Gefilterde data'!C276=0,\"\",'Gefilterde data'!A276)","v":"BU0363KK02"},{"v":0.6944792324240642,"d":"0.69"},{"v":1.4000520107919514,"d":"1.40"},{"$f":"IF('Gefilterde data'!CL276=0,\"\",'Gefilterde data'!CL276)","v":9.5},{"$f":"IF('Gefilterde data'!DX276=0,\"\",'Gefilterde data'!DX276)","v":{"v":41.81184668989547,"d":"41.8"}},null,{"$f":"IF('Gefilterde data'!DZ276=0,\"\",'Gefilterde data'!DZ276)","v":{"v":4.878048780487805,"d":"5"}},{"$f":"IF('Gefilterde data'!DW276=0,\"\",'Gefilterde data'!DW276)","v":{"v":7292,"d":"7,292"}},{"$f":"IF('Gefilterde data'!I276=0,\"\",'Gefilterde data'!I276)","v":{"v":4305,"d":"4,305"}},{"$f":"IF('Gefilterde data'!DI276=0,\"\",'Gefilterde data'!DI276)","v":0.4},{"$f":"IF('Gefilterde data'!EA276=0,\"\",'Gefilterde data'!EA276)","v":{"v":12.89198606271777,"d":"13"}},{"$f":"IF('Gefilterde data'!EA276=0,\"\",'Gefilterde data'!EB276)","v":{"v":14.866434378629501,"d":"15"}}]
[null,{"$f":"IF('Gefilterde data'!C277=0,\"\",'Gefilterde data'!C277)","v":"Scheldebuurt-Midden"},{"$f":"IF(B290=\"\",\"\",IF(LEFT(D290,2)=\"BU\",'Gefilterde data'!G277,\"-\"))","v":"Scheldebuurt"},{"$f":"IF('Gefilterde data'!C277=0,\"\",'Gefilterde data'!A277)","v":"BU0363KK03"},{"v":0.6270632592639045,"d":"0.63"},{"v":1.2641431680567612,"d":"1.26"},{"$f":"IF('Gefilterde data'!CL277=0,\"\",'Gefilterde data'!CL277)","v":7.9},{"$f":"IF('Gefilterde data'!DX277=0,\"\",'Gefilterde data'!DX277)","v":{"v":40.317460317460316,"d":"40.3"}},null,{"$f":"IF('Gefilterde data'!DZ277=0,\"\",'Gefilterde data'!DZ277)","v":{"v":4.761904761904762,"d":"5"}},{"$f":"IF('Gefilterde data'!DW277=0,\"\",'Gefilterde data'!DW277)","v":{"v":8591,"d":"8,591"}},{"$f":"IF('Gefilterde data'!I277=0,\"\",'Gefilterde data'!I277)","v":{"v":3150,"d":"3,150"}},{"$f":"IF('Gefilterde data'!DI277=0,\"\",'Gefilterde data'!DI277)","v":0.5},{"$f":"IF('Gefilterde data'!EA277=0,\"\",'Gefilterde data'!EA277)","v":{"v":13.65079365079365,"d":"14"}},{"$f":"IF('Gefilterde data'!EA277=0,\"\",'Gefilterde data'!EB277)","v":{"v":14.285714285714285,"d":"14"}}]
[null,{"$f":"IF('Gefilterde data'!C278=0,\"\",'Gefilterde data'!C278)","v":"Scheldebuurt-Oost"},{"$f":"IF(B291=\"\",\"\",IF(LEFT(D291,2)=\"BU\",'Gefilterde data'!G278,\"-\"))","v":"Scheldebuurt"},{"$f":"IF('Gefilterde data'!C278=0,\"\",'Gefilterde data'!A278)","v":"BU0363KK04"},{"v":0.6286645036196912,"d":"0.63"},{"v":1.2673712348950787,"d":"1.27"},{"$f":"IF('Gefilterde data'!CL278=0,\"\",'Gefilterde data'!CL278)","v":7.6},{"$f":"IF('Gefilterde data'!DX278=0,\"\",'Gefilterde data'!DX278)","v":{"v":41.63179916317992,"d":"41.6"}},null,{"$f":"IF('Gefilterde data'!DZ278=0,\"\",'Gefilterde data'!DZ278)","v":{"v":5.02092050209205,"d":"5"}},{"$f":"IF('Gefilterde data'!DW278=0,\"\",'Gefilterde data'!DW278)","v":{"v":8226,"d":"8,226"}},{"$f":"IF('Gefilterde data'!I278=0,\"\",'Gefilterde data'!I278)","v":{"v":2390,"d":"2,390"}},{"$f":"IF('Gefilterde data'!DI278=0,\"\",'Gefilterde data'!DI278)","v":0.4},{"$f":"IF('Gefilterde data'!EA278=0,\"\",'Gefilterde data'!EA278)","v":{"v":12.343096234309623,"d":"12"}},{"$f":"IF('Gefilterde data'!EA278=0,\"\",'Gefilterde data'!EB278)","v":{"v":11.92468619246862,"d":"12"}}]
[null,{"$f":"IF('Gefilterde data'!C279=0,\"\",'Gefilterde data'!C279)","v":"Veluwebuurt"},{"$f":"IF(B292=\"\",\"\",IF(LEFT(D292,2)=\"BU\",'Gefilterde data'!G279,\"-\"))","v":"Scheldebuurt"},{"$f":"IF('Gefilterde data'!C279=0,\"\",'Gefilterde data'!A279)","v":"BU0363KK05"},{"v":0.951762619684178,"d":"0.95"},{"v":1.9187286059430855,"d":"1.92"},{"$f":"IF('Gefilterde data'!CL279=0,\"\",'Gefilterde data'!CL279)","v":18.1},{"$f":"IF('Gefilterde data'!DX279=0,\"\",'Gefilterde data'!DX279)","v":{"v":38.079470198675494,"d":"38.1"}},null,{"$f":"IF('Gefilterde data'!DZ279=0,\"\",'Gefilterde data'!DZ279)","v":{"v":1.9867549668874174,"d":"2"}},{"$f":"IF('Gefilterde data'!DW279=0,\"\",'Gefilterde data'!DW279)","v":{"v":5172,"d":"5,172"}},{"$f":"IF('Gefilterde data'!I279=0,\"\",'Gefilterde data'!I279)","v":{"v":1510,"d":"1,510"}},{"$f":"IF('Gefilterde data'!DI279=0,\"\",'Gefilterde data'!DI279)","v":0.5},{"$f":"IF('Gefilterde data'!EA279=0,\"\",'Gefilterde data'!EA279)","v":{"v":12.251655629139073,"d":"12"}},{"$f":"IF('Gefilterde data'!EA279=0,\"\",'Gefilterde data'!EB279)","v":{"v":24.503311258278146,"d":"25"}}]
[null,{"$f":"IF('Gefilterde data'!C280=0,\"\",'Gefilterde data'!C280)","v":"Kop Zuidas"},{"$f":"IF(B293=\"\",\"\",IF(LEFT(D293,2)=\"BU\",'Gefilterde data'!G280,\"-\"))","v":"Scheldebuurt"},{"$f":"IF('Gefilterde data'!C280=0,\"\",'Gefilterde data'!A280)","v":"BU0363KK06"},{"v":0.6108989253378154,"d":"0.61"},{"v":1.2315562926546835,"d":"1.23"},{"$f":"IF('Gefilterde data'!CL280=0,\"\",'Gefilterde data'!CL280)","v":3},{"$f":"IF('Gefilterde data'!DX280=0,\"\",'Gefilterde data'!DX280)","v":{"v":57.04697986577181,"d":"57.0"}},null,{"$f":"IF('Gefilterde data'!DZ280=0,\"\",'Gefilterde data'!DZ280)","v":{"v":4.026845637583892,"d":"4"}},{"$f":"IF('Gefilterde data'!DW280=0,\"\",'Gefilterde data'!DW280)","v":{"v":3888,"d":"3,888"}},{"$f":"IF('Gefilterde data'!I280=0,\"\",'Gefilterde data'!I280)","v":745},{"$f":"IF('Gefilterde data'!DI280=0,\"\",'Gefilterde data'!DI280)","v":0.5},{"$f":"IF('Gefilterde data'!EA280=0,\"\",'Gefilterde data'!EA280)","v":{"v":13.422818791946309,"d":"13"}},{"$f":"IF('Gefilterde data'!EA280=0,\"\",'Gefilterde data'!EB280)","v":{"v":11.409395973154362,"d":"11"}}]
[null,{"$f":"IF('Gefilterde data'!C281=0,\"\",'Gefilterde data'!C281)","v":"IJselbuurt-West"},{"$f":"IF(B294=\"\",\"\",IF(LEFT(D294,2)=\"BU\",'Gefilterde data'!G281,\"-\"))","v":"IJselbuurt"},{"$f":"IF('Gefilterde data'!C281=0,\"\",'Gefilterde data'!A281)","v":"BU0363KL01"},{"v":1.0684060474889998,"d":"1.07"},{"v":2.153878712698312,"d":"2.15"},{"$f":"IF('Gefilterde data'!CL281=0,\"\",'Gefilterde data'!CL281)","v":19.7},{"$f":"IF('Gefilterde data'!DX281=0,\"\",'Gefilterde data'!DX281)","v":{"v":45.085470085470085,"d":"45.1"}},null,{"$f":"IF('Gefilterde data'!DZ281=0,\"\",'Gefilterde data'!DZ281)","v":{"v":5.128205128205128,"d":"5"}},{"$f":"IF('Gefilterde data'!DW281=0,\"\",'Gefilterde data'!DW281)","v":{"v":9983,"d":"9,983"}},{"$f":"IF('Gefilterde data'!I281=0,\"\",'Gefilterde data'!I281)","v":{"v":2340,"d":"2,340"}},{"$f":"IF('Gefilterde data'!DI281=0,\"\",'Gefilterde data'!DI281)","v":0.4},{"$f":"IF('Gefilterde data'!EA281=0,\"\",'Gefilterde data'!EA281)","v":{"v":8.333333333333332,"d":"8"}},{"$f":"IF('Gefilterde data'!EA281=0,\"\",'Gefilterde data'!EB281)","v":{"v":15.384615384615385,"d":"15"}}]
[null,{"$f":"IF('Gefilterde data'!C282=0,\"\",'Gefilterde data'!C282)","v":"IJselbuurt-Oost"},{"$f":"IF(B295=\"\",\"\",IF(LEFT(D295,2)=\"BU\",'Gefilterde data'!G282,\"-\"))","v":"IJselbuurt"},{"$f":"IF('Gefilterde data'!C282=0,\"\",'Gefilterde data'!A282)","v":"BU0363KL02"},{"v":0.9113197128726382,"d":"0.91"},{"v":1.8371967611302042,"d":"1.84"},{"$f":"IF('Gefilterde data'!CL282=0,\"\",'Gefilterde data'!CL282)","v":14.6},{"$f":"IF('Gefilterde data'!DX282=0,\"\",'Gefilterde data'!DX282)","v":{"v":46.79376083188908,"d":"46.8"}},null,{"$f":"IF('Gefilterde data'!DZ282=0,\"\",'Gefilterde data'!DZ282)","v":{"v":5.545927209705372,"d":"6"}},{"$f":"IF('Gefilterde data'!DW282=0,\"\",'Gefilterde data'!DW282)","v":{"v":9349,"d":"9,349"}},{"$f":"IF('Gefilterde data'!I282=0,\"\",'Gefilterde data'!I282)","v":{"v":2885,"d":"2,885"}},{"$f":"IF('Gefilterde data'!DI282=0,\"\",'Gefilterde data'!DI282)","v":0.4},{"$f":"IF('Gefilterde data'!EA282=0,\"\",'Gefilterde data'!EA282)","v":{"v":10.74523396880416,"d":"11"}},{"$f":"IF('Gefilterde data'!EA282=0,\"\",'Gefilterde data'!EB282)","v":{"v":13.171577123050259,"d":"13"}}]
[null,{"$f":"IF('Gefilterde data'!C283=0,\"\",'Gefilterde data'!C283)","v":"Kromme Mijdrechtbuurt"},{"$f":"IF(B296=\"\",\"\",IF(LEFT(D296,2)=\"BU\",'Gefilterde data'!G283,\"-\"))","v":"Rijnbuurt"},{"$f":"IF('Gefilterde data'!C283=0,\"\",'Gefilterde data'!A283)","v":"BU0363KM01"},{"v":1.0297829581060978,"d":"1.03"},{"v":2.0760155723351597,"d":"2.08"},{"$f":"IF('Gefilterde data'!CL283=0,\"\",'Gefilterde data'!CL283)","v":18.3},{"$f":"IF('Gefilterde data'!DX283=0,\"\",'Gefilterde data'!DX283)","v":{"v":46.058091286307054,"d":"46.1"}},null,{"$f":"IF('Gefilterde data'!DZ283=0,\"\",'Gefilterde data'!DZ283)","v":{"v":4.979253112033195,"d":"5"}},{"$f":"IF('Gefilterde data'!DW283=0,\"\",'Gefilterde data'!DW283)","v":{"v":7623,"d":"7,623"}},{"$f":"IF('Gefilterde data'!I283=0,\"\",'Gefilterde data'!I283)","v":{"v":2410,"d":"2,410"}},{"$f":"IF('Gefilterde data'!DI283=0,\"\",'Gefilterde data'!DI283)","v":0.3},{"$f":"IF('Gefilterde data'!EA283=0,\"\",'Gefilterde data'!EA283)","v":{"v":7.883817427385892,"d":"8"}},{"$f":"IF('Gefilterde data'!EA283=0,\"\",'Gefilterde data'!EB283)","v":{"v":15.352697095435685,"d":"15"}}]
[null,{"$f":"IF('Gefilterde data'!C284=0,\"\",'Gefilterde data'!C284)","v":"Rijnbuurt-West"},{"$f":"IF(B297=\"\",\"\",IF(LEFT(D297,2)=\"BU\",'Gefilterde data'!G284,\"-\"))","v":"Rijnbuurt"},{"$f":"IF('Gefilterde data'!C284=0,\"\",'Gefilterde data'!A284)","v":"BU0363KM02"},{"v":1.4952751403512559,"d":"1.50"},{"v":3.014435665165692,"d":"3.01"},{"$f":"IF('Gefilterde data'!CL284=0,\"\",'Gefilterde data'!CL284)","v":29.6},{"$f":"IF('Gefilterde data'!DX284=0,\"\",'Gefilterde data'!DX284)","v":{"v":55.42168674698795,"d":"55.4"}},null,{"$f":"IF('Gefilterde data'!DZ284=0,\"\",'Gefilterde data'!DZ284)","v":{"v":1.8072289156626504,"d":"2"}},{"$f":"IF('Gefilterde data'!DW284=0,\"\",'Gefilterde data'!DW284)","v":{"v":5272,"d":"5,272"}},{"$f":"IF('Gefilterde data'!I284=0,\"\",'Gefilterde data'!I284)","v":{"v":1660,"d":"1,660"}},{"$f":"IF('Gefilterde data'!DI284=0,\"\",'Gefilterde data'!DI284)","v":0.3},{"$f":"IF('Gefilterde data'!EA284=0,\"\",'Gefilterde data'!EA284)","v":{"v":11.74698795180723,"d":"12"}},{"$f":"IF('Gefilterde data'!EA284=0,\"\",'Gefilterde data'!EB284)","v":{"v":21.987951807228914,"d":"22"}}]
[null,{"$f":"IF('Gefilterde data'!C285=0,\"\",'Gefilterde data'!C285)","v":"Rijnbuurt-Midden"},{"$f":"IF(B298=\"\",\"\",IF(LEFT(D298,2)=\"BU\",'Gefilterde data'!G285,\"-\"))","v":"Rijnbuurt"},{"$f":"IF('Gefilterde data'!C285=0,\"\",'Gefilterde data'!A285)","v":"BU0363KM03"},{"v":0.737259957288871,"d":"0.74"},{"v":1.4862968357970807,"d":"1.49"},{"$f":"IF('Gefilterde data'!CL285=0,\"\",'Gefilterde data'!CL285)","v":11.8},{"$f":"IF('Gefilterde data'!DX285=0,\"\",'Gefilterde data'!DX285)","v":{"v":37.89954337899543,"d":"37.9"}},null,{"$f":"IF('Gefilterde data'!DZ285=0,\"\",'Gefilterde data'!DZ285)","v":{"v":5.0228310502283104,"d":"5"}},{"$f":"IF('Gefilterde data'!DW285=0,\"\",'Gefilterde data'!DW285)","v":{"v":5347,"d":"5,347"}},{"$f":"IF('Gefilterde data'!I285=0,\"\",'Gefilterde data'!I285)","v":{"v":2190,"d":"2,190"}},{"$f":"IF('Gefilterde data'!DI285=0,\"\",'Gefilterde data'!DI285)","v":0.4},{"$f":"IF('Gefilterde data'!EA285=0,\"\",'Gefilterde data'!EA285)","v":{"v":10.273972602739725,"d":"10"}},{"$f":"IF('Gefilterde data'!EA285=0,\"\",'Gefilterde data'!EB285)","v":{"v":13.013698630136986,"d":"13"}}]
[null,{"$f":"IF('Gefilterde data'!C286=0,\"\",'Gefilterde data'!C286)","v":"Rijnbuurt-Oost"},{"$f":"IF(B299=\"\",\"\",IF(LEFT(D299,2)=\"BU\",'Gefilterde data'!G286,\"-\"))","v":"Rijnbuurt"},{"$f":"IF('Gefilterde data'!C286=0,\"\",'Gefilterde data'!A286)","v":"BU0363KM04"},{"v":0.7160655677825092,"d":"0.72"},{"v":1.4435694995996888,"d":"1.44"},{"$f":"IF('Gefilterde data'!CL286=0,\"\",'Gefilterde data'!CL286)","v":11.1},{"$f":"IF('Gefilterde data'!DX286=0,\"\",'Gefilterde data'!DX286)","v":{"v":38.17504655493482,"d":"38.2"}},null,{"$f":"IF('Gefilterde data'!DZ286=0,\"\",'Gefilterde data'!DZ286)","v":{"v":6.33147113594041,"d":"6"}},{"$f":"IF('Gefilterde data'!DW286=0,\"\",'Gefilterde data'!DW286)","v":{"v":5774,"d":"5,774"}},{"$f":"IF('Gefilterde data'!I286=0,\"\",'Gefilterde data'!I286)","v":{"v":2685,"d":"2,685"}},{"$f":"IF('Gefilterde data'!DI286=0,\"\",'Gefilterde data'!DI286)","v":0.4},{"$f":"IF('Gefilterde data'!EA286=0,\"\",'Gefilterde data'!EA286)","v":{"v":9.124767225325884,"d":"9"}},{"$f":"IF('Gefilterde data'!EA286=0,\"\",'Gefilterde data'!EB286)","v":{"v":11.91806331471136,"d":"12"}}]
[null,{"$f":"IF('Gefilterde data'!C287=0,\"\",'Gefilterde data'!C287)","v":"Zorgvlied"},{"$f":"IF(B300=\"\",\"\",IF(LEFT(D300,2)=\"BU\",'Gefilterde data'!G287,\"-\"))","v":"Rijnbuurt"},{"$f":"IF('Gefilterde data'!C287=0,\"\",'Gefilterde data'!A287)","v":"BU0363KM05"},"Ontbrekende waarde","Ontbrekende waarde",{"$f":"IF('Gefilterde data'!CL287=0,\"\",'Gefilterde data'!CL287)","v":"."},{"$f":"IF('Gefilterde data'!DX287=0,\"\",'Gefilterde data'!DX287)","v":{"v":22.22222222222222,"d":"22.2"}},null,{"$f":"IF('Gefilterde data'!DZ287=0,\"\",'Gefilterde data'!DZ287)","v":{"v":22.22222222222222,"d":"22"}},{"$f":"IF('Gefilterde data'!DW287=0,\"\",'Gefilterde data'!DW287)","v":{"v":2858,"d":"2,858"}},{"$f":"IF('Gefilterde data'!I287=0,\"\",'Gefilterde data'!I287)","v":45},{"$f":"IF('Gefilterde data'!DI287=0,\"\",'Gefilterde data'!DI287)","v":"."},{"$f":"IF('Gefilterde data'!EA287=0,\"\",'Gefilterde data'!EA287)","v":{"v":11.11111111111111,"d":"11"}},{"$f":"IF('Gefilterde data'!EA287=0,\"\",'Gefilterde data'!EB287)","v":{"v":22.22222222222222,"d":"22"}}]
[null,{"$f":"IF('Gefilterde data'!C288=0,\"\",'Gefilterde data'!C288)","v":"Prinses Irenebuurt"},{"$f":"IF(B301=\"\",\"\",IF(LEFT(D301,2)=\"BU\",'Gefilterde data'!G288,\"-\"))","v":"Prinses Irenebuurt e.o."},{"$f":"IF('Gefilterde data'!C288=0,\"\",'Gefilterde data'!A288)","v":"BU0363KN01"},{"v":0.5781824310187954,"d":"0.58"},{"v":1.1656006938133374,"d":"1.17"},{"$f":"IF('Gefilterde data'!CL288=0,\"\",'Gefilterde data'!CL288)","v":3.8},{"$f":"IF('Gefilterde data'!DX288=0,\"\",'Gefilterde data'!DX288)","v":{"v":50.357142857142854,"d":"50.4"}},null,{"$f":"IF('Gefilterde data'!DZ288=0,\"\",'Gefilterde data'!DZ288)","v":{"v":2.857142857142857,"d":"3"}},{"$f":"IF('Gefilterde data'!DW288=0,\"\",'Gefilterde data'!DW288)","v":{"v":4570,"d":"4,570"}},{"$f":"IF('Gefilterde data'!I288=0,\"\",'Gefilterde data'!I288)","v":{"v":1400,"d":"1,400"}},{"$f":"IF('Gefilterde data'!DI288=0,\"\",'Gefilterde data'!DI288)","v":0.9},{"$f":"IF('Gefilterde data'!EA288=0,\"\",'Gefilterde data'!EA288)","v":{"v":17.142857142857142,"d":"17"}},{"$f":"IF('Gefilterde data'!EA288=0,\"\",'Gefilterde data'!EB288)","v":{"v":22.5,"d":"23"}}]
[null,{"$f":"IF('Gefilterde data'!C289=0,\"\",'Gefilterde data'!C289)","v":"Beatrixpark"},{"$f":"IF(B302=\"\",\"\",IF(LEFT(D302,2)=\"BU\",'Gefilterde data'!G289,\"-\"))","v":"Prinses Irenebuurt e.o."},{"$f":"IF('Gefilterde data'!C289=0,\"\",'Gefilterde data'!A289)","v":"BU0363KN02"},"Ontbrekende waarde","Ontbrekende waarde",{"$f":"IF('Gefilterde data'!CL289=0,\"\",'Gefilterde data'!CL289)","v":"."},{"$f":"IF('Gefilterde data'!DX289=0,\"\",'Gefilterde data'!DX289)","v":"Geen inwoners"},null,{"$f":"IF('Gefilterde data'!DZ289=0,\"\",'Gefilterde data'!DZ289)","v":"Geen inwoners"},{"$f":"IF('Gefilterde data'!DW289=0,\"\",'Gefilterde data'!DW289)","v":{"v":5904,"d":"5,904"}},{"$f":"IF('Gefilterde data'!I289=0,\"\",'Gefilterde data'!I289)","v":""},{"$f":"IF('Gefilterde data'!DI289=0,\"\",'Gefilterde data'!DI289)","v":"."},{"$f":"IF('Gefilterde data'!EA289=0,\"\",'Gefilterde data'!EA289)","v":"Geen inwoners"},{"$f":"IF('Gefilterde data'!EA289=0,\"\",'Gefilterde data'!EB289)","v":"Geen inwoners"}]
[null,{"$f":"IF('Gefilterde data'!C290=0,\"\",'Gefilterde data'!C290)","v":"Zuidas-Noord"},{"$f":"IF(B303=\"\",\"\",IF(LEFT(D303,2)=\"BU\",'Gefilterde data'!G290,\"-\"))","v":"Zuidas"},{"$f":"IF('Gefilterde data'!C290=0,\"\",'Gefilterde data'!A290)","v":"BU0363KP01"},{"v":0.6773298202077159,"d":"0.68"},{"v":1.365479243261392,"d":"1.37"},{"$f":"IF('Gefilterde data'!CL290=0,\"\",'Gefilterde data'!CL290)","v":2.1},{"$f":"IF('Gefilterde data'!DX290=0,\"\",'Gefilterde data'!DX290)","v":{"v":67.88990825688074,"d":"67.9"}},null,{"$f":"IF('Gefilterde data'!DZ290=0,\"\",'Gefilterde data'!DZ290)","v":{"v":1.834862385321101,"d":"2"}},{"$f":"IF('Gefilterde data'!DW290=0,\"\",'Gefilterde data'!DW290)","v":{"v":3869,"d":"3,869"}},{"$f":"IF('Gefilterde data'!I290=0,\"\",'Gefilterde data'!I290)","v":545},{"$f":"IF('Gefilterde data'!DI290=0,\"\",'Gefilterde data'!DI290)","v":0.6},{"$f":"IF('Gefilterde data'!EA290=0,\"\",'Gefilterde data'!EA290)","v":{"v":11.926605504587156,"d":"12"}},{"$f":"IF('Gefilterde data'!EA290=0,\"\",'Gefilterde data'!EB290)","v":{"v":4.587155963302752,"d":"5"}}]
[null,{"$f":"IF('Gefilterde data'!C291=0,\"\",'Gefilterde data'!C291)","v":"RAI"},{"$f":"IF(B304=\"\",\"\",IF(LEFT(D304,2)=\"BU\",'Gefilterde data'!G291,\"-\"))","v":"Zuidas"},{"$f":"IF('Gefilterde data'!C291=0,\"\",'Gefilterde data'!A291)","v":"BU0363KP02"},"Ontbrekende waarde","Ontbrekende waarde",{"$f":"IF('Gefilterde data'!CL291=0,\"\",'Gefilterde data'!CL291)","v":"."},{"$f":"IF('Gefilterde data'!DX291=0,\"\",'Gefilterde data'!DX291)","v":"Geen inwoners"},null,{"$f":"IF('Gefilterde data'!DZ291=0,\"\",'Gefilterde data'!DZ291)","v":"Geen inwoners"},{"$f":"IF('Gefilterde data'!DW291=0,\"\",'Gefilterde data'!DW291)","v":{"v":5124,"d":"5,124"}},{"$f":"IF('Gefilterde data'!I291=0,\"\",'Gefilterde data'!I291)","v":""},{"$f":"IF('Gefilterde data'!DI291=0,\"\",'Gefilterde data'!DI291)","v":"."},{"$f":"IF('Gefilterde data'!EA291=0,\"\",'Gefilterde data'!EA291)","v":"Geen inwoners"},{"$f":"IF('Gefilterde data'!EA291=0,\"\",'Gefilterde data'!EB291)","v":"Geen inwoners"}]
[null,{"$f":"IF('Gefilterde data'!C292=0,\"\",'Gefilterde data'!C292)","v":"VU-kwartier"},{"$f":"IF(B305=\"\",\"\",IF(LEFT(D305,2)=\"BU\",'Gefilterde data'!G292,\"-\"))","v":"Zuidas"},{"$f":"IF('Gefilterde data'!C292=0,\"\",'Gefilterde data'!A292)","v":"BU0363KP03"},"Ontbrekende waarde","Ontbrekende waarde",{"$f":"IF('Gefilterde data'!CL292=0,\"\",'Gefilterde data'!CL292)","v":"."},{"$f":"IF('Gefilterde data'!DX292=0,\"\",'Gefilterde data'!DX292)","v":{"v":80.55555555555556,"d":"80.6"}},null,{"$f":"IF('Gefilterde data'!DZ292=0,\"\",'Gefilterde data'!DZ292)","v":""},{"$f":"IF('Gefilterde data'!DW292=0,\"\",'Gefilterde data'!DW292)","v":{"v":2808,"d":"2,808"}},{"$f":"IF('Gefilterde data'!I292=0,\"\",'Gefilterde data'!I292)","v":180},{"$f":"IF('Gefilterde data'!DI292=0,\"\",'Gefilterde data'!DI292)","v":0.3},{"$f":"IF('Gefilterde data'!EA292=0,\"\",'Gefilterde data'!EA292)","v":{"v":19.444444444444446,"d":"19"}},{"$f":"IF('Gefilterde data'!EA292=0,\"\",'Gefilterde data'!EB292)","v":{"v":5.555555555555555,"d":"6"}}]
[null,{"$f":"IF('Gefilterde data'!C293=0,\"\",'Gefilterde data'!C293)","v":"Zuidas-Zuid"},{"$f":"IF(B306=\"\",\"\",IF(LEFT(D306,2)=\"BU\",'Gefilterde data'!G293,\"-\"))","v":"Zuidas"},{"$f":"IF('Gefilterde data'!C293=0,\"\",'Gefilterde data'!A293)","v":"BU0363KP04"},{"v":0.8012456208880475,"d":"0.80"},{"v":1.615290263967994,"d":"1.62"},{"$f":"IF('Gefilterde data'!CL293=0,\"\",'Gefilterde data'!CL293)","v":4.7},{"$f":"IF('Gefilterde data'!DX293=0,\"\",'Gefilterde data'!DX293)","v":{"v":71.92660550458716,"d":"71.9"}},null,{"$f":"IF('Gefilterde data'!DZ293=0,\"\",'Gefilterde data'!DZ293)","v":{"v":2.2018348623853212,"d":"2"}},{"$f":"IF('Gefilterde data'!DW293=0,\"\",'Gefilterde data'!DW293)","v":{"v":3842,"d":"3,842"}},{"$f":"IF('Gefilterde data'!I293=0,\"\",'Gefilterde data'!I293)","v":{"v":2725,"d":"2,725"}},{"$f":"IF('Gefilterde data'!DI293=0,\"\",'Gefilterde data'!DI293)","v":1.3},{"$f":"IF('Gefilterde data'!EA293=0,\"\",'Gefilterde data'!EA293)","v":{"v":12.477064220183486,"d":"12"}},{"$f":"IF('Gefilterde data'!EA293=0,\"\",'Gefilterde data'!EB293)","v":{"v":4.587155963302752,"d":"5"}}]
[null,{"$f":"IF('Gefilterde data'!C294=0,\"\",'Gefilterde data'!C294)","v":"Vivaldi"},{"$f":"IF(B307=\"\",\"\",IF(LEFT(D307,2)=\"BU\",'Gefilterde data'!G294,\"-\"))","v":"Zuidas"},{"$f":"IF('Gefilterde data'!C294=0,\"\",'Gefilterde data'!A294)","v":"BU0363KP05"},{"v":1.3895968615954777,"d":"1.39"},{"v":2.801391012768203,"d":"2.80"},{"$f":"IF('Gefilterde data'!CL294=0,\"\",'Gefilterde data'!CL294)","v":20.2},{"$f":"IF('Gefilterde data'!DX294=0,\"\",'Gefilterde data'!DX294)","v":{"v":79.15492957746478,"d":"79.2"}},null,{"$f":"IF('Gefilterde data'!DZ294=0,\"\",'Gefilterde data'!DZ294)","v":{"v":26.478873239436616,"d":"26"}},{"$f":"IF('Gefilterde data'!DW294=0,\"\",'Gefilterde data'!DW294)","v":{"v":3696,"d":"3,696"}},{"$f":"IF('Gefilterde data'!I294=0,\"\",'Gefilterde data'!I294)","v":{"v":1775,"d":"1,775"}},{"$f":"IF('Gefilterde data'!DI294=0,\"\",'Gefilterde data'!DI294)","v":0.8},{"$f":"IF('Gefilterde data'!EA294=0,\"\",'Gefilterde data'!EA294)","v":{"v":7.323943661971831,"d":"7"}},{"$f":"IF('Gefilterde data'!EA294=0,\"\",'Gefilterde data'!EB294)","v":{"v":2.535211267605634,"d":"3"}}]
[null,{"$f":"IF('Gefilterde data'!C295=0,\"\",'Gefilterde data'!C295)","v":"Amsterdamse Bos"},{"$f":"IF(B308=\"\",\"\",IF(LEFT(D308,2)=\"BU\",'Gefilterde data'!G295,\"-\"))","v":"Buitenveldert-West"},{"$f":"IF('Gefilterde data'!C295=0,\"\",'Gefilterde data'!A295)","v":"BU0363KQ01"},"Ontbrekende waarde","Ontbrekende waarde",{"$f":"IF('Gefilterde data'!CL295=0,\"\",'Gefilterde data'!CL295)","v":"."},{"$f":"IF('Gefilterde data'!DX295=0,\"\",'Gefilterde data'!DX295)","v":{"v":30.76923076923077,"d":"30.8"}},null,{"$f":"IF('Gefilterde data'!DZ295=0,\"\",'Gefilterde data'!DZ295)","v":""},{"$f":"IF('Gefilterde data'!DW295=0,\"\",'Gefilterde data'!DW295)","v":877},{"$f":"IF('Gefilterde data'!I295=0,\"\",'Gefilterde data'!I295)","v":65},{"$f":"IF('Gefilterde data'!DI295=0,\"\",'Gefilterde data'!DI295)","v":"."},{"$f":"IF('Gefilterde data'!EA295=0,\"\",'Gefilterde data'!EA295)","v":{"v":7.6923076923076925,"d":"8"}},{"$f":"IF('Gefilterde data'!EA295=0,\"\",'Gefilterde data'!EB295)","v":{"v":30.76923076923077,"d":"31"}}]
[null,{"$f":"IF('Gefilterde data'!C296=0,\"\",'Gefilterde data'!C296)","v":"Zuiderhof"},{"$f":"IF(B309=\"\",\"\",IF(LEFT(D309,2)=\"BU\",'Gefilterde data'!G296,\"-\"))","v":"Buitenveldert-West"},{"$f":"IF('Gefilterde data'!C296=0,\"\",'Gefilterde data'!A296)","v":"BU0363KQ02"},"Ontbrekende waarde","Ontbrekende waarde",{"$f":"IF('Gefilterde data'!CL296=0,\"\",'Gefilterde data'!CL296)","v":"."},{"$f":"IF('Gefilterde data'!DX296=0,\"\",'Gefilterde data'!DX296)","v":{"v":85.71428571428571,"d":"85.7"}},null,{"$f":"IF('Gefilterde data'!DZ296=0,\"\",'Gefilterde data'!DZ296)","v":""},{"$f":"IF('Gefilterde data'!DW296=0,\"\",'Gefilterde data'!DW296)","v":{"v":1635,"d":"1,635"}},{"$f":"IF('Gefilterde data'!I296=0,\"\",'Gefilterde data'!I296)","v":35},{"$f":"IF('Gefilterde data'!DI296=0,\"\",'Gefilterde data'!DI296)","v":"."},{"$f":"IF('Gefilterde data'!EA296=0,\"\",'Gefilterde data'!EA296)","v":{"v":14.285714285714285,"d":"14"}},{"$f":"IF('Gefilterde data'!EA296=0,\"\",'Gefilterde data'!EB296)","v":0}]
[null,{"$f":"IF('Gefilterde data'!C297=0,\"\",'Gefilterde data'!C297)","v":"Buitenveldert-West-Midden"},{"$f":"IF(B310=\"\",\"\",IF(LEFT(D310,2)=\"BU\",'Gefilterde data'!G297,\"-\"))","v":"Buitenveldert-West"},{"$f":"IF('Gefilterde data'!C297=0,\"\",'Gefilterde data'!A297)","v":"BU0363KQ03"},{"v":0.7801095823170131,"d":"0.78"},{"v":1.57268056173361,"d":"1.57"},{"$f":"IF('Gefilterde data'!CL297=0,\"\",'Gefilterde data'!CL297)","v":9.1},{"$f":"IF('Gefilterde data'!DX297=0,\"\",'Gefilterde data'!DX297)","v":{"v":52.9126213592233,"d":"52.9"}},null,{"$f":"IF('Gefilterde data'!DZ297=0,\"\",'Gefilterde data'!DZ297)","v":{"v":2.912621359223301,"d":"3"}},{"$f":"IF('Gefilterde data'!DW297=0,\"\",'Gefilterde data'!DW297)","v":{"v":2804,"d":"2,804"}},{"$f":"IF('Gefilterde data'!I297=0,\"\",'Gefilterde data'!I297)","v":{"v":1030,"d":"1,030"}},{"$f":"IF('Gefilterde data'!DI297=0,\"\",'Gefilterde data'!DI297)","v":0.8},{"$f":"IF('Gefilterde data'!EA297=0,\"\",'Gefilterde data'!EA297)","v":{"v":14.077669902912621,"d":"14"}},{"$f":"IF('Gefilterde data'!EA297=0,\"\",'Gefilterde data'!EB297)","v":{"v":29.61165048543689,"d":"30"}}]
[null,{"$f":"IF('Gefilterde data'!C298=0,\"\",'Gefilterde data'!C298)","v":"Gelderlandpleinbuurt"},{"$f":"IF(B311=\"\",\"\",IF(LEFT(D311,2)=\"BU\",'Gefilterde data'!G298,\"-\"))","v":"Buitenveldert-West"},{"$f":"IF('Gefilterde data'!C298=0,\"\",'Gefilterde data'!A298)","v":"BU0363KQ04"},{"v":0.9410858474625495,"d":"0.94"},{"v":1.8972045117444976,"d":"1.90"},{"$f":"IF('Gefilterde data'!CL298=0,\"\",'Gefilterde data'!CL298)","v":11.2},{"$f":"IF('Gefilterde data'!DX298=0,\"\",'Gefilterde data'!DX298)","v":{"v":62.990455991516434,"d":"63.0"}},null,{"$f":"IF('Gefilterde data'!DZ298=0,\"\",'Gefilterde data'!DZ298)","v":{"v":4.878048780487805,"d":"5"}},{"$f":"IF('Gefilterde data'!DW298=0,\"\",'Gefilterde data'!DW298)","v":{"v":4420,"d":"4,420"}},{"$f":"IF('Gefilterde data'!I298=0,\"\",'Gefilterde data'!I298)","v":{"v":4715,"d":"4,715"}},{"$f":"IF('Gefilterde data'!DI298=0,\"\",'Gefilterde data'!DI298)","v":0.4},{"$f":"IF('Gefilterde data'!EA298=0,\"\",'Gefilterde data'!EA298)","v":{"v":11.028632025450689,"d":"11"}},{"$f":"IF('Gefilterde data'!EA298=0,\"\",'Gefilterde data'!EB298)","v":{"v":23.01166489925769,"d":"23"}}]
[null,{"$f":"IF('Gefilterde data'!C299=0,\"\",'Gefilterde data'!C299)","v":"Buitenveldert-Zuidwest"},{"$f":"IF(B312=\"\",\"\",IF(LEFT(D312,2)=\"BU\",'Gefilterde data'!G299,\"-\"))","v":"Buitenveldert-West"},{"$f":"IF('Gefilterde data'!C299=0,\"\",'Gefilterde data'!A299)","v":"BU0363KQ05"},{"v":0.9928063132389724,"d":"0.99"},{"v":2.0014716211534096,"d":"2.00"},{"$f":"IF('Gefilterde data'!CL299=0,\"\",'Gefilterde data'!CL299)","v":15.2},{"$f":"IF('Gefilterde data'!DX299=0,\"\",'Gefilterde data'!DX299)","v":{"v":53.64705882352941,"d":"53.6"}},null,{"$f":"IF('Gefilterde data'!DZ299=0,\"\",'Gefilterde data'!DZ299)","v":{"v":2.823529411764706,"d":"3"}},{"$f":"IF('Gefilterde data'!DW299=0,\"\",'Gefilterde data'!DW299)","v":{"v":2948,"d":"2,948"}},{"$f":"IF('Gefilterde data'!I299=0,\"\",'Gefilterde data'!I299)","v":{"v":4250,"d":"4,250"}},{"$f":"IF('Gefilterde data'!DI299=0,\"\",'Gefilterde data'!DI299)","v":0.6},{"$f":"IF('Gefilterde data'!EA299=0,\"\",'Gefilterde data'!EA299)","v":{"v":13.882352941176471,"d":"14"}},{"$f":"IF('Gefilterde data'!EA299=0,\"\",'Gefilterde data'!EB299)","v":{"v":27.764705882352942,"d":"28"}}]
[null,{"$f":"IF('Gefilterde data'!C300=0,\"\",'Gefilterde data'!C300)","v":"Buitenveldert-Zuid-Midden"},{"$f":"IF(B313=\"\",\"\",IF(LEFT(D313,2)=\"BU\",'Gefilterde data'!G300,\"-\"))","v":"Buitenveldert-West"},{"$f":"IF('Gefilterde data'!C300=0,\"\",'Gefilterde data'!A300)","v":"BU0363KQ06"},{"v":0.8735561699393498,"d":"0.87"},{"v":1.7610664439804258,"d":"1.76"},{"$f":"IF('Gefilterde data'!CL300=0,\"\",'Gefilterde data'!CL300)","v":8.9},{"$f":"IF('Gefilterde data'!DX300=0,\"\",'Gefilterde data'!DX300)","v":{"v":64.1318124207858,"d":"64.1"}},null,{"$f":"IF('Gefilterde data'!DZ300=0,\"\",'Gefilterde data'!DZ300)","v":{"v":4.816223067173637,"d":"5"}},{"$f":"IF('Gefilterde data'!DW300=0,\"\",'Gefilterde data'!DW300)","v":{"v":4394,"d":"4,394"}},{"$f":"IF('Gefilterde data'!I300=0,\"\",'Gefilterde data'!I300)","v":{"v":3945,"d":"3,945"}},{"$f":"IF('Gefilterde data'!DI300=0,\"\",'Gefilterde data'!DI300)","v":0.5},{"$f":"IF('Gefilterde data'!EA300=0,\"\",'Gefilterde data'!EA300)","v":{"v":15.082382762991129,"d":"15"}},{"$f":"IF('Gefilterde data'!EA300=0,\"\",'Gefilterde data'!EB300)","v":{"v":12.420785804816223,"d":"12"}}]
[null,{"$f":"IF('Gefilterde data'!C301=0,\"\",'Gefilterde data'!C301)","v":"De Klenckebuurt"},{"$f":"IF(B314=\"\",\"\",IF(LEFT(D314,2)=\"BU\",'Gefilterde data'!G301,\"-\"))","v":"Buitenveldert-Oost"},{"$f":"IF('Gefilterde data'!C301=0,\"\",'Gefilterde data'!A301)","v":"BU0363KR01"},{"v":0.6419190163900764,"d":"0.64"},{"v":1.2940919867762728,"d":"1.29"},{"$f":"IF('Gefilterde data'!CL301=0,\"\",'Gefilterde data'!CL301)","v":4.7},{"$f":"IF('Gefilterde data'!DX301=0,\"\",'Gefilterde data'!DX301)","v":{"v":54.088050314465406,"d":"54.1"}},null,{"$f":"IF('Gefilterde data'!DZ301=0,\"\",'Gefilterde data'!DZ301)","v":{"v":1.257861635220126,"d":"1"}},{"$f":"IF('Gefilterde data'!DW301=0,\"\",'Gefilterde data'!DW301)","v":{"v":3851,"d":"3,851"}},{"$f":"IF('Gefilterde data'!I301=0,\"\",'Gefilterde data'!I301)","v":795},{"$f":"IF('Gefilterde data'!DI301=0,\"\",'Gefilterde data'!DI301)","v":0.6},{"$f":"IF('Gefilterde data'!EA301=0,\"\",'Gefilterde data'!EA301)","v":{"v":11.320754716981133,"d":"11"}},{"$f":"IF('Gefilterde data'!EA301=0,\"\",'Gefilterde data'!EB301)","v":{"v":34.59119496855346,"d":"35"}}]
[null,{"$f":"IF('Gefilterde data'!C302=0,\"\",'Gefilterde data'!C302)","v":"Buitenveldert-Oost-Midden"},{"$f":"IF(B315=\"\",\"\",IF(LEFT(D315,2)=\"BU\",'Gefilterde data'!G302,\"-\"))","v":"Buitenveldert-Oost"},{"$f":"IF('Gefilterde data'!C302=0,\"\",'Gefilterde data'!A302)","v":"BU0363KR02"},{"v":1.1262374503834032,"d":"1.13"},{"v":2.270465311877982,"d":"2.27"},{"$f":"IF('Gefilterde data'!CL302=0,\"\",'Gefilterde data'!CL302)","v":16.9},{"$f":"IF('Gefilterde data'!DX302=0,\"\",'Gefilterde data'!DX302)","v":{"v":62.154294032023294,"d":"62.2"}},null,{"$f":"IF('Gefilterde data'!DZ302=0,\"\",'Gefilterde data'!DZ302)","v":{"v":2.3289665211062593,"d":"2"}},{"$f":"IF('Gefilterde data'!DW302=0,\"\",'Gefilterde data'!DW302)","v":{"v":3497,"d":"3,497"}},{"$f":"IF('Gefilterde data'!I302=0,\"\",'Gefilterde data'!I302)","v":{"v":3435,"d":"3,435"}},{"$f":"IF('Gefilterde data'!DI302=0,\"\",'Gefilterde data'!DI302)","v":0.5},{"$f":"IF('Gefilterde data'!EA302=0,\"\",'Gefilterde data'!EA302)","v":{"v":13.682678311499272,"d":"14"}},{"$f":"IF('Gefilterde data'!EA302=0,\"\",'Gefilterde data'!EB302)","v":{"v":24.45414847161572,"d":"24"}}]
[null,{"$f":"IF('Gefilterde data'!C303=0,\"\",'Gefilterde data'!C303)","v":"Buitenveldert-Zuidoost"},{"$f":"IF(B316=\"\",\"\",IF(LEFT(D316,2)=\"BU\",'Gefilterde data'!G303,\"-\"))","v":"Buitenveldert-Oost"},{"$f":"IF('Gefilterde data'!C303=0,\"\",'Gefilterde data'!A303)","v":"BU0363KR03"},{"v":0.8981301091320735,"d":"0.90"},{"v":1.8106068641593889,"d":"1.81"},{"$f":"IF('Gefilterde data'!CL303=0,\"\",'Gefilterde data'!CL303)","v":9.9},{"$f":"IF('Gefilterde data'!DX303=0,\"\",'Gefilterde data'!DX303)","v":{"v":63.09963099630996,"d":"63.1"}},null,{"$f":"IF('Gefilterde data'!DZ303=0,\"\",'Gefilterde data'!DZ303)","v":{"v":6.888068880688807,"d":"7"}},{"$f":"IF('Gefilterde data'!DW303=0,\"\",'Gefilterde data'!DW303)","v":{"v":3276,"d":"3,276"}},{"$f":"IF('Gefilterde data'!I303=0,\"\",'Gefilterde data'!I303)","v":{"v":4065,"d":"4,065"}},{"$f":"IF('Gefilterde data'!DI303=0,\"\",'Gefilterde data'!DI303)","v":0.5},{"$f":"IF('Gefilterde data'!EA303=0,\"\",'Gefilterde data'!EA303)","v":{"v":12.177121771217712,"d":"12"}},{"$f":"IF('Gefilterde data'!EA303=0,\"\",'Gefilterde data'!EB303)","v":{"v":21.771217712177123,"d":"22"}}]
[null,{"$f":"IF('Gefilterde data'!C304=0,\"\",'Gefilterde data'!C304)","v":"Amstelpark"},{"$f":"IF(B317=\"\",\"\",IF(LEFT(D317,2)=\"BU\",'Gefilterde data'!G304,\"-\"))","v":"Buitenveldert-Oost"},{"$f":"IF('Gefilterde data'!C304=0,\"\",'Gefilterde data'!A304)","v":"BU0363KR04"},"Ontbrekende waarde","Ontbrekende waarde",{"$f":"IF('Gefilterde data'!CL304=0,\"\",'Gefilterde data'!CL304)","v":"."},{"$f":"IF('Gefilterde data'!DX304=0,\"\",'Gefilterde data'!DX304)","v":{"v":66.66666666666666,"d":"66.7"}},null,{"$f":"IF('Gefilterde data'!DZ304=0,\"\",'Gefilterde data'!DZ304)","v":""},{"$f":"IF('Gefilterde data'!DW304=0,\"\",'Gefilterde data'!DW304)","v":{"v":2008,"d":"2,008"}},{"$f":"IF('Gefilterde data'!I304=0,\"\",'Gefilterde data'!I304)","v":15},{"$f":"IF('Gefilterde data'!DI304=0,\"\",'Gefilterde data'!DI304)","v":"."},{"$f":"IF('Gefilterde data'!EA304=0,\"\",'Gefilterde data'!EA304)","v":""},{"$f":"IF('Gefilterde data'!EA304=0,\"\",'Gefilterde data'!EB304)","v":""}]
[null,{"$f":"IF('Gefilterde data'!C305=0,\"\",'Gefilterde data'!C305)","v":"Java-eiland"},{"$f":"IF(B318=\"\",\"\",IF(LEFT(D318,2)=\"BU\",'Gefilterde data'!G305,\"-\"))","v":"Oostelijk Havengebied"},{"$f":"IF('Gefilterde data'!C305=0,\"\",'Gefilterde data'!A305)","v":"BU0363MA01"},{"v":0.7515952226463434,"d":"0.75"},{"v":1.5151963566926316,"d":"1.52"},{"$f":"IF('Gefilterde data'!CL305=0,\"\",'Gefilterde data'!CL305)","v":10.8},{"$f":"IF('Gefilterde data'!DX305=0,\"\",'Gefilterde data'!DX305)","v":{"v":43.288084464555055,"d":"43.3"}},null,{"$f":"IF('Gefilterde data'!DZ305=0,\"\",'Gefilterde data'!DZ305)","v":{"v":2.1116138763197587,"d":"2"}},{"$f":"IF('Gefilterde data'!DW305=0,\"\",'Gefilterde data'!DW305)","v":{"v":3323,"d":"3,323"}},{"$f":"IF('Gefilterde data'!I305=0,\"\",'Gefilterde data'!I305)","v":{"v":3315,"d":"3,315"}},{"$f":"IF('Gefilterde data'!DI305=0,\"\",'Gefilterde data'!DI305)","v":0.5},{"$f":"IF('Gefilterde data'!EA305=0,\"\",'Gefilterde data'!EA305)","v":{"v":10.407239819004525,"d":"10"}},{"$f":"IF('Gefilterde data'!EA305=0,\"\",'Gefilterde data'!EB305)","v":{"v":15.837104072398189,"d":"16"}}]
[null,{"$f":"IF('Gefilterde data'!C306=0,\"\",'Gefilterde data'!C306)","v":"KNSM-eiland"},{"$f":"IF(B319=\"\",\"\",IF(LEFT(D319,2)=\"BU\",'Gefilterde data'!G306,\"-\"))","v":"Oostelijk Havengebied"},{"$f":"IF('Gefilterde data'!C306=0,\"\",'Gefilterde data'!A306)","v":"BU0363MA02"},{"v":0.7348525310617162,"d":"0.73"},{"v":1.4814435273426343,"d":"1.48"},{"$f":"IF('Gefilterde data'!CL306=0,\"\",'Gefilterde data'!CL306)","v":10.5},{"$f":"IF('Gefilterde data'!DX306=0,\"\",'Gefilterde data'!DX306)","v":{"v":42.54859611231102,"d":"42.5"}},null,{"$f":"IF('Gefilterde data'!DZ306=0,\"\",'Gefilterde data'!DZ306)","v":{"v":1.7278617710583155,"d":"2"}},{"$f":"IF('Gefilterde data'!DW306=0,\"\",'Gefilterde data'!DW306)","v":{"v":2824,"d":"2,824"}},{"$f":"IF('Gefilterde data'!I306=0,\"\",'Gefilterde data'!I306)","v":{"v":2315,"d":"2,315"}},{"$f":"IF('Gefilterde data'!DI306=0,\"\",'Gefilterde data'!DI306)","v":0.6},{"$f":"IF('Gefilterde data'!EA306=0,\"\",'Gefilterde data'!EA306)","v":{"v":9.071274298056156,"d":"9"}},{"$f":"IF('Gefilterde data'!EA306=0,\"\",'Gefilterde data'!EB306)","v":{"v":20.950323974082075,"d":"21"}}]
[null,{"$f":"IF('Gefilterde data'!C307=0,\"\",'Gefilterde data'!C307)","v":"Oostelijke Handelskade"},{"$f":"IF(B320=\"\",\"\",IF(LEFT(D320,2)=\"BU\",'Gefilterde data'!G307,\"-\"))","v":"Oostelijk Havengebied"},{"$f":"IF('Gefilterde data'!C307=0,\"\",'Gefilterde data'!A307)","v":"BU0363MA03"},{"v":0.7985328510974592,"d":"0.80"},{"v":1.6098213908573151,"d":"1.61"},{"$f":"IF('Gefilterde data'!CL307=0,\"\",'Gefilterde data'!CL307)","v":7.9},{"$f":"IF('Gefilterde data'!DX307=0,\"\",'Gefilterde data'!DX307)","v":{"v":59.515570934256054,"d":"59.5"}},null,{"$f":"IF('Gefilterde data'!DZ307=0,\"\",'Gefilterde data'!DZ307)","v":{"v":1.384083044982699,"d":"1"}},{"$f":"IF('Gefilterde data'!DW307=0,\"\",'Gefilterde data'!DW307)","v":{"v":3782,"d":"3,782"}},{"$f":"IF('Gefilterde data'!I307=0,\"\",'Gefilterde data'!I307)","v":{"v":1445,"d":"1,445"}},{"$f":"IF('Gefilterde data'!DI307=0,\"\",'Gefilterde data'!DI307)","v":0.6},{"$f":"IF('Gefilterde data'!EA307=0,\"\",'Gefilterde data'!EA307)","v":{"v":12.802768166089965,"d":"13"}},{"$f":"IF('Gefilterde data'!EA307=0,\"\",'Gefilterde data'!EB307)","v":{"v":8.304498269896193,"d":"8"}}]
[null,{"$f":"IF('Gefilterde data'!C308=0,\"\",'Gefilterde data'!C308)","v":"Rietlanden"},{"$f":"IF(B321=\"\",\"\",IF(LEFT(D321,2)=\"BU\",'Gefilterde data'!G308,\"-\"))","v":"Oostelijk Havengebied"},{"$f":"IF('Gefilterde data'!C308=0,\"\",'Gefilterde data'!A308)","v":"BU0363MA04"},{"v":0.7995359769144963,"d":"0.80"},{"v":1.611843666328848,"d":"1.61"},{"$f":"IF('Gefilterde data'!CL308=0,\"\",'Gefilterde data'!CL308)","v":9.6},{"$f":"IF('Gefilterde data'!DX308=0,\"\",'Gefilterde data'!DX308)","v":{"v":53.1958762886598,"d":"53.2"}},null,{"$f":"IF('Gefilterde data'!DZ308=0,\"\",'Gefilterde data'!DZ308)","v":{"v":2.88659793814433,"d":"3"}},{"$f":"IF('Gefilterde data'!DW308=0,\"\",'Gefilterde data'!DW308)","v":{"v":5172,"d":"5,172"}},{"$f":"IF('Gefilterde data'!I308=0,\"\",'Gefilterde data'!I308)","v":{"v":2425,"d":"2,425"}},{"$f":"IF('Gefilterde data'!DI308=0,\"\",'Gefilterde data'!DI308)","v":0.5},{"$f":"IF('Gefilterde data'!EA308=0,\"\",'Gefilterde data'!EA308)","v":{"v":11.752577319587628,"d":"12"}},{"$f":"IF('Gefilterde data'!EA308=0,\"\",'Gefilterde data'!EB308)","v":{"v":12.577319587628866,"d":"13"}}]
[null,{"$f":"IF('Gefilterde data'!C309=0,\"\",'Gefilterde data'!C309)","v":"Sporenburg"},{"$f":"IF(B322=\"\",\"\",IF(LEFT(D322,2)=\"BU\",'Gefilterde data'!G309,\"-\"))","v":"Oostelijk Havengebied"},{"$f":"IF('Gefilterde data'!C309=0,\"\",'Gefilterde data'!A309)","v":"BU0363MA05"},{"v":0.5021541558242356,"d":"0.50"},{"v":1.012329674906626,"d":"1.01"},{"$f":"IF('Gefilterde data'!CL309=0,\"\",'Gefilterde data'!CL309)","v":5.5},{"$f":"IF('Gefilterde data'!DX309=0,\"\",'Gefilterde data'!DX309)","v":{"v":35.41284403669725,"d":"35.4"}},null,{"$f":"IF('Gefilterde data'!DZ309=0,\"\",'Gefilterde data'!DZ309)","v":{"v":2.9357798165137616,"d":"3"}},{"$f":"IF('Gefilterde data'!DW309=0,\"\",'Gefilterde data'!DW309)","v":{"v":4147,"d":"4,147"}},{"$f":"IF('Gefilterde data'!I309=0,\"\",'Gefilterde data'!I309)","v":{"v":2725,"d":"2,725"}},{"$f":"IF('Gefilterde data'!DI309=0,\"\",'Gefilterde data'!DI309)","v":0.7},{"$f":"IF('Gefilterde data'!EA309=0,\"\",'Gefilterde data'!EA309)","v":{"v":15.412844036697248,"d":"15"}},{"$f":"IF('Gefilterde data'!EA309=0,\"\",'Gefilterde data'!EB309)","v":{"v":7.706422018348624,"d":"8"}}]
[null,{"$f":"IF('Gefilterde data'!C310=0,\"\",'Gefilterde data'!C310)","v":"Borneo"},{"$f":"IF(B323=\"\",\"\",IF(LEFT(D323,2)=\"BU\",'Gefilterde data'!G310,\"-\"))","v":"Oostelijk Havengebied"},{"$f":"IF('Gefilterde data'!C310=0,\"\",'Gefilterde data'!A310)","v":"BU0363MA06"},{"v":0.6401578420491867,"d":"0.64"},{"v":1.2905415052612081,"d":"1.29"},{"$f":"IF('Gefilterde data'!CL310=0,\"\",'Gefilterde data'!CL310)","v":8.8},{"$f":"IF('Gefilterde data'!DX310=0,\"\",'Gefilterde data'!DX310)","v":{"v":38.37837837837838,"d":"38.4"}},null,{"$f":"IF('Gefilterde data'!DZ310=0,\"\",'Gefilterde data'!DZ310)","v":{"v":2.1621621621621623,"d":"2"}},{"$f":"IF('Gefilterde data'!DW310=0,\"\",'Gefilterde data'!DW310)","v":{"v":4249,"d":"4,249"}},{"$f":"IF('Gefilterde data'!I310=0,\"\",'Gefilterde data'!I310)","v":{"v":2775,"d":"2,775"}},{"$f":"IF('Gefilterde data'!DI310=0,\"\",'Gefilterde data'!DI310)","v":0.6},{"$f":"IF('Gefilterde data'!EA310=0,\"\",'Gefilterde data'!EA310)","v":{"v":17.83783783783784,"d":"18"}},{"$f":"IF('Gefilterde data'!EA310=0,\"\",'Gefilterde data'!EB310)","v":{"v":8.108108108108109,"d":"8"}}]
[null,{"$f":"IF('Gefilterde data'!C311=0,\"\",'Gefilterde data'!C311)","v":"Entrepot-Noordwest"},{"$f":"IF(B324=\"\",\"\",IF(LEFT(D324,2)=\"BU\",'Gefilterde data'!G311,\"-\"))","v":"Oostelijk Havengebied"},{"$f":"IF('Gefilterde data'!C311=0,\"\",'Gefilterde data'!A311)","v":"BU0363MA07"},{"v":1.0896088963765185,"d":"1.09"},{"v":2.196623102787377,"d":"2.20"},{"$f":"IF('Gefilterde data'!CL311=0,\"\",'Gefilterde data'!CL311)","v":16.2},{"$f":"IF('Gefilterde data'!DX311=0,\"\",'Gefilterde data'!DX311)","v":{"v":60.70175438596491,"d":"60.7"}},null,{"$f":"IF('Gefilterde data'!DZ311=0,\"\",'Gefilterde data'!DZ311)","v":{"v":1.4035087719298245,"d":"1"}},{"$f":"IF('Gefilterde data'!DW311=0,\"\",'Gefilterde data'!DW311)","v":{"v":6881,"d":"6,881"}},{"$f":"IF('Gefilterde data'!I311=0,\"\",'Gefilterde data'!I311)","v":{"v":1425,"d":"1,425"}},{"$f":"IF('Gefilterde data'!DI311=0,\"\",'Gefilterde data'!DI311)","v":0.5},{"$f":"IF('Gefilterde data'!EA311=0,\"\",'Gefilterde data'!EA311)","v":{"v":11.929824561403509,"d":"12"}},{"$f":"IF('Gefilterde data'!EA311=0,\"\",'Gefilterde data'!EB311)","v":{"v":15.789473684210526,"d":"16"}}]
[null,{"$f":"IF('Gefilterde data'!C312=0,\"\",'Gefilterde data'!C312)","v":"Bedrijvengebied Veelaan"},{"$f":"IF(B325=\"\",\"\",IF(LEFT(D325,2)=\"BU\",'Gefilterde data'!G312,\"-\"))","v":"Oostelijk Havengebied"},{"$f":"IF('Gefilterde data'!C312=0,\"\",'Gefilterde data'!A312)","v":"BU0363MA08"},"Ontbrekende waarde","Ontbrekende waarde",{"$f":"IF('Gefilterde data'!CL312=0,\"\",'Gefilterde data'!CL312)","v":"."},{"$f":"IF('Gefilterde data'!DX312=0,\"\",'Gefilterde data'!DX312)","v":12.5},null,{"$f":"IF('Gefilterde data'!DZ312=0,\"\",'Gefilterde data'!DZ312)","v":""},{"$f":"IF('Gefilterde data'!DW312=0,\"\",'Gefilterde data'!DW312)","v":{"v":8123,"d":"8,123"}},{"$f":"IF('Gefilterde data'!I312=0,\"\",'Gefilterde data'!I312)","v":40},{"$f":"IF('Gefilterde data'!DI312=0,\"\",'Gefilterde data'!DI312)","v":"."},{"$f":"IF('Gefilterde data'!EA312=0,\"\",'Gefilterde data'!EA312)","v":{"v":12.5,"d":"13"}},{"$f":"IF('Gefilterde data'!EA312=0,\"\",'Gefilterde data'!EB312)","v":25}]
[null,{"$f":"IF('Gefilterde data'!C313=0,\"\",'Gefilterde data'!C313)","v":"Architectenbuurt"},{"$f":"IF(B326=\"\",\"\",IF(LEFT(D326,2)=\"BU\",'Gefilterde data'!G313,\"-\"))","v":"Oostelijk Havengebied"},{"$f":"IF('Gefilterde data'!C313=0,\"\",'Gefilterde data'!A313)","v":"BU0363MA09"},{"v":0.8841571535016739,"d":"0.88"},{"v":1.782437750219489,"d":"1.78"},{"$f":"IF('Gefilterde data'!CL313=0,\"\",'Gefilterde data'!CL313)","v":12.6},{"$f":"IF('Gefilterde data'!DX313=0,\"\",'Gefilterde data'!DX313)","v":{"v":51.31964809384164,"d":"51.3"}},null,{"$f":"IF('Gefilterde data'!DZ313=0,\"\",'Gefilterde data'!DZ313)","v":{"v":2.932551319648094,"d":"3"}},{"$f":"IF('Gefilterde data'!DW313=0,\"\",'Gefilterde data'!DW313)","v":{"v":6626,"d":"6,626"}},{"$f":"IF('Gefilterde data'!I313=0,\"\",'Gefilterde data'!I313)","v":{"v":1705,"d":"1,705"}},{"$f":"IF('Gefilterde data'!DI313=0,\"\",'Gefilterde data'!DI313)","v":0.5},{"$f":"IF('Gefilterde data'!EA313=0,\"\",'Gefilterde data'!EA313)","v":{"v":9.090909090909092,"d":"9"}},{"$f":"IF('Gefilterde data'!EA313=0,\"\",'Gefilterde data'!EB313)","v":{"v":17.888563049853374,"d":"18"}}]
[null,{"$f":"IF('Gefilterde data'!C314=0,\"\",'Gefilterde data'!C314)","v":"Cruquiusbuurt"},{"$f":"IF(B327=\"\",\"\",IF(LEFT(D327,2)=\"BU\",'Gefilterde data'!G314,\"-\"))","v":"Oostelijk Havengebied"},{"$f":"IF('Gefilterde data'!C314=0,\"\",'Gefilterde data'!A314)","v":"BU0363MA10"},{"v":0.5043838714553923,"d":"0.50"},{"v":1.0168247234367294,"d":"1.02"},{"$f":"IF('Gefilterde data'!CL314=0,\"\",'Gefilterde data'!CL314)","v":2.2},{"$f":"IF('Gefilterde data'!DX314=0,\"\",'Gefilterde data'!DX314)","v":{"v":48.148148148148145,"d":"48.1"}},null,{"$f":"IF('Gefilterde data'!DZ314=0,\"\",'Gefilterde data'!DZ314)","v":{"v":2.7777777777777777,"d":"3"}},{"$f":"IF('Gefilterde data'!DW314=0,\"\",'Gefilterde data'!DW314)","v":{"v":3302,"d":"3,302"}},{"$f":"IF('Gefilterde data'!I314=0,\"\",'Gefilterde data'!I314)","v":{"v":2160,"d":"2,160"}},{"$f":"IF('Gefilterde data'!DI314=0,\"\",'Gefilterde data'!DI314)","v":0.4},{"$f":"IF('Gefilterde data'!EA314=0,\"\",'Gefilterde data'!EA314)","v":{"v":10.87962962962963,"d":"11"}},{"$f":"IF('Gefilterde data'!EA314=0,\"\",'Gefilterde data'!EB314)","v":{"v":3.2407407407407405,"d":"3"}}]
[null,{"$f":"IF('Gefilterde data'!C315=0,\"\",'Gefilterde data'!C315)","v":"Bedrijvengebied Zeeburgerkade"},{"$f":"IF(B328=\"\",\"\",IF(LEFT(D328,2)=\"BU\",'Gefilterde data'!G315,\"-\"))","v":"Oostelijk Havengebied"},{"$f":"IF('Gefilterde data'!C315=0,\"\",'Gefilterde data'!A315)","v":"BU0363MA11"},{"v":0.6493370844297498,"d":"0.65"},{"v":1.309046618376825,"d":"1.31"},{"$f":"IF('Gefilterde data'!CL315=0,\"\",'Gefilterde data'!CL315)","v":6},{"$f":"IF('Gefilterde data'!DX315=0,\"\",'Gefilterde data'!DX315)","v":{"v":50,"d":"50.0"}},null,{"$f":"IF('Gefilterde data'!DZ315=0,\"\",'Gefilterde data'!DZ315)","v":{"v":4.166666666666666,"d":"4"}},{"$f":"IF('Gefilterde data'!DW315=0,\"\",'Gefilterde data'!DW315)","v":{"v":7322,"d":"7,322"}},{"$f":"IF('Gefilterde data'!I315=0,\"\",'Gefilterde data'!I315)","v":240},{"$f":"IF('Gefilterde data'!DI315=0,\"\",'Gefilterde data'!DI315)","v":0.5},{"$f":"IF('Gefilterde data'!EA315=0,\"\",'Gefilterde data'!EA315)","v":{"v":12.5,"d":"13"}},{"$f":"IF('Gefilterde data'!EA315=0,\"\",'Gefilterde data'!EB315)","v":{"v":12.5,"d":"13"}}]
[null,{"$f":"IF('Gefilterde data'!C316=0,\"\",'Gefilterde data'!C316)","v":"Weesperzijde-Noord"},{"$f":"IF(B329=\"\",\"\",IF(LEFT(D329,2)=\"BU\",'Gefilterde data'!G316,\"-\"))","v":"Weesperzijde"},{"$f":"IF('Gefilterde data'!C316=0,\"\",'Gefilterde data'!A316)","v":"BU0363MB01"},{"v":0.6960343494242718,"d":"0.70"},{"v":1.403187086085071,"d":"1.40"},{"$f":"IF('Gefilterde data'!CL316=0,\"\",'Gefilterde data'!CL316)","v":8.7},{"$f":"IF('Gefilterde data'!DX316=0,\"\",'Gefilterde data'!DX316)","v":{"v":45.012787723785166,"d":"45.0"}},null,{"$f":"IF('Gefilterde data'!DZ316=0,\"\",'Gefilterde data'!DZ316)","v":{"v":6.649616368286446,"d":"7"}},{"$f":"IF('Gefilterde data'!DW316=0,\"\",'Gefilterde data'!DW316)","v":{"v":10163,"d":"10,163"}},{"$f":"IF('Gefilterde data'!I316=0,\"\",'Gefilterde data'!I316)","v":{"v":1955,"d":"1,955"}},{"$f":"IF('Gefilterde data'!DI316=0,\"\",'Gefilterde data'!DI316)","v":0.3},{"$f":"IF('Gefilterde data'!EA316=0,\"\",'Gefilterde data'!EA316)","v":{"v":9.718670076726342,"d":"10"}},{"$f":"IF('Gefilterde data'!EA316=0,\"\",'Gefilterde data'!EB316)","v":{"v":8.695652173913043,"d":"9"}}]
[null,{"$f":"IF('Gefilterde data'!C317=0,\"\",'Gefilterde data'!C317)","v":"Weesperzijde-Midden/Zuid"},{"$f":"IF(B330=\"\",\"\",IF(LEFT(D330,2)=\"BU\",'Gefilterde data'!G317,\"-\"))","v":"Weesperzijde"},{"$f":"IF('Gefilterde data'!C317=0,\"\",'Gefilterde data'!A317)","v":"BU0363MB02"},{"v":0.8100311435443435,"d":"0.81"},{"v":1.63300164839323,"d":"1.63"},{"$f":"IF('Gefilterde data'!CL317=0,\"\",'Gefilterde data'!CL317)","v":11.3},{"$f":"IF('Gefilterde data'!DX317=0,\"\",'Gefilterde data'!DX317)","v":{"v":47.93893129770993,"d":"47.9"}},null,{"$f":"IF('Gefilterde data'!DZ317=0,\"\",'Gefilterde data'!DZ317)","v":{"v":3.6641221374045805,"d":"4"}},{"$f":"IF('Gefilterde data'!DW317=0,\"\",'Gefilterde data'!DW317)","v":{"v":9529,"d":"9,529"}},{"$f":"IF('Gefilterde data'!I317=0,\"\",'Gefilterde data'!I317)","v":{"v":3275,"d":"3,275"}},{"$f":"IF('Gefilterde data'!DI317=0,\"\",'Gefilterde data'!DI317)","v":0.4},{"$f":"IF('Gefilterde data'!EA317=0,\"\",'Gefilterde data'!EA317)","v":{"v":10.992366412213741,"d":"11"}},{"$f":"IF('Gefilterde data'!EA317=0,\"\",'Gefilterde data'!EB317)","v":{"v":11.908396946564885,"d":"12"}}]
[null,{"$f":"IF('Gefilterde data'!C318=0,\"\",'Gefilterde data'!C318)","v":"Parooldriehoek"},{"$f":"IF(B331=\"\",\"\",IF(LEFT(D331,2)=\"BU\",'Gefilterde data'!G318,\"-\"))","v":"Weesperzijde"},{"$f":"IF('Gefilterde data'!C318=0,\"\",'Gefilterde data'!A318)","v":"BU0363MB03"},{"v":1.5121733760011056,"d":"1.51"},{"v":3.0485020672924037,"d":"3.05"},{"$f":"IF('Gefilterde data'!CL318=0,\"\",'Gefilterde data'!CL318)","v":21.1},{"$f":"IF('Gefilterde data'!DX318=0,\"\",'Gefilterde data'!DX318)","v":{"v":89.47368421052632,"d":"89.5"}},null,{"$f":"IF('Gefilterde data'!DZ318=0,\"\",'Gefilterde data'!DZ318)","v":{"v":22.55639097744361,"d":"23"}},{"$f":"IF('Gefilterde data'!DW318=0,\"\",'Gefilterde data'!DW318)","v":{"v":9478,"d":"9,478"}},{"$f":"IF('Gefilterde data'!I318=0,\"\",'Gefilterde data'!I318)","v":665},{"$f":"IF('Gefilterde data'!DI318=0,\"\",'Gefilterde data'!DI318)","v":0.1},{"$f":"IF('Gefilterde data'!EA318=0,\"\",'Gefilterde data'!EA318)","v":{"v":7.518796992481203,"d":"8"}},{"$f":"IF('Gefilterde data'!EA318=0,\"\",'Gefilterde data'!EB318)","v":{"v":0.7518796992481203,"d":"1"}}]
[null,{"$f":"IF('Gefilterde data'!C319=0,\"\",'Gefilterde data'!C319)","v":"Oosterparkbuurt-Noordwest"},{"$f":"IF(B332=\"\",\"\",IF(LEFT(D332,2)=\"BU\",'Gefilterde data'!G319,\"-\"))","v":"Oosterparkbuurt"},{"$f":"IF('Gefilterde data'!C319=0,\"\",'Gefilterde data'!A319)","v":"BU0363MC01"},{"v":1.1272495769490873,"d":"1.13"},{"v":2.272505732623921,"d":"2.27"},{"$f":"IF('Gefilterde data'!CL319=0,\"\",'Gefilterde data'!CL319)","v":17.8},{"$f":"IF('Gefilterde data'!DX319=0,\"\",'Gefilterde data'!DX319)","v":{"v":58.86243386243386,"d":"58.9"}},null,{"$f":"IF('Gefilterde data'!DZ319=0,\"\",'Gefilterde data'!DZ319)","v":{"v":5.291005291005291,"d":"5"}},{"$f":"IF('Gefilterde data'!DW319=0,\"\",'Gefilterde data'!DW319)","v":{"v":8390,"d":"8,390"}},{"$f":"IF('Gefilterde data'!I319=0,\"\",'Gefilterde data'!I319)","v":{"v":3780,"d":"3,780"}},{"$f":"IF('Gefilterde data'!DI319=0,\"\",'Gefilterde data'!DI319)","v":0.3},{"$f":"IF('Gefilterde data'!EA319=0,\"\",'Gefilterde data'!EA319)","v":{"v":8.862433862433862,"d":"9"}},{"$f":"IF('Gefilterde data'!EA319=0,\"\",'Gefilterde data'!EB319)","v":{"v":12.566137566137566,"d":"13"}}]
[null,{"$f":"IF('Gefilterde data'!C320=0,\"\",'Gefilterde data'!C320)","v":"Oosterpark"},{"$f":"IF(B333=\"\",\"\",IF(LEFT(D333,2)=\"BU\",'Gefilterde data'!G320,\"-\"))","v":"Oosterparkbuurt"},{"$f":"IF('Gefilterde data'!C320=0,\"\",'Gefilterde data'!A320)","v":"BU0363MC02"},"Ontbrekende waarde","Ontbrekende waarde",{"$f":"IF('Gefilterde data'!CL320=0,\"\",'Gefilterde data'!CL320)","v":"."},{"$f":"IF('Gefilterde data'!DX320=0,\"\",'Gefilterde data'!DX320)","v":{"v":50,"d":"50.0"}},null,{"$f":"IF('Gefilterde data'!DZ320=0,\"\",'Gefilterde data'!DZ320)","v":{"v":7.6923076923076925,"d":"8"}},{"$f":"IF('Gefilterde data'!DW320=0,\"\",'Gefilterde data'!DW320)","v":{"v":8173,"d":"8,173"}},{"$f":"IF('Gefilterde data'!I320=0,\"\",'Gefilterde data'!I320)","v":130},{"$f":"IF('Gefilterde data'!DI320=0,\"\",'Gefilterde data'!DI320)","v":0.1},{"$f":"IF('Gefilterde data'!EA320=0,\"\",'Gefilterde data'!EA320)","v":{"v":3.8461538461538463,"d":"4"}},{"$f":"IF('Gefilterde data'!EA320=0,\"\",'Gefilterde data'!EB320)","v":{"v":11.538461538461538,"d":"12"}}]
[null,{"$f":"IF('Gefilterde data'!C321=0,\"\",'Gefilterde data'!C321)","v":"Oosterparkbuurt-Zuidwest"},{"$f":"IF(B334=\"\",\"\",IF(LEFT(D334,2)=\"BU\",'Gefilterde data'!G321,\"-\"))","v":"Oosterparkbuurt"},{"$f":"IF('Gefilterde data'!C321=0,\"\",'Gefilterde data'!A321)","v":"BU0363MC03"},{"v":1.4711764996910877,"d":"1.47"},{"v":2.9658534344258976,"d":"2.97"},{"$f":"IF('Gefilterde data'!CL321=0,\"\",'Gefilterde data'!CL321)","v":25.8},{"$f":"IF('Gefilterde data'!DX321=0,\"\",'Gefilterde data'!DX321)","v":{"v":67.10097719869707,"d":"67.1"}},null,{"$f":"IF('Gefilterde data'!DZ321=0,\"\",'Gefilterde data'!DZ321)","v":{"v":3.257328990228013,"d":"3"}},{"$f":"IF('Gefilterde data'!DW321=0,\"\",'Gefilterde data'!DW321)","v":{"v":8949,"d":"8,949"}},{"$f":"IF('Gefilterde data'!I321=0,\"\",'Gefilterde data'!I321)","v":{"v":3070,"d":"3,070"}},{"$f":"IF('Gefilterde data'!DI321=0,\"\",'Gefilterde data'!DI321)","v":0.3},{"$f":"IF('Gefilterde data'!EA321=0,\"\",'Gefilterde data'!EA321)","v":{"v":12.703583061889251,"d":"13"}},{"$f":"IF('Gefilterde data'!EA321=0,\"\",'Gefilterde data'!EB321)","v":{"v":13.680781758957655,"d":"14"}}]
[null,{"$f":"IF('Gefilterde data'!C322=0,\"\",'Gefilterde data'!C322)","v":"Oosterparkbuurt-Zuidoost"},{"$f":"IF(B335=\"\",\"\",IF(LEFT(D335,2)=\"BU\",'Gefilterde data'!G322,\"-\"))","v":"Oosterparkbuurt"},{"$f":"IF('Gefilterde data'!C322=0,\"\",'Gefilterde data'!A322)","v":"BU0363MC04"},{"v":1.035302768215436,"d":"1.04"},{"v":2.0871433654813916,"d":"2.09"},{"$f":"IF('Gefilterde data'!CL322=0,\"\",'Gefilterde data'!CL322)","v":16.6},{"$f":"IF('Gefilterde data'!DX322=0,\"\",'Gefilterde data'!DX322)","v":{"v":53.10810810810811,"d":"53.1"}},null,{"$f":"IF('Gefilterde data'!DZ322=0,\"\",'Gefilterde data'!DZ322)","v":{"v":4.324324324324325,"d":"4"}},{"$f":"IF('Gefilterde data'!DW322=0,\"\",'Gefilterde data'!DW322)","v":{"v":8768,"d":"8,768"}},{"$f":"IF('Gefilterde data'!I322=0,\"\",'Gefilterde data'!I322)","v":{"v":3700,"d":"3,700"}},{"$f":"IF('Gefilterde data'!DI322=0,\"\",'Gefilterde data'!DI322)","v":0.4},{"$f":"IF('Gefilterde data'!EA322=0,\"\",'Gefilterde data'!EA322)","v":{"v":12.027027027027028,"d":"12"}},{"$f":"IF('Gefilterde data'!EA322=0,\"\",'Gefilterde data'!EB322)","v":{"v":13.378378378378377,"d":"13"}}]
[null,{"$f":"IF('Gefilterde data'!C323=0,\"\",'Gefilterde data'!C323)","v":"Transvaalbuurt-West"},{"$f":"IF(B336=\"\",\"\",IF(LEFT(D336,2)=\"BU\",'Gefilterde data'!G323,\"-\"))","v":"Transvaalbuurt"},{"$f":"IF('Gefilterde data'!C323=0,\"\",'Gefilterde data'!A323)","v":"BU0363MD01"},{"v":1.3385602666673733,"d":"1.34"},{"v":2.6985025691445417,"d":"2.70"},{"$f":"IF('Gefilterde data'!CL323=0,\"\",'Gefilterde data'!CL323)","v":23.1},{"$f":"IF('Gefilterde data'!DX323=0,\"\",'Gefilterde data'!DX323)","v":{"v":62.468513853904284,"d":"62.5"}},null,{"$f":"IF('Gefilterde data'!DZ323=0,\"\",'Gefilterde data'!DZ323)","v":{"v":4.785894206549118,"d":"5"}},{"$f":"IF('Gefilterde data'!DW323=0,\"\",'Gefilterde data'!DW323)","v":{"v":8272,"d":"8,272"}},{"$f":"IF('Gefilterde data'!I323=0,\"\",'Gefilterde data'!I323)","v":{"v":3970,"d":"3,970"}},{"$f":"IF('Gefilterde data'!DI323=0,\"\",'Gefilterde data'!DI323)","v":0.3},{"$f":"IF('Gefilterde data'!EA323=0,\"\",'Gefilterde data'!EA323)","v":{"v":11.083123425692696,"d":"11"}},{"$f":"IF('Gefilterde data'!EA323=0,\"\",'Gefilterde data'!EB323)","v":{"v":14.105793450881613,"d":"14"}}]
[null,{"$f":"IF('Gefilterde data'!C324=0,\"\",'Gefilterde data'!C324)","v":"Transvaalbuurt-Oost"},{"$f":"IF(B337=\"\",\"\",IF(LEFT(D337,2)=\"BU\",'Gefilterde data'!G324,\"-\"))","v":"Transvaalbuurt"},{"$f":"IF('Gefilterde data'!C324=0,\"\",'Gefilterde data'!A324)","v":"BU0363MD02"},{"$f":"IF(G337=\"\",\"\",IF(OR(NOT(ISNUMBER(G337)),NOT(ISNUMBER(H337))),\"Ontbrekende waarde\",F337/F$1))","v":{"v":1.2509888480774858,"d":"1.25"}},{"$f":"IF(G337=\"\",\"\",IF(OR(NOT(ISNUMBER(G337)),NOT(ISNUMBER(H337))),\"Ontbrekende waarde\",((G337/AVERAGE(G$16:G$532)+H337/AVERAGE(H$16:H$532)))))","v":{"v":2.5219608743601962,"d":"2.52"}},{"$f":"IF('Gefilterde data'!CL324=0,\"\",'Gefilterde data'!CL324)","v":20.8},{"$f":"IF('Gefilterde data'!DX324=0,\"\",'Gefilterde data'!DX324)","v":{"v":61.36595310907238,"d":"61.4"}},null,{"$f":"IF('Gefilterde data'!DZ324=0,\"\",'Gefilterde data'!DZ324)","v":{"v":4.281345565749235,"d":"4"}},{"$f":"IF('Gefilterde data'!DW324=0,\"\",'Gefilterde data'!DW324)","v":{"v":7854,"d":"7,854"}},{"$f":"IF('Gefilterde data'!I324=0,\"\",'Gefilterde data'!I324)","v":{"v":4905,"d":"4,905"}},{"$f":"IF('Gefilterde data'!DI324=0,\"\",'Gefilterde data'!DI324)","v":0.3},{"$f":"IF('Gefilterde data'!EA324=0,\"\",'Gefilterde data'!EA324)","v":{"v":12.945973496432211,"d":"13"}},{"$f":"IF('Gefilterde data'!EA324=0,\"\",'Gefilterde data'!EB324)","v":{"v":11.314984709480122,"d":"11"}}]
[null,{"$f":"IF('Gefilterde data'!C325=0,\"\",'Gefilterde data'!C325)","v":"Dapperbuurt-Noord"},{"$f":"IF(B338=\"\",\"\",IF(LEFT(D338,2)=\"BU\",'Gefilterde data'!G325,\"-\"))","v":"Dapperbuurt"},{"$f":"IF('Gefilterde data'!C325=0,\"\",'Gefilterde data'!A325)","v":"BU0363ME01"},{"v":1.25080118532927,"d":"1.25"},{"v":2.521582551156674,"d":"2.52"},{"$f":"IF('Gefilterde data'!CL325=0,\"\",'Gefilterde data'!CL325)","v":21},{"$f":"IF('Gefilterde data'!DX325=0,\"\",'Gefilterde data'!DX325)","v":{"v":60.588235294117645,"d":"60.6"}},null,{"$f":"IF('Gefilterde data'!DZ325=0,\"\",'Gefilterde data'!DZ325)","v":{"v":5.176470588235294,"d":"5"}},{"$f":"IF('Gefilterde data'!DW325=0,\"\",'Gefilterde data'!DW325)","v":{"v":8740,"d":"8,740"}},{"$f":"IF('Gefilterde data'!I325=0,\"\",'Gefilterde data'!I325)","v":{"v":4250,"d":"4,250"}},{"$f":"IF('Gefilterde data'!DI325=0,\"\",'Gefilterde data'!DI325)","v":0.3},{"$f":"IF('Gefilterde data'!EA325=0,\"\",'Gefilterde data'!EA325)","v":10},{"$f":"IF('Gefilterde data'!EA325=0,\"\",'Gefilterde data'!EB325)","v":{"v":16.235294117647058,"d":"16"}}]
[null,{"$f":"IF('Gefilterde data'!C326=0,\"\",'Gefilterde data'!C326)","v":"Dapperbuurt-Zuid"},{"$f":"IF(B339=\"\",\"\",IF(LEFT(D339,2)=\"BU\",'Gefilterde data'!G326,\"-\"))","v":"Dapperbuurt"},{"$f":"IF('Gefilterde data'!C326=0,\"\",'Gefilterde data'!A326)","v":"BU0363ME02"},{"v":1.2644620521042014,"d":"1.26"},{"v":2.549122502107612,"d":"2.55"},{"$f":"IF('Gefilterde data'!CL326=0,\"\",'Gefilterde data'!CL326)","v":21.8},{"$f":"IF('Gefilterde data'!DX326=0,\"\",'Gefilterde data'!DX326)","v":{"v":59.09090909090909,"d":"59.1"}},null,{"$f":"IF('Gefilterde data'!DZ326=0,\"\",'Gefilterde data'!DZ326)","v":{"v":4.81283422459893,"d":"5"}},{"$f":"IF('Gefilterde data'!DW326=0,\"\",'Gefilterde data'!DW326)","v":{"v":8946,"d":"8,946"}},{"$f":"IF('Gefilterde data'!I326=0,\"\",'Gefilterde data'!I326)","v":{"v":3740,"d":"3,740"}},{"$f":"IF('Gefilterde data'!DI326=0,\"\",'Gefilterde data'!DI326)","v":0.3},{"$f":"IF('Gefilterde data'!EA326=0,\"\",'Gefilterde data'!EA326)","v":{"v":9.090909090909092,"d":"9"}},{"$f":"IF('Gefilterde data'!EA326=0,\"\",'Gefilterde data'!EB326)","v":{"v":12.967914438502673,"d":"13"}}]
[null,{"$f":"IF('Gefilterde data'!C327=0,\"\",'Gefilterde data'!C327)","v":"Oostpoort"},{"$f":"IF(B340=\"\",\"\",IF(LEFT(D340,2)=\"BU\",'Gefilterde data'!G327,\"-\"))","v":"Dapperbuurt"},{"$f":"IF('Gefilterde data'!C327=0,\"\",'Gefilterde data'!A327)","v":"BU0363ME03"},{"v":1.0065053728820015,"d":"1.01"},{"v":2.0290885679298256,"d":"2.03"},{"$f":"IF('Gefilterde data'!CL327=0,\"\",'Gefilterde data'!CL327)","v":16.8},{"$f":"IF('Gefilterde data'!DX327=0,\"\",'Gefilterde data'!DX327)","v":{"v":49.12718204488778,"d":"49.1"}},null,{"$f":"IF('Gefilterde data'!DZ327=0,\"\",'Gefilterde data'!DZ327)","v":{"v":2.493765586034913,"d":"2"}},{"$f":"IF('Gefilterde data'!DW327=0,\"\",'Gefilterde data'!DW327)","v":{"v":8746,"d":"8,746"}},{"$f":"IF('Gefilterde data'!I327=0,\"\",'Gefilterde data'!I327)","v":{"v":2005,"d":"2,005"}},{"$f":"IF('Gefilterde data'!DI327=0,\"\",'Gefilterde data'!DI327)","v":0.5},{"$f":"IF('Gefilterde data'!EA327=0,\"\",'Gefilterde data'!EA327)","v":{"v":16.708229426433917,"d":"17"}},{"$f":"IF('Gefilterde data'!EA327=0,\"\",'Gefilterde data'!EB327)","v":{"v":17.45635910224439,"d":"17"}}]
[null,{"$f":"IF('Gefilterde data'!C328=0,\"\",'Gefilterde data'!C328)","v":"Timorpleinbuurt-Noord"},{"$f":"IF(B341=\"\",\"\",IF(LEFT(D341,2)=\"BU\",'Gefilterde data'!G328,\"-\"))","v":"Indische Buurt-West"},{"$f":"IF('Gefilterde data'!C328=0,\"\",'Gefilterde data'!A328)","v":"BU0363MF01"},{"v":1.1131070678296506,"d":"1.11"},{"v":2.243994803274459,"d":"2.24"},{"$f":"IF('Gefilterde data'!CL328=0,\"\",'Gefilterde data'!CL328)","v":17.6},{"$f":"IF('Gefilterde data'!DX328=0,\"\",'Gefilterde data'!DX328)","v":{"v":58.03571428571429,"d":"58.0"}},null,{"$f":"IF('Gefilterde data'!DZ328=0,\"\",'Gefilterde data'!DZ328)","v":{"v":4.336734693877551,"d":"4"}},{"$f":"IF('Gefilterde data'!DW328=0,\"\",'Gefilterde data'!DW328)","v":{"v":8386,"d":"8,386"}},{"$f":"IF('Gefilterde data'!I328=0,\"\",'Gefilterde data'!I328)","v":{"v":3920,"d":"3,920"}},{"$f":"IF('Gefilterde data'!DI328=0,\"\",'Gefilterde data'!DI328)","v":0.3},{"$f":"IF('Gefilterde data'!EA328=0,\"\",'Gefilterde data'!EA328)","v":{"v":11.224489795918368,"d":"11"}},{"$f":"IF('Gefilterde data'!EA328=0,\"\",'Gefilterde data'!EB328)","v":{"v":7.780612244897959,"d":"8"}}]
[null,{"$f":"IF('Gefilterde data'!C329=0,\"\",'Gefilterde data'!C329)","v":"Timorpleinbuurt-Zuid"},{"$f":"IF(B342=\"\",\"\",IF(LEFT(D342,2)=\"BU\",'Gefilterde data'!G329,\"-\"))","v":"Indische Buurt-West"},{"$f":"IF('Gefilterde data'!C329=0,\"\",'Gefilterde data'!A329)","v":"BU0363MF02"},{"v":1.1857217189097924,"d":"1.19"},{"v":2.3903840450417784,"d":"2.39"},{"$f":"IF('Gefilterde data'!CL329=0,\"\",'Gefilterde data'!CL329)","v":18.9},{"$f":"IF('Gefilterde data'!DX329=0,\"\",'Gefilterde data'!DX329)","v":{"v":61.24721603563474,"d":"61.2"}},null,{"$f":"IF('Gefilterde data'!DZ329=0,\"\",'Gefilterde data'!DZ329)","v":{"v":6.45879732739421,"d":"6"}},{"$f":"IF('Gefilterde data'!DW329=0,\"\",'Gefilterde data'!DW329)","v":{"v":8434,"d":"8,434"}},{"$f":"IF('Gefilterde data'!I329=0,\"\",'Gefilterde data'!I329)","v":{"v":4490,"d":"4,490"}},{"$f":"IF('Gefilterde data'!DI329=0,\"\",'Gefilterde data'!DI329)","v":0.3},{"$f":"IF('Gefilterde data'!EA329=0,\"\",'Gefilterde data'!EA329)","v":{"v":10.356347438752785,"d":"10"}},{"$f":"IF('Gefilterde data'!EA329=0,\"\",'Gefilterde data'!EB329)","v":{"v":9.242761692650333,"d":"9"}}]
[null,{"$f":"IF('Gefilterde data'!C330=0,\"\",'Gefilterde data'!C330)","v":"Ambonpleinbuurt"},{"$f":"IF(B343=\"\",\"\",IF(LEFT(D343,2)=\"BU\",'Gefilterde data'!G330,\"-\"))","v":"Indische Buurt-West"},{"$f":"IF('Gefilterde data'!C330=0,\"\",'Gefilterde data'!A330)","v":"BU0363MF03"},{"v":1.5540875492498853,"d":"1.55"},{"v":3.132999946851463,"d":"3.13"},{"$f":"IF('Gefilterde data'!CL330=0,\"\",'Gefilterde data'!CL330)","v":26.2},{"$f":"IF('Gefilterde data'!DX330=0,\"\",'Gefilterde data'!DX330)","v":{"v":74.87046632124353,"d":"74.9"}},null,{"$f":"IF('Gefilterde data'!DZ330=0,\"\",'Gefilterde data'!DZ330)","v":{"v":2.5906735751295336,"d":"3"}},{"$f":"IF('Gefilterde data'!DW330=0,\"\",'Gefilterde data'!DW330)","v":{"v":8035,"d":"8,035"}},{"$f":"IF('Gefilterde data'!I330=0,\"\",'Gefilterde data'!I330)","v":{"v":3860,"d":"3,860"}},{"$f":"IF('Gefilterde data'!DI330=0,\"\",'Gefilterde data'!DI330)","v":0.4},{"$f":"IF('Gefilterde data'!EA330=0,\"\",'Gefilterde data'!EA330)","v":{"v":12.823834196891193,"d":"13"}},{"$f":"IF('Gefilterde data'!EA330=0,\"\",'Gefilterde data'!EB330)","v":{"v":15.155440414507773,"d":"15"}}]
[null,{"$f":"IF('Gefilterde data'!C331=0,\"\",'Gefilterde data'!C331)","v":"Makassarpleinbuurt"},{"$f":"IF(B344=\"\",\"\",IF(LEFT(D344,2)=\"BU\",'Gefilterde data'!G331,\"-\"))","v":"Indische Buurt-Oost"},{"$f":"IF('Gefilterde data'!C331=0,\"\",'Gefilterde data'!A331)","v":"BU0363MG01"},{"v":1.534493073283728,"d":"1.53"},{"v":3.0934979946029015,"d":"3.09"},{"$f":"IF('Gefilterde data'!CL331=0,\"\",'Gefilterde data'!CL331)","v":27.6},{"$f":"IF('Gefilterde data'!DX331=0,\"\",'Gefilterde data'!DX331)","v":{"v":67.37967914438502,"d":"67.4"}},null,{"$f":"IF('Gefilterde data'!DZ331=0,\"\",'Gefilterde data'!DZ331)","v":{"v":2.4955436720142603,"d":"2"}},{"$f":"IF('Gefilterde data'!DW331=0,\"\",'Gefilterde data'!DW331)","v":{"v":6814,"d":"6,814"}},{"$f":"IF('Gefilterde data'!I331=0,\"\",'Gefilterde data'!I331)","v":{"v":5610,"d":"5,610"}},{"$f":"IF('Gefilterde data'!DI331=0,\"\",'Gefilterde data'!DI331)","v":0.3},{"$f":"IF('Gefilterde data'!EA331=0,\"\",'Gefilterde data'!EA331)","v":{"v":11.942959001782532,"d":"12"}},{"$f":"IF('Gefilterde data'!EA331=0,\"\",'Gefilterde data'!EB331)","v":{"v":17.914438502673796,"d":"18"}}]
[null,{"$f":"IF('Gefilterde data'!C332=0,\"\",'Gefilterde data'!C332)","v":"Zeeburgerdijk-Oost"},{"$f":"IF(B345=\"\",\"\",IF(LEFT(D345,2)=\"BU\",'Gefilterde data'!G332,\"-\"))","v":"Indische Buurt-Oost"},{"$f":"IF('Gefilterde data'!C332=0,\"\",'Gefilterde data'!A332)","v":"BU0363MG02"},{"v":0.6724967966453792,"d":"0.67"},{"v":1.355735993872874,"d":"1.36"},{"$f":"IF('Gefilterde data'!CL332=0,\"\",'Gefilterde data'!CL332)","v":7.3},{"$f":"IF('Gefilterde data'!DX332=0,\"\",'Gefilterde data'!DX332)","v":{"v":47.674418604651166,"d":"47.7"}},null,{"$f":"IF('Gefilterde data'!DZ332=0,\"\",'Gefilterde data'!DZ332)","v":""},{"$f":"IF('Gefilterde data'!DW332=0,\"\",'Gefilterde data'!DW332)","v":{"v":4016,"d":"4,016"}},{"$f":"IF('Gefilterde data'!I332=0,\"\",'Gefilterde data'!I332)","v":430},{"$f":"IF('Gefilterde data'!DI332=0,\"\",'Gefilterde data'!DI332)","v":0.6},{"$f":"IF('Gefilterde data'!EA332=0,\"\",'Gefilterde data'!EA332)","v":{"v":11.627906976744185,"d":"12"}},{"$f":"IF('Gefilterde data'!EA332=0,\"\",'Gefilterde data'!EB332)","v":{"v":16.27906976744186,"d":"16"}}]
[null,{"$f":"IF('Gefilterde data'!C333=0,\"\",'Gefilterde data'!C333)","v":"Sumatraplantsoenbuurt"},{"$f":"IF(B346=\"\",\"\",IF(LEFT(D346,2)=\"BU\",'Gefilterde data'!G333,\"-\"))","v":"Indische Buurt-Oost"},{"$f":"IF('Gefilterde data'!C333=0,\"\",'Gefilterde data'!A333)","v":"BU0363MG03"},{"v":1.3324642180061497,"d":"1.33"},{"v":2.6862130941141062,"d":"2.69"},{"$f":"IF('Gefilterde data'!CL333=0,\"\",'Gefilterde data'!CL333)","v":21.2},{"$f":"IF('Gefilterde data'!DX333=0,\"\",'Gefilterde data'!DX333)","v":{"v":68.97470039946738,"d":"69.0"}},null,{"$f":"IF('Gefilterde data'!DZ333=0,\"\",'Gefilterde data'!DZ333)","v":{"v":2.929427430093209,"d":"3"}},{"$f":"IF('Gefilterde data'!DW333=0,\"\",'Gefilterde data'!DW333)","v":{"v":6601,"d":"6,601"}},{"$f":"IF('Gefilterde data'!I333=0,\"\",'Gefilterde data'!I333)","v":{"v":3755,"d":"3,755"}},{"$f":"IF('Gefilterde data'!DI333=0,\"\",'Gefilterde data'!DI333)","v":0.4},{"$f":"IF('Gefilterde data'!EA333=0,\"\",'Gefilterde data'!EA333)","v":{"v":14.247669773635153,"d":"14"}},{"$f":"IF('Gefilterde data'!EA333=0,\"\",'Gefilterde data'!EB333)","v":{"v":11.8508655126498,"d":"12"}}]
[null,{"$f":"IF('Gefilterde data'!C334=0,\"\",'Gefilterde data'!C334)","v":"Flevopark"},{"$f":"IF(B347=\"\",\"\",IF(LEFT(D347,2)=\"BU\",'Gefilterde data'!G334,\"-\"))","v":"Indische Buurt-Oost"},{"$f":"IF('Gefilterde data'!C334=0,\"\",'Gefilterde data'!A334)","v":"BU0363MG04"},"Ontbrekende waarde","Ontbrekende waarde",{"$f":"IF('Gefilterde data'!CL334=0,\"\",'Gefilterde data'!CL334)","v":"."},{"$f":"IF('Gefilterde data'!DX334=0,\"\",'Gefilterde data'!DX334)","v":{"v":25,"d":"25.0"}},null,{"$f":"IF('Gefilterde data'!DZ334=0,\"\",'Gefilterde data'!DZ334)","v":""},{"$f":"IF('Gefilterde data'!DW334=0,\"\",'Gefilterde data'!DW334)","v":{"v":3363,"d":"3,363"}},{"$f":"IF('Gefilterde data'!I334=0,\"\",'Gefilterde data'!I334)","v":20},{"$f":"IF('Gefilterde data'!DI334=0,\"\",'Gefilterde data'!DI334)","v":"."},{"$f":"IF('Gefilterde data'!EA334=0,\"\",'Gefilterde data'!EA334)","v":""},{"$f":"IF('Gefilterde data'!EA334=0,\"\",'Gefilterde data'!EB334)","v":""}]
[null,{"$f":"IF('Gefilterde data'!C335=0,\"\",'Gefilterde data'!C335)","v":"Sluisbuurt"},{"$f":"IF(B348=\"\",\"\",IF(LEFT(D348,2)=\"BU\",'Gefilterde data'!G335,\"-\"))","v":"Zeeburgereiland/Bovendiep"},{"$f":"IF('Gefilterde data'!C335=0,\"\",'Gefilterde data'!A335)","v":"BU0363MH01"},"Ontbrekende waarde","Ontbrekende waarde",{"$f":"IF('Gefilterde data'!CL335=0,\"\",'Gefilterde data'!CL335)","v":"."},{"$f":"IF('Gefilterde data'!DX335=0,\"\",'Gefilterde data'!DX335)","v":""},null,{"$f":"IF('Gefilterde data'!DZ335=0,\"\",'Gefilterde data'!DZ335)","v":""},{"$f":"IF('Gefilterde data'!DW335=0,\"\",'Gefilterde data'!DW335)","v":{"v":1454,"d":"1,454"}},{"$f":"IF('Gefilterde data'!I335=0,\"\",'Gefilterde data'!I335)","v":15},{"$f":"IF('Gefilterde data'!DI335=0,\"\",'Gefilterde data'!DI335)","v":"."},{"$f":"IF('Gefilterde data'!EA335=0,\"\",'Gefilterde data'!EA335)","v":{"v":33.33333333333333,"d":"33"}},{"$f":"IF('Gefilterde data'!EA335=0,\"\",'Gefilterde data'!EB335)","v":{"v":33.33333333333333,"d":"33"}}]
[null,{"$f":"IF('Gefilterde data'!C336=0,\"\",'Gefilterde data'!C336)","v":"Sportheldenbuurt"},{"$f":"IF(B349=\"\",\"\",IF(LEFT(D349,2)=\"BU\",'Gefilterde data'!G336,\"-\"))","v":"Zeeburgereiland/Bovendiep"},{"$f":"IF('Gefilterde data'!C336=0,\"\",'Gefilterde data'!A336)","v":"BU0363MH02"},{"v":0.8957001413738336,"d":"0.90"},{"v":1.8057081125664745,"d":"1.81"},{"$f":"IF('Gefilterde data'!CL336=0,\"\",'Gefilterde data'!CL336)","v":10.4},{"$f":"IF('Gefilterde data'!DX336=0,\"\",'Gefilterde data'!DX336)","v":{"v":60.93579978237214,"d":"60.9"}},null,{"$f":"IF('Gefilterde data'!DZ336=0,\"\",'Gefilterde data'!DZ336)","v":{"v":5.44069640914037,"d":"5"}},{"$f":"IF('Gefilterde data'!DW336=0,\"\",'Gefilterde data'!DW336)","v":{"v":1355,"d":"1,355"}},{"$f":"IF('Gefilterde data'!I336=0,\"\",'Gefilterde data'!I336)","v":{"v":4595,"d":"4,595"}},{"$f":"IF('Gefilterde data'!DI336=0,\"\",'Gefilterde data'!DI336)","v":0.4},{"$f":"IF('Gefilterde data'!EA336=0,\"\",'Gefilterde data'!EA336)","v":{"v":16.866158868335145,"d":"17"}},{"$f":"IF('Gefilterde data'!EA336=0,\"\",'Gefilterde data'!EB336)","v":{"v":4.6789989118607185,"d":"5"}}]
[null,{"$f":"IF('Gefilterde data'!C337=0,\"\",'Gefilterde data'!C337)","v":"Oostpunt Zeeburgereiland"},{"$f":"IF(B350=\"\",\"\",IF(LEFT(D350,2)=\"BU\",'Gefilterde data'!G337,\"-\"))","v":"Zeeburgereiland/Bovendiep"},{"$f":"IF('Gefilterde data'!C337=0,\"\",'Gefilterde data'!A337)","v":"BU0363MH03"},"Ontbrekende waarde","Ontbrekende waarde",{"$f":"IF('Gefilterde data'!CL337=0,\"\",'Gefilterde data'!CL337)","v":"."},{"$f":"IF('Gefilterde data'!DX337=0,\"\",'Gefilterde data'!DX337)","v":{"v":33.33333333333333,"d":"33.3"}},null,{"$f":"IF('Gefilterde data'!DZ337=0,\"\",'Gefilterde data'!DZ337)","v":""},{"$f":"IF('Gefilterde data'!DW337=0,\"\",'Gefilterde data'!DW337)","v":{"v":1051,"d":"1,051"}},{"$f":"IF('Gefilterde data'!I337=0,\"\",'Gefilterde data'!I337)","v":45},{"$f":"IF('Gefilterde data'!DI337=0,\"\",'Gefilterde data'!DI337)","v":"."},{"$f":"IF('Gefilterde data'!EA337=0,\"\",'Gefilterde data'!EA337)","v":{"v":11.11111111111111,"d":"11"}},{"$f":"IF('Gefilterde data'!EA337=0,\"\",'Gefilterde data'!EB337)","v":{"v":11.11111111111111,"d":"11"}}]
[null,{"$f":"IF('Gefilterde data'!C338=0,\"\",'Gefilterde data'!C338)","v":"Baaibuurt-West"},{"$f":"IF(B351=\"\",\"\",IF(LEFT(D351,2)=\"BU\",'Gefilterde data'!G338,\"-\"))","v":"Zeeburgereiland/Bovendiep"},{"$f":"IF('Gefilterde data'!C338=0,\"\",'Gefilterde data'!A338)","v":"BU0363MH04"},"Ontbrekende waarde","Ontbrekende waarde",{"$f":"IF('Gefilterde data'!CL338=0,\"\",'Gefilterde data'!CL338)","v":"."},{"$f":"IF('Gefilterde data'!DX338=0,\"\",'Gefilterde data'!DX338)","v":{"v":43.39622641509434,"d":"43.4"}},null,{"$f":"IF('Gefilterde data'!DZ338=0,\"\",'Gefilterde data'!DZ338)","v":{"v":30.18867924528302,"d":"30"}},{"$f":"IF('Gefilterde data'!DW338=0,\"\",'Gefilterde data'!DW338)","v":{"v":2135,"d":"2,135"}},{"$f":"IF('Gefilterde data'!I338=0,\"\",'Gefilterde data'!I338)","v":265},{"$f":"IF('Gefilterde data'!DI338=0,\"\",'Gefilterde data'!DI338)","v":0.4},{"$f":"IF('Gefilterde data'!EA338=0,\"\",'Gefilterde data'!EA338)","v":{"v":5.660377358490567,"d":"6"}},{"$f":"IF('Gefilterde data'!EA338=0,\"\",'Gefilterde data'!EB338)","v":{"v":1.8867924528301887,"d":"2"}}]
[null,{"$f":"IF('Gefilterde data'!C339=0,\"\",'Gefilterde data'!C339)","v":"Baaibuurt-Oost"},{"$f":"IF(B352=\"\",\"\",IF(LEFT(D352,2)=\"BU\",'Gefilterde data'!G339,\"-\"))","v":"Zeeburgereiland/Bovendiep"},{"$f":"IF('Gefilterde data'!C339=0,\"\",'Gefilterde data'!A339)","v":"BU0363MH05"},{"v":1.775541118259862,"d":"1.78"},{"v":3.579444563355345,"d":"3.58"},{"$f":"IF('Gefilterde data'!CL339=0,\"\",'Gefilterde data'!CL339)","v":34.6},{"$f":"IF('Gefilterde data'!DX339=0,\"\",'Gefilterde data'!DX339)","v":{"v":67.88321167883211,"d":"67.9"}},null,{"$f":"IF('Gefilterde data'!DZ339=0,\"\",'Gefilterde data'!DZ339)","v":{"v":40.87591240875913,"d":"41"}},{"$f":"IF('Gefilterde data'!DW339=0,\"\",'Gefilterde data'!DW339)","v":{"v":1512,"d":"1,512"}},{"$f":"IF('Gefilterde data'!I339=0,\"\",'Gefilterde data'!I339)","v":685},{"$f":"IF('Gefilterde data'!DI339=0,\"\",'Gefilterde data'!DI339)","v":0.1},{"$f":"IF('Gefilterde data'!EA339=0,\"\",'Gefilterde data'!EA339)","v":{"v":0.7299270072992701,"d":"1"}},{"$f":"IF('Gefilterde data'!EA339=0,\"\",'Gefilterde data'!EB339)","v":0}]
[null,{"$f":"IF('Gefilterde data'!C340=0,\"\",'Gefilterde data'!C340)","v":"Bovendiep/Diemerpark"},{"$f":"IF(B353=\"\",\"\",IF(LEFT(D353,2)=\"BU\",'Gefilterde data'!G340,\"-\"))","v":"Zeeburgereiland/Bovendiep"},{"$f":"IF('Gefilterde data'!C340=0,\"\",'Gefilterde data'!A340)","v":"BU0363MH06"},"Ontbrekende waarde","Ontbrekende waarde",{"$f":"IF('Gefilterde data'!CL340=0,\"\",'Gefilterde data'!CL340)","v":"."},{"$f":"IF('Gefilterde data'!DX340=0,\"\",'Gefilterde data'!DX340)","v":{"v":15.384615384615385,"d":"15.4"}},null,{"$f":"IF('Gefilterde data'!DZ340=0,\"\",'Gefilterde data'!DZ340)","v":""},{"$f":"IF('Gefilterde data'!DW340=0,\"\",'Gefilterde data'!DW340)","v":{"v":1279,"d":"1,279"}},{"$f":"IF('Gefilterde data'!I340=0,\"\",'Gefilterde data'!I340)","v":65},{"$f":"IF('Gefilterde data'!DI340=0,\"\",'Gefilterde data'!DI340)","v":"."},{"$f":"IF('Gefilterde data'!EA340=0,\"\",'Gefilterde data'!EA340)","v":{"v":15.384615384615385,"d":"15"}},{"$f":"IF('Gefilterde data'!EA340=0,\"\",'Gefilterde data'!EB340)","v":{"v":23.076923076923077,"d":"23"}}]
[null,{"$f":"IF('Gefilterde data'!C341=0,\"\",'Gefilterde data'!C341)","v":"Steigereiland-Zuid"},{"$f":"IF(B354=\"\",\"\",IF(LEFT(D354,2)=\"BU\",'Gefilterde data'!G341,\"-\"))","v":"IJburg-West"},{"$f":"IF('Gefilterde data'!C341=0,\"\",'Gefilterde data'!A341)","v":"BU0363MJ01"},{"v":0.7904400909146976,"d":"0.79"},{"v":1.5935065975017466,"d":"1.59"},{"$f":"IF('Gefilterde data'!CL341=0,\"\",'Gefilterde data'!CL341)","v":10.1},{"$f":"IF('Gefilterde data'!DX341=0,\"\",'Gefilterde data'!DX341)","v":{"v":50.28571428571429,"d":"50.3"}},null,{"$f":"IF('Gefilterde data'!DZ341=0,\"\",'Gefilterde data'!DZ341)","v":{"v":3.428571428571429,"d":"3"}},{"$f":"IF('Gefilterde data'!DW341=0,\"\",'Gefilterde data'!DW341)","v":{"v":1322,"d":"1,322"}},{"$f":"IF('Gefilterde data'!I341=0,\"\",'Gefilterde data'!I341)","v":{"v":2625,"d":"2,625"}},{"$f":"IF('Gefilterde data'!DI341=0,\"\",'Gefilterde data'!DI341)","v":0.8},{"$f":"IF('Gefilterde data'!EA341=0,\"\",'Gefilterde data'!EA341)","v":{"v":20.761904761904763,"d":"21"}},{"$f":"IF('Gefilterde data'!EA341=0,\"\",'Gefilterde data'!EB341)","v":{"v":5.142857142857142,"d":"5"}}]
[null,{"$f":"IF('Gefilterde data'!C342=0,\"\",'Gefilterde data'!C342)","v":"Steigereiland-Noord"},{"$f":"IF(B355=\"\",\"\",IF(LEFT(D355,2)=\"BU\",'Gefilterde data'!G342,\"-\"))","v":"IJburg-West"},{"$f":"IF('Gefilterde data'!C342=0,\"\",'Gefilterde data'!A342)","v":"BU0363MJ02"},{"v":0.7825837970360703,"d":"0.78"},{"v":1.5776685140449498,"d":"1.58"},{"$f":"IF('Gefilterde data'!CL342=0,\"\",'Gefilterde data'!CL342)","v":7.3},{"$f":"IF('Gefilterde data'!DX342=0,\"\",'Gefilterde data'!DX342)","v":{"v":60,"d":"60.0"}},null,{"$f":"IF('Gefilterde data'!DZ342=0,\"\",'Gefilterde data'!DZ342)","v":{"v":2.272727272727273,"d":"2"}},{"$f":"IF('Gefilterde data'!DW342=0,\"\",'Gefilterde data'!DW342)","v":{"v":1165,"d":"1,165"}},{"$f":"IF('Gefilterde data'!I342=0,\"\",'Gefilterde data'!I342)","v":{"v":2200,"d":"2,200"}},{"$f":"IF('Gefilterde data'!DI342=0,\"\",'Gefilterde data'!DI342)","v":0.5},{"$f":"IF('Gefilterde data'!EA342=0,\"\",'Gefilterde data'!EA342)","v":{"v":17.954545454545453,"d":"18"}},{"$f":"IF('Gefilterde data'!EA342=0,\"\",'Gefilterde data'!EB342)","v":{"v":3.6363636363636362,"d":"4"}}]
[null,{"$f":"IF('Gefilterde data'!C343=0,\"\",'Gefilterde data'!C343)","v":"Rieteilanden-West"},{"$f":"IF(B356=\"\",\"\",IF(LEFT(D356,2)=\"BU\",'Gefilterde data'!G343,\"-\"))","v":"IJburg-West"},{"$f":"IF('Gefilterde data'!C343=0,\"\",'Gefilterde data'!A343)","v":"BU0363MJ03"},{"v":0.5319352826962098,"d":"0.53"},{"v":1.072367649570349,"d":"1.07"},{"$f":"IF('Gefilterde data'!CL343=0,\"\",'Gefilterde data'!CL343)","v":4.4},{"$f":"IF('Gefilterde data'!DX343=0,\"\",'Gefilterde data'!DX343)","v":{"v":42.90909090909091,"d":"42.9"}},null,{"$f":"IF('Gefilterde data'!DZ343=0,\"\",'Gefilterde data'!DZ343)","v":{"v":2.909090909090909,"d":"3"}},{"$f":"IF('Gefilterde data'!DW343=0,\"\",'Gefilterde data'!DW343)","v":{"v":2065,"d":"2,065"}},{"$f":"IF('Gefilterde data'!I343=0,\"\",'Gefilterde data'!I343)","v":{"v":2750,"d":"2,750"}},{"$f":"IF('Gefilterde data'!DI343=0,\"\",'Gefilterde data'!DI343)","v":0.9},{"$f":"IF('Gefilterde data'!EA343=0,\"\",'Gefilterde data'!EA343)","v":{"v":18.545454545454547,"d":"19"}},{"$f":"IF('Gefilterde data'!EA343=0,\"\",'Gefilterde data'!EB343)","v":{"v":6.7272727272727275,"d":"7"}}]
[null,{"$f":"IF('Gefilterde data'!C344=0,\"\",'Gefilterde data'!C344)","v":"Joris Ivenspleinbuurt"},{"$f":"IF(B357=\"\",\"\",IF(LEFT(D357,2)=\"BU\",'Gefilterde data'!G344,\"-\"))","v":"IJburg-West"},{"$f":"IF('Gefilterde data'!C344=0,\"\",'Gefilterde data'!A344)","v":"BU0363MJ04"},{"v":0.9433957556246517,"d":"0.94"},{"v":1.9018612263244394,"d":"1.90"},{"$f":"IF('Gefilterde data'!CL344=0,\"\",'Gefilterde data'!CL344)","v":10.7},{"$f":"IF('Gefilterde data'!DX344=0,\"\",'Gefilterde data'!DX344)","v":{"v":65.14084507042254,"d":"65.1"}},null,{"$f":"IF('Gefilterde data'!DZ344=0,\"\",'Gefilterde data'!DZ344)","v":{"v":2.464788732394366,"d":"2"}},{"$f":"IF('Gefilterde data'!DW344=0,\"\",'Gefilterde data'!DW344)","v":{"v":1865,"d":"1,865"}},{"$f":"IF('Gefilterde data'!I344=0,\"\",'Gefilterde data'!I344)","v":{"v":2840,"d":"2,840"}},{"$f":"IF('Gefilterde data'!DI344=0,\"\",'Gefilterde data'!DI344)","v":0.5},{"$f":"IF('Gefilterde data'!EA344=0,\"\",'Gefilterde data'!EA344)","v":{"v":16.549295774647888,"d":"17"}},{"$f":"IF('Gefilterde data'!EA344=0,\"\",'Gefilterde data'!EB344)","v":{"v":8.098591549295776,"d":"8"}}]
[null,{"$f":"IF('Gefilterde data'!C345=0,\"\",'Gefilterde data'!C345)","v":"Ed Pelsterparkbuurt"},{"$f":"IF(B358=\"\",\"\",IF(LEFT(D358,2)=\"BU\",'Gefilterde data'!G345,\"-\"))","v":"IJburg-West"},{"$f":"IF('Gefilterde data'!C345=0,\"\",'Gefilterde data'!A345)","v":"BU0363MJ05"},{"v":0.9262425887589821,"d":"0.93"},{"v":1.8672808895188222,"d":"1.87"},{"$f":"IF('Gefilterde data'!CL345=0,\"\",'Gefilterde data'!CL345)","v":10.7},{"$f":"IF('Gefilterde data'!DX345=0,\"\",'Gefilterde data'!DX345)","v":{"v":63.22033898305085,"d":"63.2"}},null,{"$f":"IF('Gefilterde data'!DZ345=0,\"\",'Gefilterde data'!DZ345)","v":{"v":2.2033898305084745,"d":"2"}},{"$f":"IF('Gefilterde data'!DW345=0,\"\",'Gefilterde data'!DW345)","v":{"v":2052,"d":"2,052"}},{"$f":"IF('Gefilterde data'!I345=0,\"\",'Gefilterde data'!I345)","v":{"v":5900,"d":"5,900"}},{"$f":"IF('Gefilterde data'!DI345=0,\"\",'Gefilterde data'!DI345)","v":0.6},{"$f":"IF('Gefilterde data'!EA345=0,\"\",'Gefilterde data'!EA345)","v":{"v":20.93220338983051,"d":"21"}},{"$f":"IF('Gefilterde data'!EA345=0,\"\",'Gefilterde data'!EB345)","v":{"v":5.423728813559322,"d":"5"}}]
[null,{"$f":"IF('Gefilterde data'!C346=0,\"\",'Gefilterde data'!C346)","v":"Buiteneiland"},{"$f":"IF(B359=\"\",\"\",IF(LEFT(D359,2)=\"BU\",'Gefilterde data'!G346,\"-\"))","v":"IJburg-Oost"},{"$f":"IF('Gefilterde data'!C346=0,\"\",'Gefilterde data'!A346)","v":"BU0363MK01"},"Ontbrekende waarde","Ontbrekende waarde",{"$f":"IF('Gefilterde data'!CL346=0,\"\",'Gefilterde data'!CL346)","v":"."},{"$f":"IF('Gefilterde data'!DX346=0,\"\",'Gefilterde data'!DX346)","v":"Geen inwoners"},null,{"$f":"IF('Gefilterde data'!DZ346=0,\"\",'Gefilterde data'!DZ346)","v":"Geen inwoners"},{"$f":"IF('Gefilterde data'!DW346=0,\"\",'Gefilterde data'!DW346)","v":"."},{"$f":"IF('Gefilterde data'!I346=0,\"\",'Gefilterde data'!I346)","v":""},{"$f":"IF('Gefilterde data'!DI346=0,\"\",'Gefilterde data'!DI346)","v":"."},{"$f":"IF('Gefilterde data'!EA346=0,\"\",'Gefilterde data'!EA346)","v":"Geen inwoners"},{"$f":"IF('Gefilterde data'!EA346=0,\"\",'Gefilterde data'!EB346)","v":"Geen inwoners"}]
[null,{"$f":"IF('Gefilterde data'!C347=0,\"\",'Gefilterde data'!C347)","v":"Pampusbuurt-West"},{"$f":"IF(B360=\"\",\"\",IF(LEFT(D360,2)=\"BU\",'Gefilterde data'!G347,\"-\"))","v":"IJburg-Oost"},{"$f":"IF('Gefilterde data'!C347=0,\"\",'Gefilterde data'!A347)","v":"BU0363MK02"},"Ontbrekende waarde","Ontbrekende waarde",{"$f":"IF('Gefilterde data'!CL347=0,\"\",'Gefilterde data'!CL347)","v":"."},{"$f":"IF('Gefilterde data'!DX347=0,\"\",'Gefilterde data'!DX347)","v":"Geen inwoners"},null,{"$f":"IF('Gefilterde data'!DZ347=0,\"\",'Gefilterde data'!DZ347)","v":"Geen inwoners"},{"$f":"IF('Gefilterde data'!DW347=0,\"\",'Gefilterde data'!DW347)","v":"."},{"$f":"IF('Gefilterde data'!I347=0,\"\",'Gefilterde data'!I347)","v":""},{"$f":"IF('Gefilterde data'!DI347=0,\"\",'Gefilterde data'!DI347)","v":"."},{"$f":"IF('Gefilterde data'!EA347=0,\"\",'Gefilterde data'!EA347)","v":"Geen inwoners"},{"$f":"IF('Gefilterde data'!EA347=0,\"\",'Gefilterde data'!EB347)","v":"Geen inwoners"}]
[null,{"$f":"IF('Gefilterde data'!C348=0,\"\",'Gefilterde data'!C348)","v":"Pampusbuurt-Oost"},{"$f":"IF(B361=\"\",\"\",IF(LEFT(D361,2)=\"BU\",'Gefilterde data'!G348,\"-\"))","v":"IJburg-Oost"},{"$f":"IF('Gefilterde data'!C348=0,\"\",'Gefilterde data'!A348)","v":"BU0363MK03"},"Ontbrekende waarde","Ontbrekende waarde",{"$f":"IF('Gefilterde data'!CL348=0,\"\",'Gefilterde data'!CL348)","v":"."},{"$f":"IF('Gefilterde data'!DX348=0,\"\",'Gefilterde data'!DX348)","v":"Geen inwoners"},null,{"$f":"IF('Gefilterde data'!DZ348=0,\"\",'Gefilterde data'!DZ348)","v":"Geen inwoners"},{"$f":"IF('Gefilterde data'!DW348=0,\"\",'Gefilterde data'!DW348)","v":"."},{"$f":"IF('Gefilterde data'!I348=0,\"\",'Gefilterde data'!I348)","v":""},{"$f":"IF('Gefilterde data'!DI348=0,\"\",'Gefilterde data'!DI348)","v":"."},{"$f":"IF('Gefilterde data'!EA348=0,\"\",'Gefilterde data'!EA348)","v":"Geen inwoners"},{"$f":"IF('Gefilterde data'!EA348=0,\"\",'Gefilterde data'!EB348)","v":"Geen inwoners"}]
[null,{"$f":"IF('Gefilterde data'!C349=0,\"\",'Gefilterde data'!C349)","v":"Centrumeiland"},{"$f":"IF(B362=\"\",\"\",IF(LEFT(D362,2)=\"BU\",'Gefilterde data'!G349,\"-\"))","v":"IJburg-Oost"},{"$f":"IF('Gefilterde data'!C349=0,\"\",'Gefilterde data'!A349)","v":"BU0363MK04"},{"v":0.9058943715731992,"d":"0.91"},{"v":1.8262594146396556,"d":"1.83"},{"$f":"IF('Gefilterde data'!CL349=0,\"\",'Gefilterde data'!CL349)","v":12.1},{"$f":"IF('Gefilterde data'!DX349=0,\"\",'Gefilterde data'!DX349)","v":{"v":55.64516129032258,"d":"55.6"}},null,{"$f":"IF('Gefilterde data'!DZ349=0,\"\",'Gefilterde data'!DZ349)","v":{"v":3.225806451612903,"d":"3"}},{"$f":"IF('Gefilterde data'!DW349=0,\"\",'Gefilterde data'!DW349)","v":{"v":1084,"d":"1,084"}},{"$f":"IF('Gefilterde data'!I349=0,\"\",'Gefilterde data'!I349)","v":620},{"$f":"IF('Gefilterde data'!DI349=0,\"\",'Gefilterde data'!DI349)","v":0.6},{"$f":"IF('Gefilterde data'!EA349=0,\"\",'Gefilterde data'!EA349)","v":{"v":27.419354838709676,"d":"27"}},{"$f":"IF('Gefilterde data'!EA349=0,\"\",'Gefilterde data'!EB349)","v":{"v":3.225806451612903,"d":"3"}}]
[null,{"$f":"IF('Gefilterde data'!C350=0,\"\",'Gefilterde data'!C350)","v":"Muidenbuurt-West"},{"$f":"IF(B363=\"\",\"\",IF(LEFT(D363,2)=\"BU\",'Gefilterde data'!G350,\"-\"))","v":"IJburg-Oost"},{"$f":"IF('Gefilterde data'!C350=0,\"\",'Gefilterde data'!A350)","v":"BU0363MK05"},"Ontbrekende waarde","Ontbrekende waarde",{"$f":"IF('Gefilterde data'!CL350=0,\"\",'Gefilterde data'!CL350)","v":"."},{"$f":"IF('Gefilterde data'!DX350=0,\"\",'Gefilterde data'!DX350)","v":"Geen inwoners"},null,{"$f":"IF('Gefilterde data'!DZ350=0,\"\",'Gefilterde data'!DZ350)","v":"Geen inwoners"},{"$f":"IF('Gefilterde data'!DW350=0,\"\",'Gefilterde data'!DW350)","v":"."},{"$f":"IF('Gefilterde data'!I350=0,\"\",'Gefilterde data'!I350)","v":""},{"$f":"IF('Gefilterde data'!DI350=0,\"\",'Gefilterde data'!DI350)","v":"."},{"$f":"IF('Gefilterde data'!EA350=0,\"\",'Gefilterde data'!EA350)","v":"Geen inwoners"},{"$f":"IF('Gefilterde data'!EA350=0,\"\",'Gefilterde data'!EB350)","v":"Geen inwoners"}]
[null,{"$f":"IF('Gefilterde data'!C351=0,\"\",'Gefilterde data'!C351)","v":"Havenkwartier IJburg"},{"$f":"IF(B364=\"\",\"\",IF(LEFT(D364,2)=\"BU\",'Gefilterde data'!G351,\"-\"))","v":"IJburg-Zuid"},{"$f":"IF('Gefilterde data'!C351=0,\"\",'Gefilterde data'!A351)","v":"BU0363ML01"},{"v":1.1032674435923457,"d":"1.10"},{"v":2.2241583775676874,"d":"2.22"},{"$f":"IF('Gefilterde data'!CL351=0,\"\",'Gefilterde data'!CL351)","v":13.8},{"$f":"IF('Gefilterde data'!DX351=0,\"\",'Gefilterde data'!DX351)","v":{"v":71.31147540983606,"d":"71.3"}},null,{"$f":"IF('Gefilterde data'!DZ351=0,\"\",'Gefilterde data'!DZ351)","v":{"v":1.639344262295082,"d":"2"}},{"$f":"IF('Gefilterde data'!DW351=0,\"\",'Gefilterde data'!DW351)","v":{"v":1973,"d":"1,973"}},{"$f":"IF('Gefilterde data'!I351=0,\"\",'Gefilterde data'!I351)","v":{"v":1830,"d":"1,830"}},{"$f":"IF('Gefilterde data'!DI351=0,\"\",'Gefilterde data'!DI351)","v":0.6},{"$f":"IF('Gefilterde data'!EA351=0,\"\",'Gefilterde data'!EA351)","v":{"v":20.21857923497268,"d":"20"}},{"$f":"IF('Gefilterde data'!EA351=0,\"\",'Gefilterde data'!EB351)","v":{"v":8.19672131147541,"d":"8"}}]
[null,{"$f":"IF('Gefilterde data'!C352=0,\"\",'Gefilterde data'!C352)","v":"Theo van Goghparkbuurt"},{"$f":"IF(B365=\"\",\"\",IF(LEFT(D365,2)=\"BU\",'Gefilterde data'!G352,\"-\"))","v":"IJburg-Zuid"},{"$f":"IF('Gefilterde data'!C352=0,\"\",'Gefilterde data'!A352)","v":"BU0363ML02"},{"v":0.8679649463937853,"d":"0.87"},{"v":1.7497946832102276,"d":"1.75"},{"$f":"IF('Gefilterde data'!CL352=0,\"\",'Gefilterde data'!CL352)","v":10.8},{"$f":"IF('Gefilterde data'!DX352=0,\"\",'Gefilterde data'!DX352)","v":{"v":56.31709331131296,"d":"56.3"}},null,{"$f":"IF('Gefilterde data'!DZ352=0,\"\",'Gefilterde data'!DZ352)","v":{"v":1.8166804293971925,"d":"2"}},{"$f":"IF('Gefilterde data'!DW352=0,\"\",'Gefilterde data'!DW352)","v":{"v":1528,"d":"1,528"}},{"$f":"IF('Gefilterde data'!I352=0,\"\",'Gefilterde data'!I352)","v":{"v":6055,"d":"6,055"}},{"$f":"IF('Gefilterde data'!DI352=0,\"\",'Gefilterde data'!DI352)","v":0.7},{"$f":"IF('Gefilterde data'!EA352=0,\"\",'Gefilterde data'!EA352)","v":{"v":26.837324525185796,"d":"27"}},{"$f":"IF('Gefilterde data'!EA352=0,\"\",'Gefilterde data'!EB352)","v":{"v":3.5507844756399667,"d":"4"}}]
[null,{"$f":"IF('Gefilterde data'!C353=0,\"\",'Gefilterde data'!C353)","v":"Rieteiland-Oost"},{"$f":"IF(B366=\"\",\"\",IF(LEFT(D366,2)=\"BU\",'Gefilterde data'!G353,\"-\"))","v":"IJburg-Zuid"},{"$f":"IF('Gefilterde data'!C353=0,\"\",'Gefilterde data'!A353)","v":"BU0363ML03"},"Ontbrekende waarde","Ontbrekende waarde",{"$f":"IF('Gefilterde data'!CL353=0,\"\",'Gefilterde data'!CL353)","v":"."},{"$f":"IF('Gefilterde data'!DX353=0,\"\",'Gefilterde data'!DX353)","v":{"v":30.303030303030305,"d":"30.3"}},null,{"$f":"IF('Gefilterde data'!DZ353=0,\"\",'Gefilterde data'!DZ353)","v":{"v":3.0303030303030303,"d":"3"}},{"$f":"IF('Gefilterde data'!DW353=0,\"\",'Gefilterde data'!DW353)","v":{"v":1434,"d":"1,434"}},{"$f":"IF('Gefilterde data'!I353=0,\"\",'Gefilterde data'!I353)","v":330},{"$f":"IF('Gefilterde data'!DI353=0,\"\",'Gefilterde data'!DI353)","v":1.3},{"$f":"IF('Gefilterde data'!EA353=0,\"\",'Gefilterde data'!EA353)","v":{"v":28.78787878787879,"d":"29"}},{"$f":"IF('Gefilterde data'!EA353=0,\"\",'Gefilterde data'!EB353)","v":0}]
[null,{"$f":"IF('Gefilterde data'!C354=0,\"\",'Gefilterde data'!C354)","v":"Van der Kunbuurt"},{"$f":"IF(B367=\"\",\"\",IF(LEFT(D367,2)=\"BU\",'Gefilterde data'!G354,\"-\"))","v":"Frankendael"},{"$f":"IF('Gefilterde data'!C354=0,\"\",'Gefilterde data'!A354)","v":"BU0363MM01"},{"v":1.415487065676199,"d":"1.42"},{"v":2.8535849886146893,"d":"2.85"},{"$f":"IF('Gefilterde data'!CL354=0,\"\",'Gefilterde data'!CL354)","v":21.8},{"$f":"IF('Gefilterde data'!DX354=0,\"\",'Gefilterde data'!DX354)","v":{"v":76,"d":"76.0"}},null,{"$f":"IF('Gefilterde data'!DZ354=0,\"\",'Gefilterde data'!DZ354)","v":{"v":4.8,"d":"5"}},{"$f":"IF('Gefilterde data'!DW354=0,\"\",'Gefilterde data'!DW354)","v":{"v":6834,"d":"6,834"}},{"$f":"IF('Gefilterde data'!I354=0,\"\",'Gefilterde data'!I354)","v":625},{"$f":"IF('Gefilterde data'!DI354=0,\"\",'Gefilterde data'!DI354)","v":"."},{"$f":"IF('Gefilterde data'!EA354=0,\"\",'Gefilterde data'!EA354)","v":{"v":17.599999999999998,"d":"18"}},{"$f":"IF('Gefilterde data'!EA354=0,\"\",'Gefilterde data'!EB354)","v":12}]
[null,{"$f":"IF('Gefilterde data'!C355=0,\"\",'Gefilterde data'!C355)","v":"De Eenhoorn"},{"$f":"IF(B368=\"\",\"\",IF(LEFT(D368,2)=\"BU\",'Gefilterde data'!G355,\"-\"))","v":"Frankendael"},{"$f":"IF('Gefilterde data'!C355=0,\"\",'Gefilterde data'!A355)","v":"BU0363MM02"},{"v":1.0444517074903525,"d":"1.04"},{"v":2.1055873883267555,"d":"2.11"},{"$f":"IF('Gefilterde data'!CL355=0,\"\",'Gefilterde data'!CL355)","v":13.1},{"$f":"IF('Gefilterde data'!DX355=0,\"\",'Gefilterde data'!DX355)","v":{"v":67.37481031866464,"d":"67.4"}},null,{"$f":"IF('Gefilterde data'!DZ355=0,\"\",'Gefilterde data'!DZ355)","v":{"v":18.512898330804248,"d":"19"}},{"$f":"IF('Gefilterde data'!DW355=0,\"\",'Gefilterde data'!DW355)","v":{"v":7001,"d":"7,001"}},{"$f":"IF('Gefilterde data'!I355=0,\"\",'Gefilterde data'!I355)","v":{"v":3295,"d":"3,295"}},{"$f":"IF('Gefilterde data'!DI355=0,\"\",'Gefilterde data'!DI355)","v":1.2},{"$f":"IF('Gefilterde data'!EA355=0,\"\",'Gefilterde data'!EA355)","v":{"v":6.980273141122914,"d":"7"}},{"$f":"IF('Gefilterde data'!EA355=0,\"\",'Gefilterde data'!EB355)","v":{"v":3.0349013657056148,"d":"3"}}]
[null,{"$f":"IF('Gefilterde data'!C356=0,\"\",'Gefilterde data'!C356)","v":"Don Bosco"},{"$f":"IF(B369=\"\",\"\",IF(LEFT(D369,2)=\"BU\",'Gefilterde data'!G356,\"-\"))","v":"Frankendael"},{"$f":"IF('Gefilterde data'!C356=0,\"\",'Gefilterde data'!A356)","v":"BU0363MM03"},{"v":0.675618937376283,"d":"0.68"},{"v":1.3620301481170833,"d":"1.36"},{"$f":"IF('Gefilterde data'!CL356=0,\"\",'Gefilterde data'!CL356)","v":9.2},{"$f":"IF('Gefilterde data'!DX356=0,\"\",'Gefilterde data'!DX356)","v":{"v":40.835266821345705,"d":"40.8"}},null,{"$f":"IF('Gefilterde data'!DZ356=0,\"\",'Gefilterde data'!DZ356)","v":{"v":4.640371229698376,"d":"5"}},{"$f":"IF('Gefilterde data'!DW356=0,\"\",'Gefilterde data'!DW356)","v":{"v":7354,"d":"7,354"}},{"$f":"IF('Gefilterde data'!I356=0,\"\",'Gefilterde data'!I356)","v":{"v":2155,"d":"2,155"}},{"$f":"IF('Gefilterde data'!DI356=0,\"\",'Gefilterde data'!DI356)","v":0.6},{"$f":"IF('Gefilterde data'!EA356=0,\"\",'Gefilterde data'!EA356)","v":{"v":16.009280742459396,"d":"16"}},{"$f":"IF('Gefilterde data'!EA356=0,\"\",'Gefilterde data'!EB356)","v":{"v":14.385150812064964,"d":"14"}}]
[null,{"$f":"IF('Gefilterde data'!C357=0,\"\",'Gefilterde data'!C357)","v":"Julianapark"},{"$f":"IF(B370=\"\",\"\",IF(LEFT(D370,2)=\"BU\",'Gefilterde data'!G357,\"-\"))","v":"Frankendael"},{"$f":"IF('Gefilterde data'!C357=0,\"\",'Gefilterde data'!A357)","v":"BU0363MM04"},{"v":0.653474153282816,"d":"0.65"},{"v":1.31738684123173,"d":"1.32"},{"$f":"IF('Gefilterde data'!CL357=0,\"\",'Gefilterde data'!CL357)","v":6.5},{"$f":"IF('Gefilterde data'!DX357=0,\"\",'Gefilterde data'!DX357)","v":{"v":48.57142857142857,"d":"48.6"}},null,{"$f":"IF('Gefilterde data'!DZ357=0,\"\",'Gefilterde data'!DZ357)","v":{"v":1.9047619047619049,"d":"2"}},{"$f":"IF('Gefilterde data'!DW357=0,\"\",'Gefilterde data'!DW357)","v":{"v":5482,"d":"5,482"}},{"$f":"IF('Gefilterde data'!I357=0,\"\",'Gefilterde data'!I357)","v":{"v":1050,"d":"1,050"}},{"$f":"IF('Gefilterde data'!DI357=0,\"\",'Gefilterde data'!DI357)","v":0.4},{"$f":"IF('Gefilterde data'!EA357=0,\"\",'Gefilterde data'!EA357)","v":10},{"$f":"IF('Gefilterde data'!EA357=0,\"\",'Gefilterde data'!EB357)","v":{"v":13.333333333333334,"d":"13"}}]
[null,{"$f":"IF('Gefilterde data'!C358=0,\"\",'Gefilterde data'!C358)","v":"Frankendael"},{"$f":"IF(B371=\"\",\"\",IF(LEFT(D371,2)=\"BU\",'Gefilterde data'!G358,\"-\"))","v":"Frankendael"},{"$f":"IF('Gefilterde data'!C358=0,\"\",'Gefilterde data'!A358)","v":"BU0363MM05"},"Ontbrekende waarde","Ontbrekende waarde",{"$f":"IF('Gefilterde data'!CL358=0,\"\",'Gefilterde data'!CL358)","v":"."},{"$f":"IF('Gefilterde data'!DX358=0,\"\",'Gefilterde data'!DX358)","v":""},null,{"$f":"IF('Gefilterde data'!DZ358=0,\"\",'Gefilterde data'!DZ358)","v":""},{"$f":"IF('Gefilterde data'!DW358=0,\"\",'Gefilterde data'!DW358)","v":{"v":6107,"d":"6,107"}},{"$f":"IF('Gefilterde data'!I358=0,\"\",'Gefilterde data'!I358)","v":15},{"$f":"IF('Gefilterde data'!DI358=0,\"\",'Gefilterde data'!DI358)","v":"."},{"$f":"IF('Gefilterde data'!EA358=0,\"\",'Gefilterde data'!EA358)","v":{"v":33.33333333333333,"d":"33"}},{"$f":"IF('Gefilterde data'!EA358=0,\"\",'Gefilterde data'!EB358)","v":0}]
[null,{"$f":"IF('Gefilterde data'!C359=0,\"\",'Gefilterde data'!C359)","v":"Tuindorp Amstelstation"},{"$f":"IF(B372=\"\",\"\",IF(LEFT(D372,2)=\"BU\",'Gefilterde data'!G359,\"-\"))","v":"Frankendael"},{"$f":"IF('Gefilterde data'!C359=0,\"\",'Gefilterde data'!A359)","v":"BU0363MM06"},{"v":1.6081700165737713,"d":"1.61"},{"v":3.242028789745877,"d":"3.24"},{"$f":"IF('Gefilterde data'!CL359=0,\"\",'Gefilterde data'!CL359)","v":33.1},{"$f":"IF('Gefilterde data'!DX359=0,\"\",'Gefilterde data'!DX359)","v":{"v":54.81927710843374,"d":"54.8"}},null,{"$f":"IF('Gefilterde data'!DZ359=0,\"\",'Gefilterde data'!DZ359)","v":""},{"$f":"IF('Gefilterde data'!DW359=0,\"\",'Gefilterde data'!DW359)","v":{"v":5013,"d":"5,013"}},{"$f":"IF('Gefilterde data'!I359=0,\"\",'Gefilterde data'!I359)","v":830},{"$f":"IF('Gefilterde data'!DI359=0,\"\",'Gefilterde data'!DI359)","v":0.4},{"$f":"IF('Gefilterde data'!EA359=0,\"\",'Gefilterde data'!EA359)","v":{"v":16.265060240963855,"d":"16"}},{"$f":"IF('Gefilterde data'!EA359=0,\"\",'Gefilterde data'!EB359)","v":{"v":24.69879518072289,"d":"25"}}]
[null,{"$f":"IF('Gefilterde data'!C360=0,\"\",'Gefilterde data'!C360)","v":"De Wetbuurt"},{"$f":"IF(B373=\"\",\"\",IF(LEFT(D373,2)=\"BU\",'Gefilterde data'!G360,\"-\"))","v":"Frankendael"},{"$f":"IF('Gefilterde data'!C360=0,\"\",'Gefilterde data'!A360)","v":"BU0363MM07"},{"v":0.8264822082664829,"d":"0.83"},{"v":1.6661665655981779,"d":"1.67"},{"$f":"IF('Gefilterde data'!CL360=0,\"\",'Gefilterde data'!CL360)","v":14.8},{"$f":"IF('Gefilterde data'!DX360=0,\"\",'Gefilterde data'!DX360)","v":{"v":36.53846153846153,"d":"36.5"}},null,{"$f":"IF('Gefilterde data'!DZ360=0,\"\",'Gefilterde data'!DZ360)","v":{"v":3.8461538461538463,"d":"4"}},{"$f":"IF('Gefilterde data'!DW360=0,\"\",'Gefilterde data'!DW360)","v":{"v":3619,"d":"3,619"}},{"$f":"IF('Gefilterde data'!I360=0,\"\",'Gefilterde data'!I360)","v":{"v":1820,"d":"1,820"}},{"$f":"IF('Gefilterde data'!DI360=0,\"\",'Gefilterde data'!DI360)","v":0.6},{"$f":"IF('Gefilterde data'!EA360=0,\"\",'Gefilterde data'!EA360)","v":{"v":15.659340659340659,"d":"16"}},{"$f":"IF('Gefilterde data'!EA360=0,\"\",'Gefilterde data'!EB360)","v":{"v":22.802197802197803,"d":"23"}}]
[null,{"$f":"IF('Gefilterde data'!C361=0,\"\",'Gefilterde data'!C361)","v":"Tuindorp Frankendael"},{"$f":"IF(B374=\"\",\"\",IF(LEFT(D374,2)=\"BU\",'Gefilterde data'!G361,\"-\"))","v":"Frankendael"},{"$f":"IF('Gefilterde data'!C361=0,\"\",'Gefilterde data'!A361)","v":"BU0363MM08"},{"v":1.0746004184227345,"d":"1.07"},{"v":2.166366402864504,"d":"2.17"},{"$f":"IF('Gefilterde data'!CL361=0,\"\",'Gefilterde data'!CL361)","v":19.3},{"$f":"IF('Gefilterde data'!DX361=0,\"\",'Gefilterde data'!DX361)","v":{"v":47.292418772563174,"d":"47.3"}},null,{"$f":"IF('Gefilterde data'!DZ361=0,\"\",'Gefilterde data'!DZ361)","v":{"v":1.083032490974729,"d":"1"}},{"$f":"IF('Gefilterde data'!DW361=0,\"\",'Gefilterde data'!DW361)","v":{"v":3662,"d":"3,662"}},{"$f":"IF('Gefilterde data'!I361=0,\"\",'Gefilterde data'!I361)","v":{"v":2770,"d":"2,770"}},{"$f":"IF('Gefilterde data'!DI361=0,\"\",'Gefilterde data'!DI361)","v":0.4},{"$f":"IF('Gefilterde data'!EA361=0,\"\",'Gefilterde data'!EA361)","v":{"v":14.440433212996389,"d":"14"}},{"$f":"IF('Gefilterde data'!EA361=0,\"\",'Gefilterde data'!EB361)","v":{"v":20.577617328519857,"d":"21"}}]
[null,{"$f":"IF('Gefilterde data'!C362=0,\"\",'Gefilterde data'!C362)","v":"Linnaeusparkbuurt"},{"$f":"IF(B375=\"\",\"\",IF(LEFT(D375,2)=\"BU\",'Gefilterde data'!G362,\"-\"))","v":"Middenmeer"},{"$f":"IF('Gefilterde data'!C362=0,\"\",'Gefilterde data'!A362)","v":"BU0363MN01"},{"v":0.5550722281813596,"d":"0.56"},{"v":1.1190111279318269,"d":"1.12"},{"$f":"IF('Gefilterde data'!CL362=0,\"\",'Gefilterde data'!CL362)","v":7.2},{"$f":"IF('Gefilterde data'!DX362=0,\"\",'Gefilterde data'!DX362)","v":{"v":34.90566037735849,"d":"34.9"}},null,{"$f":"IF('Gefilterde data'!DZ362=0,\"\",'Gefilterde data'!DZ362)","v":{"v":3.7735849056603774,"d":"4"}},{"$f":"IF('Gefilterde data'!DW362=0,\"\",'Gefilterde data'!DW362)","v":{"v":7042,"d":"7,042"}},{"$f":"IF('Gefilterde data'!I362=0,\"\",'Gefilterde data'!I362)","v":{"v":2650,"d":"2,650"}},{"$f":"IF('Gefilterde data'!DI362=0,\"\",'Gefilterde data'!DI362)","v":0.6},{"$f":"IF('Gefilterde data'!EA362=0,\"\",'Gefilterde data'!EA362)","v":{"v":16.22641509433962,"d":"16"}},{"$f":"IF('Gefilterde data'!EA362=0,\"\",'Gefilterde data'!EB362)","v":{"v":14.339622641509434,"d":"14"}}]
[null,{"$f":"IF('Gefilterde data'!C363=0,\"\",'Gefilterde data'!C363)","v":"Middenmeer-Noord"},{"$f":"IF(B376=\"\",\"\",IF(LEFT(D376,2)=\"BU\",'Gefilterde data'!G363,\"-\"))","v":"Middenmeer"},{"$f":"IF('Gefilterde data'!C363=0,\"\",'Gefilterde data'!A363)","v":"BU0363MN02"},{"v":0.5360725662954836,"d":"0.54"},{"v":1.0807083053480047,"d":"1.08"},{"$f":"IF('Gefilterde data'!CL363=0,\"\",'Gefilterde data'!CL363)","v":7.5},{"$f":"IF('Gefilterde data'!DX363=0,\"\",'Gefilterde data'!DX363)","v":{"v":31.643356643356647,"d":"31.6"}},null,{"$f":"IF('Gefilterde data'!DZ363=0,\"\",'Gefilterde data'!DZ363)","v":{"v":3.4965034965034967,"d":"3"}},{"$f":"IF('Gefilterde data'!DW363=0,\"\",'Gefilterde data'!DW363)","v":{"v":7083,"d":"7,083"}},{"$f":"IF('Gefilterde data'!I363=0,\"\",'Gefilterde data'!I363)","v":{"v":2860,"d":"2,860"}},{"$f":"IF('Gefilterde data'!DI363=0,\"\",'Gefilterde data'!DI363)","v":0.6},{"$f":"IF('Gefilterde data'!EA363=0,\"\",'Gefilterde data'!EA363)","v":{"v":18.53146853146853,"d":"19"}},{"$f":"IF('Gefilterde data'!EA363=0,\"\",'Gefilterde data'!EB363)","v":{"v":14.685314685314685,"d":"15"}}]
[null,{"$f":"IF('Gefilterde data'!C364=0,\"\",'Gefilterde data'!C364)","v":"Middenmeer-Zuid"},{"$f":"IF(B377=\"\",\"\",IF(LEFT(D377,2)=\"BU\",'Gefilterde data'!G364,\"-\"))","v":"Middenmeer"},{"$f":"IF('Gefilterde data'!C364=0,\"\",'Gefilterde data'!A364)","v":"BU0363MN03"},{"v":0.5654039861718985,"d":"0.57"},{"v":1.1398396824433563,"d":"1.14"},{"$f":"IF('Gefilterde data'!CL364=0,\"\",'Gefilterde data'!CL364)","v":7.4},{"$f":"IF('Gefilterde data'!DX364=0,\"\",'Gefilterde data'!DX364)","v":{"v":35.30571992110454,"d":"35.3"}},null,{"$f":"IF('Gefilterde data'!DZ364=0,\"\",'Gefilterde data'!DZ364)","v":{"v":4.930966469428008,"d":"5"}},{"$f":"IF('Gefilterde data'!DW364=0,\"\",'Gefilterde data'!DW364)","v":{"v":4362,"d":"4,362"}},{"$f":"IF('Gefilterde data'!I364=0,\"\",'Gefilterde data'!I364)","v":{"v":5070,"d":"5,070"}},{"$f":"IF('Gefilterde data'!DI364=0,\"\",'Gefilterde data'!DI364)","v":0.6},{"$f":"IF('Gefilterde data'!EA364=0,\"\",'Gefilterde data'!EA364)","v":{"v":18.14595660749507,"d":"18"}},{"$f":"IF('Gefilterde data'!EA364=0,\"\",'Gefilterde data'!EB364)","v":{"v":12.03155818540434,"d":"12"}}]
[null,{"$f":"IF('Gefilterde data'!C365=0,\"\",'Gefilterde data'!C365)","v":"Science Park-Noord"},{"$f":"IF(B378=\"\",\"\",IF(LEFT(D378,2)=\"BU\",'Gefilterde data'!G365,\"-\"))","v":"Middenmeer"},{"$f":"IF('Gefilterde data'!C365=0,\"\",'Gefilterde data'!A365)","v":"BU0363MN04"},{"v":0.7829047038010397,"d":"0.78"},{"v":1.5783154537093713,"d":"1.58"},{"$f":"IF('Gefilterde data'!CL365=0,\"\",'Gefilterde data'!CL365)","v":5.3},{"$f":"IF('Gefilterde data'!DX365=0,\"\",'Gefilterde data'!DX365)","v":{"v":67.60299625468164,"d":"67.6"}},null,{"$f":"IF('Gefilterde data'!DZ365=0,\"\",'Gefilterde data'!DZ365)","v":{"v":43.07116104868914,"d":"43"}},{"$f":"IF('Gefilterde data'!DW365=0,\"\",'Gefilterde data'!DW365)","v":{"v":4402,"d":"4,402"}},{"$f":"IF('Gefilterde data'!I365=0,\"\",'Gefilterde data'!I365)","v":{"v":2670,"d":"2,670"}},{"$f":"IF('Gefilterde data'!DI365=0,\"\",'Gefilterde data'!DI365)","v":0.2},{"$f":"IF('Gefilterde data'!EA365=0,\"\",'Gefilterde data'!EA365)","v":{"v":5.056179775280898,"d":"5"}},{"$f":"IF('Gefilterde data'!EA365=0,\"\",'Gefilterde data'!EB365)","v":{"v":2.4344569288389515,"d":"2"}}]
[null,{"$f":"IF('Gefilterde data'!C366=0,\"\",'Gefilterde data'!C366)","v":"Science Park-Zuid"},{"$f":"IF(B379=\"\",\"\",IF(LEFT(D379,2)=\"BU\",'Gefilterde data'!G366,\"-\"))","v":"Middenmeer"},{"$f":"IF('Gefilterde data'!C366=0,\"\",'Gefilterde data'!A366)","v":"BU0363MN05"},{"v":1.5953517380334161,"d":"1.60"},{"v":3.216187474689306,"d":"3.22"},{"$f":"IF('Gefilterde data'!CL366=0,\"\",'Gefilterde data'!CL366)","v":27.6},{"$f":"IF('Gefilterde data'!DX366=0,\"\",'Gefilterde data'!DX366)","v":{"v":74.19354838709677,"d":"74.2"}},null,{"$f":"IF('Gefilterde data'!DZ366=0,\"\",'Gefilterde data'!DZ366)","v":{"v":16.129032258064516,"d":"16"}},{"$f":"IF('Gefilterde data'!DW366=0,\"\",'Gefilterde data'!DW366)","v":{"v":1112,"d":"1,112"}},{"$f":"IF('Gefilterde data'!I366=0,\"\",'Gefilterde data'!I366)","v":310},{"$f":"IF('Gefilterde data'!DI366=0,\"\",'Gefilterde data'!DI366)","v":0.2},{"$f":"IF('Gefilterde data'!EA366=0,\"\",'Gefilterde data'!EA366)","v":{"v":6.451612903225806,"d":"6"}},{"$f":"IF('Gefilterde data'!EA366=0,\"\",'Gefilterde data'!EB366)","v":{"v":1.6129032258064515,"d":"2"}}]
[null,{"$f":"IF('Gefilterde data'!C367=0,\"\",'Gefilterde data'!C367)","v":"Sportpark Middenmeer-Zuid"},{"$f":"IF(B380=\"\",\"\",IF(LEFT(D380,2)=\"BU\",'Gefilterde data'!G367,\"-\"))","v":"Middenmeer"},{"$f":"IF('Gefilterde data'!C367=0,\"\",'Gefilterde data'!A367)","v":"BU0363MN06"},{"v":0.6774482006115478,"d":"0.68"},{"v":1.365717895066493,"d":"1.37"},{"$f":"IF('Gefilterde data'!CL367=0,\"\",'Gefilterde data'!CL367)","v":12.8},{"$f":"IF('Gefilterde data'!DX367=0,\"\",'Gefilterde data'!DX367)","v":{"v":27.419354838709676,"d":"27.4"}},null,{"$f":"IF('Gefilterde data'!DZ367=0,\"\",'Gefilterde data'!DZ367)","v":""},{"$f":"IF('Gefilterde data'!DW367=0,\"\",'Gefilterde data'!DW367)","v":{"v":3226,"d":"3,226"}},{"$f":"IF('Gefilterde data'!I367=0,\"\",'Gefilterde data'!I367)","v":310},{"$f":"IF('Gefilterde data'!DI367=0,\"\",'Gefilterde data'!DI367)","v":0.6},{"$f":"IF('Gefilterde data'!EA367=0,\"\",'Gefilterde data'!EA367)","v":{"v":11.29032258064516,"d":"11"}},{"$f":"IF('Gefilterde data'!EA367=0,\"\",'Gefilterde data'!EB367)","v":{"v":46.774193548387096,"d":"47"}}]
[null,{"$f":"IF('Gefilterde data'!C368=0,\"\",'Gefilterde data'!C368)","v":"Sportpark Middenmeer-Noord"},{"$f":"IF(B381=\"\",\"\",IF(LEFT(D381,2)=\"BU\",'Gefilterde data'!G368,\"-\"))","v":"Middenmeer"},{"$f":"IF('Gefilterde data'!C368=0,\"\",'Gefilterde data'!A368)","v":"BU0363MN07"},{"v":1.7533783383141355,"d":"1.75"},{"v":3.5347649773014216,"d":"3.53"},{"$f":"IF('Gefilterde data'!CL368=0,\"\",'Gefilterde data'!CL368)","v":29.3},{"$f":"IF('Gefilterde data'!DX368=0,\"\",'Gefilterde data'!DX368)","v":{"v":85.45454545454545,"d":"85.5"}},null,{"$f":"IF('Gefilterde data'!DZ368=0,\"\",'Gefilterde data'!DZ368)","v":{"v":3.6363636363636362,"d":"4"}},{"$f":"IF('Gefilterde data'!DW368=0,\"\",'Gefilterde data'!DW368)","v":{"v":2130,"d":"2,130"}},{"$f":"IF('Gefilterde data'!I368=0,\"\",'Gefilterde data'!I368)","v":275},{"$f":"IF('Gefilterde data'!DI368=0,\"\",'Gefilterde data'!DI368)","v":0.1},{"$f":"IF('Gefilterde data'!EA368=0,\"\",'Gefilterde data'!EA368)","v":{"v":3.6363636363636362,"d":"4"}},{"$f":"IF('Gefilterde data'!EA368=0,\"\",'Gefilterde data'!EB368)","v":0}]
[null,{"$f":"IF('Gefilterde data'!C369=0,\"\",'Gefilterde data'!C369)","v":"Park de Meer"},{"$f":"IF(B382=\"\",\"\",IF(LEFT(D382,2)=\"BU\",'Gefilterde data'!G369,\"-\"))","v":"Middenmeer"},{"$f":"IF('Gefilterde data'!C369=0,\"\",'Gefilterde data'!A369)","v":"BU0363MN08"},{"v":0.6932698498639112,"d":"0.69"},{"v":1.3976139271083705,"d":"1.40"},{"$f":"IF('Gefilterde data'!CL369=0,\"\",'Gefilterde data'!CL369)","v":9.2},{"$f":"IF('Gefilterde data'!DX369=0,\"\",'Gefilterde data'!DX369)","v":{"v":42.81150159744409,"d":"42.8"}},null,{"$f":"IF('Gefilterde data'!DZ369=0,\"\",'Gefilterde data'!DZ369)","v":{"v":2.5559105431309903,"d":"3"}},{"$f":"IF('Gefilterde data'!DW369=0,\"\",'Gefilterde data'!DW369)","v":{"v":2886,"d":"2,886"}},{"$f":"IF('Gefilterde data'!I369=0,\"\",'Gefilterde data'!I369)","v":{"v":1565,"d":"1,565"}},{"$f":"IF('Gefilterde data'!DI369=0,\"\",'Gefilterde data'!DI369)","v":0.7},{"$f":"IF('Gefilterde data'!EA369=0,\"\",'Gefilterde data'!EA369)","v":{"v":12.779552715654951,"d":"13"}},{"$f":"IF('Gefilterde data'!EA369=0,\"\",'Gefilterde data'!EB369)","v":{"v":20.12779552715655,"d":"20"}}]
[null,{"$f":"IF('Gefilterde data'!C370=0,\"\",'Gefilterde data'!C370)","v":"Sportpark Voorland"},{"$f":"IF(B383=\"\",\"\",IF(LEFT(D383,2)=\"BU\",'Gefilterde data'!G370,\"-\"))","v":"Middenmeer"},{"$f":"IF('Gefilterde data'!C370=0,\"\",'Gefilterde data'!A370)","v":"BU0363MN09"},"Ontbrekende waarde","Ontbrekende waarde",{"$f":"IF('Gefilterde data'!CL370=0,\"\",'Gefilterde data'!CL370)","v":"."},{"$f":"IF('Gefilterde data'!DX370=0,\"\",'Gefilterde data'!DX370)","v":"Geen inwoners"},null,{"$f":"IF('Gefilterde data'!DZ370=0,\"\",'Gefilterde data'!DZ370)","v":"Geen inwoners"},{"$f":"IF('Gefilterde data'!DW370=0,\"\",'Gefilterde data'!DW370)","v":{"v":2310,"d":"2,310"}},{"$f":"IF('Gefilterde data'!I370=0,\"\",'Gefilterde data'!I370)","v":""},{"$f":"IF('Gefilterde data'!DI370=0,\"\",'Gefilterde data'!DI370)","v":"."},{"$f":"IF('Gefilterde data'!EA370=0,\"\",'Gefilterde data'!EA370)","v":"Geen inwoners"},{"$f":"IF('Gefilterde data'!EA370=0,\"\",'Gefilterde data'!EB370)","v":"Geen inwoners"}]
[null,{"$f":"IF('Gefilterde data'!C371=0,\"\",'Gefilterde data'!C371)","v":"Drieburg"},{"$f":"IF(B384=\"\",\"\",IF(LEFT(D384,2)=\"BU\",'Gefilterde data'!G371,\"-\"))","v":"Betondorp"},{"$f":"IF('Gefilterde data'!C371=0,\"\",'Gefilterde data'!A371)","v":"BU0363MP01"},"Ontbrekende waarde","Ontbrekende waarde",{"$f":"IF('Gefilterde data'!CL371=0,\"\",'Gefilterde data'!CL371)","v":"."},{"$f":"IF('Gefilterde data'!DX371=0,\"\",'Gefilterde data'!DX371)","v":"Geen inwoners"},null,{"$f":"IF('Gefilterde data'!DZ371=0,\"\",'Gefilterde data'!DZ371)","v":"Geen inwoners"},{"$f":"IF('Gefilterde data'!DW371=0,\"\",'Gefilterde data'!DW371)","v":{"v":2523,"d":"2,523"}},{"$f":"IF('Gefilterde data'!I371=0,\"\",'Gefilterde data'!I371)","v":""},{"$f":"IF('Gefilterde data'!DI371=0,\"\",'Gefilterde data'!DI371)","v":"."},{"$f":"IF('Gefilterde data'!EA371=0,\"\",'Gefilterde data'!EA371)","v":"Geen inwoners"},{"$f":"IF('Gefilterde data'!EA371=0,\"\",'Gefilterde data'!EB371)","v":"Geen inwoners"}]
[null,{"$f":"IF('Gefilterde data'!C372=0,\"\",'Gefilterde data'!C372)","v":"Nieuwe Oosterbegraafplaats"},{"$f":"IF(B385=\"\",\"\",IF(LEFT(D385,2)=\"BU\",'Gefilterde data'!G372,\"-\"))","v":"Betondorp"},{"$f":"IF('Gefilterde data'!C372=0,\"\",'Gefilterde data'!A372)","v":"BU0363MP02"},"Ontbrekende waarde","Ontbrekende waarde",{"$f":"IF('Gefilterde data'!CL372=0,\"\",'Gefilterde data'!CL372)","v":"."},{"$f":"IF('Gefilterde data'!DX372=0,\"\",'Gefilterde data'!DX372)","v":""},null,{"$f":"IF('Gefilterde data'!DZ372=0,\"\",'Gefilterde data'!DZ372)","v":""},{"$f":"IF('Gefilterde data'!DW372=0,\"\",'Gefilterde data'!DW372)","v":{"v":2860,"d":"2,860"}},{"$f":"IF('Gefilterde data'!I372=0,\"\",'Gefilterde data'!I372)","v":5},{"$f":"IF('Gefilterde data'!DI372=0,\"\",'Gefilterde data'!DI372)","v":"."},{"$f":"IF('Gefilterde data'!EA372=0,\"\",'Gefilterde data'!EA372)","v":""},{"$f":"IF('Gefilterde data'!EA372=0,\"\",'Gefilterde data'!EB372)","v":""}]
[null,{"$f":"IF('Gefilterde data'!C373=0,\"\",'Gefilterde data'!C373)","v":"Betondorp"},{"$f":"IF(B386=\"\",\"\",IF(LEFT(D386,2)=\"BU\",'Gefilterde data'!G373,\"-\"))","v":"Betondorp"},{"$f":"IF('Gefilterde data'!C373=0,\"\",'Gefilterde data'!A373)","v":"BU0363MP03"},{"v":1.1731541787382926,"d":"1.17"},{"v":2.365048211994041,"d":"2.37"},{"$f":"IF('Gefilterde data'!CL373=0,\"\",'Gefilterde data'!CL373)","v":23.8},{"$f":"IF('Gefilterde data'!DX373=0,\"\",'Gefilterde data'!DX373)","v":{"v":41.300813008130085,"d":"41.3"}},null,{"$f":"IF('Gefilterde data'!DZ373=0,\"\",'Gefilterde data'!DZ373)","v":{"v":2.2764227642276422,"d":"2"}},{"$f":"IF('Gefilterde data'!DW373=0,\"\",'Gefilterde data'!DW373)","v":{"v":2604,"d":"2,604"}},{"$f":"IF('Gefilterde data'!I373=0,\"\",'Gefilterde data'!I373)","v":{"v":3075,"d":"3,075"}},{"$f":"IF('Gefilterde data'!DI373=0,\"\",'Gefilterde data'!DI373)","v":0.5},{"$f":"IF('Gefilterde data'!EA373=0,\"\",'Gefilterde data'!EA373)","v":{"v":12.845528455284553,"d":"13"}},{"$f":"IF('Gefilterde data'!EA373=0,\"\",'Gefilterde data'!EB373)","v":{"v":23.2520325203252,"d":"23"}}]
[null,{"$f":"IF('Gefilterde data'!C374=0,\"\",'Gefilterde data'!C374)","v":"De Omval"},{"$f":"IF(B387=\"\",\"\",IF(LEFT(D387,2)=\"BU\",'Gefilterde data'!G374,\"-\"))","v":"Omval/Overamstel"},{"$f":"IF('Gefilterde data'!C374=0,\"\",'Gefilterde data'!A374)","v":"BU0363MQ01"},{"v":0.6421504689280257,"d":"0.64"},{"v":1.2945585890532447,"d":"1.29"},{"$f":"IF('Gefilterde data'!CL374=0,\"\",'Gefilterde data'!CL374)","v":2.3},{"$f":"IF('Gefilterde data'!DX374=0,\"\",'Gefilterde data'!DX374)","v":{"v":63.19444444444444,"d":"63.2"}},null,{"$f":"IF('Gefilterde data'!DZ374=0,\"\",'Gefilterde data'!DZ374)","v":{"v":2.7777777777777777,"d":"3"}},{"$f":"IF('Gefilterde data'!DW374=0,\"\",'Gefilterde data'!DW374)","v":{"v":6582,"d":"6,582"}},{"$f":"IF('Gefilterde data'!I374=0,\"\",'Gefilterde data'!I374)","v":720},{"$f":"IF('Gefilterde data'!DI374=0,\"\",'Gefilterde data'!DI374)","v":0.5},{"$f":"IF('Gefilterde data'!EA374=0,\"\",'Gefilterde data'!EA374)","v":{"v":7.638888888888889,"d":"8"}},{"$f":"IF('Gefilterde data'!EA374=0,\"\",'Gefilterde data'!EB374)","v":{"v":18.75,"d":"19"}}]
[null,{"$f":"IF('Gefilterde data'!C375=0,\"\",'Gefilterde data'!C375)","v":"Overamstel"},{"$f":"IF(B388=\"\",\"\",IF(LEFT(D388,2)=\"BU\",'Gefilterde data'!G375,\"-\"))","v":"Omval/Overamstel"},{"$f":"IF('Gefilterde data'!C375=0,\"\",'Gefilterde data'!A375)","v":"BU0363MQ02"},"Ontbrekende waarde","Ontbrekende waarde",{"$f":"IF('Gefilterde data'!CL375=0,\"\",'Gefilterde data'!CL375)","v":"."},{"$f":"IF('Gefilterde data'!DX375=0,\"\",'Gefilterde data'!DX375)","v":{"v":30,"d":"30.0"}},null,{"$f":"IF('Gefilterde data'!DZ375=0,\"\",'Gefilterde data'!DZ375)","v":""},{"$f":"IF('Gefilterde data'!DW375=0,\"\",'Gefilterde data'!DW375)","v":384},{"$f":"IF('Gefilterde data'!I375=0,\"\",'Gefilterde data'!I375)","v":50},{"$f":"IF('Gefilterde data'!DI375=0,\"\",'Gefilterde data'!DI375)","v":"."},{"$f":"IF('Gefilterde data'!EA375=0,\"\",'Gefilterde data'!EA375)","v":10},{"$f":"IF('Gefilterde data'!EA375=0,\"\",'Gefilterde data'!EB375)","v":0}]
[null,{"$f":"IF('Gefilterde data'!C376=0,\"\",'Gefilterde data'!C376)","v":"Amstelglorie"},{"$f":"IF(B389=\"\",\"\",IF(LEFT(D389,2)=\"BU\",'Gefilterde data'!G376,\"-\"))","v":"Omval/Overamstel"},{"$f":"IF('Gefilterde data'!C376=0,\"\",'Gefilterde data'!A376)","v":"BU0363MQ03"},"Ontbrekende waarde","Ontbrekende waarde",{"$f":"IF('Gefilterde data'!CL376=0,\"\",'Gefilterde data'!CL376)","v":"."},{"$f":"IF('Gefilterde data'!DX376=0,\"\",'Gefilterde data'!DX376)","v":{"v":26.666666666666668,"d":"26.7"}},null,{"$f":"IF('Gefilterde data'!DZ376=0,\"\",'Gefilterde data'!DZ376)","v":""},{"$f":"IF('Gefilterde data'!DW376=0,\"\",'Gefilterde data'!DW376)","v":{"v":1838,"d":"1,838"}},{"$f":"IF('Gefilterde data'!I376=0,\"\",'Gefilterde data'!I376)","v":75},{"$f":"IF('Gefilterde data'!DI376=0,\"\",'Gefilterde data'!DI376)","v":"."},{"$f":"IF('Gefilterde data'!EA376=0,\"\",'Gefilterde data'!EA376)","v":{"v":13.333333333333334,"d":"13"}},{"$f":"IF('Gefilterde data'!EA376=0,\"\",'Gefilterde data'!EB376)","v":20}]
[null,{"$f":"IF('Gefilterde data'!C377=0,\"\",'Gefilterde data'!C377)","v":"Amstelkwartier-West"},{"$f":"IF(B390=\"\",\"\",IF(LEFT(D390,2)=\"BU\",'Gefilterde data'!G377,\"-\"))","v":"Omval/Overamstel"},{"$f":"IF('Gefilterde data'!C377=0,\"\",'Gefilterde data'!A377)","v":"BU0363MQ04"},{"v":0.9006452454480933,"d":"0.90"},{"v":1.8156773133423951,"d":"1.82"},{"$f":"IF('Gefilterde data'!CL377=0,\"\",'Gefilterde data'!CL377)","v":10.5},{"$f":"IF('Gefilterde data'!DX377=0,\"\",'Gefilterde data'!DX377)","v":{"v":61.111111111111114,"d":"61.1"}},null,{"$f":"IF('Gefilterde data'!DZ377=0,\"\",'Gefilterde data'!DZ377)","v":{"v":22.22222222222222,"d":"22"}},{"$f":"IF('Gefilterde data'!DW377=0,\"\",'Gefilterde data'!DW377)","v":{"v":1125,"d":"1,125"}},{"$f":"IF('Gefilterde data'!I377=0,\"\",'Gefilterde data'!I377)","v":900},{"$f":"IF('Gefilterde data'!DI377=0,\"\",'Gefilterde data'!DI377)","v":0.1},{"$f":"IF('Gefilterde data'!EA377=0,\"\",'Gefilterde data'!EA377)","v":{"v":2.7777777777777777,"d":"3"}},{"$f":"IF('Gefilterde data'!EA377=0,\"\",'Gefilterde data'!EB377)","v":{"v":2.7777777777777777,"d":"3"}}]
[null,{"$f":"IF('Gefilterde data'!C378=0,\"\",'Gefilterde data'!C378)","v":"Amstelkwartier-Noord"},{"$f":"IF(B391=\"\",\"\",IF(LEFT(D391,2)=\"BU\",'Gefilterde data'!G378,\"-\"))","v":"Omval/Overamstel"},{"$f":"IF('Gefilterde data'!C378=0,\"\",'Gefilterde data'!A378)","v":"BU0363MQ05"},{"v":0.6182772451736377,"d":"0.62"},{"v":1.2464307929134635,"d":"1.25"},{"$f":"IF('Gefilterde data'!CL378=0,\"\",'Gefilterde data'!CL378)","v":6.2},{"$f":"IF('Gefilterde data'!DX378=0,\"\",'Gefilterde data'!DX378)","v":{"v":45.765765765765764,"d":"45.8"}},null,{"$f":"IF('Gefilterde data'!DZ378=0,\"\",'Gefilterde data'!DZ378)","v":{"v":8.64864864864865,"d":"9"}},{"$f":"IF('Gefilterde data'!DW378=0,\"\",'Gefilterde data'!DW378)","v":{"v":3145,"d":"3,145"}},{"$f":"IF('Gefilterde data'!I378=0,\"\",'Gefilterde data'!I378)","v":{"v":2775,"d":"2,775"}},{"$f":"IF('Gefilterde data'!DI378=0,\"\",'Gefilterde data'!DI378)","v":0.5},{"$f":"IF('Gefilterde data'!EA378=0,\"\",'Gefilterde data'!EA378)","v":{"v":10.81081081081081,"d":"11"}},{"$f":"IF('Gefilterde data'!EA378=0,\"\",'Gefilterde data'!EB378)","v":{"v":3.423423423423423,"d":"3"}}]
[null,{"$f":"IF('Gefilterde data'!C379=0,\"\",'Gefilterde data'!C379)","v":"Amstelkwartier-Zuid"},{"$f":"IF(B392=\"\",\"\",IF(LEFT(D392,2)=\"BU\",'Gefilterde data'!G379,\"-\"))","v":"Omval/Overamstel"},{"$f":"IF('Gefilterde data'!C379=0,\"\",'Gefilterde data'!A379)","v":"BU0363MQ06"},"Ontbrekende waarde","Ontbrekende waarde",{"$f":"IF('Gefilterde data'!CL379=0,\"\",'Gefilterde data'!CL379)","v":"."},{"$f":"IF('Gefilterde data'!DX379=0,\"\",'Gefilterde data'!DX379)","v":{"v":73.33333333333333,"d":"73.3"}},null,{"$f":"IF('Gefilterde data'!DZ379=0,\"\",'Gefilterde data'!DZ379)","v":""},{"$f":"IF('Gefilterde data'!DW379=0,\"\",'Gefilterde data'!DW379)","v":{"v":1577,"d":"1,577"}},{"$f":"IF('Gefilterde data'!I379=0,\"\",'Gefilterde data'!I379)","v":75},{"$f":"IF('Gefilterde data'!DI379=0,\"\",'Gefilterde data'!DI379)","v":1.1},{"$f":"IF('Gefilterde data'!EA379=0,\"\",'Gefilterde data'!EA379)","v":""},{"$f":"IF('Gefilterde data'!EA379=0,\"\",'Gefilterde data'!EB379)","v":""}]
[null,{"$f":"IF('Gefilterde data'!C380=0,\"\",'Gefilterde data'!C380)","v":"Weespertrekvaart"},{"$f":"IF(B393=\"\",\"\",IF(LEFT(D393,2)=\"BU\",'Gefilterde data'!G380,\"-\"))","v":"Omval/Overamstel"},{"$f":"IF('Gefilterde data'!C380=0,\"\",'Gefilterde data'!A380)","v":"BU0363MQ07"},{"v":0.5863550807564379,"d":"0.59"},{"v":1.182076542426904,"d":"1.18"},{"$f":"IF('Gefilterde data'!CL380=0,\"\",'Gefilterde data'!CL380)","v":4},{"$f":"IF('Gefilterde data'!DX380=0,\"\",'Gefilterde data'!DX380)","v":{"v":50.51546391752577,"d":"50.5"}},null,{"$f":"IF('Gefilterde data'!DZ380=0,\"\",'Gefilterde data'!DZ380)","v":{"v":28.865979381443296,"d":"29"}},{"$f":"IF('Gefilterde data'!DW380=0,\"\",'Gefilterde data'!DW380)","v":{"v":2860,"d":"2,860"}},{"$f":"IF('Gefilterde data'!I380=0,\"\",'Gefilterde data'!I380)","v":970},{"$f":"IF('Gefilterde data'!DI380=0,\"\",'Gefilterde data'!DI380)","v":0.5},{"$f":"IF('Gefilterde data'!EA380=0,\"\",'Gefilterde data'!EA380)","v":{"v":8.24742268041237,"d":"8"}},{"$f":"IF('Gefilterde data'!EA380=0,\"\",'Gefilterde data'!EB380)","v":{"v":2.5773195876288657,"d":"3"}}]
[null,{"$f":"IF('Gefilterde data'!C381=0,\"\",'Gefilterde data'!C381)","v":"Noorder IJplas"},{"$f":"IF(B394=\"\",\"\",IF(LEFT(D394,2)=\"BU\",'Gefilterde data'!G381,\"-\"))","v":"Oostzanerwerf"},{"$f":"IF('Gefilterde data'!C381=0,\"\",'Gefilterde data'!A381)","v":"BU0363NA01"},"Ontbrekende waarde","Ontbrekende waarde",{"$f":"IF('Gefilterde data'!CL381=0,\"\",'Gefilterde data'!CL381)","v":"."},{"$f":"IF('Gefilterde data'!DX381=0,\"\",'Gefilterde data'!DX381)","v":{"v":14.285714285714285,"d":"14.3"}},null,{"$f":"IF('Gefilterde data'!DZ381=0,\"\",'Gefilterde data'!DZ381)","v":""},{"$f":"IF('Gefilterde data'!DW381=0,\"\",'Gefilterde data'!DW381)","v":321},{"$f":"IF('Gefilterde data'!I381=0,\"\",'Gefilterde data'!I381)","v":140},{"$f":"IF('Gefilterde data'!DI381=0,\"\",'Gefilterde data'!DI381)","v":1.1},{"$f":"IF('Gefilterde data'!EA381=0,\"\",'Gefilterde data'!EA381)","v":{"v":10.714285714285714,"d":"11"}},{"$f":"IF('Gefilterde data'!EA381=0,\"\",'Gefilterde data'!EB381)","v":{"v":32.142857142857146,"d":"32"}}]
[null,{"$f":"IF('Gefilterde data'!C382=0,\"\",'Gefilterde data'!C382)","v":"Melkweg/Oostzanerwerf"},{"$f":"IF(B395=\"\",\"\",IF(LEFT(D395,2)=\"BU\",'Gefilterde data'!G382,\"-\"))","v":"Oostzanerwerf"},{"$f":"IF('Gefilterde data'!C382=0,\"\",'Gefilterde data'!A382)","v":"BU0363NA02"},"Ontbrekende waarde","Ontbrekende waarde",{"$f":"IF('Gefilterde data'!CL382=0,\"\",'Gefilterde data'!CL382)","v":"."},{"$f":"IF('Gefilterde data'!DX382=0,\"\",'Gefilterde data'!DX382)","v":{"v":18.75,"d":"18.8"}},null,{"$f":"IF('Gefilterde data'!DZ382=0,\"\",'Gefilterde data'!DZ382)","v":""},{"$f":"IF('Gefilterde data'!DW382=0,\"\",'Gefilterde data'!DW382)","v":992},{"$f":"IF('Gefilterde data'!I382=0,\"\",'Gefilterde data'!I382)","v":80},{"$f":"IF('Gefilterde data'!DI382=0,\"\",'Gefilterde data'!DI382)","v":"."},{"$f":"IF('Gefilterde data'!EA382=0,\"\",'Gefilterde data'!EA382)","v":{"v":6.25,"d":"6"}},{"$f":"IF('Gefilterde data'!EA382=0,\"\",'Gefilterde data'!EB382)","v":{"v":18.75,"d":"19"}}]
[null,{"$f":"IF('Gefilterde data'!C383=0,\"\",'Gefilterde data'!C383)","v":"Walvisbuurt"},{"$f":"IF(B396=\"\",\"\",IF(LEFT(D396,2)=\"BU\",'Gefilterde data'!G383,\"-\"))","v":"Oostzanerwerf"},{"$f":"IF('Gefilterde data'!C383=0,\"\",'Gefilterde data'!A383)","v":"BU0363NA03"},{"v":0.6164047440706464,"d":"0.62"},{"v":1.2426558795509681,"d":"1.24"},{"$f":"IF('Gefilterde data'!CL383=0,\"\",'Gefilterde data'!CL383)","v":5.9},{"$f":"IF('Gefilterde data'!DX383=0,\"\",'Gefilterde data'!DX383)","v":{"v":46.69117647058824,"d":"46.7"}},null,{"$f":"IF('Gefilterde data'!DZ383=0,\"\",'Gefilterde data'!DZ383)","v":{"v":1.4705882352941175,"d":"1"}},{"$f":"IF('Gefilterde data'!DW383=0,\"\",'Gefilterde data'!DW383)","v":{"v":1780,"d":"1,780"}},{"$f":"IF('Gefilterde data'!I383=0,\"\",'Gefilterde data'!I383)","v":{"v":1360,"d":"1,360"}},{"$f":"IF('Gefilterde data'!DI383=0,\"\",'Gefilterde data'!DI383)","v":{"v":1,"d":"1.0"}},{"$f":"IF('Gefilterde data'!EA383=0,\"\",'Gefilterde data'!EA383)","v":{"v":17.647058823529413,"d":"18"}},{"$f":"IF('Gefilterde data'!EA383=0,\"\",'Gefilterde data'!EB383)","v":{"v":13.602941176470587,"d":"14"}}]
[null,{"$f":"IF('Gefilterde data'!C384=0,\"\",'Gefilterde data'!C384)","v":"Twiske-West"},{"$f":"IF(B397=\"\",\"\",IF(LEFT(D397,2)=\"BU\",'Gefilterde data'!G384,\"-\"))","v":"Oostzanerwerf"},{"$f":"IF('Gefilterde data'!C384=0,\"\",'Gefilterde data'!A384)","v":"BU0363NA04"},{"v":0.5451282118496754,"d":"0.55"},{"v":1.0989642504867987,"d":"1.10"},{"$f":"IF('Gefilterde data'!CL384=0,\"\",'Gefilterde data'!CL384)","v":6.8},{"$f":"IF('Gefilterde data'!DX384=0,\"\",'Gefilterde data'!DX384)","v":{"v":35.30571992110454,"d":"35.3"}},null,{"$f":"IF('Gefilterde data'!DZ384=0,\"\",'Gefilterde data'!DZ384)","v":{"v":1.183431952662722,"d":"1"}},{"$f":"IF('Gefilterde data'!DW384=0,\"\",'Gefilterde data'!DW384)","v":{"v":1926,"d":"1,926"}},{"$f":"IF('Gefilterde data'!I384=0,\"\",'Gefilterde data'!I384)","v":{"v":2535,"d":"2,535"}},{"$f":"IF('Gefilterde data'!DI384=0,\"\",'Gefilterde data'!DI384)","v":{"v":1,"d":"1.0"}},{"$f":"IF('Gefilterde data'!EA384=0,\"\",'Gefilterde data'!EA384)","v":{"v":18.14595660749507,"d":"18"}},{"$f":"IF('Gefilterde data'!EA384=0,\"\",'Gefilterde data'!EB384)","v":{"v":14.990138067061142,"d":"15"}}]
[null,{"$f":"IF('Gefilterde data'!C385=0,\"\",'Gefilterde data'!C385)","v":"Oostzanerdijk"},{"$f":"IF(B398=\"\",\"\",IF(LEFT(D398,2)=\"BU\",'Gefilterde data'!G385,\"-\"))","v":"Oostzanerwerf"},{"$f":"IF('Gefilterde data'!C385=0,\"\",'Gefilterde data'!A385)","v":"BU0363NA05"},{"v":0.5634618786621367,"d":"0.56"},{"v":1.1359244443811247,"d":"1.14"},{"$f":"IF('Gefilterde data'!CL385=0,\"\",'Gefilterde data'!CL385)","v":9.5},{"$f":"IF('Gefilterde data'!DX385=0,\"\",'Gefilterde data'!DX385)","v":{"v":27.142857142857142,"d":"27.1"}},null,{"$f":"IF('Gefilterde data'!DZ385=0,\"\",'Gefilterde data'!DZ385)","v":""},{"$f":"IF('Gefilterde data'!DW385=0,\"\",'Gefilterde data'!DW385)","v":{"v":2478,"d":"2,478"}},{"$f":"IF('Gefilterde data'!I385=0,\"\",'Gefilterde data'!I385)","v":350},{"$f":"IF('Gefilterde data'!DI385=0,\"\",'Gefilterde data'!DI385)","v":0.9},{"$f":"IF('Gefilterde data'!EA385=0,\"\",'Gefilterde data'!EA385)","v":20},{"$f":"IF('Gefilterde data'!EA385=0,\"\",'Gefilterde data'!EB385)","v":{"v":14.285714285714285,"d":"14"}}]
[null,{"$f":"IF('Gefilterde data'!C386=0,\"\",'Gefilterde data'!C386)","v":"Circus/Kermisbuurt"},{"$f":"IF(B399=\"\",\"\",IF(LEFT(D399,2)=\"BU\",'Gefilterde data'!G386,\"-\"))","v":"Oostzanerwerf"},{"$f":"IF('Gefilterde data'!C386=0,\"\",'Gefilterde data'!A386)","v":"BU0363NA06"},{"v":0.8001423954339842,"d":"0.80"},{"v":1.6130661902402212,"d":"1.61"},{"$f":"IF('Gefilterde data'!CL386=0,\"\",'Gefilterde data'!CL386)","v":11.7},{"$f":"IF('Gefilterde data'!DX386=0,\"\",'Gefilterde data'!DX386)","v":{"v":45.31835205992509,"d":"45.3"}},null,{"$f":"IF('Gefilterde data'!DZ386=0,\"\",'Gefilterde data'!DZ386)","v":{"v":1.4981273408239701,"d":"1"}},{"$f":"IF('Gefilterde data'!DW386=0,\"\",'Gefilterde data'!DW386)","v":{"v":1932,"d":"1,932"}},{"$f":"IF('Gefilterde data'!I386=0,\"\",'Gefilterde data'!I386)","v":{"v":1335,"d":"1,335"}},{"$f":"IF('Gefilterde data'!DI386=0,\"\",'Gefilterde data'!DI386)","v":0.7},{"$f":"IF('Gefilterde data'!EA386=0,\"\",'Gefilterde data'!EA386)","v":{"v":14.232209737827715,"d":"14"}},{"$f":"IF('Gefilterde data'!EA386=0,\"\",'Gefilterde data'!EB386)","v":{"v":13.48314606741573,"d":"13"}}]
[null,{"$f":"IF('Gefilterde data'!C387=0,\"\",'Gefilterde data'!C387)","v":"Molenwijk"},{"$f":"IF(B400=\"\",\"\",IF(LEFT(D400,2)=\"BU\",'Gefilterde data'!G387,\"-\"))","v":"Oostzanerwerf"},{"$f":"IF('Gefilterde data'!C387=0,\"\",'Gefilterde data'!A387)","v":"BU0363NA07"},{"v":1.4199464008745621,"d":"1.42"},{"v":2.8625748920124794,"d":"2.86"},{"$f":"IF('Gefilterde data'!CL387=0,\"\",'Gefilterde data'!CL387)","v":24.6},{"$f":"IF('Gefilterde data'!DX387=0,\"\",'Gefilterde data'!DX387)","v":{"v":65.90538336052202,"d":"65.9"}},null,{"$f":"IF('Gefilterde data'!DZ387=0,\"\",'Gefilterde data'!DZ387)","v":{"v":1.957585644371941,"d":"2"}},{"$f":"IF('Gefilterde data'!DW387=0,\"\",'Gefilterde data'!DW387)","v":{"v":2347,"d":"2,347"}},{"$f":"IF('Gefilterde data'!I387=0,\"\",'Gefilterde data'!I387)","v":{"v":3065,"d":"3,065"}},{"$f":"IF('Gefilterde data'!DI387=0,\"\",'Gefilterde data'!DI387)","v":0.5},{"$f":"IF('Gefilterde data'!EA387=0,\"\",'Gefilterde data'!EA387)","v":{"v":19.73898858075041,"d":"20"}},{"$f":"IF('Gefilterde data'!EA387=0,\"\",'Gefilterde data'!EB387)","v":{"v":17.781402936378466,"d":"18"}}]
[null,{"$f":"IF('Gefilterde data'!C388=0,\"\",'Gefilterde data'!C388)","v":"Cornelis Douwesterrein-West"},{"$f":"IF(B401=\"\",\"\",IF(LEFT(D401,2)=\"BU\",'Gefilterde data'!G388,\"-\"))","v":"Noordelijke IJ-oevers-West"},{"$f":"IF('Gefilterde data'!C388=0,\"\",'Gefilterde data'!A388)","v":"BU0363NB01"},{"$f":"IF(G401=\"\",\"\",IF(OR(NOT(ISNUMBER(G401)),NOT(ISNUMBER(H401))),\"Ontbrekende waarde\",F401/F$1))","v":"Ontbrekende waarde"},{"$f":"IF(G401=\"\",\"\",IF(OR(NOT(ISNUMBER(G401)),NOT(ISNUMBER(H401))),\"Ontbrekende waarde\",((G401/AVERAGE(G$16:G$532)+H401/AVERAGE(H$16:H$532)))))","v":"Ontbrekende waarde"},{"$f":"IF('Gefilterde data'!CL388=0,\"\",'Gefilterde data'!CL388)","v":"."},{"$f":"IF('Gefilterde data'!DX388=0,\"\",'Gefilterde data'!DX388)","v":"Geen inwoners"},null,{"$f":"IF('Gefilterde data'!DZ388=0,\"\",'Gefilterde data'!DZ388)","v":"Geen inwoners"},{"$f":"IF('Gefilterde data'!DW388=0,\"\",'Gefilterde data'!DW388)","v":733},{"$f":"IF('Gefilterde data'!I388=0,\"\",'Gefilterde data'!I388)","v":""},{"$f":"IF('Gefilterde data'!DI388=0,\"\",'Gefilterde data'!DI388)","v":"."},{"$f":"IF('Gefilterde data'!EA388=0,\"\",'Gefilterde data'!EA388)","v":"Geen inwoners"},{"$f":"IF('Gefilterde data'!EA388=0,\"\",'Gefilterde data'!EB388)","v":"Geen inwoners"}]
[null,{"$f":"IF('Gefilterde data'!C389=0,\"\",'Gefilterde data'!C389)","v":"Cornelis Douwesterrein-Oost"},{"$f":"IF(B402=\"\",\"\",IF(LEFT(D402,2)=\"BU\",'Gefilterde data'!G389,\"-\"))","v":"Noordelijke IJ-oevers-West"},{"$f":"IF('Gefilterde data'!C389=0,\"\",'Gefilterde data'!A389)","v":"BU0363NB02"},"Ontbrekende waarde","Ontbrekende waarde",{"$f":"IF('Gefilterde data'!CL389=0,\"\",'Gefilterde data'!CL389)","v":"."},{"$f":"IF('Gefilterde data'!DX389=0,\"\",'Gefilterde data'!DX389)","v":"Geen inwoners"},null,{"$f":"IF('Gefilterde data'!DZ389=0,\"\",'Gefilterde data'!DZ389)","v":"Geen inwoners"},{"$f":"IF('Gefilterde data'!DW389=0,\"\",'Gefilterde data'!DW389)","v":{"v":2295,"d":"2,295"}},{"$f":"IF('Gefilterde data'!I389=0,\"\",'Gefilterde data'!I389)","v":""},{"$f":"IF('Gefilterde data'!DI389=0,\"\",'Gefilterde data'!DI389)","v":"."},{"$f":"IF('Gefilterde data'!EA389=0,\"\",'Gefilterde data'!EA389)","v":"Geen inwoners"},{"$f":"IF('Gefilterde data'!EA389=0,\"\",'Gefilterde data'!EB389)","v":"Geen inwoners"}]
[null,{"$f":"IF('Gefilterde data'!C390=0,\"\",'Gefilterde data'!C390)","v":"NDSM terrein"},{"$f":"IF(B403=\"\",\"\",IF(LEFT(D403,2)=\"BU\",'Gefilterde data'!G390,\"-\"))","v":"Noordelijke IJ-oevers-West"},{"$f":"IF('Gefilterde data'!C390=0,\"\",'Gefilterde data'!A390)","v":"BU0363NB03"},{"v":0.8228276218046574,"d":"0.82"},{"v":1.658799014654095,"d":"1.66"},{"$f":"IF('Gefilterde data'!CL390=0,\"\",'Gefilterde data'!CL390)","v":9.2},{"$f":"IF('Gefilterde data'!DX390=0,\"\",'Gefilterde data'!DX390)","v":{"v":57.3170731707317,"d":"57.3"}},null,{"$f":"IF('Gefilterde data'!DZ390=0,\"\",'Gefilterde data'!DZ390)","v":{"v":13.719512195121952,"d":"14"}},{"$f":"IF('Gefilterde data'!DW390=0,\"\",'Gefilterde data'!DW390)","v":{"v":2136,"d":"2,136"}},{"$f":"IF('Gefilterde data'!I390=0,\"\",'Gefilterde data'!I390)","v":{"v":3280,"d":"3,280"}},{"$f":"IF('Gefilterde data'!DI390=0,\"\",'Gefilterde data'!DI390)","v":0.3},{"$f":"IF('Gefilterde data'!EA390=0,\"\",'Gefilterde data'!EA390)","v":{"v":3.50609756097561,"d":"4"}},{"$f":"IF('Gefilterde data'!EA390=0,\"\",'Gefilterde data'!EB390)","v":{"v":0.7621951219512195,"d":"1"}}]
[null,{"$f":"IF('Gefilterde data'!C391=0,\"\",'Gefilterde data'!C391)","v":"Buiksloterham-Zuid"},{"$f":"IF(B404=\"\",\"\",IF(LEFT(D404,2)=\"BU\",'Gefilterde data'!G391,\"-\"))","v":"Noordelijke IJ-oevers-West"},{"$f":"IF('Gefilterde data'!C391=0,\"\",'Gefilterde data'!A391)","v":"BU0363NB04"},{"v":1.1393815371669824,"d":"1.14"},{"v":2.296963447851236,"d":"2.30"},{"$f":"IF('Gefilterde data'!CL391=0,\"\",'Gefilterde data'!CL391)","v":19.3},{"$f":"IF('Gefilterde data'!DX391=0,\"\",'Gefilterde data'!DX391)","v":{"v":54.54545454545454,"d":"54.5"}},null,{"$f":"IF('Gefilterde data'!DZ391=0,\"\",'Gefilterde data'!DZ391)","v":{"v":2.181818181818182,"d":"2"}},{"$f":"IF('Gefilterde data'!DW391=0,\"\",'Gefilterde data'!DW391)","v":{"v":2554,"d":"2,554"}},{"$f":"IF('Gefilterde data'!I391=0,\"\",'Gefilterde data'!I391)","v":{"v":1375,"d":"1,375"}},{"$f":"IF('Gefilterde data'!DI391=0,\"\",'Gefilterde data'!DI391)","v":0.6},{"$f":"IF('Gefilterde data'!EA391=0,\"\",'Gefilterde data'!EA391)","v":16},{"$f":"IF('Gefilterde data'!EA391=0,\"\",'Gefilterde data'!EB391)","v":{"v":5.090909090909091,"d":"5"}}]
[null,{"$f":"IF('Gefilterde data'!C392=0,\"\",'Gefilterde data'!C392)","v":"Buiksloterham-Noord"},{"$f":"IF(B405=\"\",\"\",IF(LEFT(D405,2)=\"BU\",'Gefilterde data'!G392,\"-\"))","v":"Noordelijke IJ-oevers-West"},{"$f":"IF('Gefilterde data'!C392=0,\"\",'Gefilterde data'!A392)","v":"BU0363NB05"},{"v":0.5929443632746987,"d":"0.59"},{"v":1.1953603640426582,"d":"1.20"},{"$f":"IF('Gefilterde data'!CL392=0,\"\",'Gefilterde data'!CL392)","v":7.2},{"$f":"IF('Gefilterde data'!DX392=0,\"\",'Gefilterde data'!DX392)","v":{"v":39.14590747330961,"d":"39.1"}},null,{"$f":"IF('Gefilterde data'!DZ392=0,\"\",'Gefilterde data'!DZ392)","v":{"v":1.4234875444839856,"d":"1"}},{"$f":"IF('Gefilterde data'!DW392=0,\"\",'Gefilterde data'!DW392)","v":{"v":2685,"d":"2,685"}},{"$f":"IF('Gefilterde data'!I392=0,\"\",'Gefilterde data'!I392)","v":{"v":1405,"d":"1,405"}},{"$f":"IF('Gefilterde data'!DI392=0,\"\",'Gefilterde data'!DI392)","v":0.7},{"$f":"IF('Gefilterde data'!EA392=0,\"\",'Gefilterde data'!EA392)","v":{"v":22.419928825622776,"d":"22"}},{"$f":"IF('Gefilterde data'!EA392=0,\"\",'Gefilterde data'!EB392)","v":{"v":4.6263345195729535,"d":"5"}}]
[null,{"$f":"IF('Gefilterde data'!C393=0,\"\",'Gefilterde data'!C393)","v":"Klaprozenbuurt"},{"$f":"IF(B406=\"\",\"\",IF(LEFT(D406,2)=\"BU\",'Gefilterde data'!G393,\"-\"))","v":"Noordelijke IJ-oevers-West"},{"$f":"IF('Gefilterde data'!C393=0,\"\",'Gefilterde data'!A393)","v":"BU0363NB06"},"Ontbrekende waarde","Ontbrekende waarde",{"$f":"IF('Gefilterde data'!CL393=0,\"\",'Gefilterde data'!CL393)","v":"."},{"$f":"IF('Gefilterde data'!DX393=0,\"\",'Gefilterde data'!DX393)","v":{"v":38.46153846153847,"d":"38.5"}},null,{"$f":"IF('Gefilterde data'!DZ393=0,\"\",'Gefilterde data'!DZ393)","v":{"v":7.6923076923076925,"d":"8"}},{"$f":"IF('Gefilterde data'!DW393=0,\"\",'Gefilterde data'!DW393)","v":{"v":2566,"d":"2,566"}},{"$f":"IF('Gefilterde data'!I393=0,\"\",'Gefilterde data'!I393)","v":130},{"$f":"IF('Gefilterde data'!DI393=0,\"\",'Gefilterde data'!DI393)","v":1.1},{"$f":"IF('Gefilterde data'!EA393=0,\"\",'Gefilterde data'!EA393)","v":{"v":11.538461538461538,"d":"12"}},{"$f":"IF('Gefilterde data'!EA393=0,\"\",'Gefilterde data'!EB393)","v":{"v":15.384615384615385,"d":"15"}}]
[null,{"$f":"IF('Gefilterde data'!C394=0,\"\",'Gefilterde data'!C394)","v":"Overhoeks"},{"$f":"IF(B407=\"\",\"\",IF(LEFT(D407,2)=\"BU\",'Gefilterde data'!G394,\"-\"))","v":"Noordelijke IJ-oevers-West"},{"$f":"IF('Gefilterde data'!C394=0,\"\",'Gefilterde data'!A394)","v":"BU0363NB07"},{"v":0.7130671169896109,"d":"0.71"},{"v":1.437524701042927,"d":"1.44"},{"$f":"IF('Gefilterde data'!CL394=0,\"\",'Gefilterde data'!CL394)","v":6.8},{"$f":"IF('Gefilterde data'!DX394=0,\"\",'Gefilterde data'!DX394)","v":{"v":54.10852713178295,"d":"54.1"}},null,{"$f":"IF('Gefilterde data'!DZ394=0,\"\",'Gefilterde data'!DZ394)","v":{"v":7.441860465116279,"d":"7"}},{"$f":"IF('Gefilterde data'!DW394=0,\"\",'Gefilterde data'!DW394)","v":{"v":4049,"d":"4,049"}},{"$f":"IF('Gefilterde data'!I394=0,\"\",'Gefilterde data'!I394)","v":{"v":3225,"d":"3,225"}},{"$f":"IF('Gefilterde data'!DI394=0,\"\",'Gefilterde data'!DI394)","v":0.4},{"$f":"IF('Gefilterde data'!EA394=0,\"\",'Gefilterde data'!EA394)","v":{"v":7.906976744186046,"d":"8"}},{"$f":"IF('Gefilterde data'!EA394=0,\"\",'Gefilterde data'!EB394)","v":{"v":10.387596899224807,"d":"10"}}]
[null,{"$f":"IF('Gefilterde data'!C395=0,\"\",'Gefilterde data'!C395)","v":"Tuindorp Oostzaan-West"},{"$f":"IF(B408=\"\",\"\",IF(LEFT(D408,2)=\"BU\",'Gefilterde data'!G395,\"-\"))","v":"Tuindorp Oostzaan"},{"$f":"IF('Gefilterde data'!C395=0,\"\",'Gefilterde data'!A395)","v":"BU0363NC01"},{"v":0.9382733158964293,"d":"0.94"},{"v":1.891534521497535,"d":"1.89"},{"$f":"IF('Gefilterde data'!CL395=0,\"\",'Gefilterde data'!CL395)","v":18.8},{"$f":"IF('Gefilterde data'!DX395=0,\"\",'Gefilterde data'!DX395)","v":{"v":33.92070484581498,"d":"33.9"}},null,{"$f":"IF('Gefilterde data'!DZ395=0,\"\",'Gefilterde data'!DZ395)","v":{"v":0.881057268722467,"d":"1"}},{"$f":"IF('Gefilterde data'!DW395=0,\"\",'Gefilterde data'!DW395)","v":{"v":1456,"d":"1,456"}},{"$f":"IF('Gefilterde data'!I395=0,\"\",'Gefilterde data'!I395)","v":{"v":1135,"d":"1,135"}},{"$f":"IF('Gefilterde data'!DI395=0,\"\",'Gefilterde data'!DI395)","v":0.8},{"$f":"IF('Gefilterde data'!EA395=0,\"\",'Gefilterde data'!EA395)","v":{"v":15.418502202643172,"d":"15"}},{"$f":"IF('Gefilterde data'!EA395=0,\"\",'Gefilterde data'!EB395)","v":{"v":33.92070484581498,"d":"34"}}]
[null,{"$f":"IF('Gefilterde data'!C396=0,\"\",'Gefilterde data'!C396)","v":"Tuindorp Oostzaan-Oost"},{"$f":"IF(B409=\"\",\"\",IF(LEFT(D409,2)=\"BU\",'Gefilterde data'!G396,\"-\"))","v":"Tuindorp Oostzaan"},{"$f":"IF('Gefilterde data'!C396=0,\"\",'Gefilterde data'!A396)","v":"BU0363NC02"},{"v":0.8759352528649296,"d":"0.88"},{"v":1.7658626130784887,"d":"1.77"},{"$f":"IF('Gefilterde data'!CL396=0,\"\",'Gefilterde data'!CL396)","v":17.1},{"$f":"IF('Gefilterde data'!DX396=0,\"\",'Gefilterde data'!DX396)","v":{"v":33.37320574162679,"d":"33.4"}},null,{"$f":"IF('Gefilterde data'!DZ396=0,\"\",'Gefilterde data'!DZ396)","v":{"v":0.9569377990430622,"d":"1"}},{"$f":"IF('Gefilterde data'!DW396=0,\"\",'Gefilterde data'!DW396)","v":{"v":2644,"d":"2,644"}},{"$f":"IF('Gefilterde data'!I396=0,\"\",'Gefilterde data'!I396)","v":{"v":4180,"d":"4,180"}},{"$f":"IF('Gefilterde data'!DI396=0,\"\",'Gefilterde data'!DI396)","v":0.7},{"$f":"IF('Gefilterde data'!EA396=0,\"\",'Gefilterde data'!EA396)","v":{"v":16.74641148325359,"d":"17"}},{"$f":"IF('Gefilterde data'!EA396=0,\"\",'Gefilterde data'!EB396)","v":{"v":19.497607655502392,"d":"19"}}]
[null,{"$f":"IF('Gefilterde data'!C397=0,\"\",'Gefilterde data'!C397)","v":"Terrasdorp"},{"$f":"IF(B410=\"\",\"\",IF(LEFT(D410,2)=\"BU\",'Gefilterde data'!G397,\"-\"))","v":"Tuindorp Oostzaan"},{"$f":"IF('Gefilterde data'!C397=0,\"\",'Gefilterde data'!A397)","v":"BU0363NC03"},{"v":1.194858102643045,"d":"1.19"},{"v":2.4088027562427725,"d":"2.41"},{"$f":"IF('Gefilterde data'!CL397=0,\"\",'Gefilterde data'!CL397)","v":21.8},{"$f":"IF('Gefilterde data'!DX397=0,\"\",'Gefilterde data'!DX397)","v":{"v":51.29789864029666,"d":"51.3"}},null,{"$f":"IF('Gefilterde data'!DZ397=0,\"\",'Gefilterde data'!DZ397)","v":{"v":1.2360939431396787,"d":"1"}},{"$f":"IF('Gefilterde data'!DW397=0,\"\",'Gefilterde data'!DW397)","v":{"v":2770,"d":"2,770"}},{"$f":"IF('Gefilterde data'!I397=0,\"\",'Gefilterde data'!I397)","v":{"v":4045,"d":"4,045"}},{"$f":"IF('Gefilterde data'!DI397=0,\"\",'Gefilterde data'!DI397)","v":0.6},{"$f":"IF('Gefilterde data'!EA397=0,\"\",'Gefilterde data'!EA397)","v":{"v":13.8442521631644,"d":"14"}},{"$f":"IF('Gefilterde data'!EA397=0,\"\",'Gefilterde data'!EB397)","v":{"v":19.03584672435105,"d":"19"}}]
[null,{"$f":"IF('Gefilterde data'!C398=0,\"\",'Gefilterde data'!C398)","v":"De Bongerd"},{"$f":"IF(B411=\"\",\"\",IF(LEFT(D411,2)=\"BU\",'Gefilterde data'!G398,\"-\"))","v":"Tuindorp Oostzaan"},{"$f":"IF('Gefilterde data'!C398=0,\"\",'Gefilterde data'!A398)","v":"BU0363NC04"},{"v":0.6882874900450401,"d":"0.69"},{"v":1.3875696197234664,"d":"1.39"},{"$f":"IF('Gefilterde data'!CL398=0,\"\",'Gefilterde data'!CL398)","v":7.3},{"$f":"IF('Gefilterde data'!DX398=0,\"\",'Gefilterde data'!DX398)","v":{"v":49.44237918215613,"d":"49.4"}},null,{"$f":"IF('Gefilterde data'!DZ398=0,\"\",'Gefilterde data'!DZ398)","v":{"v":1.1152416356877324,"d":"1"}},{"$f":"IF('Gefilterde data'!DW398=0,\"\",'Gefilterde data'!DW398)","v":{"v":2780,"d":"2,780"}},{"$f":"IF('Gefilterde data'!I398=0,\"\",'Gefilterde data'!I398)","v":{"v":2690,"d":"2,690"}},{"$f":"IF('Gefilterde data'!DI398=0,\"\",'Gefilterde data'!DI398)","v":0.9},{"$f":"IF('Gefilterde data'!EA398=0,\"\",'Gefilterde data'!EA398)","v":{"v":30.297397769516728,"d":"30"}},{"$f":"IF('Gefilterde data'!EA398=0,\"\",'Gefilterde data'!EB398)","v":{"v":3.3457249070631967,"d":"3"}}]
[null,{"$f":"IF('Gefilterde data'!C399=0,\"\",'Gefilterde data'!C399)","v":"Twiske-Oost"},{"$f":"IF(B412=\"\",\"\",IF(LEFT(D412,2)=\"BU\",'Gefilterde data'!G399,\"-\"))","v":"Kadoelen"},{"$f":"IF('Gefilterde data'!C399=0,\"\",'Gefilterde data'!A399)","v":"BU0363ND01"},{"v":0.5807035872280604,"d":"0.58"},{"v":1.1706832789440424,"d":"1.17"},{"$f":"IF('Gefilterde data'!CL399=0,\"\",'Gefilterde data'!CL399)","v":7},{"$f":"IF('Gefilterde data'!DX399=0,\"\",'Gefilterde data'!DX399)","v":{"v":38.53211009174312,"d":"38.5"}},null,{"$f":"IF('Gefilterde data'!DZ399=0,\"\",'Gefilterde data'!DZ399)","v":{"v":1.834862385321101,"d":"2"}},{"$f":"IF('Gefilterde data'!DW399=0,\"\",'Gefilterde data'!DW399)","v":{"v":1646,"d":"1,646"}},{"$f":"IF('Gefilterde data'!I399=0,\"\",'Gefilterde data'!I399)","v":{"v":1090,"d":"1,090"}},{"$f":"IF('Gefilterde data'!DI399=0,\"\",'Gefilterde data'!DI399)","v":{"v":1,"d":"1.0"}},{"$f":"IF('Gefilterde data'!EA399=0,\"\",'Gefilterde data'!EA399)","v":{"v":15.59633027522936,"d":"16"}},{"$f":"IF('Gefilterde data'!EA399=0,\"\",'Gefilterde data'!EB399)","v":{"v":22.018348623853214,"d":"22"}}]
[null,{"$f":"IF('Gefilterde data'!C400=0,\"\",'Gefilterde data'!C400)","v":"Kadoelen"},{"$f":"IF(B413=\"\",\"\",IF(LEFT(D413,2)=\"BU\",'Gefilterde data'!G400,\"-\"))","v":"Kadoelen"},{"$f":"IF('Gefilterde data'!C400=0,\"\",'Gefilterde data'!A400)","v":"BU0363ND02"},{"v":0.4961492545360744,"d":"0.50"},{"v":1.00022395060188,"d":"1.00"},{"$f":"IF('Gefilterde data'!CL400=0,\"\",'Gefilterde data'!CL400)","v":7.1},{"$f":"IF('Gefilterde data'!DX400=0,\"\",'Gefilterde data'!DX400)","v":{"v":28.68686868686869,"d":"28.7"}},null,{"$f":"IF('Gefilterde data'!DZ400=0,\"\",'Gefilterde data'!DZ400)","v":{"v":1.2121212121212122,"d":"1"}},{"$f":"IF('Gefilterde data'!DW400=0,\"\",'Gefilterde data'!DW400)","v":{"v":1977,"d":"1,977"}},{"$f":"IF('Gefilterde data'!I400=0,\"\",'Gefilterde data'!I400)","v":{"v":2475,"d":"2,475"}},{"$f":"IF('Gefilterde data'!DI400=0,\"\",'Gefilterde data'!DI400)","v":{"v":1,"d":"1.0"}},{"$f":"IF('Gefilterde data'!EA400=0,\"\",'Gefilterde data'!EA400)","v":{"v":24.646464646464647,"d":"25"}},{"$f":"IF('Gefilterde data'!EA400=0,\"\",'Gefilterde data'!EB400)","v":{"v":12.929292929292929,"d":"13"}}]
[null,{"$f":"IF('Gefilterde data'!C401=0,\"\",'Gefilterde data'!C401)","v":"Banne-Noordwest"},{"$f":"IF(B414=\"\",\"\",IF(LEFT(D414,2)=\"BU\",'Gefilterde data'!G401,\"-\"))","v":"Banne Buiksloot"},{"$f":"IF('Gefilterde data'!C401=0,\"\",'Gefilterde data'!A401)","v":"BU0363NE01"},{"v":1.4563756553328768,"d":"1.46"},{"v":2.9360153184136992,"d":"2.94"},{"$f":"IF('Gefilterde data'!CL401=0,\"\",'Gefilterde data'!CL401)","v":23},{"$f":"IF('Gefilterde data'!DX401=0,\"\",'Gefilterde data'!DX401)","v":{"v":76.0377358490566,"d":"76.0"}},null,{"$f":"IF('Gefilterde data'!DZ401=0,\"\",'Gefilterde data'!DZ401)","v":{"v":2.2641509433962264,"d":"2"}},{"$f":"IF('Gefilterde data'!DW401=0,\"\",'Gefilterde data'!DW401)","v":{"v":2117,"d":"2,117"}},{"$f":"IF('Gefilterde data'!I401=0,\"\",'Gefilterde data'!I401)","v":{"v":2650,"d":"2,650"}},{"$f":"IF('Gefilterde data'!DI401=0,\"\",'Gefilterde data'!DI401)","v":0.6},{"$f":"IF('Gefilterde data'!EA401=0,\"\",'Gefilterde data'!EA401)","v":{"v":18.11320754716981,"d":"18"}},{"$f":"IF('Gefilterde data'!EA401=0,\"\",'Gefilterde data'!EB401)","v":{"v":13.018867924528301,"d":"13"}}]
[null,{"$f":"IF('Gefilterde data'!C402=0,\"\",'Gefilterde data'!C402)","v":"Banne-Noordoost"},{"$f":"IF(B415=\"\",\"\",IF(LEFT(D415,2)=\"BU\",'Gefilterde data'!G402,\"-\"))","v":"Banne Buiksloot"},{"$f":"IF('Gefilterde data'!C402=0,\"\",'Gefilterde data'!A402)","v":"BU0363NE02"},{"v":1.235771519753689,"d":"1.24"},{"v":2.4912831375411293,"d":"2.49"},{"$f":"IF('Gefilterde data'!CL402=0,\"\",'Gefilterde data'!CL402)","v":18.8},{"$f":"IF('Gefilterde data'!DX402=0,\"\",'Gefilterde data'!DX402)","v":{"v":67.22925457102671,"d":"67.2"}},null,{"$f":"IF('Gefilterde data'!DZ402=0,\"\",'Gefilterde data'!DZ402)","v":{"v":1.4064697609001406,"d":"1"}},{"$f":"IF('Gefilterde data'!DW402=0,\"\",'Gefilterde data'!DW402)","v":{"v":2239,"d":"2,239"}},{"$f":"IF('Gefilterde data'!I402=0,\"\",'Gefilterde data'!I402)","v":{"v":3555,"d":"3,555"}},{"$f":"IF('Gefilterde data'!DI402=0,\"\",'Gefilterde data'!DI402)","v":0.7},{"$f":"IF('Gefilterde data'!EA402=0,\"\",'Gefilterde data'!EA402)","v":{"v":18.70604781997187,"d":"19"}},{"$f":"IF('Gefilterde data'!EA402=0,\"\",'Gefilterde data'!EB402)","v":{"v":15.471167369901547,"d":"15"}}]
[null,{"$f":"IF('Gefilterde data'!C403=0,\"\",'Gefilterde data'!C403)","v":"Banne-Zuidwest"},{"$f":"IF(B416=\"\",\"\",IF(LEFT(D416,2)=\"BU\",'Gefilterde data'!G403,\"-\"))","v":"Banne Buiksloot"},{"$f":"IF('Gefilterde data'!C403=0,\"\",'Gefilterde data'!A403)","v":"BU0363NE03"},{"v":1.3674283033707573,"d":"1.37"},{"v":2.7566997778546063,"d":"2.76"},{"$f":"IF('Gefilterde data'!CL403=0,\"\",'Gefilterde data'!CL403)","v":21.8},{"$f":"IF('Gefilterde data'!DX403=0,\"\",'Gefilterde data'!DX403)","v":{"v":70.61923583662714,"d":"70.6"}},null,{"$f":"IF('Gefilterde data'!DZ403=0,\"\",'Gefilterde data'!DZ403)","v":{"v":2.635046113306983,"d":"3"}},{"$f":"IF('Gefilterde data'!DW403=0,\"\",'Gefilterde data'!DW403)","v":{"v":3056,"d":"3,056"}},{"$f":"IF('Gefilterde data'!I403=0,\"\",'Gefilterde data'!I403)","v":{"v":3795,"d":"3,795"}},{"$f":"IF('Gefilterde data'!DI403=0,\"\",'Gefilterde data'!DI403)","v":0.5},{"$f":"IF('Gefilterde data'!EA403=0,\"\",'Gefilterde data'!EA403)","v":{"v":19.235836627140976,"d":"19"}},{"$f":"IF('Gefilterde data'!EA403=0,\"\",'Gefilterde data'!EB403)","v":{"v":18.050065876152832,"d":"18"}}]
[null,{"$f":"IF('Gefilterde data'!C404=0,\"\",'Gefilterde data'!C404)","v":"Banne-Zuidoost"},{"$f":"IF(B417=\"\",\"\",IF(LEFT(D417,2)=\"BU\",'Gefilterde data'!G404,\"-\"))","v":"Banne Buiksloot"},{"$f":"IF('Gefilterde data'!C404=0,\"\",'Gefilterde data'!A404)","v":"BU0363NE04"},{"v":1.090055121147031,"d":"1.09"},{"v":2.1975226802809193,"d":"2.20"},{"$f":"IF('Gefilterde data'!CL404=0,\"\",'Gefilterde data'!CL404)","v":16.9},{"$f":"IF('Gefilterde data'!DX404=0,\"\",'Gefilterde data'!DX404)","v":{"v":58.103241296518604,"d":"58.1"}},null,{"$f":"IF('Gefilterde data'!DZ404=0,\"\",'Gefilterde data'!DZ404)","v":{"v":1.440576230492197,"d":"1"}},{"$f":"IF('Gefilterde data'!DW404=0,\"\",'Gefilterde data'!DW404)","v":{"v":3165,"d":"3,165"}},{"$f":"IF('Gefilterde data'!I404=0,\"\",'Gefilterde data'!I404)","v":{"v":4165,"d":"4,165"}},{"$f":"IF('Gefilterde data'!DI404=0,\"\",'Gefilterde data'!DI404)","v":0.7},{"$f":"IF('Gefilterde data'!EA404=0,\"\",'Gefilterde data'!EA404)","v":{"v":18.72749099639856,"d":"19"}},{"$f":"IF('Gefilterde data'!EA404=0,\"\",'Gefilterde data'!EB404)","v":{"v":16.44657863145258,"d":"16"}}]
[null,{"$f":"IF('Gefilterde data'!C405=0,\"\",'Gefilterde data'!C405)","v":"Buiksloterbreek"},{"$f":"IF(B418=\"\",\"\",IF(LEFT(D418,2)=\"BU\",'Gefilterde data'!G405,\"-\"))","v":"Banne Buiksloot"},{"$f":"IF('Gefilterde data'!C405=0,\"\",'Gefilterde data'!A405)","v":"BU0363NE05"},{"v":0.36566439201870116,"d":"0.37"},{"v":0.737169872645222,"d":"0.74"},{"$f":"IF('Gefilterde data'!CL405=0,\"\",'Gefilterde data'!CL405)","v":4},{"$f":"IF('Gefilterde data'!DX405=0,\"\",'Gefilterde data'!DX405)","v":{"v":25.806451612903224,"d":"25.8"}},null,{"$f":"IF('Gefilterde data'!DZ405=0,\"\",'Gefilterde data'!DZ405)","v":""},{"$f":"IF('Gefilterde data'!DW405=0,\"\",'Gefilterde data'!DW405)","v":{"v":3279,"d":"3,279"}},{"$f":"IF('Gefilterde data'!I405=0,\"\",'Gefilterde data'!I405)","v":310},{"$f":"IF('Gefilterde data'!DI405=0,\"\",'Gefilterde data'!DI405)","v":1.1},{"$f":"IF('Gefilterde data'!EA405=0,\"\",'Gefilterde data'!EA405)","v":{"v":16.129032258064516,"d":"16"}},{"$f":"IF('Gefilterde data'!EA405=0,\"\",'Gefilterde data'!EB405)","v":{"v":24.193548387096776,"d":"24"}}]
[null,{"$f":"IF('Gefilterde data'!C406=0,\"\",'Gefilterde data'!C406)","v":"Marjoleinterrein"},{"$f":"IF(B419=\"\",\"\",IF(LEFT(D419,2)=\"BU\",'Gefilterde data'!G406,\"-\"))","v":"Banne Buiksloot"},{"$f":"IF('Gefilterde data'!C406=0,\"\",'Gefilterde data'!A406)","v":"BU0363NE06"},{"v":0.901082867173941,"d":"0.90"},{"v":1.8165595473223815,"d":"1.82"},{"$f":"IF('Gefilterde data'!CL406=0,\"\",'Gefilterde data'!CL406)","v":10.4},{"$f":"IF('Gefilterde data'!DX406=0,\"\",'Gefilterde data'!DX406)","v":{"v":61.53846153846154,"d":"61.5"}},null,{"$f":"IF('Gefilterde data'!DZ406=0,\"\",'Gefilterde data'!DZ406)","v":{"v":3.076923076923077,"d":"3"}},{"$f":"IF('Gefilterde data'!DW406=0,\"\",'Gefilterde data'!DW406)","v":{"v":3145,"d":"3,145"}},{"$f":"IF('Gefilterde data'!I406=0,\"\",'Gefilterde data'!I406)","v":325},{"$f":"IF('Gefilterde data'!DI406=0,\"\",'Gefilterde data'!DI406)","v":0.6},{"$f":"IF('Gefilterde data'!EA406=0,\"\",'Gefilterde data'!EA406)","v":20},{"$f":"IF('Gefilterde data'!EA406=0,\"\",'Gefilterde data'!EB406)","v":{"v":6.153846153846154,"d":"6"}}]
[null,{"$f":"IF('Gefilterde data'!C407=0,\"\",'Gefilterde data'!C407)","v":"Buiksloterdijk-West"},{"$f":"IF(B420=\"\",\"\",IF(LEFT(D420,2)=\"BU\",'Gefilterde data'!G407,\"-\"))","v":"Nieuwendammerdijk/Buiksloterdijk"},{"$f":"IF('Gefilterde data'!C407=0,\"\",'Gefilterde data'!A407)","v":"BU0363NF01"},"Ontbrekende waarde","Ontbrekende waarde",{"$f":"IF('Gefilterde data'!CL407=0,\"\",'Gefilterde data'!CL407)","v":"."},{"$f":"IF('Gefilterde data'!DX407=0,\"\",'Gefilterde data'!DX407)","v":{"v":20,"d":"20.0"}},null,{"$f":"IF('Gefilterde data'!DZ407=0,\"\",'Gefilterde data'!DZ407)","v":""},{"$f":"IF('Gefilterde data'!DW407=0,\"\",'Gefilterde data'!DW407)","v":{"v":3388,"d":"3,388"}},{"$f":"IF('Gefilterde data'!I407=0,\"\",'Gefilterde data'!I407)","v":175},{"$f":"IF('Gefilterde data'!DI407=0,\"\",'Gefilterde data'!DI407)","v":0.8},{"$f":"IF('Gefilterde data'!EA407=0,\"\",'Gefilterde data'!EA407)","v":{"v":25.71428571428571,"d":"26"}},{"$f":"IF('Gefilterde data'!EA407=0,\"\",'Gefilterde data'!EB407)","v":{"v":17.142857142857142,"d":"17"}}]
[null,{"$f":"IF('Gefilterde data'!C408=0,\"\",'Gefilterde data'!C408)","v":"Buiksloterdijk-Oost"},{"$f":"IF(B421=\"\",\"\",IF(LEFT(D421,2)=\"BU\",'Gefilterde data'!G408,\"-\"))","v":"Nieuwendammerdijk/Buiksloterdijk"},{"$f":"IF('Gefilterde data'!C408=0,\"\",'Gefilterde data'!A408)","v":"BU0363NF02"},"Ontbrekende waarde","Ontbrekende waarde",{"$f":"IF('Gefilterde data'!CL408=0,\"\",'Gefilterde data'!CL408)","v":"."},{"$f":"IF('Gefilterde data'!DX408=0,\"\",'Gefilterde data'!DX408)","v":{"v":22.22222222222222,"d":"22.2"}},null,{"$f":"IF('Gefilterde data'!DZ408=0,\"\",'Gefilterde data'!DZ408)","v":""},{"$f":"IF('Gefilterde data'!DW408=0,\"\",'Gefilterde data'!DW408)","v":{"v":3428,"d":"3,428"}},{"$f":"IF('Gefilterde data'!I408=0,\"\",'Gefilterde data'!I408)","v":135},{"$f":"IF('Gefilterde data'!DI408=0,\"\",'Gefilterde data'!DI408)","v":1.1},{"$f":"IF('Gefilterde data'!EA408=0,\"\",'Gefilterde data'!EA408)","v":{"v":18.51851851851852,"d":"19"}},{"$f":"IF('Gefilterde data'!EA408=0,\"\",'Gefilterde data'!EB408)","v":{"v":25.925925925925924,"d":"26"}}]
[null,{"$f":"IF('Gefilterde data'!C409=0,\"\",'Gefilterde data'!C409)","v":"Nieuwendammerdijk-West"},{"$f":"IF(B422=\"\",\"\",IF(LEFT(D422,2)=\"BU\",'Gefilterde data'!G409,\"-\"))","v":"Nieuwendammerdijk/Buiksloterdijk"},{"$f":"IF('Gefilterde data'!C409=0,\"\",'Gefilterde data'!A409)","v":"BU0363NF03"},{"v":0.32283906940162516,"d":"0.32"},{"v":0.6508351397352539,"d":"0.65"},{"$f":"IF('Gefilterde data'!CL409=0,\"\",'Gefilterde data'!CL409)","v":3.2},{"$f":"IF('Gefilterde data'!DX409=0,\"\",'Gefilterde data'!DX409)","v":{"v":24.03846153846154,"d":"24.0"}},null,{"$f":"IF('Gefilterde data'!DZ409=0,\"\",'Gefilterde data'!DZ409)","v":{"v":2.8846153846153846,"d":"3"}},{"$f":"IF('Gefilterde data'!DW409=0,\"\",'Gefilterde data'!DW409)","v":{"v":2592,"d":"2,592"}},{"$f":"IF('Gefilterde data'!I409=0,\"\",'Gefilterde data'!I409)","v":{"v":1040,"d":"1,040"}},{"$f":"IF('Gefilterde data'!DI409=0,\"\",'Gefilterde data'!DI409)","v":{"v":1,"d":"1.0"}},{"$f":"IF('Gefilterde data'!EA409=0,\"\",'Gefilterde data'!EA409)","v":{"v":20.673076923076923,"d":"21"}},{"$f":"IF('Gefilterde data'!EA409=0,\"\",'Gefilterde data'!EB409)","v":{"v":16.346153846153847,"d":"16"}}]
[null,{"$f":"IF('Gefilterde data'!C410=0,\"\",'Gefilterde data'!C410)","v":"Nieuwendammerdijk-Oost"},{"$f":"IF(B423=\"\",\"\",IF(LEFT(D423,2)=\"BU\",'Gefilterde data'!G410,\"-\"))","v":"Nieuwendammerdijk/Buiksloterdijk"},{"$f":"IF('Gefilterde data'!C410=0,\"\",'Gefilterde data'!A410)","v":"BU0363NF04"},{"v":0.257218893821435,"d":"0.26"},{"v":0.5185465780616525,"d":"0.52"},{"$f":"IF('Gefilterde data'!CL410=0,\"\",'Gefilterde data'!CL410)","v":2.4},{"$f":"IF('Gefilterde data'!DX410=0,\"\",'Gefilterde data'!DX410)","v":{"v":19.718309859154928,"d":"19.7"}},null,{"$f":"IF('Gefilterde data'!DZ410=0,\"\",'Gefilterde data'!DZ410)","v":{"v":2.8169014084507045,"d":"3"}},{"$f":"IF('Gefilterde data'!DW410=0,\"\",'Gefilterde data'!DW410)","v":{"v":2403,"d":"2,403"}},{"$f":"IF('Gefilterde data'!I410=0,\"\",'Gefilterde data'!I410)","v":355},{"$f":"IF('Gefilterde data'!DI410=0,\"\",'Gefilterde data'!DI410)","v":1.1},{"$f":"IF('Gefilterde data'!EA410=0,\"\",'Gefilterde data'!EA410)","v":{"v":25.352112676056336,"d":"25"}},{"$f":"IF('Gefilterde data'!EA410=0,\"\",'Gefilterde data'!EB410)","v":{"v":12.676056338028168,"d":"13"}}]
[null,{"$f":"IF('Gefilterde data'!C411=0,\"\",'Gefilterde data'!C411)","v":"Nieuwendammerdijk-Zuid"},{"$f":"IF(B424=\"\",\"\",IF(LEFT(D424,2)=\"BU\",'Gefilterde data'!G411,\"-\"))","v":"Nieuwendammerdijk/Buiksloterdijk"},{"$f":"IF('Gefilterde data'!C411=0,\"\",'Gefilterde data'!A411)","v":"BU0363NF05"},"Ontbrekende waarde","Ontbrekende waarde",{"$f":"IF('Gefilterde data'!CL411=0,\"\",'Gefilterde data'!CL411)","v":"."},{"$f":"IF('Gefilterde data'!DX411=0,\"\",'Gefilterde data'!DX411)","v":"Geen inwoners"},null,{"$f":"IF('Gefilterde data'!DZ411=0,\"\",'Gefilterde data'!DZ411)","v":"Geen inwoners"},{"$f":"IF('Gefilterde data'!DW411=0,\"\",'Gefilterde data'!DW411)","v":{"v":2014,"d":"2,014"}},{"$f":"IF('Gefilterde data'!I411=0,\"\",'Gefilterde data'!I411)","v":""},{"$f":"IF('Gefilterde data'!DI411=0,\"\",'Gefilterde data'!DI411)","v":"."},{"$f":"IF('Gefilterde data'!EA411=0,\"\",'Gefilterde data'!EA411)","v":"Geen inwoners"},{"$f":"IF('Gefilterde data'!EA411=0,\"\",'Gefilterde data'!EB411)","v":"Geen inwoners"}]
[null,{"$f":"IF('Gefilterde data'!C412=0,\"\",'Gefilterde data'!C412)","v":"Elzenhagen-Noord"},{"$f":"IF(B425=\"\",\"\",IF(LEFT(D425,2)=\"BU\",'Gefilterde data'!G412,\"-\"))","v":"Elzenhagen"},{"$f":"IF('Gefilterde data'!C412=0,\"\",'Gefilterde data'!A412)","v":"BU0363NG01"},{"v":0.7535685915092649,"d":"0.75"},{"v":1.5191746168270983,"d":"1.52"},{"$f":"IF('Gefilterde data'!CL412=0,\"\",'Gefilterde data'!CL412)","v":8},{"$f":"IF('Gefilterde data'!DX412=0,\"\",'Gefilterde data'!DX412)","v":{"v":54.1029207232267,"d":"54.1"}},null,{"$f":"IF('Gefilterde data'!DZ412=0,\"\",'Gefilterde data'!DZ412)","v":{"v":6.675938803894297,"d":"7"}},{"$f":"IF('Gefilterde data'!DW412=0,\"\",'Gefilterde data'!DW412)","v":{"v":3044,"d":"3,044"}},{"$f":"IF('Gefilterde data'!I412=0,\"\",'Gefilterde data'!I412)","v":{"v":3595,"d":"3,595"}},{"$f":"IF('Gefilterde data'!DI412=0,\"\",'Gefilterde data'!DI412)","v":0.5},{"$f":"IF('Gefilterde data'!EA412=0,\"\",'Gefilterde data'!EA412)","v":{"v":23.226703755215578,"d":"23"}},{"$f":"IF('Gefilterde data'!EA412=0,\"\",'Gefilterde data'!EB412)","v":{"v":6.675938803894297,"d":"7"}}]
[null,{"$f":"IF('Gefilterde data'!C413=0,\"\",'Gefilterde data'!C413)","v":"Elzenhagen-Zuid"},{"$f":"IF(B426=\"\",\"\",IF(LEFT(D426,2)=\"BU\",'Gefilterde data'!G413,\"-\"))","v":"Elzenhagen"},{"$f":"IF('Gefilterde data'!C413=0,\"\",'Gefilterde data'!A413)","v":"BU0363NG02"},{"v":1.6122130879262755,"d":"1.61"},{"v":3.250179516092424,"d":"3.25"},{"$f":"IF('Gefilterde data'!CL413=0,\"\",'Gefilterde data'!CL413)","v":27.8},{"$f":"IF('Gefilterde data'!DX413=0,\"\",'Gefilterde data'!DX413)","v":{"v":75.32467532467533,"d":"75.3"}},null,{"$f":"IF('Gefilterde data'!DZ413=0,\"\",'Gefilterde data'!DZ413)","v":{"v":6.493506493506493,"d":"6"}},{"$f":"IF('Gefilterde data'!DW413=0,\"\",'Gefilterde data'!DW413)","v":{"v":3494,"d":"3,494"}},{"$f":"IF('Gefilterde data'!I413=0,\"\",'Gefilterde data'!I413)","v":{"v":1540,"d":"1,540"}},{"$f":"IF('Gefilterde data'!DI413=0,\"\",'Gefilterde data'!DI413)","v":0.3},{"$f":"IF('Gefilterde data'!EA413=0,\"\",'Gefilterde data'!EA413)","v":{"v":7.467532467532467,"d":"7"}},{"$f":"IF('Gefilterde data'!EA413=0,\"\",'Gefilterde data'!EB413)","v":{"v":4.870129870129871,"d":"5"}}]
[null,{"$f":"IF('Gefilterde data'!C414=0,\"\",'Gefilterde data'!C414)","v":"Nintemanterrein"},{"$f":"IF(B427=\"\",\"\",IF(LEFT(D427,2)=\"BU\",'Gefilterde data'!G414,\"-\"))","v":"Elzenhagen"},{"$f":"IF('Gefilterde data'!C414=0,\"\",'Gefilterde data'!A414)","v":"BU0363NG03"},"Ontbrekende waarde","Ontbrekende waarde",{"$f":"IF('Gefilterde data'!CL414=0,\"\",'Gefilterde data'!CL414)","v":"."},{"$f":"IF('Gefilterde data'!DX414=0,\"\",'Gefilterde data'!DX414)","v":{"v":16,"d":"16.0"}},null,{"$f":"IF('Gefilterde data'!DZ414=0,\"\",'Gefilterde data'!DZ414)","v":""},{"$f":"IF('Gefilterde data'!DW414=0,\"\",'Gefilterde data'!DW414)","v":{"v":3479,"d":"3,479"}},{"$f":"IF('Gefilterde data'!I414=0,\"\",'Gefilterde data'!I414)","v":125},{"$f":"IF('Gefilterde data'!DI414=0,\"\",'Gefilterde data'!DI414)","v":"."},{"$f":"IF('Gefilterde data'!EA414=0,\"\",'Gefilterde data'!EA414)","v":32},{"$f":"IF('Gefilterde data'!EA414=0,\"\",'Gefilterde data'!EB414)","v":24}]
[null,{"$f":"IF('Gefilterde data'!C415=0,\"\",'Gefilterde data'!C415)","v":"Buikslotermeer-Noord"},{"$f":"IF(B428=\"\",\"\",IF(LEFT(D428,2)=\"BU\",'Gefilterde data'!G415,\"-\"))","v":"Buikslotermeer"},{"$f":"IF('Gefilterde data'!C415=0,\"\",'Gefilterde data'!A415)","v":"BU0363NH01"},{"v":0.8853077678278157,"d":"0.89"},{"v":1.7847573586768046,"d":"1.78"},{"$f":"IF('Gefilterde data'!CL415=0,\"\",'Gefilterde data'!CL415)","v":13.3},{"$f":"IF('Gefilterde data'!DX415=0,\"\",'Gefilterde data'!DX415)","v":48.8},null,{"$f":"IF('Gefilterde data'!DZ415=0,\"\",'Gefilterde data'!DZ415)","v":{"v":10.8,"d":"11"}},{"$f":"IF('Gefilterde data'!DW415=0,\"\",'Gefilterde data'!DW415)","v":{"v":2714,"d":"2,714"}},{"$f":"IF('Gefilterde data'!I415=0,\"\",'Gefilterde data'!I415)","v":{"v":2500,"d":"2,500"}},{"$f":"IF('Gefilterde data'!DI415=0,\"\",'Gefilterde data'!DI415)","v":0.4},{"$f":"IF('Gefilterde data'!EA415=0,\"\",'Gefilterde data'!EA415)","v":{"v":8.6,"d":"9"}},{"$f":"IF('Gefilterde data'!EA415=0,\"\",'Gefilterde data'!EB415)","v":{"v":24.6,"d":"25"}}]
[null,{"$f":"IF('Gefilterde data'!C416=0,\"\",'Gefilterde data'!C416)","v":"De Kleine Wereld"},{"$f":"IF(B429=\"\",\"\",IF(LEFT(D429,2)=\"BU\",'Gefilterde data'!G416,\"-\"))","v":"Buikslotermeer"},{"$f":"IF('Gefilterde data'!C416=0,\"\",'Gefilterde data'!A416)","v":"BU0363NH02"},{"v":1.4691563446507416,"d":"1.47"},{"v":2.961780854578584,"d":"2.96"},{"$f":"IF('Gefilterde data'!CL416=0,\"\",'Gefilterde data'!CL416)","v":23.5},{"$f":"IF('Gefilterde data'!DX416=0,\"\",'Gefilterde data'!DX416)","v":{"v":75.57692307692308,"d":"75.6"}},null,{"$f":"IF('Gefilterde data'!DZ416=0,\"\",'Gefilterde data'!DZ416)","v":{"v":1.5384615384615385,"d":"2"}},{"$f":"IF('Gefilterde data'!DW416=0,\"\",'Gefilterde data'!DW416)","v":{"v":3396,"d":"3,396"}},{"$f":"IF('Gefilterde data'!I416=0,\"\",'Gefilterde data'!I416)","v":{"v":2600,"d":"2,600"}},{"$f":"IF('Gefilterde data'!DI416=0,\"\",'Gefilterde data'!DI416)","v":0.5},{"$f":"IF('Gefilterde data'!EA416=0,\"\",'Gefilterde data'!EA416)","v":{"v":17.115384615384617,"d":"17"}},{"$f":"IF('Gefilterde data'!EA416=0,\"\",'Gefilterde data'!EB416)","v":20}]
[null,{"$f":"IF('Gefilterde data'!C417=0,\"\",'Gefilterde data'!C417)","v":"Loenermark"},{"$f":"IF(B430=\"\",\"\",IF(LEFT(D430,2)=\"BU\",'Gefilterde data'!G417,\"-\"))","v":"Buikslotermeer"},{"$f":"IF('Gefilterde data'!C417=0,\"\",'Gefilterde data'!A417)","v":"BU0363NH03"},{"v":1.0313255773612697,"d":"1.03"},{"v":2.079125452500404,"d":"2.08"},{"$f":"IF('Gefilterde data'!CL417=0,\"\",'Gefilterde data'!CL417)","v":14},{"$f":"IF('Gefilterde data'!DX417=0,\"\",'Gefilterde data'!DX417)","v":62.5},null,{"$f":"IF('Gefilterde data'!DZ417=0,\"\",'Gefilterde data'!DZ417)","v":{"v":5.208333333333334,"d":"5"}},{"$f":"IF('Gefilterde data'!DW417=0,\"\",'Gefilterde data'!DW417)","v":{"v":3483,"d":"3,483"}},{"$f":"IF('Gefilterde data'!I417=0,\"\",'Gefilterde data'!I417)","v":{"v":1920,"d":"1,920"}},{"$f":"IF('Gefilterde data'!DI417=0,\"\",'Gefilterde data'!DI417)","v":0.4},{"$f":"IF('Gefilterde data'!EA417=0,\"\",'Gefilterde data'!EA417)","v":{"v":8.333333333333332,"d":"8"}},{"$f":"IF('Gefilterde data'!EA417=0,\"\",'Gefilterde data'!EB417)","v":{"v":21.354166666666664,"d":"21"}}]
[null,{"$f":"IF('Gefilterde data'!C418=0,\"\",'Gefilterde data'!C418)","v":"Buikslotermeerplein"},{"$f":"IF(B431=\"\",\"\",IF(LEFT(D431,2)=\"BU\",'Gefilterde data'!G418,\"-\"))","v":"Buikslotermeer"},{"$f":"IF('Gefilterde data'!C418=0,\"\",'Gefilterde data'!A418)","v":"BU0363NH04"},{"v":1.3234948322202533,"d":"1.32"},{"v":2.6681310464173293,"d":"2.67"},{"$f":"IF('Gefilterde data'!CL418=0,\"\",'Gefilterde data'!CL418)","v":22.9},{"$f":"IF('Gefilterde data'!DX418=0,\"\",'Gefilterde data'!DX418)","v":{"v":61.53846153846154,"d":"61.5"}},null,{"$f":"IF('Gefilterde data'!DZ418=0,\"\",'Gefilterde data'!DZ418)","v":{"v":1.465201465201465,"d":"1"}},{"$f":"IF('Gefilterde data'!DW418=0,\"\",'Gefilterde data'!DW418)","v":{"v":3673,"d":"3,673"}},{"$f":"IF('Gefilterde data'!I418=0,\"\",'Gefilterde data'!I418)","v":{"v":1365,"d":"1,365"}},{"$f":"IF('Gefilterde data'!DI418=0,\"\",'Gefilterde data'!DI418)","v":0.5},{"$f":"IF('Gefilterde data'!EA418=0,\"\",'Gefilterde data'!EA418)","v":{"v":12.454212454212454,"d":"12"}},{"$f":"IF('Gefilterde data'!EA418=0,\"\",'Gefilterde data'!EB418)","v":{"v":31.5018315018315,"d":"32"}}]
[null,{"$f":"IF('Gefilterde data'!C419=0,\"\",'Gefilterde data'!C419)","v":"Plan van Gool"},{"$f":"IF(B432=\"\",\"\",IF(LEFT(D432,2)=\"BU\",'Gefilterde data'!G419,\"-\"))","v":"Buikslotermeer"},{"$f":"IF('Gefilterde data'!C419=0,\"\",'Gefilterde data'!A419)","v":"BU0363NH05"},{"v":1.280131478310654,"d":"1.28"},{"v":2.580711656461049,"d":"2.58"},{"$f":"IF('Gefilterde data'!CL419=0,\"\",'Gefilterde data'!CL419)","v":18.8},{"$f":"IF('Gefilterde data'!DX419=0,\"\",'Gefilterde data'!DX419)","v":{"v":72.1958925750395,"d":"72.2"}},null,{"$f":"IF('Gefilterde data'!DZ419=0,\"\",'Gefilterde data'!DZ419)","v":{"v":2.843601895734597,"d":"3"}},{"$f":"IF('Gefilterde data'!DW419=0,\"\",'Gefilterde data'!DW419)","v":{"v":3611,"d":"3,611"}},{"$f":"IF('Gefilterde data'!I419=0,\"\",'Gefilterde data'!I419)","v":{"v":3165,"d":"3,165"}},{"$f":"IF('Gefilterde data'!DI419=0,\"\",'Gefilterde data'!DI419)","v":0.5},{"$f":"IF('Gefilterde data'!EA419=0,\"\",'Gefilterde data'!EA419)","v":{"v":16.903633491311215,"d":"17"}},{"$f":"IF('Gefilterde data'!EA419=0,\"\",'Gefilterde data'!EB419)","v":{"v":13.112164296998422,"d":"13"}}]
[null,{"$f":"IF('Gefilterde data'!C420=0,\"\",'Gefilterde data'!C420)","v":"Rode Kruisbuurt"},{"$f":"IF(B433=\"\",\"\",IF(LEFT(D433,2)=\"BU\",'Gefilterde data'!G420,\"-\"))","v":"Buikslotermeer"},{"$f":"IF('Gefilterde data'!C420=0,\"\",'Gefilterde data'!A420)","v":"BU0363NH06"},"Ontbrekende waarde","Ontbrekende waarde",{"$f":"IF('Gefilterde data'!CL420=0,\"\",'Gefilterde data'!CL420)","v":"."},{"$f":"IF('Gefilterde data'!DX420=0,\"\",'Gefilterde data'!DX420)","v":{"v":31.914893617021278,"d":"31.9"}},null,{"$f":"IF('Gefilterde data'!DZ420=0,\"\",'Gefilterde data'!DZ420)","v":""},{"$f":"IF('Gefilterde data'!DW420=0,\"\",'Gefilterde data'!DW420)","v":{"v":3159,"d":"3,159"}},{"$f":"IF('Gefilterde data'!I420=0,\"\",'Gefilterde data'!I420)","v":235},{"$f":"IF('Gefilterde data'!DI420=0,\"\",'Gefilterde data'!DI420)","v":{"v":1,"d":"1.0"}},{"$f":"IF('Gefilterde data'!EA420=0,\"\",'Gefilterde data'!EA420)","v":{"v":12.76595744680851,"d":"13"}},{"$f":"IF('Gefilterde data'!EA420=0,\"\",'Gefilterde data'!EB420)","v":{"v":36.17021276595745,"d":"36"}}]
[null,{"$f":"IF('Gefilterde data'!C421=0,\"\",'Gefilterde data'!C421)","v":"Markengouw-Noord"},{"$f":"IF(B434=\"\",\"\",IF(LEFT(D434,2)=\"BU\",'Gefilterde data'!G421,\"-\"))","v":"Waterlandpleinbuurt"},{"$f":"IF('Gefilterde data'!C421=0,\"\",'Gefilterde data'!A421)","v":"BU0363NJ01"},{"v":0.6412523900067912,"d":"0.64"},{"v":1.2927480853825513,"d":"1.29"},{"$f":"IF('Gefilterde data'!CL421=0,\"\",'Gefilterde data'!CL421)","v":5.1},{"$f":"IF('Gefilterde data'!DX421=0,\"\",'Gefilterde data'!DX421)","v":52.5},null,{"$f":"IF('Gefilterde data'!DZ421=0,\"\",'Gefilterde data'!DZ421)","v":5},{"$f":"IF('Gefilterde data'!DW421=0,\"\",'Gefilterde data'!DW421)","v":{"v":3093,"d":"3,093"}},{"$f":"IF('Gefilterde data'!I421=0,\"\",'Gefilterde data'!I421)","v":600},{"$f":"IF('Gefilterde data'!DI421=0,\"\",'Gefilterde data'!DI421)","v":0.5},{"$f":"IF('Gefilterde data'!EA421=0,\"\",'Gefilterde data'!EA421)","v":{"v":8.333333333333332,"d":"8"}},{"$f":"IF('Gefilterde data'!EA421=0,\"\",'Gefilterde data'!EB421)","v":{"v":22.5,"d":"23"}}]
[null,{"$f":"IF('Gefilterde data'!C422=0,\"\",'Gefilterde data'!C422)","v":"Markengouw-Midden"},{"$f":"IF(B435=\"\",\"\",IF(LEFT(D435,2)=\"BU\",'Gefilterde data'!G422,\"-\"))","v":"Waterlandpleinbuurt"},{"$f":"IF('Gefilterde data'!C422=0,\"\",'Gefilterde data'!A422)","v":"BU0363NJ02"},{"v":1.226974685203189,"d":"1.23"},{"v":2.4735489486323514,"d":"2.47"},{"$f":"IF('Gefilterde data'!CL422=0,\"\",'Gefilterde data'!CL422)","v":16},{"$f":"IF('Gefilterde data'!DX422=0,\"\",'Gefilterde data'!DX422)","v":{"v":76.83823529411765,"d":"76.8"}},null,{"$f":"IF('Gefilterde data'!DZ422=0,\"\",'Gefilterde data'!DZ422)","v":{"v":1.2254901960784315,"d":"1"}},{"$f":"IF('Gefilterde data'!DW422=0,\"\",'Gefilterde data'!DW422)","v":{"v":2502,"d":"2,502"}},{"$f":"IF('Gefilterde data'!I422=0,\"\",'Gefilterde data'!I422)","v":{"v":4080,"d":"4,080"}},{"$f":"IF('Gefilterde data'!DI422=0,\"\",'Gefilterde data'!DI422)","v":0.7},{"$f":"IF('Gefilterde data'!EA422=0,\"\",'Gefilterde data'!EA422)","v":{"v":25.49019607843137,"d":"25"}},{"$f":"IF('Gefilterde data'!EA422=0,\"\",'Gefilterde data'!EB422)","v":{"v":6.985294117647059,"d":"7"}}]
[null,{"$f":"IF('Gefilterde data'!C423=0,\"\",'Gefilterde data'!C423)","v":"Markengouw-Zuid"},{"$f":"IF(B436=\"\",\"\",IF(LEFT(D436,2)=\"BU\",'Gefilterde data'!G423,\"-\"))","v":"Waterlandpleinbuurt"},{"$f":"IF('Gefilterde data'!C423=0,\"\",'Gefilterde data'!A423)","v":"BU0363NJ03"},{"v":1.274266974768777,"d":"1.27"},{"v":2.568888970349266,"d":"2.57"},{"$f":"IF('Gefilterde data'!CL423=0,\"\",'Gefilterde data'!CL423)","v":17.5},{"$f":"IF('Gefilterde data'!DX423=0,\"\",'Gefilterde data'!DX423)","v":{"v":76.45788336933045,"d":"76.5"}},null,{"$f":"IF('Gefilterde data'!DZ423=0,\"\",'Gefilterde data'!DZ423)","v":{"v":2.159827213822894,"d":"2"}},{"$f":"IF('Gefilterde data'!DW423=0,\"\",'Gefilterde data'!DW423)","v":{"v":1776,"d":"1,776"}},{"$f":"IF('Gefilterde data'!I423=0,\"\",'Gefilterde data'!I423)","v":{"v":2315,"d":"2,315"}},{"$f":"IF('Gefilterde data'!DI423=0,\"\",'Gefilterde data'!DI423)","v":0.7},{"$f":"IF('Gefilterde data'!EA423=0,\"\",'Gefilterde data'!EA423)","v":{"v":28.94168466522678,"d":"29"}},{"$f":"IF('Gefilterde data'!EA423=0,\"\",'Gefilterde data'!EB423)","v":{"v":6.695464362850973,"d":"7"}}]
[null,{"$f":"IF('Gefilterde data'!C424=0,\"\",'Gefilterde data'!C424)","v":"Werengouw-Noord"},{"$f":"IF(B437=\"\",\"\",IF(LEFT(D437,2)=\"BU\",'Gefilterde data'!G424,\"-\"))","v":"Waterlandpleinbuurt"},{"$f":"IF('Gefilterde data'!C424=0,\"\",'Gefilterde data'!A424)","v":"BU0363NJ04"},{"v":0.6734217950854653,"d":"0.67"},{"v":1.357600766591133,"d":"1.36"},{"$f":"IF('Gefilterde data'!CL424=0,\"\",'Gefilterde data'!CL424)","v":7},{"$f":"IF('Gefilterde data'!DX424=0,\"\",'Gefilterde data'!DX424)","v":{"v":48.91304347826087,"d":"48.9"}},null,{"$f":"IF('Gefilterde data'!DZ424=0,\"\",'Gefilterde data'!DZ424)","v":{"v":2.1739130434782608,"d":"2"}},{"$f":"IF('Gefilterde data'!DW424=0,\"\",'Gefilterde data'!DW424)","v":{"v":3523,"d":"3,523"}},{"$f":"IF('Gefilterde data'!I424=0,\"\",'Gefilterde data'!I424)","v":460},{"$f":"IF('Gefilterde data'!DI424=0,\"\",'Gefilterde data'!DI424)","v":0.6},{"$f":"IF('Gefilterde data'!EA424=0,\"\",'Gefilterde data'!EA424)","v":{"v":7.608695652173914,"d":"8"}},{"$f":"IF('Gefilterde data'!EA424=0,\"\",'Gefilterde data'!EB424)","v":{"v":31.521739130434785,"d":"32"}}]
[null,{"$f":"IF('Gefilterde data'!C425=0,\"\",'Gefilterde data'!C425)","v":"Werengouw-Midden"},{"$f":"IF(B438=\"\",\"\",IF(LEFT(D438,2)=\"BU\",'Gefilterde data'!G425,\"-\"))","v":"Waterlandpleinbuurt"},{"$f":"IF('Gefilterde data'!C425=0,\"\",'Gefilterde data'!A425)","v":"BU0363NJ05"},{"v":1.2675504017726702,"d":"1.27"},{"v":2.5553485344516984,"d":"2.56"},{"$f":"IF('Gefilterde data'!CL425=0,\"\",'Gefilterde data'!CL425)","v":19},{"$f":"IF('Gefilterde data'!DX425=0,\"\",'Gefilterde data'!DX425)","v":{"v":70.03058103975535,"d":"70.0"}},null,{"$f":"IF('Gefilterde data'!DZ425=0,\"\",'Gefilterde data'!DZ425)","v":{"v":2.038735983690112,"d":"2"}},{"$f":"IF('Gefilterde data'!DW425=0,\"\",'Gefilterde data'!DW425)","v":{"v":3054,"d":"3,054"}},{"$f":"IF('Gefilterde data'!I425=0,\"\",'Gefilterde data'!I425)","v":{"v":4905,"d":"4,905"}},{"$f":"IF('Gefilterde data'!DI425=0,\"\",'Gefilterde data'!DI425)","v":0.5},{"$f":"IF('Gefilterde data'!EA425=0,\"\",'Gefilterde data'!EA425)","v":{"v":16.207951070336392,"d":"16"}},{"$f":"IF('Gefilterde data'!EA425=0,\"\",'Gefilterde data'!EB425)","v":{"v":13.557594291539246,"d":"14"}}]
[null,{"$f":"IF('Gefilterde data'!C426=0,\"\",'Gefilterde data'!C426)","v":"Werengouw-Zuid"},{"$f":"IF(B439=\"\",\"\",IF(LEFT(D439,2)=\"BU\",'Gefilterde data'!G426,\"-\"))","v":"Waterlandpleinbuurt"},{"$f":"IF('Gefilterde data'!C426=0,\"\",'Gefilterde data'!A426)","v":"BU0363NJ06"},{"v":1.27195820474574,"d":"1.27"},{"v":2.5642345502279813,"d":"2.56"},{"$f":"IF('Gefilterde data'!CL426=0,\"\",'Gefilterde data'!CL426)","v":19.6},{"$f":"IF('Gefilterde data'!DX426=0,\"\",'Gefilterde data'!DX426)","v":{"v":68.25396825396825,"d":"68.3"}},null,{"$f":"IF('Gefilterde data'!DZ426=0,\"\",'Gefilterde data'!DZ426)","v":{"v":1.9047619047619049,"d":"2"}},{"$f":"IF('Gefilterde data'!DW426=0,\"\",'Gefilterde data'!DW426)","v":{"v":2200,"d":"2,200"}},{"$f":"IF('Gefilterde data'!I426=0,\"\",'Gefilterde data'!I426)","v":{"v":1575,"d":"1,575"}},{"$f":"IF('Gefilterde data'!DI426=0,\"\",'Gefilterde data'!DI426)","v":0.8},{"$f":"IF('Gefilterde data'!EA426=0,\"\",'Gefilterde data'!EA426)","v":{"v":23.809523809523807,"d":"24"}},{"$f":"IF('Gefilterde data'!EA426=0,\"\",'Gefilterde data'!EB426)","v":{"v":13.333333333333334,"d":"13"}}]
[null,{"$f":"IF('Gefilterde data'!C427=0,\"\",'Gefilterde data'!C427)","v":"Bloemenbuurt-Noord"},{"$f":"IF(B440=\"\",\"\",IF(LEFT(D440,2)=\"BU\",'Gefilterde data'!G427,\"-\"))","v":"Volewijck"},{"$f":"IF('Gefilterde data'!C427=0,\"\",'Gefilterde data'!A427)","v":"BU0363NK01"},{"v":1.0035514110930135,"d":"1.00"},{"v":2.023133458044049,"d":"2.02"},{"$f":"IF('Gefilterde data'!CL427=0,\"\",'Gefilterde data'!CL427)","v":18.3},{"$f":"IF('Gefilterde data'!DX427=0,\"\",'Gefilterde data'!DX427)","v":{"v":43.121149897330596,"d":"43.1"}},null,{"$f":"IF('Gefilterde data'!DZ427=0,\"\",'Gefilterde data'!DZ427)","v":{"v":0.8213552361396305,"d":"1"}},{"$f":"IF('Gefilterde data'!DW427=0,\"\",'Gefilterde data'!DW427)","v":{"v":3280,"d":"3,280"}},{"$f":"IF('Gefilterde data'!I427=0,\"\",'Gefilterde data'!I427)","v":{"v":2435,"d":"2,435"}},{"$f":"IF('Gefilterde data'!DI427=0,\"\",'Gefilterde data'!DI427)","v":0.6},{"$f":"IF('Gefilterde data'!EA427=0,\"\",'Gefilterde data'!EA427)","v":{"v":16.427104722792606,"d":"16"}},{"$f":"IF('Gefilterde data'!EA427=0,\"\",'Gefilterde data'!EB427)","v":{"v":17.248459958932237,"d":"17"}}]
[null,{"$f":"IF('Gefilterde data'!C428=0,\"\",'Gefilterde data'!C428)","v":"Bloemenbuurt-Zuid"},{"$f":"IF(B441=\"\",\"\",IF(LEFT(D441,2)=\"BU\",'Gefilterde data'!G428,\"-\"))","v":"Volewijck"},{"$f":"IF('Gefilterde data'!C428=0,\"\",'Gefilterde data'!A428)","v":"BU0363NK02"},{"v":1.4191720500951304,"d":"1.42"},{"v":2.861013821047092,"d":"2.86"},{"$f":"IF('Gefilterde data'!CL428=0,\"\",'Gefilterde data'!CL428)","v":27.6},{"$f":"IF('Gefilterde data'!DX428=0,\"\",'Gefilterde data'!DX428)","v":{"v":54.46808510638298,"d":"54.5"}},null,{"$f":"IF('Gefilterde data'!DZ428=0,\"\",'Gefilterde data'!DZ428)","v":{"v":1.702127659574468,"d":"2"}},{"$f":"IF('Gefilterde data'!DW428=0,\"\",'Gefilterde data'!DW428)","v":{"v":3325,"d":"3,325"}},{"$f":"IF('Gefilterde data'!I428=0,\"\",'Gefilterde data'!I428)","v":{"v":2350,"d":"2,350"}},{"$f":"IF('Gefilterde data'!DI428=0,\"\",'Gefilterde data'!DI428)","v":0.6},{"$f":"IF('Gefilterde data'!EA428=0,\"\",'Gefilterde data'!EA428)","v":{"v":17.659574468085108,"d":"18"}},{"$f":"IF('Gefilterde data'!EA428=0,\"\",'Gefilterde data'!EB428)","v":{"v":15.74468085106383,"d":"16"}}]
[null,{"$f":"IF('Gefilterde data'!C429=0,\"\",'Gefilterde data'!C429)","v":"Van der Pekbuurt"},{"$f":"IF(B442=\"\",\"\",IF(LEFT(D442,2)=\"BU\",'Gefilterde data'!G429,\"-\"))","v":"Volewijck"},{"$f":"IF('Gefilterde data'!C429=0,\"\",'Gefilterde data'!A429)","v":"BU0363NK03"},{"v":1.4921599257021068,"d":"1.49"},{"v":3.0081554737215703,"d":"3.01"},{"$f":"IF('Gefilterde data'!CL429=0,\"\",'Gefilterde data'!CL429)","v":27.9},{"$f":"IF('Gefilterde data'!DX429=0,\"\",'Gefilterde data'!DX429)","v":{"v":61.50490730643402,"d":"61.5"}},null,{"$f":"IF('Gefilterde data'!DZ429=0,\"\",'Gefilterde data'!DZ429)","v":{"v":1.9629225736095965,"d":"2"}},{"$f":"IF('Gefilterde data'!DW429=0,\"\",'Gefilterde data'!DW429)","v":{"v":3475,"d":"3,475"}},{"$f":"IF('Gefilterde data'!I429=0,\"\",'Gefilterde data'!I429)","v":{"v":4585,"d":"4,585"}},{"$f":"IF('Gefilterde data'!DI429=0,\"\",'Gefilterde data'!DI429)","v":0.5},{"$f":"IF('Gefilterde data'!EA429=0,\"\",'Gefilterde data'!EA429)","v":{"v":15.485278080697928,"d":"15"}},{"$f":"IF('Gefilterde data'!EA429=0,\"\",'Gefilterde data'!EB429)","v":{"v":10.25081788440567,"d":"10"}}]
[null,{"$f":"IF('Gefilterde data'!C430=0,\"\",'Gefilterde data'!C430)","v":"Vogelbuurt-Noord"},{"$f":"IF(B443=\"\",\"\",IF(LEFT(D443,2)=\"BU\",'Gefilterde data'!G430,\"-\"))","v":"IJplein/Vogelbuurt"},{"$f":"IF('Gefilterde data'!C430=0,\"\",'Gefilterde data'!A430)","v":"BU0363NL01"},{"v":1.186645103968659,"d":"1.19"},{"v":2.3922455652255987,"d":"2.39"},{"$f":"IF('Gefilterde data'!CL430=0,\"\",'Gefilterde data'!CL430)","v":21.9},{"$f":"IF('Gefilterde data'!DX430=0,\"\",'Gefilterde data'!DX430)","v":{"v":50,"d":"50.0"}},null,{"$f":"IF('Gefilterde data'!DZ430=0,\"\",'Gefilterde data'!DZ430)","v":{"v":1.8181818181818181,"d":"2"}},{"$f":"IF('Gefilterde data'!DW430=0,\"\",'Gefilterde data'!DW430)","v":{"v":2747,"d":"2,747"}},{"$f":"IF('Gefilterde data'!I430=0,\"\",'Gefilterde data'!I430)","v":{"v":1100,"d":"1,100"}},{"$f":"IF('Gefilterde data'!DI430=0,\"\",'Gefilterde data'!DI430)","v":0.5},{"$f":"IF('Gefilterde data'!EA430=0,\"\",'Gefilterde data'!EA430)","v":{"v":15.909090909090908,"d":"16"}},{"$f":"IF('Gefilterde data'!EA430=0,\"\",'Gefilterde data'!EB430)","v":{"v":12.727272727272727,"d":"13"}}]
[null,{"$f":"IF('Gefilterde data'!C431=0,\"\",'Gefilterde data'!C431)","v":"Vliegenbos"},{"$f":"IF(B444=\"\",\"\",IF(LEFT(D444,2)=\"BU\",'Gefilterde data'!G431,\"-\"))","v":"IJplein/Vogelbuurt"},{"$f":"IF('Gefilterde data'!C431=0,\"\",'Gefilterde data'!A431)","v":"BU0363NL02"},"Ontbrekende waarde","Ontbrekende waarde",{"$f":"IF('Gefilterde data'!CL431=0,\"\",'Gefilterde data'!CL431)","v":"."},{"$f":"IF('Gefilterde data'!DX431=0,\"\",'Gefilterde data'!DX431)","v":{"v":29.411764705882355,"d":"29.4"}},null,{"$f":"IF('Gefilterde data'!DZ431=0,\"\",'Gefilterde data'!DZ431)","v":{"v":5.88235294117647,"d":"6"}},{"$f":"IF('Gefilterde data'!DW431=0,\"\",'Gefilterde data'!DW431)","v":{"v":2241,"d":"2,241"}},{"$f":"IF('Gefilterde data'!I431=0,\"\",'Gefilterde data'!I431)","v":170},{"$f":"IF('Gefilterde data'!DI431=0,\"\",'Gefilterde data'!DI431)","v":1.2},{"$f":"IF('Gefilterde data'!EA431=0,\"\",'Gefilterde data'!EA431)","v":{"v":14.705882352941178,"d":"15"}},{"$f":"IF('Gefilterde data'!EA431=0,\"\",'Gefilterde data'!EB431)","v":{"v":8.823529411764707,"d":"9"}}]
[null,{"$f":"IF('Gefilterde data'!C432=0,\"\",'Gefilterde data'!C432)","v":"Vogelbuurt-Zuid"},{"$f":"IF(B445=\"\",\"\",IF(LEFT(D445,2)=\"BU\",'Gefilterde data'!G432,\"-\"))","v":"IJplein/Vogelbuurt"},{"$f":"IF('Gefilterde data'!C432=0,\"\",'Gefilterde data'!A432)","v":"BU0363NL03"},{"v":1.412135758943062,"d":"1.41"},{"v":2.8468288416898466,"d":"2.85"},{"$f":"IF('Gefilterde data'!CL432=0,\"\",'Gefilterde data'!CL432)","v":25.1},{"$f":"IF('Gefilterde data'!DX432=0,\"\",'Gefilterde data'!DX432)","v":{"v":63.13912009512486,"d":"63.1"}},null,{"$f":"IF('Gefilterde data'!DZ432=0,\"\",'Gefilterde data'!DZ432)","v":{"v":2.3781212841854935,"d":"2"}},{"$f":"IF('Gefilterde data'!DW432=0,\"\",'Gefilterde data'!DW432)","v":{"v":3203,"d":"3,203"}},{"$f":"IF('Gefilterde data'!I432=0,\"\",'Gefilterde data'!I432)","v":{"v":4205,"d":"4,205"}},{"$f":"IF('Gefilterde data'!DI432=0,\"\",'Gefilterde data'!DI432)","v":0.5},{"$f":"IF('Gefilterde data'!EA432=0,\"\",'Gefilterde data'!EA432)","v":{"v":14.625445897740786,"d":"15"}},{"$f":"IF('Gefilterde data'!EA432=0,\"\",'Gefilterde data'!EB432)","v":{"v":12.128418549346016,"d":"12"}}]
[null,{"$f":"IF('Gefilterde data'!C433=0,\"\",'Gefilterde data'!C433)","v":"IJplein e.o."},{"$f":"IF(B446=\"\",\"\",IF(LEFT(D446,2)=\"BU\",'Gefilterde data'!G433,\"-\"))","v":"IJplein/Vogelbuurt"},{"$f":"IF('Gefilterde data'!C433=0,\"\",'Gefilterde data'!A433)","v":"BU0363NL04"},{"v":1.428060328482509,"d":"1.43"},{"v":2.8789323583448776,"d":"2.88"},{"$f":"IF('Gefilterde data'!CL433=0,\"\",'Gefilterde data'!CL433)","v":25.6},{"$f":"IF('Gefilterde data'!DX433=0,\"\",'Gefilterde data'!DX433)","v":{"v":63.030303030303024,"d":"63.0"}},null,{"$f":"IF('Gefilterde data'!DZ433=0,\"\",'Gefilterde data'!DZ433)","v":{"v":1.6161616161616161,"d":"2"}},{"$f":"IF('Gefilterde data'!DW433=0,\"\",'Gefilterde data'!DW433)","v":{"v":3088,"d":"3,088"}},{"$f":"IF('Gefilterde data'!I433=0,\"\",'Gefilterde data'!I433)","v":{"v":2475,"d":"2,475"}},{"$f":"IF('Gefilterde data'!DI433=0,\"\",'Gefilterde data'!DI433)","v":0.5},{"$f":"IF('Gefilterde data'!EA433=0,\"\",'Gefilterde data'!EA433)","v":{"v":12.121212121212121,"d":"12"}},{"$f":"IF('Gefilterde data'!EA433=0,\"\",'Gefilterde data'!EB433)","v":{"v":16.363636363636363,"d":"16"}}]
[null,{"$f":"IF('Gefilterde data'!C434=0,\"\",'Gefilterde data'!C434)","v":"Blauwe Zand"},{"$f":"IF(B447=\"\",\"\",IF(LEFT(D447,2)=\"BU\",'Gefilterde data'!G434,\"-\"))","v":"Tuindorp Buiksloot"},{"$f":"IF('Gefilterde data'!C434=0,\"\",'Gefilterde data'!A434)","v":"BU0363NM01"},{"v":1.0442578230113984,"d":"1.04"},{"v":2.105196522276415,"d":"2.11"},{"$f":"IF('Gefilterde data'!CL434=0,\"\",'Gefilterde data'!CL434)","v":20.8},{"$f":"IF('Gefilterde data'!DX434=0,\"\",'Gefilterde data'!DX434)","v":{"v":38.21989528795812,"d":"38.2"}},null,{"$f":"IF('Gefilterde data'!DZ434=0,\"\",'Gefilterde data'!DZ434)","v":{"v":0.5235602094240838,"d":"1"}},{"$f":"IF('Gefilterde data'!DW434=0,\"\",'Gefilterde data'!DW434)","v":{"v":2908,"d":"2,908"}},{"$f":"IF('Gefilterde data'!I434=0,\"\",'Gefilterde data'!I434)","v":{"v":1910,"d":"1,910"}},{"$f":"IF('Gefilterde data'!DI434=0,\"\",'Gefilterde data'!DI434)","v":0.7},{"$f":"IF('Gefilterde data'!EA434=0,\"\",'Gefilterde data'!EA434)","v":{"v":16.49214659685864,"d":"16"}},{"$f":"IF('Gefilterde data'!EA434=0,\"\",'Gefilterde data'!EB434)","v":{"v":19.10994764397906,"d":"19"}}]
[null,{"$f":"IF('Gefilterde data'!C435=0,\"\",'Gefilterde data'!C435)","v":"Tuindorp Nieuwendam-West"},{"$f":"IF(B448=\"\",\"\",IF(LEFT(D448,2)=\"BU\",'Gefilterde data'!G435,\"-\"))","v":"Tuindorp Nieuwendam"},{"$f":"IF('Gefilterde data'!C435=0,\"\",'Gefilterde data'!A435)","v":"BU0363NN01"},{"v":0.8182471694719327,"d":"0.82"},{"v":1.6495649422738685,"d":"1.65"},{"$f":"IF('Gefilterde data'!CL435=0,\"\",'Gefilterde data'!CL435)","v":14.9},{"$f":"IF('Gefilterde data'!DX435=0,\"\",'Gefilterde data'!DX435)","v":{"v":35.23809523809524,"d":"35.2"}},null,{"$f":"IF('Gefilterde data'!DZ435=0,\"\",'Gefilterde data'!DZ435)","v":{"v":0.9523809523809524,"d":"1"}},{"$f":"IF('Gefilterde data'!DW435=0,\"\",'Gefilterde data'!DW435)","v":{"v":3458,"d":"3,458"}},{"$f":"IF('Gefilterde data'!I435=0,\"\",'Gefilterde data'!I435)","v":{"v":1050,"d":"1,050"}},{"$f":"IF('Gefilterde data'!DI435=0,\"\",'Gefilterde data'!DI435)","v":0.7},{"$f":"IF('Gefilterde data'!EA435=0,\"\",'Gefilterde data'!EA435)","v":{"v":14.285714285714285,"d":"14"}},{"$f":"IF('Gefilterde data'!EA435=0,\"\",'Gefilterde data'!EB435)","v":{"v":28.57142857142857,"d":"29"}}]
[null,{"$f":"IF('Gefilterde data'!C436=0,\"\",'Gefilterde data'!C436)","v":"Tuindorp Nieuwendam-Oost"},{"$f":"IF(B449=\"\",\"\",IF(LEFT(D449,2)=\"BU\",'Gefilterde data'!G436,\"-\"))","v":"Tuindorp Nieuwendam"},{"$f":"IF('Gefilterde data'!C436=0,\"\",'Gefilterde data'!A436)","v":"BU0363NN02"},{"v":0.9086032909919788,"d":"0.91"},{"v":1.8317205255012396,"d":"1.83"},{"$f":"IF('Gefilterde data'!CL436=0,\"\",'Gefilterde data'!CL436)","v":19.5},{"$f":"IF('Gefilterde data'!DX436=0,\"\",'Gefilterde data'!DX436)","v":{"v":27.95031055900621,"d":"28.0"}},null,{"$f":"IF('Gefilterde data'!DZ436=0,\"\",'Gefilterde data'!DZ436)","v":{"v":1.2422360248447204,"d":"1"}},{"$f":"IF('Gefilterde data'!DW436=0,\"\",'Gefilterde data'!DW436)","v":{"v":2773,"d":"2,773"}},{"$f":"IF('Gefilterde data'!I436=0,\"\",'Gefilterde data'!I436)","v":{"v":2415,"d":"2,415"}},{"$f":"IF('Gefilterde data'!DI436=0,\"\",'Gefilterde data'!DI436)","v":0.7},{"$f":"IF('Gefilterde data'!EA436=0,\"\",'Gefilterde data'!EA436)","v":{"v":16.77018633540373,"d":"17"}},{"$f":"IF('Gefilterde data'!EA436=0,\"\",'Gefilterde data'!EB436)","v":{"v":20.910973084886127,"d":"21"}}]
[null,{"$f":"IF('Gefilterde data'!C437=0,\"\",'Gefilterde data'!C437)","v":"Hamerstraatkwartier-West"},{"$f":"IF(B450=\"\",\"\",IF(LEFT(D450,2)=\"BU\",'Gefilterde data'!G437,\"-\"))","v":"Noordelijke IJ-oevers-Oost"},{"$f":"IF('Gefilterde data'!C437=0,\"\",'Gefilterde data'!A437)","v":"BU0363NP01"},{"v":1.5113410423277132,"d":"1.51"},{"v":3.0468241043258,"d":"3.05"},{"$f":"IF('Gefilterde data'!CL437=0,\"\",'Gefilterde data'!CL437)","v":23},{"$f":"IF('Gefilterde data'!DX437=0,\"\",'Gefilterde data'!DX437)","v":{"v":82.1917808219178,"d":"82.2"}},null,{"$f":"IF('Gefilterde data'!DZ437=0,\"\",'Gefilterde data'!DZ437)","v":{"v":13.698630136986301,"d":"14"}},{"$f":"IF('Gefilterde data'!DW437=0,\"\",'Gefilterde data'!DW437)","v":{"v":2802,"d":"2,802"}},{"$f":"IF('Gefilterde data'!I437=0,\"\",'Gefilterde data'!I437)","v":365},{"$f":"IF('Gefilterde data'!DI437=0,\"\",'Gefilterde data'!DI437)","v":0.8},{"$f":"IF('Gefilterde data'!EA437=0,\"\",'Gefilterde data'!EA437)","v":{"v":5.47945205479452,"d":"5"}},{"$f":"IF('Gefilterde data'!EA437=0,\"\",'Gefilterde data'!EB437)","v":{"v":4.10958904109589,"d":"4"}}]
[null,{"$f":"IF('Gefilterde data'!C438=0,\"\",'Gefilterde data'!C438)","v":"Hamerstraatkwartier-Oost"},{"$f":"IF(B451=\"\",\"\",IF(LEFT(D451,2)=\"BU\",'Gefilterde data'!G438,\"-\"))","v":"Noordelijke IJ-oevers-Oost"},{"$f":"IF('Gefilterde data'!C438=0,\"\",'Gefilterde data'!A438)","v":"BU0363NP02"},"Ontbrekende waarde","Ontbrekende waarde",{"$f":"IF('Gefilterde data'!CL438=0,\"\",'Gefilterde data'!CL438)","v":"."},{"$f":"IF('Gefilterde data'!DX438=0,\"\",'Gefilterde data'!DX438)","v":{"v":50,"d":"50.0"}},null,{"$f":"IF('Gefilterde data'!DZ438=0,\"\",'Gefilterde data'!DZ438)","v":""},{"$f":"IF('Gefilterde data'!DW438=0,\"\",'Gefilterde data'!DW438)","v":{"v":2282,"d":"2,282"}},{"$f":"IF('Gefilterde data'!I438=0,\"\",'Gefilterde data'!I438)","v":10},{"$f":"IF('Gefilterde data'!DI438=0,\"\",'Gefilterde data'!DI438)","v":"."},{"$f":"IF('Gefilterde data'!EA438=0,\"\",'Gefilterde data'!EA438)","v":""},{"$f":"IF('Gefilterde data'!EA438=0,\"\",'Gefilterde data'!EB438)","v":""}]
[null,{"$f":"IF('Gefilterde data'!C439=0,\"\",'Gefilterde data'!C439)","v":"Bedrijventerrein Nieuwendammerdijk"},{"$f":"IF(B452=\"\",\"\",IF(LEFT(D452,2)=\"BU\",'Gefilterde data'!G439,\"-\"))","v":"Noordelijke IJ-oevers-Oost"},{"$f":"IF('Gefilterde data'!C439=0,\"\",'Gefilterde data'!A439)","v":"BU0363NP03"},"Ontbrekende waarde","Ontbrekende waarde",{"$f":"IF('Gefilterde data'!CL439=0,\"\",'Gefilterde data'!CL439)","v":"."},{"$f":"IF('Gefilterde data'!DX439=0,\"\",'Gefilterde data'!DX439)","v":{"v":40,"d":"40.0"}},null,{"$f":"IF('Gefilterde data'!DZ439=0,\"\",'Gefilterde data'!DZ439)","v":""},{"$f":"IF('Gefilterde data'!DW439=0,\"\",'Gefilterde data'!DW439)","v":{"v":1523,"d":"1,523"}},{"$f":"IF('Gefilterde data'!I439=0,\"\",'Gefilterde data'!I439)","v":25},{"$f":"IF('Gefilterde data'!DI439=0,\"\",'Gefilterde data'!DI439)","v":"."},{"$f":"IF('Gefilterde data'!EA439=0,\"\",'Gefilterde data'!EA439)","v":20},{"$f":"IF('Gefilterde data'!EA439=0,\"\",'Gefilterde data'!EB439)","v":0}]
[null,{"$f":"IF('Gefilterde data'!C440=0,\"\",'Gefilterde data'!C440)","v":"Noorderstrook-West"},{"$f":"IF(B453=\"\",\"\",IF(LEFT(D453,2)=\"BU\",'Gefilterde data'!G440,\"-\"))","v":"Waterland"},{"$f":"IF('Gefilterde data'!C440=0,\"\",'Gefilterde data'!A440)","v":"BU0363NQ01"},"Ontbrekende waarde","Ontbrekende waarde",{"$f":"IF('Gefilterde data'!CL440=0,\"\",'Gefilterde data'!CL440)","v":"."},{"$f":"IF('Gefilterde data'!DX440=0,\"\",'Gefilterde data'!DX440)","v":{"v":64.28571428571429,"d":"64.3"}},null,{"$f":"IF('Gefilterde data'!DZ440=0,\"\",'Gefilterde data'!DZ440)","v":""},{"$f":"IF('Gefilterde data'!DW440=0,\"\",'Gefilterde data'!DW440)","v":963},{"$f":"IF('Gefilterde data'!I440=0,\"\",'Gefilterde data'!I440)","v":70},{"$f":"IF('Gefilterde data'!DI440=0,\"\",'Gefilterde data'!DI440)","v":0.6},{"$f":"IF('Gefilterde data'!EA440=0,\"\",'Gefilterde data'!EA440)","v":{"v":7.142857142857142,"d":"7"}},{"$f":"IF('Gefilterde data'!EA440=0,\"\",'Gefilterde data'!EB440)","v":{"v":7.142857142857142,"d":"7"}}]
[null,{"$f":"IF('Gefilterde data'!C441=0,\"\",'Gefilterde data'!C441)","v":"Noorderstrook-Oost"},{"$f":"IF(B454=\"\",\"\",IF(LEFT(D454,2)=\"BU\",'Gefilterde data'!G441,\"-\"))","v":"Waterland"},{"$f":"IF('Gefilterde data'!C441=0,\"\",'Gefilterde data'!A441)","v":"BU0363NQ02"},"Ontbrekende waarde","Ontbrekende waarde",{"$f":"IF('Gefilterde data'!CL441=0,\"\",'Gefilterde data'!CL441)","v":"."},{"$f":"IF('Gefilterde data'!DX441=0,\"\",'Gefilterde data'!DX441)","v":""},null,{"$f":"IF('Gefilterde data'!DZ441=0,\"\",'Gefilterde data'!DZ441)","v":""},{"$f":"IF('Gefilterde data'!DW441=0,\"\",'Gefilterde data'!DW441)","v":{"v":1855,"d":"1,855"}},{"$f":"IF('Gefilterde data'!I441=0,\"\",'Gefilterde data'!I441)","v":5},{"$f":"IF('Gefilterde data'!DI441=0,\"\",'Gefilterde data'!DI441)","v":"."},{"$f":"IF('Gefilterde data'!EA441=0,\"\",'Gefilterde data'!EA441)","v":""},{"$f":"IF('Gefilterde data'!EA441=0,\"\",'Gefilterde data'!EB441)","v":""}]
[null,{"$f":"IF('Gefilterde data'!C442=0,\"\",'Gefilterde data'!C442)","v":"Zunderdorp"},{"$f":"IF(B455=\"\",\"\",IF(LEFT(D455,2)=\"BU\",'Gefilterde data'!G442,\"-\"))","v":"Waterland"},{"$f":"IF('Gefilterde data'!C442=0,\"\",'Gefilterde data'!A442)","v":"BU0363NQ03"},{"v":0.48253321365667995,"d":"0.48"},{"v":0.9727743674866556,"d":"0.97"},{"$f":"IF('Gefilterde data'!CL442=0,\"\",'Gefilterde data'!CL442)","v":10.7},{"$f":"IF('Gefilterde data'!DX442=0,\"\",'Gefilterde data'!DX442)","v":{"v":13.541666666666666,"d":"13.5"}},null,{"$f":"IF('Gefilterde data'!DZ442=0,\"\",'Gefilterde data'!DZ442)","v":{"v":2.083333333333333,"d":"2"}},{"$f":"IF('Gefilterde data'!DW442=0,\"\",'Gefilterde data'!DW442)","v":79},{"$f":"IF('Gefilterde data'!I442=0,\"\",'Gefilterde data'!I442)","v":480},{"$f":"IF('Gefilterde data'!DI442=0,\"\",'Gefilterde data'!DI442)","v":1.2},{"$f":"IF('Gefilterde data'!EA442=0,\"\",'Gefilterde data'!EA442)","v":{"v":14.583333333333334,"d":"15"}},{"$f":"IF('Gefilterde data'!EA442=0,\"\",'Gefilterde data'!EB442)","v":{"v":22.916666666666664,"d":"23"}}]
[null,{"$f":"IF('Gefilterde data'!C443=0,\"\",'Gefilterde data'!C443)","v":"Schellingwoude-West"},{"$f":"IF(B456=\"\",\"\",IF(LEFT(D456,2)=\"BU\",'Gefilterde data'!G443,\"-\"))","v":"Waterland"},{"$f":"IF('Gefilterde data'!C443=0,\"\",'Gefilterde data'!A443)","v":"BU0363NQ04"},"Ontbrekende waarde","Ontbrekende waarde",{"$f":"IF('Gefilterde data'!CL443=0,\"\",'Gefilterde data'!CL443)","v":"."},{"$f":"IF('Gefilterde data'!DX443=0,\"\",'Gefilterde data'!DX443)","v":{"v":23.076923076923077,"d":"23.1"}},null,{"$f":"IF('Gefilterde data'!DZ443=0,\"\",'Gefilterde data'!DZ443)","v":""},{"$f":"IF('Gefilterde data'!DW443=0,\"\",'Gefilterde data'!DW443)","v":978},{"$f":"IF('Gefilterde data'!I443=0,\"\",'Gefilterde data'!I443)","v":65},{"$f":"IF('Gefilterde data'!DI443=0,\"\",'Gefilterde data'!DI443)","v":"."},{"$f":"IF('Gefilterde data'!EA443=0,\"\",'Gefilterde data'!EA443)","v":{"v":15.384615384615385,"d":"15"}},{"$f":"IF('Gefilterde data'!EA443=0,\"\",'Gefilterde data'!EB443)","v":{"v":23.076923076923077,"d":"23"}}]
[null,{"$f":"IF('Gefilterde data'!C444=0,\"\",'Gefilterde data'!C444)","v":"Schellingwoude-Oost"},{"$f":"IF(B457=\"\",\"\",IF(LEFT(D457,2)=\"BU\",'Gefilterde data'!G444,\"-\"))","v":"Waterland"},{"$f":"IF('Gefilterde data'!C444=0,\"\",'Gefilterde data'!A444)","v":"BU0363NQ05"},{"v":0.3671145236910602,"d":"0.37"},{"v":0.7400933002568912,"d":"0.74"},{"$f":"IF('Gefilterde data'!CL444=0,\"\",'Gefilterde data'!CL444)","v":5.2},{"$f":"IF('Gefilterde data'!DX444=0,\"\",'Gefilterde data'!DX444)","v":{"v":21.428571428571427,"d":"21.4"}},null,{"$f":"IF('Gefilterde data'!DZ444=0,\"\",'Gefilterde data'!DZ444)","v":{"v":1.5873015873015872,"d":"2"}},{"$f":"IF('Gefilterde data'!DW444=0,\"\",'Gefilterde data'!DW444)","v":{"v":1114,"d":"1,114"}},{"$f":"IF('Gefilterde data'!I444=0,\"\",'Gefilterde data'!I444)","v":630},{"$f":"IF('Gefilterde data'!DI444=0,\"\",'Gefilterde data'!DI444)","v":{"v":1,"d":"1.0"}},{"$f":"IF('Gefilterde data'!EA444=0,\"\",'Gefilterde data'!EA444)","v":{"v":20.634920634920633,"d":"21"}},{"$f":"IF('Gefilterde data'!EA444=0,\"\",'Gefilterde data'!EB444)","v":{"v":17.46031746031746,"d":"17"}}]
[null,{"$f":"IF('Gefilterde data'!C445=0,\"\",'Gefilterde data'!C445)","v":"Schellingwoude-Noord"},{"$f":"IF(B458=\"\",\"\",IF(LEFT(D458,2)=\"BU\",'Gefilterde data'!G445,\"-\"))","v":"Waterland"},{"$f":"IF('Gefilterde data'!C445=0,\"\",'Gefilterde data'!A445)","v":"BU0363NQ06"},"Ontbrekende waarde","Ontbrekende waarde",{"$f":"IF('Gefilterde data'!CL445=0,\"\",'Gefilterde data'!CL445)","v":"."},{"$f":"IF('Gefilterde data'!DX445=0,\"\",'Gefilterde data'!DX445)","v":""},null,{"$f":"IF('Gefilterde data'!DZ445=0,\"\",'Gefilterde data'!DZ445)","v":""},{"$f":"IF('Gefilterde data'!DW445=0,\"\",'Gefilterde data'!DW445)","v":392},{"$f":"IF('Gefilterde data'!I445=0,\"\",'Gefilterde data'!I445)","v":5},{"$f":"IF('Gefilterde data'!DI445=0,\"\",'Gefilterde data'!DI445)","v":"."},{"$f":"IF('Gefilterde data'!EA445=0,\"\",'Gefilterde data'!EA445)","v":""},{"$f":"IF('Gefilterde data'!EA445=0,\"\",'Gefilterde data'!EB445)","v":""}]
[null,{"$f":"IF('Gefilterde data'!C446=0,\"\",'Gefilterde data'!C446)","v":"Zwarte Gouw"},{"$f":"IF(B459=\"\",\"\",IF(LEFT(D459,2)=\"BU\",'Gefilterde data'!G446,\"-\"))","v":"Waterland"},{"$f":"IF('Gefilterde data'!C446=0,\"\",'Gefilterde data'!A446)","v":"BU0363NQ07"},"Ontbrekende waarde","Ontbrekende waarde",{"$f":"IF('Gefilterde data'!CL446=0,\"\",'Gefilterde data'!CL446)","v":"."},{"$f":"IF('Gefilterde data'!DX446=0,\"\",'Gefilterde data'!DX446)","v":{"v":20,"d":"20.0"}},null,{"$f":"IF('Gefilterde data'!DZ446=0,\"\",'Gefilterde data'!DZ446)","v":""},{"$f":"IF('Gefilterde data'!DW446=0,\"\",'Gefilterde data'!DW446)","v":40},{"$f":"IF('Gefilterde data'!I446=0,\"\",'Gefilterde data'!I446)","v":25},{"$f":"IF('Gefilterde data'!DI446=0,\"\",'Gefilterde data'!DI446)","v":"."},{"$f":"IF('Gefilterde data'!EA446=0,\"\",'Gefilterde data'!EA446)","v":""},{"$f":"IF('Gefilterde data'!EA446=0,\"\",'Gefilterde data'!EB446)","v":""}]
[null,{"$f":"IF('Gefilterde data'!C447=0,\"\",'Gefilterde data'!C447)","v":"Holysloot"},{"$f":"IF(B460=\"\",\"\",IF(LEFT(D460,2)=\"BU\",'Gefilterde data'!G447,\"-\"))","v":"Waterland"},{"$f":"IF('Gefilterde data'!C447=0,\"\",'Gefilterde data'!A447)","v":"BU0363NQ08"},{"v":0.25714813764392874,"d":"0.26"},{"v":0.518403935454115,"d":"0.52"},{"$f":"IF('Gefilterde data'!CL447=0,\"\",'Gefilterde data'!CL447)","v":3.9},{"$f":"IF('Gefilterde data'!DX447=0,\"\",'Gefilterde data'!DX447)","v":{"v":14.035087719298245,"d":"14.0"}},null,{"$f":"IF('Gefilterde data'!DZ447=0,\"\",'Gefilterde data'!DZ447)","v":""},{"$f":"IF('Gefilterde data'!DW447=0,\"\",'Gefilterde data'!DW447)","v":30},{"$f":"IF('Gefilterde data'!I447=0,\"\",'Gefilterde data'!I447)","v":285},{"$f":"IF('Gefilterde data'!DI447=0,\"\",'Gefilterde data'!DI447)","v":1.5},{"$f":"IF('Gefilterde data'!EA447=0,\"\",'Gefilterde data'!EA447)","v":{"v":17.543859649122805,"d":"18"}},{"$f":"IF('Gefilterde data'!EA447=0,\"\",'Gefilterde data'!EB447)","v":{"v":21.052631578947366,"d":"21"}}]
[null,{"$f":"IF('Gefilterde data'!C448=0,\"\",'Gefilterde data'!C448)","v":"Ransdorp"},{"$f":"IF(B461=\"\",\"\",IF(LEFT(D461,2)=\"BU\",'Gefilterde data'!G448,\"-\"))","v":"Waterland"},{"$f":"IF('Gefilterde data'!C448=0,\"\",'Gefilterde data'!A448)","v":"BU0363NQ09"},{"v":0.3038262698317454,"d":"0.30"},{"v":0.6125058319232954,"d":"0.61"},{"$f":"IF('Gefilterde data'!CL448=0,\"\",'Gefilterde data'!CL448)","v":6.1},{"$f":"IF('Gefilterde data'!DX448=0,\"\",'Gefilterde data'!DX448)","v":{"v":10.9375,"d":"10.9"}},null,{"$f":"IF('Gefilterde data'!DZ448=0,\"\",'Gefilterde data'!DZ448)","v":{"v":3.125,"d":"3"}},{"$f":"IF('Gefilterde data'!DW448=0,\"\",'Gefilterde data'!DW448)","v":53},{"$f":"IF('Gefilterde data'!I448=0,\"\",'Gefilterde data'!I448)","v":320},{"$f":"IF('Gefilterde data'!DI448=0,\"\",'Gefilterde data'!DI448)","v":1.4},{"$f":"IF('Gefilterde data'!EA448=0,\"\",'Gefilterde data'!EA448)","v":{"v":17.1875,"d":"17"}},{"$f":"IF('Gefilterde data'!EA448=0,\"\",'Gefilterde data'!EB448)","v":25}]
[null,{"$f":"IF('Gefilterde data'!C449=0,\"\",'Gefilterde data'!C449)","v":"Durgerdam"},{"$f":"IF(B462=\"\",\"\",IF(LEFT(D462,2)=\"BU\",'Gefilterde data'!G449,\"-\"))","v":"Waterland"},{"$f":"IF('Gefilterde data'!C449=0,\"\",'Gefilterde data'!A449)","v":"BU0363NQ10"},{"v":0.2292051045587029,"d":"0.23"},{"v":0.4620715099011679,"d":"0.46"},{"$f":"IF('Gefilterde data'!CL449=0,\"\",'Gefilterde data'!CL449)","v":2},{"$f":"IF('Gefilterde data'!DX449=0,\"\",'Gefilterde data'!DX449)","v":{"v":18.095238095238095,"d":"18.1"}},null,{"$f":"IF('Gefilterde data'!DZ449=0,\"\",'Gefilterde data'!DZ449)","v":{"v":3.8095238095238098,"d":"4"}},{"$f":"IF('Gefilterde data'!DW449=0,\"\",'Gefilterde data'!DW449)","v":130},{"$f":"IF('Gefilterde data'!I449=0,\"\",'Gefilterde data'!I449)","v":525},{"$f":"IF('Gefilterde data'!DI449=0,\"\",'Gefilterde data'!DI449)","v":1.2},{"$f":"IF('Gefilterde data'!EA449=0,\"\",'Gefilterde data'!EA449)","v":{"v":19.047619047619047,"d":"19"}},{"$f":"IF('Gefilterde data'!EA449=0,\"\",'Gefilterde data'!EB449)","v":{"v":18.095238095238095,"d":"18"}}]
[null,{"$f":"IF('Gefilterde data'!C450=0,\"\",'Gefilterde data'!C450)","v":"Landelijk gebied Driemond"},{"$f":"IF(B463=\"\",\"\",IF(LEFT(D463,2)=\"BU\",'Gefilterde data'!G450,\"-\"))","v":"Driemond"},{"$f":"IF('Gefilterde data'!C450=0,\"\",'Gefilterde data'!A450)","v":"BU0363SA01"},"Ontbrekende waarde","Ontbrekende waarde",{"$f":"IF('Gefilterde data'!CL450=0,\"\",'Gefilterde data'!CL450)","v":"."},{"$f":"IF('Gefilterde data'!DX450=0,\"\",'Gefilterde data'!DX450)","v":{"v":13.333333333333334,"d":"13.3"}},null,{"$f":"IF('Gefilterde data'!DZ450=0,\"\",'Gefilterde data'!DZ450)","v":""},{"$f":"IF('Gefilterde data'!DW450=0,\"\",'Gefilterde data'!DW450)","v":587},{"$f":"IF('Gefilterde data'!I450=0,\"\",'Gefilterde data'!I450)","v":150},{"$f":"IF('Gefilterde data'!DI450=0,\"\",'Gefilterde data'!DI450)","v":"."},{"$f":"IF('Gefilterde data'!EA450=0,\"\",'Gefilterde data'!EA450)","v":{"v":26.666666666666668,"d":"27"}},{"$f":"IF('Gefilterde data'!EA450=0,\"\",'Gefilterde data'!EB450)","v":{"v":6.666666666666667,"d":"7"}}]
[null,{"$f":"IF('Gefilterde data'!C451=0,\"\",'Gefilterde data'!C451)","v":"Dorp Driemond"},{"$f":"IF(B464=\"\",\"\",IF(LEFT(D464,2)=\"BU\",'Gefilterde data'!G451,\"-\"))","v":"Driemond"},{"$f":"IF('Gefilterde data'!C451=0,\"\",'Gefilterde data'!A451)","v":"BU0363SA02"},{"v":0.4854364471875379,"d":"0.49"},{"v":0.9786272105277478,"d":"0.98"},{"$f":"IF('Gefilterde data'!CL451=0,\"\",'Gefilterde data'!CL451)","v":7.5},{"$f":"IF('Gefilterde data'!DX451=0,\"\",'Gefilterde data'!DX451)","v":{"v":25.97402597402597,"d":"26.0"}},null,{"$f":"IF('Gefilterde data'!DZ451=0,\"\",'Gefilterde data'!DZ451)","v":{"v":1.2987012987012987,"d":"1"}},{"$f":"IF('Gefilterde data'!DW451=0,\"\",'Gefilterde data'!DW451)","v":437},{"$f":"IF('Gefilterde data'!I451=0,\"\",'Gefilterde data'!I451)","v":{"v":1540,"d":"1,540"}},{"$f":"IF('Gefilterde data'!DI451=0,\"\",'Gefilterde data'!DI451)","v":1.1},{"$f":"IF('Gefilterde data'!EA451=0,\"\",'Gefilterde data'!EA451)","v":{"v":19.155844155844157,"d":"19"}},{"$f":"IF('Gefilterde data'!EA451=0,\"\",'Gefilterde data'!EB451)","v":{"v":17.532467532467532,"d":"18"}}]
[null,{"$f":"IF('Gefilterde data'!C452=0,\"\",'Gefilterde data'!C452)","v":"Weespersluis-Noord"},{"$f":"IF(B465=\"\",\"\",IF(LEFT(D465,2)=\"BU\",'Gefilterde data'!G452,\"-\"))","v":"Bloemendalerpolder"},{"$f":"IF('Gefilterde data'!C452=0,\"\",'Gefilterde data'!A452)","v":"BU0363SB01"},{"$f":"IF(G465=\"\",\"\",IF(OR(NOT(ISNUMBER(G465)),NOT(ISNUMBER(H465))),\"Ontbrekende waarde\",F465/F$1))","v":"Ontbrekende waarde"},{"$f":"IF(G465=\"\",\"\",IF(OR(NOT(ISNUMBER(G465)),NOT(ISNUMBER(H465))),\"Ontbrekende waarde\",((G465/AVERAGE(G$16:G$532)+H465/AVERAGE(H$16:H$532)))))","v":"Ontbrekende waarde"},{"$f":"IF('Gefilterde data'!CL452=0,\"\",'Gefilterde data'!CL452)","v":"."},{"$f":"IF('Gefilterde data'!DX452=0,\"\",'Gefilterde data'!DX452)","v":""},null,{"$f":"IF('Gefilterde data'!DZ452=0,\"\",'Gefilterde data'!DZ452)","v":""},{"$f":"IF('Gefilterde data'!DW452=0,\"\",'Gefilterde data'!DW452)","v":97},{"$f":"IF('Gefilterde data'!I452=0,\"\",'Gefilterde data'!I452)","v":5},{"$f":"IF('Gefilterde data'!DI452=0,\"\",'Gefilterde data'!DI452)","v":"."},{"$f":"IF('Gefilterde data'!EA452=0,\"\",'Gefilterde data'!EA452)","v":""},{"$f":"IF('Gefilterde data'!EA452=0,\"\",'Gefilterde data'!EB452)","v":""}]
[null,{"$f":"IF('Gefilterde data'!C453=0,\"\",'Gefilterde data'!C453)","v":"Waterrijk"},{"$f":"IF(B466=\"\",\"\",IF(LEFT(D466,2)=\"BU\",'Gefilterde data'!G453,\"-\"))","v":"Bloemendalerpolder"},{"$f":"IF('Gefilterde data'!C453=0,\"\",'Gefilterde data'!A453)","v":"BU0363SB02"},"Ontbrekende waarde","Ontbrekende waarde",{"$f":"IF('Gefilterde data'!CL453=0,\"\",'Gefilterde data'!CL453)","v":"."},{"$f":"IF('Gefilterde data'!DX453=0,\"\",'Gefilterde data'!DX453)","v":{"v":28.57142857142857,"d":"28.6"}},null,{"$f":"IF('Gefilterde data'!DZ453=0,\"\",'Gefilterde data'!DZ453)","v":""},{"$f":"IF('Gefilterde data'!DW453=0,\"\",'Gefilterde data'!DW453)","v":299},{"$f":"IF('Gefilterde data'!I453=0,\"\",'Gefilterde data'!I453)","v":105},{"$f":"IF('Gefilterde data'!DI453=0,\"\",'Gefilterde data'!DI453)","v":"."},{"$f":"IF('Gefilterde data'!EA453=0,\"\",'Gefilterde data'!EA453)","v":{"v":33.33333333333333,"d":"33"}},{"$f":"IF('Gefilterde data'!EA453=0,\"\",'Gefilterde data'!EB453)","v":0}]
[null,{"$f":"IF('Gefilterde data'!C454=0,\"\",'Gefilterde data'!C454)","v":"Lanenrijk"},{"$f":"IF(B467=\"\",\"\",IF(LEFT(D467,2)=\"BU\",'Gefilterde data'!G454,\"-\"))","v":"Bloemendalerpolder"},{"$f":"IF('Gefilterde data'!C454=0,\"\",'Gefilterde data'!A454)","v":"BU0363SB03"},{"v":0.22317130639308685,"d":"0.22"},{"v":0.44990753024550956,"d":"0.45"},{"$f":"IF('Gefilterde data'!CL454=0,\"\",'Gefilterde data'!CL454)","v":0.6},{"$f":"IF('Gefilterde data'!DX454=0,\"\",'Gefilterde data'!DX454)","v":{"v":22.716627634660423,"d":"22.7"}},null,{"$f":"IF('Gefilterde data'!DZ454=0,\"\",'Gefilterde data'!DZ454)","v":{"v":0.468384074941452,"d":"0"}},{"$f":"IF('Gefilterde data'!DW454=0,\"\",'Gefilterde data'!DW454)","v":{"v":1451,"d":"1,451"}},{"$f":"IF('Gefilterde data'!I454=0,\"\",'Gefilterde data'!I454)","v":{"v":2135,"d":"2,135"}},{"$f":"IF('Gefilterde data'!DI454=0,\"\",'Gefilterde data'!DI454)","v":{"v":1,"d":"1.0"}},{"$f":"IF('Gefilterde data'!EA454=0,\"\",'Gefilterde data'!EA454)","v":{"v":38.64168618266979,"d":"39"}},{"$f":"IF('Gefilterde data'!EA454=0,\"\",'Gefilterde data'!EB454)","v":{"v":1.873536299765808,"d":"2"}}]
[null,{"$f":"IF('Gefilterde data'!C455=0,\"\",'Gefilterde data'!C455)","v":"Vechtrijk"},{"$f":"IF(B468=\"\",\"\",IF(LEFT(D468,2)=\"BU\",'Gefilterde data'!G455,\"-\"))","v":"Bloemendalerpolder"},{"$f":"IF('Gefilterde data'!C455=0,\"\",'Gefilterde data'!A455)","v":"BU0363SB04"},"Ontbrekende waarde","Ontbrekende waarde",{"$f":"IF('Gefilterde data'!CL455=0,\"\",'Gefilterde data'!CL455)","v":"."},{"$f":"IF('Gefilterde data'!DX455=0,\"\",'Gefilterde data'!DX455)","v":{"v":18.0327868852459,"d":"18.0"}},null,{"$f":"IF('Gefilterde data'!DZ455=0,\"\",'Gefilterde data'!DZ455)","v":""},{"$f":"IF('Gefilterde data'!DW455=0,\"\",'Gefilterde data'!DW455)","v":712},{"$f":"IF('Gefilterde data'!I455=0,\"\",'Gefilterde data'!I455)","v":305},{"$f":"IF('Gefilterde data'!DI455=0,\"\",'Gefilterde data'!DI455)","v":1.1},{"$f":"IF('Gefilterde data'!EA455=0,\"\",'Gefilterde data'!EA455)","v":{"v":34.42622950819672,"d":"34"}},{"$f":"IF('Gefilterde data'!EA455=0,\"\",'Gefilterde data'!EB455)","v":{"v":3.278688524590164,"d":"3"}}]
[null,{"$f":"IF('Gefilterde data'!C456=0,\"\",'Gefilterde data'!C456)","v":"Leeuwenveld"},{"$f":"IF(B469=\"\",\"\",IF(LEFT(D469,2)=\"BU\",'Gefilterde data'!G456,\"-\"))","v":"Bloemendalerpolder"},{"$f":"IF('Gefilterde data'!C456=0,\"\",'Gefilterde data'!A456)","v":"BU0363SB05"},{"v":0.29706935960739506,"d":"0.30"},{"v":0.5988840772261502,"d":"0.60"},{"$f":"IF('Gefilterde data'!CL456=0,\"\",'Gefilterde data'!CL456)","v":0.6},{"$f":"IF('Gefilterde data'!DX456=0,\"\",'Gefilterde data'!DX456)","v":{"v":30.990415335463258,"d":"31.0"}},null,{"$f":"IF('Gefilterde data'!DZ456=0,\"\",'Gefilterde data'!DZ456)","v":{"v":1.9169329073482428,"d":"2"}},{"$f":"IF('Gefilterde data'!DW456=0,\"\",'Gefilterde data'!DW456)","v":{"v":1894,"d":"1,894"}},{"$f":"IF('Gefilterde data'!I456=0,\"\",'Gefilterde data'!I456)","v":{"v":1565,"d":"1,565"}},{"$f":"IF('Gefilterde data'!DI456=0,\"\",'Gefilterde data'!DI456)","v":1.1},{"$f":"IF('Gefilterde data'!EA456=0,\"\",'Gefilterde data'!EA456)","v":{"v":28.753993610223645,"d":"29"}},{"$f":"IF('Gefilterde data'!EA456=0,\"\",'Gefilterde data'!EB456)","v":{"v":7.667731629392971,"d":"8"}}]
[null,{"$f":"IF('Gefilterde data'!C457=0,\"\",'Gefilterde data'!C457)","v":"Bedrijventerrein Nijverheidslaan"},{"$f":"IF(B470=\"\",\"\",IF(LEFT(D470,2)=\"BU\",'Gefilterde data'!G457,\"-\"))","v":"Bloemendalerpolder"},{"$f":"IF('Gefilterde data'!C457=0,\"\",'Gefilterde data'!A457)","v":"BU0363SB06"},"Ontbrekende waarde","Ontbrekende waarde",{"$f":"IF('Gefilterde data'!CL457=0,\"\",'Gefilterde data'!CL457)","v":"."},{"$f":"IF('Gefilterde data'!DX457=0,\"\",'Gefilterde data'!DX457)","v":{"v":28.57142857142857,"d":"28.6"}},null,{"$f":"IF('Gefilterde data'!DZ457=0,\"\",'Gefilterde data'!DZ457)","v":""},{"$f":"IF('Gefilterde data'!DW457=0,\"\",'Gefilterde data'!DW457)","v":{"v":1397,"d":"1,397"}},{"$f":"IF('Gefilterde data'!I457=0,\"\",'Gefilterde data'!I457)","v":35},{"$f":"IF('Gefilterde data'!DI457=0,\"\",'Gefilterde data'!DI457)","v":"."},{"$f":"IF('Gefilterde data'!EA457=0,\"\",'Gefilterde data'!EA457)","v":{"v":14.285714285714285,"d":"14"}},{"$f":"IF('Gefilterde data'!EA457=0,\"\",'Gefilterde data'!EB457)","v":{"v":14.285714285714285,"d":"14"}}]
[null,{"$f":"IF('Gefilterde data'!C458=0,\"\",'Gefilterde data'!C458)","v":"Bedrijventerrein-Noord Weesp"},{"$f":"IF(B471=\"\",\"\",IF(LEFT(D471,2)=\"BU\",'Gefilterde data'!G458,\"-\"))","v":"Weesp-Noordwest"},{"$f":"IF('Gefilterde data'!C458=0,\"\",'Gefilterde data'!A458)","v":"BU0363SC01"},"Ontbrekende waarde","Ontbrekende waarde",{"$f":"IF('Gefilterde data'!CL458=0,\"\",'Gefilterde data'!CL458)","v":"."},{"$f":"IF('Gefilterde data'!DX458=0,\"\",'Gefilterde data'!DX458)","v":{"v":28.000000000000004,"d":"28.0"}},null,{"$f":"IF('Gefilterde data'!DZ458=0,\"\",'Gefilterde data'!DZ458)","v":""},{"$f":"IF('Gefilterde data'!DW458=0,\"\",'Gefilterde data'!DW458)","v":{"v":1111,"d":"1,111"}},{"$f":"IF('Gefilterde data'!I458=0,\"\",'Gefilterde data'!I458)","v":125},{"$f":"IF('Gefilterde data'!DI458=0,\"\",'Gefilterde data'!DI458)","v":"."},{"$f":"IF('Gefilterde data'!EA458=0,\"\",'Gefilterde data'!EA458)","v":8},{"$f":"IF('Gefilterde data'!EA458=0,\"\",'Gefilterde data'!EB458)","v":12}]
[null,{"$f":"IF('Gefilterde data'!C459=0,\"\",'Gefilterde data'!C459)","v":"Hogewey-Noord"},{"$f":"IF(B472=\"\",\"\",IF(LEFT(D472,2)=\"BU\",'Gefilterde data'!G459,\"-\"))","v":"Weesp-Noordwest"},{"$f":"IF('Gefilterde data'!C459=0,\"\",'Gefilterde data'!A459)","v":"BU0363SC02"},{"v":0.4980371628525195,"d":"0.50"},{"v":1.0040299245046616,"d":"1.00"},{"$f":"IF('Gefilterde data'!CL459=0,\"\",'Gefilterde data'!CL459)","v":5.2},{"$f":"IF('Gefilterde data'!DX459=0,\"\",'Gefilterde data'!DX459)","v":{"v":36.08695652173913,"d":"36.1"}},null,{"$f":"IF('Gefilterde data'!DZ459=0,\"\",'Gefilterde data'!DZ459)","v":{"v":1.7391304347826086,"d":"2"}},{"$f":"IF('Gefilterde data'!DW459=0,\"\",'Gefilterde data'!DW459)","v":{"v":1932,"d":"1,932"}},{"$f":"IF('Gefilterde data'!I459=0,\"\",'Gefilterde data'!I459)","v":{"v":1150,"d":"1,150"}},{"$f":"IF('Gefilterde data'!DI459=0,\"\",'Gefilterde data'!DI459)","v":0.8},{"$f":"IF('Gefilterde data'!EA459=0,\"\",'Gefilterde data'!EA459)","v":{"v":22.17391304347826,"d":"22"}},{"$f":"IF('Gefilterde data'!EA459=0,\"\",'Gefilterde data'!EB459)","v":{"v":21.304347826086957,"d":"21"}}]
[null,{"$f":"IF('Gefilterde data'!C460=0,\"\",'Gefilterde data'!C460)","v":"Hogewey-Midden"},{"$f":"IF(B473=\"\",\"\",IF(LEFT(D473,2)=\"BU\",'Gefilterde data'!G460,\"-\"))","v":"Weesp-Noordwest"},{"$f":"IF('Gefilterde data'!C460=0,\"\",'Gefilterde data'!A460)","v":"BU0363SC03"},{"v":0.712102146907151,"d":"0.71"},{"v":1.4355793465366644,"d":"1.44"},{"$f":"IF('Gefilterde data'!CL460=0,\"\",'Gefilterde data'!CL460)","v":9.6},{"$f":"IF('Gefilterde data'!DX460=0,\"\",'Gefilterde data'!DX460)","v":{"v":43.40659340659341,"d":"43.4"}},null,{"$f":"IF('Gefilterde data'!DZ460=0,\"\",'Gefilterde data'!DZ460)","v":{"v":1.6483516483516485,"d":"2"}},{"$f":"IF('Gefilterde data'!DW460=0,\"\",'Gefilterde data'!DW460)","v":{"v":2071,"d":"2,071"}},{"$f":"IF('Gefilterde data'!I460=0,\"\",'Gefilterde data'!I460)","v":{"v":1820,"d":"1,820"}},{"$f":"IF('Gefilterde data'!DI460=0,\"\",'Gefilterde data'!DI460)","v":0.8},{"$f":"IF('Gefilterde data'!EA460=0,\"\",'Gefilterde data'!EA460)","v":{"v":15.934065934065933,"d":"16"}},{"$f":"IF('Gefilterde data'!EA460=0,\"\",'Gefilterde data'!EB460)","v":{"v":22.52747252747253,"d":"23"}}]
[null,{"$f":"IF('Gefilterde data'!C461=0,\"\",'Gefilterde data'!C461)","v":"Hogewey-Zuid"},{"$f":"IF(B474=\"\",\"\",IF(LEFT(D474,2)=\"BU\",'Gefilterde data'!G461,\"-\"))","v":"Weesp-Noordwest"},{"$f":"IF('Gefilterde data'!C461=0,\"\",'Gefilterde data'!A461)","v":"BU0363SC04"},{"v":0.9612734746901356,"d":"0.96"},{"v":1.9379022414583815,"d":"1.94"},{"$f":"IF('Gefilterde data'!CL461=0,\"\",'Gefilterde data'!CL461)","v":15.3},{"$f":"IF('Gefilterde data'!DX461=0,\"\",'Gefilterde data'!DX461)","v":{"v":49.73821989528796,"d":"49.7"}},null,{"$f":"IF('Gefilterde data'!DZ461=0,\"\",'Gefilterde data'!DZ461)","v":{"v":1.0471204188481675,"d":"1"}},{"$f":"IF('Gefilterde data'!DW461=0,\"\",'Gefilterde data'!DW461)","v":{"v":2166,"d":"2,166"}},{"$f":"IF('Gefilterde data'!I461=0,\"\",'Gefilterde data'!I461)","v":{"v":1910,"d":"1,910"}},{"$f":"IF('Gefilterde data'!DI461=0,\"\",'Gefilterde data'!DI461)","v":0.8},{"$f":"IF('Gefilterde data'!EA461=0,\"\",'Gefilterde data'!EA461)","v":{"v":14.136125654450263,"d":"14"}},{"$f":"IF('Gefilterde data'!EA461=0,\"\",'Gefilterde data'!EB461)","v":{"v":29.581151832460733,"d":"30"}}]
[null,{"$f":"IF('Gefilterde data'!C462=0,\"\",'Gefilterde data'!C462)","v":"Weesp Dichtersbuurt"},{"$f":"IF(B475=\"\",\"\",IF(LEFT(D475,2)=\"BU\",'Gefilterde data'!G462,\"-\"))","v":"Weesp-Noordwest"},{"$f":"IF('Gefilterde data'!C462=0,\"\",'Gefilterde data'!A462)","v":"BU0363SC05"},{"v":0.7651771178985562,"d":"0.77"},{"v":1.5425771031144557,"d":"1.54"},{"$f":"IF('Gefilterde data'!CL462=0,\"\",'Gefilterde data'!CL462)","v":10.8},{"$f":"IF('Gefilterde data'!DX462=0,\"\",'Gefilterde data'!DX462)","v":{"v":44.80874316939891,"d":"44.8"}},null,{"$f":"IF('Gefilterde data'!DZ462=0,\"\",'Gefilterde data'!DZ462)","v":{"v":2.185792349726776,"d":"2"}},{"$f":"IF('Gefilterde data'!DW462=0,\"\",'Gefilterde data'!DW462)","v":{"v":2267,"d":"2,267"}},{"$f":"IF('Gefilterde data'!I462=0,\"\",'Gefilterde data'!I462)","v":{"v":1830,"d":"1,830"}},{"$f":"IF('Gefilterde data'!DI462=0,\"\",'Gefilterde data'!DI462)","v":0.6},{"$f":"IF('Gefilterde data'!EA462=0,\"\",'Gefilterde data'!EA462)","v":{"v":11.748633879781421,"d":"12"}},{"$f":"IF('Gefilterde data'!EA462=0,\"\",'Gefilterde data'!EB462)","v":{"v":10.655737704918032,"d":"11"}}]
[null,{"$f":"IF('Gefilterde data'!C463=0,\"\",'Gefilterde data'!C463)","v":"Weesp Schildersbuurt"},{"$f":"IF(B476=\"\",\"\",IF(LEFT(D476,2)=\"BU\",'Gefilterde data'!G463,\"-\"))","v":"Weesp-Noordwest"},{"$f":"IF('Gefilterde data'!C463=0,\"\",'Gefilterde data'!A463)","v":"BU0363SC06"},{"v":1.1178331812084144,"d":"1.12"},{"v":2.253522524522614,"d":"2.25"},{"$f":"IF('Gefilterde data'!CL463=0,\"\",'Gefilterde data'!CL463)","v":19.5},{"$f":"IF('Gefilterde data'!DX463=0,\"\",'Gefilterde data'!DX463)","v":{"v":51.37614678899083,"d":"51.4"}},null,{"$f":"IF('Gefilterde data'!DZ463=0,\"\",'Gefilterde data'!DZ463)","v":""},{"$f":"IF('Gefilterde data'!DW463=0,\"\",'Gefilterde data'!DW463)","v":{"v":2518,"d":"2,518"}},{"$f":"IF('Gefilterde data'!I463=0,\"\",'Gefilterde data'!I463)","v":{"v":1090,"d":"1,090"}},{"$f":"IF('Gefilterde data'!DI463=0,\"\",'Gefilterde data'!DI463)","v":0.7},{"$f":"IF('Gefilterde data'!EA463=0,\"\",'Gefilterde data'!EA463)","v":{"v":18.807339449541285,"d":"19"}},{"$f":"IF('Gefilterde data'!EA463=0,\"\",'Gefilterde data'!EB463)","v":{"v":15.137614678899084,"d":"15"}}]
[null,{"$f":"IF('Gefilterde data'!C464=0,\"\",'Gefilterde data'!C464)","v":"Herensingelkwartier"},{"$f":"IF(B477=\"\",\"\",IF(LEFT(D477,2)=\"BU\",'Gefilterde data'!G464,\"-\"))","v":"Weesp Binnenstad/Zuid"},{"$f":"IF('Gefilterde data'!C464=0,\"\",'Gefilterde data'!A464)","v":"BU0363SD01"},{"v":0.5506075853260316,"d":"0.55"},{"v":1.110010524436094,"d":"1.11"},{"$f":"IF('Gefilterde data'!CL464=0,\"\",'Gefilterde data'!CL464)","v":8.3},{"$f":"IF('Gefilterde data'!DX464=0,\"\",'Gefilterde data'!DX464)","v":{"v":30.24390243902439,"d":"30.2"}},null,{"$f":"IF('Gefilterde data'!DZ464=0,\"\",'Gefilterde data'!DZ464)","v":{"v":1.951219512195122,"d":"2"}},{"$f":"IF('Gefilterde data'!DW464=0,\"\",'Gefilterde data'!DW464)","v":{"v":2595,"d":"2,595"}},{"$f":"IF('Gefilterde data'!I464=0,\"\",'Gefilterde data'!I464)","v":{"v":1025,"d":"1,025"}},{"$f":"IF('Gefilterde data'!DI464=0,\"\",'Gefilterde data'!DI464)","v":0.7},{"$f":"IF('Gefilterde data'!EA464=0,\"\",'Gefilterde data'!EA464)","v":{"v":15.121951219512194,"d":"15"}},{"$f":"IF('Gefilterde data'!EA464=0,\"\",'Gefilterde data'!EB464)","v":{"v":16.097560975609756,"d":"16"}}]
[null,{"$f":"IF('Gefilterde data'!C465=0,\"\",'Gefilterde data'!C465)","v":"Bedrijventerrein Van Houten"},{"$f":"IF(B478=\"\",\"\",IF(LEFT(D478,2)=\"BU\",'Gefilterde data'!G465,\"-\"))","v":"Weesp Binnenstad/Zuid"},{"$f":"IF('Gefilterde data'!C465=0,\"\",'Gefilterde data'!A465)","v":"BU0363SD02"},{"v":1.1804789317200652,"d":"1.18"},{"v":2.379814722872833,"d":"2.38"},{"$f":"IF('Gefilterde data'!CL465=0,\"\",'Gefilterde data'!CL465)","v":21.1},{"$f":"IF('Gefilterde data'!DX465=0,\"\",'Gefilterde data'!DX465)","v":{"v":52.336448598130836,"d":"52.3"}},null,{"$f":"IF('Gefilterde data'!DZ465=0,\"\",'Gefilterde data'!DZ465)","v":""},{"$f":"IF('Gefilterde data'!DW465=0,\"\",'Gefilterde data'!DW465)","v":{"v":1950,"d":"1,950"}},{"$f":"IF('Gefilterde data'!I465=0,\"\",'Gefilterde data'!I465)","v":535},{"$f":"IF('Gefilterde data'!DI465=0,\"\",'Gefilterde data'!DI465)","v":0.8},{"$f":"IF('Gefilterde data'!EA465=0,\"\",'Gefilterde data'!EA465)","v":{"v":25.233644859813083,"d":"25"}},{"$f":"IF('Gefilterde data'!EA465=0,\"\",'Gefilterde data'!EB465)","v":{"v":13.084112149532709,"d":"13"}}]
[null,{"$f":"IF('Gefilterde data'!C466=0,\"\",'Gefilterde data'!C466)","v":"Weesp Centrum"},{"$f":"IF(B479=\"\",\"\",IF(LEFT(D479,2)=\"BU\",'Gefilterde data'!G466,\"-\"))","v":"Weesp Binnenstad/Zuid"},{"$f":"IF('Gefilterde data'!C466=0,\"\",'Gefilterde data'!A466)","v":"BU0363SD03"},{"v":0.5215735077250883,"d":"0.52"},{"v":1.0514785816092291,"d":"1.05"},{"$f":"IF('Gefilterde data'!CL466=0,\"\",'Gefilterde data'!CL466)","v":8.6},{"$f":"IF('Gefilterde data'!DX466=0,\"\",'Gefilterde data'!DX466)","v":{"v":25.85812356979405,"d":"25.9"}},null,{"$f":"IF('Gefilterde data'!DZ466=0,\"\",'Gefilterde data'!DZ466)","v":{"v":1.3729977116704806,"d":"1"}},{"$f":"IF('Gefilterde data'!DW466=0,\"\",'Gefilterde data'!DW466)","v":{"v":2208,"d":"2,208"}},{"$f":"IF('Gefilterde data'!I466=0,\"\",'Gefilterde data'!I466)","v":{"v":2185,"d":"2,185"}},{"$f":"IF('Gefilterde data'!DI466=0,\"\",'Gefilterde data'!DI466)","v":0.7},{"$f":"IF('Gefilterde data'!EA466=0,\"\",'Gefilterde data'!EA466)","v":{"v":12.128146453089245,"d":"12"}},{"$f":"IF('Gefilterde data'!EA466=0,\"\",'Gefilterde data'!EB466)","v":{"v":22.42562929061785,"d":"22"}}]
[null,{"$f":"IF('Gefilterde data'!C467=0,\"\",'Gefilterde data'!C467)","v":"Weesp-Zuid I"},{"$f":"IF(B480=\"\",\"\",IF(LEFT(D480,2)=\"BU\",'Gefilterde data'!G467,\"-\"))","v":"Weesp Binnenstad/Zuid"},{"$f":"IF('Gefilterde data'!C467=0,\"\",'Gefilterde data'!A467)","v":"BU0363SD04"},{"v":0.6950786590693597,"d":"0.70"},{"v":1.401260439267399,"d":"1.40"},{"$f":"IF('Gefilterde data'!CL467=0,\"\",'Gefilterde data'!CL467)","v":15.7},{"$f":"IF('Gefilterde data'!DX467=0,\"\",'Gefilterde data'!DX467)","v":{"v":18.421052631578945,"d":"18.4"}},null,{"$f":"IF('Gefilterde data'!DZ467=0,\"\",'Gefilterde data'!DZ467)","v":{"v":1.7543859649122806,"d":"2"}},{"$f":"IF('Gefilterde data'!DW467=0,\"\",'Gefilterde data'!DW467)","v":{"v":2248,"d":"2,248"}},{"$f":"IF('Gefilterde data'!I467=0,\"\",'Gefilterde data'!I467)","v":570},{"$f":"IF('Gefilterde data'!DI467=0,\"\",'Gefilterde data'!DI467)","v":0.5},{"$f":"IF('Gefilterde data'!EA467=0,\"\",'Gefilterde data'!EA467)","v":{"v":8.771929824561402,"d":"9"}},{"$f":"IF('Gefilterde data'!EA467=0,\"\",'Gefilterde data'!EB467)","v":{"v":51.75438596491229,"d":"52"}}]
[null,{"$f":"IF('Gefilterde data'!C468=0,\"\",'Gefilterde data'!C468)","v":"Weesp-Zuid II"},{"$f":"IF(B481=\"\",\"\",IF(LEFT(D481,2)=\"BU\",'Gefilterde data'!G468,\"-\"))","v":"Weesp Binnenstad/Zuid"},{"$f":"IF('Gefilterde data'!C468=0,\"\",'Gefilterde data'!A468)","v":"BU0363SD05"},{"v":0.6412518893532214,"d":"0.64"},{"v":1.2927470760780184,"d":"1.29"},{"$f":"IF('Gefilterde data'!CL468=0,\"\",'Gefilterde data'!CL468)","v":11.6},{"$f":"IF('Gefilterde data'!DX468=0,\"\",'Gefilterde data'!DX468)","v":{"v":27.906976744186046,"d":"27.9"}},null,{"$f":"IF('Gefilterde data'!DZ468=0,\"\",'Gefilterde data'!DZ468)","v":{"v":1.550387596899225,"d":"2"}},{"$f":"IF('Gefilterde data'!DW468=0,\"\",'Gefilterde data'!DW468)","v":{"v":1412,"d":"1,412"}},{"$f":"IF('Gefilterde data'!I468=0,\"\",'Gefilterde data'!I468)","v":645},{"$f":"IF('Gefilterde data'!DI468=0,\"\",'Gefilterde data'!DI468)","v":{"v":1,"d":"1.0"}},{"$f":"IF('Gefilterde data'!EA468=0,\"\",'Gefilterde data'!EA468)","v":{"v":14.728682170542637,"d":"15"}},{"$f":"IF('Gefilterde data'!EA468=0,\"\",'Gefilterde data'!EB468)","v":{"v":25.581395348837212,"d":"26"}}]
[null,{"$f":"IF('Gefilterde data'!C469=0,\"\",'Gefilterde data'!C469)","v":"De Klomp"},{"$f":"IF(B482=\"\",\"\",IF(LEFT(D482,2)=\"BU\",'Gefilterde data'!G469,\"-\"))","v":"Weesp Binnenstad/Zuid"},{"$f":"IF('Gefilterde data'!C469=0,\"\",'Gefilterde data'!A469)","v":"BU0363SD06"},{"v":0.24351110942855417,"d":"0.24"},{"v":0.49091204241719927,"d":"0.49"},{"$f":"IF('Gefilterde data'!CL469=0,\"\",'Gefilterde data'!CL469)","v":2},{"$f":"IF('Gefilterde data'!DX469=0,\"\",'Gefilterde data'!DX469)","v":{"v":19.696969696969695,"d":"19.7"}},null,{"$f":"IF('Gefilterde data'!DZ469=0,\"\",'Gefilterde data'!DZ469)","v":{"v":1.5151515151515151,"d":"2"}},{"$f":"IF('Gefilterde data'!DW469=0,\"\",'Gefilterde data'!DW469)","v":853},{"$f":"IF('Gefilterde data'!I469=0,\"\",'Gefilterde data'!I469)","v":660},{"$f":"IF('Gefilterde data'!DI469=0,\"\",'Gefilterde data'!DI469)","v":1.1},{"$f":"IF('Gefilterde data'!EA469=0,\"\",'Gefilterde data'!EA469)","v":{"v":19.696969696969695,"d":"20"}},{"$f":"IF('Gefilterde data'!EA469=0,\"\",'Gefilterde data'!EB469)","v":25}]
[null,{"$f":"IF('Gefilterde data'!C470=0,\"\",'Gefilterde data'!C470)","v":"Aetsveldsepolder"},{"$f":"IF(B483=\"\",\"\",IF(LEFT(D483,2)=\"BU\",'Gefilterde data'!G470,\"-\"))","v":"Aetsveld/Oostelijke Vechtoever"},{"$f":"IF('Gefilterde data'!C470=0,\"\",'Gefilterde data'!A470)","v":"BU0363SE01"},{"v":0.2823488442977913,"d":"0.28"},{"v":0.5692079024798334,"d":"0.57"},{"$f":"IF('Gefilterde data'!CL470=0,\"\",'Gefilterde data'!CL470)","v":4.7},{"$f":"IF('Gefilterde data'!DX470=0,\"\",'Gefilterde data'!DX470)","v":{"v":13.829787234042554,"d":"13.8"}},null,{"$f":"IF('Gefilterde data'!DZ470=0,\"\",'Gefilterde data'!DZ470)","v":{"v":2.127659574468085,"d":"2"}},{"$f":"IF('Gefilterde data'!DW470=0,\"\",'Gefilterde data'!DW470)","v":261},{"$f":"IF('Gefilterde data'!I470=0,\"\",'Gefilterde data'!I470)","v":470},{"$f":"IF('Gefilterde data'!DI470=0,\"\",'Gefilterde data'!DI470)","v":1.6},{"$f":"IF('Gefilterde data'!EA470=0,\"\",'Gefilterde data'!EA470)","v":{"v":10.638297872340425,"d":"11"}},{"$f":"IF('Gefilterde data'!EA470=0,\"\",'Gefilterde data'!EB470)","v":{"v":22.340425531914892,"d":"22"}}]
[null,{"$f":"IF('Gefilterde data'!C471=0,\"\",'Gefilterde data'!C471)","v":"Aetsveld-Zuid"},{"$f":"IF(B484=\"\",\"\",IF(LEFT(D484,2)=\"BU\",'Gefilterde data'!G471,\"-\"))","v":"Aetsveld/Oostelijke Vechtoever"},{"$f":"IF('Gefilterde data'!C471=0,\"\",'Gefilterde data'!A471)","v":"BU0363SE02"},{"v":0.3475965225015329,"d":"0.35"},{"v":0.7007455191624792,"d":"0.70"},{"$f":"IF('Gefilterde data'!CL471=0,\"\",'Gefilterde data'!CL471)","v":5},{"$f":"IF('Gefilterde data'!DX471=0,\"\",'Gefilterde data'!DX471)","v":{"v":20,"d":"20.0"}},null,{"$f":"IF('Gefilterde data'!DZ471=0,\"\",'Gefilterde data'!DZ471)","v":{"v":1.1428571428571428,"d":"1"}},{"$f":"IF('Gefilterde data'!DW471=0,\"\",'Gefilterde data'!DW471)","v":{"v":1062,"d":"1,062"}},{"$f":"IF('Gefilterde data'!I471=0,\"\",'Gefilterde data'!I471)","v":{"v":1750,"d":"1,750"}},{"$f":"IF('Gefilterde data'!DI471=0,\"\",'Gefilterde data'!DI471)","v":{"v":1,"d":"1.0"}},{"$f":"IF('Gefilterde data'!EA471=0,\"\",'Gefilterde data'!EA471)","v":{"v":14.000000000000002,"d":"14"}},{"$f":"IF('Gefilterde data'!EA471=0,\"\",'Gefilterde data'!EB471)","v":{"v":23.42857142857143,"d":"23"}}]
[null,{"$f":"IF('Gefilterde data'!C472=0,\"\",'Gefilterde data'!C472)","v":"Aetsveld-Noord"},{"$f":"IF(B485=\"\",\"\",IF(LEFT(D485,2)=\"BU\",'Gefilterde data'!G472,\"-\"))","v":"Aetsveld/Oostelijke Vechtoever"},{"$f":"IF('Gefilterde data'!C472=0,\"\",'Gefilterde data'!A472)","v":"BU0363SE03"},{"v":0.42489252046816556,"d":"0.42"},{"v":0.8565722340976698,"d":"0.86"},{"$f":"IF('Gefilterde data'!CL472=0,\"\",'Gefilterde data'!CL472)","v":6.7},{"$f":"IF('Gefilterde data'!DX472=0,\"\",'Gefilterde data'!DX472)","v":{"v":22.22222222222222,"d":"22.2"}},null,{"$f":"IF('Gefilterde data'!DZ472=0,\"\",'Gefilterde data'!DZ472)","v":{"v":0.6172839506172839,"d":"1"}},{"$f":"IF('Gefilterde data'!DW472=0,\"\",'Gefilterde data'!DW472)","v":{"v":1427,"d":"1,427"}},{"$f":"IF('Gefilterde data'!I472=0,\"\",'Gefilterde data'!I472)","v":{"v":1620,"d":"1,620"}},{"$f":"IF('Gefilterde data'!DI472=0,\"\",'Gefilterde data'!DI472)","v":{"v":1,"d":"1.0"}},{"$f":"IF('Gefilterde data'!EA472=0,\"\",'Gefilterde data'!EA472)","v":{"v":15.432098765432098,"d":"15"}},{"$f":"IF('Gefilterde data'!EA472=0,\"\",'Gefilterde data'!EB472)","v":{"v":24.382716049382715,"d":"24"}}]
[null,{"$f":"IF('Gefilterde data'!C473=0,\"\",'Gefilterde data'!C473)","v":"Oostelijke Vechtoever"},{"$f":"IF(B486=\"\",\"\",IF(LEFT(D486,2)=\"BU\",'Gefilterde data'!G473,\"-\"))","v":"Aetsveld/Oostelijke Vechtoever"},{"$f":"IF('Gefilterde data'!C473=0,\"\",'Gefilterde data'!A473)","v":"BU0363SE04"},{"v":0.2913682854080089,"d":"0.29"},{"v":0.5873908604042959,"d":"0.59"},{"$f":"IF('Gefilterde data'!CL473=0,\"\",'Gefilterde data'!CL473)","v":4.5},{"$f":"IF('Gefilterde data'!DX473=0,\"\",'Gefilterde data'!DX473)","v":{"v":15.59633027522936,"d":"15.6"}},null,{"$f":"IF('Gefilterde data'!DZ473=0,\"\",'Gefilterde data'!DZ473)","v":{"v":1.834862385321101,"d":"2"}},{"$f":"IF('Gefilterde data'!DW473=0,\"\",'Gefilterde data'!DW473)","v":557},{"$f":"IF('Gefilterde data'!I473=0,\"\",'Gefilterde data'!I473)","v":545},{"$f":"IF('Gefilterde data'!DI473=0,\"\",'Gefilterde data'!DI473)","v":1.3},{"$f":"IF('Gefilterde data'!EA473=0,\"\",'Gefilterde data'!EA473)","v":{"v":13.761467889908257,"d":"14"}},{"$f":"IF('Gefilterde data'!EA473=0,\"\",'Gefilterde data'!EB473)","v":{"v":26.605504587155966,"d":"27"}}]
[null,{"$f":"IF('Gefilterde data'!C474=0,\"\",'Gefilterde data'!C474)","v":"Hoofdcentrum-Zuidoost"},{"$f":"IF(B487=\"\",\"\",IF(LEFT(D487,2)=\"BU\",'Gefilterde data'!G474,\"-\"))","v":"Amstel III/Bullewijk"},{"$f":"IF('Gefilterde data'!C474=0,\"\",'Gefilterde data'!A474)","v":"BU0363TA01"},"Ontbrekende waarde","Ontbrekende waarde",{"$f":"IF('Gefilterde data'!CL474=0,\"\",'Gefilterde data'!CL474)","v":"."},{"$f":"IF('Gefilterde data'!DX474=0,\"\",'Gefilterde data'!DX474)","v":{"v":100,"d":"100.0"}},null,{"$f":"IF('Gefilterde data'!DZ474=0,\"\",'Gefilterde data'!DZ474)","v":""},{"$f":"IF('Gefilterde data'!DW474=0,\"\",'Gefilterde data'!DW474)","v":{"v":1775,"d":"1,775"}},{"$f":"IF('Gefilterde data'!I474=0,\"\",'Gefilterde data'!I474)","v":15},{"$f":"IF('Gefilterde data'!DI474=0,\"\",'Gefilterde data'!DI474)","v":"."},{"$f":"IF('Gefilterde data'!EA474=0,\"\",'Gefilterde data'!EA474)","v":""},{"$f":"IF('Gefilterde data'!EA474=0,\"\",'Gefilterde data'!EB474)","v":""}]
[null,{"$f":"IF('Gefilterde data'!C475=0,\"\",'Gefilterde data'!C475)","v":"Amstel III deel C/D-Noord"},{"$f":"IF(B488=\"\",\"\",IF(LEFT(D488,2)=\"BU\",'Gefilterde data'!G475,\"-\"))","v":"Amstel III/Bullewijk"},{"$f":"IF('Gefilterde data'!C475=0,\"\",'Gefilterde data'!A475)","v":"BU0363TA02"},"Ontbrekende waarde","Ontbrekende waarde",{"$f":"IF('Gefilterde data'!CL475=0,\"\",'Gefilterde data'!CL475)","v":"."},{"$f":"IF('Gefilterde data'!DX475=0,\"\",'Gefilterde data'!DX475)","v":{"v":100,"d":"100.0"}},null,{"$f":"IF('Gefilterde data'!DZ475=0,\"\",'Gefilterde data'!DZ475)","v":""},{"$f":"IF('Gefilterde data'!DW475=0,\"\",'Gefilterde data'!DW475)","v":706},{"$f":"IF('Gefilterde data'!I475=0,\"\",'Gefilterde data'!I475)","v":20},{"$f":"IF('Gefilterde data'!DI475=0,\"\",'Gefilterde data'!DI475)","v":"."},{"$f":"IF('Gefilterde data'!EA475=0,\"\",'Gefilterde data'!EA475)","v":""},{"$f":"IF('Gefilterde data'!EA475=0,\"\",'Gefilterde data'!EB475)","v":""}]
[null,{"$f":"IF('Gefilterde data'!C476=0,\"\",'Gefilterde data'!C476)","v":"Amstel III deel A/B-Noord"},{"$f":"IF(B489=\"\",\"\",IF(LEFT(D489,2)=\"BU\",'Gefilterde data'!G476,\"-\"))","v":"Amstel III/Bullewijk"},{"$f":"IF('Gefilterde data'!C476=0,\"\",'Gefilterde data'!A476)","v":"BU0363TA03"},{"v":0.814591297721558,"d":"0.81"},{"v":1.6421948002216091,"d":"1.64"},{"$f":"IF('Gefilterde data'!CL476=0,\"\",'Gefilterde data'!CL476)","v":1.8},{"$f":"IF('Gefilterde data'!DX476=0,\"\",'Gefilterde data'!DX476)","v":{"v":84.39306358381504,"d":"84.4"}},null,{"$f":"IF('Gefilterde data'!DZ476=0,\"\",'Gefilterde data'!DZ476)","v":{"v":2.312138728323699,"d":"2"}},{"$f":"IF('Gefilterde data'!DW476=0,\"\",'Gefilterde data'!DW476)","v":{"v":2242,"d":"2,242"}},{"$f":"IF('Gefilterde data'!I476=0,\"\",'Gefilterde data'!I476)","v":865},{"$f":"IF('Gefilterde data'!DI476=0,\"\",'Gefilterde data'!DI476)","v":1.8},{"$f":"IF('Gefilterde data'!EA476=0,\"\",'Gefilterde data'!EA476)","v":{"v":12.138728323699421,"d":"12"}},{"$f":"IF('Gefilterde data'!EA476=0,\"\",'Gefilterde data'!EB476)","v":{"v":0.5780346820809248,"d":"1"}}]
[null,{"$f":"IF('Gefilterde data'!C477=0,\"\",'Gefilterde data'!C477)","v":"Amstel III deel C/D-Zuid"},{"$f":"IF(B490=\"\",\"\",IF(LEFT(D490,2)=\"BU\",'Gefilterde data'!G477,\"-\"))","v":"Amstel III/Bullewijk"},{"$f":"IF('Gefilterde data'!C477=0,\"\",'Gefilterde data'!A477)","v":"BU0363TA04"},"Ontbrekende waarde","Ontbrekende waarde",{"$f":"IF('Gefilterde data'!CL477=0,\"\",'Gefilterde data'!CL477)","v":"."},{"$f":"IF('Gefilterde data'!DX477=0,\"\",'Gefilterde data'!DX477)","v":"Geen inwoners"},null,{"$f":"IF('Gefilterde data'!DZ477=0,\"\",'Gefilterde data'!DZ477)","v":"Geen inwoners"},{"$f":"IF('Gefilterde data'!DW477=0,\"\",'Gefilterde data'!DW477)","v":675},{"$f":"IF('Gefilterde data'!I477=0,\"\",'Gefilterde data'!I477)","v":""},{"$f":"IF('Gefilterde data'!DI477=0,\"\",'Gefilterde data'!DI477)","v":"."},{"$f":"IF('Gefilterde data'!EA477=0,\"\",'Gefilterde data'!EA477)","v":"Geen inwoners"},{"$f":"IF('Gefilterde data'!EA477=0,\"\",'Gefilterde data'!EB477)","v":"Geen inwoners"}]
[null,{"$f":"IF('Gefilterde data'!C478=0,\"\",'Gefilterde data'!C478)","v":"Amstel III deel A/B-Zuid"},{"$f":"IF(B491=\"\",\"\",IF(LEFT(D491,2)=\"BU\",'Gefilterde data'!G478,\"-\"))","v":"Amstel III/Bullewijk"},{"$f":"IF('Gefilterde data'!C478=0,\"\",'Gefilterde data'!A478)","v":"BU0363TA05"},{"v":0.8863758661912672,"d":"0.89"},{"v":1.786910617106512,"d":"1.79"},{"$f":"IF('Gefilterde data'!CL478=0,\"\",'Gefilterde data'!CL478)","v":4.6},{"$f":"IF('Gefilterde data'!DX478=0,\"\",'Gefilterde data'!DX478)","v":{"v":81.83632734530939,"d":"81.8"}},null,{"$f":"IF('Gefilterde data'!DZ478=0,\"\",'Gefilterde data'!DZ478)","v":{"v":26.746506986027946,"d":"27"}},{"$f":"IF('Gefilterde data'!DW478=0,\"\",'Gefilterde data'!DW478)","v":{"v":2513,"d":"2,513"}},{"$f":"IF('Gefilterde data'!I478=0,\"\",'Gefilterde data'!I478)","v":{"v":2505,"d":"2,505"}},{"$f":"IF('Gefilterde data'!DI478=0,\"\",'Gefilterde data'!DI478)","v":0.3},{"$f":"IF('Gefilterde data'!EA478=0,\"\",'Gefilterde data'!EA478)","v":{"v":1.7964071856287425,"d":"2"}},{"$f":"IF('Gefilterde data'!EA478=0,\"\",'Gefilterde data'!EB478)","v":0}]
[null,{"$f":"IF('Gefilterde data'!C479=0,\"\",'Gefilterde data'!C479)","v":"AMC"},{"$f":"IF(B492=\"\",\"\",IF(LEFT(D492,2)=\"BU\",'Gefilterde data'!G479,\"-\"))","v":"Amstel III/Bullewijk"},{"$f":"IF('Gefilterde data'!C479=0,\"\",'Gefilterde data'!A479)","v":"BU0363TA06"},"Ontbrekende waarde","Ontbrekende waarde",{"$f":"IF('Gefilterde data'!CL479=0,\"\",'Gefilterde data'!CL479)","v":"."},{"$f":"IF('Gefilterde data'!DX479=0,\"\",'Gefilterde data'!DX479)","v":{"v":83.33333333333334,"d":"83.3"}},null,{"$f":"IF('Gefilterde data'!DZ479=0,\"\",'Gefilterde data'!DZ479)","v":""},{"$f":"IF('Gefilterde data'!DW479=0,\"\",'Gefilterde data'!DW479)","v":{"v":1765,"d":"1,765"}},{"$f":"IF('Gefilterde data'!I479=0,\"\",'Gefilterde data'!I479)","v":30},{"$f":"IF('Gefilterde data'!DI479=0,\"\",'Gefilterde data'!DI479)","v":"."},{"$f":"IF('Gefilterde data'!EA479=0,\"\",'Gefilterde data'!EA479)","v":""},{"$f":"IF('Gefilterde data'!EA479=0,\"\",'Gefilterde data'!EB479)","v":""}]
[null,{"$f":"IF('Gefilterde data'!C480=0,\"\",'Gefilterde data'!C480)","v":"Hoge Dijk"},{"$f":"IF(B493=\"\",\"\",IF(LEFT(D493,2)=\"BU\",'Gefilterde data'!G480,\"-\"))","v":"Amstel III/Bullewijk"},{"$f":"IF('Gefilterde data'!C480=0,\"\",'Gefilterde data'!A480)","v":"BU0363TA07"},"Ontbrekende waarde","Ontbrekende waarde",{"$f":"IF('Gefilterde data'!CL480=0,\"\",'Gefilterde data'!CL480)","v":"."},{"$f":"IF('Gefilterde data'!DX480=0,\"\",'Gefilterde data'!DX480)","v":{"v":45.45454545454545,"d":"45.5"}},null,{"$f":"IF('Gefilterde data'!DZ480=0,\"\",'Gefilterde data'!DZ480)","v":{"v":9.090909090909092,"d":"9"}},{"$f":"IF('Gefilterde data'!DW480=0,\"\",'Gefilterde data'!DW480)","v":431},{"$f":"IF('Gefilterde data'!I480=0,\"\",'Gefilterde data'!I480)","v":110},{"$f":"IF('Gefilterde data'!DI480=0,\"\",'Gefilterde data'!DI480)","v":0.5},{"$f":"IF('Gefilterde data'!EA480=0,\"\",'Gefilterde data'!EA480)","v":{"v":4.545454545454546,"d":"5"}},{"$f":"IF('Gefilterde data'!EA480=0,\"\",'Gefilterde data'!EB480)","v":{"v":9.090909090909092,"d":"9"}}]
[null,{"$f":"IF('Gefilterde data'!C481=0,\"\",'Gefilterde data'!C481)","v":"Venserpolder-West"},{"$f":"IF(B494=\"\",\"\",IF(LEFT(D494,2)=\"BU\",'Gefilterde data'!G481,\"-\"))","v":"Venserpolder"},{"$f":"IF('Gefilterde data'!C481=0,\"\",'Gefilterde data'!A481)","v":"BU0363TB01"},{"v":1.583363173779414,"d":"1.58"},{"v":3.1920188419834186,"d":"3.19"},{"$f":"IF('Gefilterde data'!CL481=0,\"\",'Gefilterde data'!CL481)","v":24.7},{"$f":"IF('Gefilterde data'!DX481=0,\"\",'Gefilterde data'!DX481)","v":{"v":83.82352941176471,"d":"83.8"}},null,{"$f":"IF('Gefilterde data'!DZ481=0,\"\",'Gefilterde data'!DZ481)","v":{"v":2.941176470588235,"d":"3"}},{"$f":"IF('Gefilterde data'!DW481=0,\"\",'Gefilterde data'!DW481)","v":{"v":3027,"d":"3,027"}},{"$f":"IF('Gefilterde data'!I481=0,\"\",'Gefilterde data'!I481)","v":{"v":5100,"d":"5,100"}},{"$f":"IF('Gefilterde data'!DI481=0,\"\",'Gefilterde data'!DI481)","v":0.4},{"$f":"IF('Gefilterde data'!EA481=0,\"\",'Gefilterde data'!EA481)","v":{"v":12.941176470588237,"d":"13"}},{"$f":"IF('Gefilterde data'!EA481=0,\"\",'Gefilterde data'!EB481)","v":{"v":14.901960784313726,"d":"15"}}]
[null,{"$f":"IF('Gefilterde data'!C482=0,\"\",'Gefilterde data'!C482)","v":"Venserpolder-Oost"},{"$f":"IF(B495=\"\",\"\",IF(LEFT(D495,2)=\"BU\",'Gefilterde data'!G482,\"-\"))","v":"Venserpolder"},{"$f":"IF('Gefilterde data'!C482=0,\"\",'Gefilterde data'!A482)","v":"BU0363TB02"},{"v":1.4495898607287,"d":"1.45"},{"v":2.922335333560534,"d":"2.92"},{"$f":"IF('Gefilterde data'!CL482=0,\"\",'Gefilterde data'!CL482)","v":20.8},{"$f":"IF('Gefilterde data'!DX482=0,\"\",'Gefilterde data'!DX482)","v":{"v":83.601756954612,"d":"83.6"}},null,{"$f":"IF('Gefilterde data'!DZ482=0,\"\",'Gefilterde data'!DZ482)","v":{"v":4.099560761346998,"d":"4"}},{"$f":"IF('Gefilterde data'!DW482=0,\"\",'Gefilterde data'!DW482)","v":{"v":3542,"d":"3,542"}},{"$f":"IF('Gefilterde data'!I482=0,\"\",'Gefilterde data'!I482)","v":{"v":3415,"d":"3,415"}},{"$f":"IF('Gefilterde data'!DI482=0,\"\",'Gefilterde data'!DI482)","v":0.4},{"$f":"IF('Gefilterde data'!EA482=0,\"\",'Gefilterde data'!EA482)","v":{"v":12.445095168374817,"d":"12"}},{"$f":"IF('Gefilterde data'!EA482=0,\"\",'Gefilterde data'!EB482)","v":{"v":10.248901903367496,"d":"10"}}]
[null,{"$f":"IF('Gefilterde data'!C483=0,\"\",'Gefilterde data'!C483)","v":"D-buurt"},{"$f":"IF(B496=\"\",\"\",IF(LEFT(D496,2)=\"BU\",'Gefilterde data'!G483,\"-\"))","v":"Amsterdamse Poort e.o."},{"$f":"IF('Gefilterde data'!C483=0,\"\",'Gefilterde data'!A483)","v":"BU0363TC01"},{"v":1.367817643862955,"d":"1.37"},{"v":2.7574846781274074,"d":"2.76"},{"$f":"IF('Gefilterde data'!CL483=0,\"\",'Gefilterde data'!CL483)","v":19.7},{"$f":"IF('Gefilterde data'!DX483=0,\"\",'Gefilterde data'!DX483)","v":{"v":78.6082474226804,"d":"78.6"}},null,{"$f":"IF('Gefilterde data'!DZ483=0,\"\",'Gefilterde data'!DZ483)","v":{"v":38.659793814432994,"d":"39"}},{"$f":"IF('Gefilterde data'!DW483=0,\"\",'Gefilterde data'!DW483)","v":{"v":4386,"d":"4,386"}},{"$f":"IF('Gefilterde data'!I483=0,\"\",'Gefilterde data'!I483)","v":{"v":1940,"d":"1,940"}},{"$f":"IF('Gefilterde data'!DI483=0,\"\",'Gefilterde data'!DI483)","v":0.1},{"$f":"IF('Gefilterde data'!EA483=0,\"\",'Gefilterde data'!EA483)","v":{"v":5.670103092783505,"d":"6"}},{"$f":"IF('Gefilterde data'!EA483=0,\"\",'Gefilterde data'!EB483)","v":{"v":2.0618556701030926,"d":"2"}}]
[null,{"$f":"IF('Gefilterde data'!C484=0,\"\",'Gefilterde data'!C484)","v":"F-buurt"},{"$f":"IF(B497=\"\",\"\",IF(LEFT(D497,2)=\"BU\",'Gefilterde data'!G484,\"-\"))","v":"Amsterdamse Poort e.o."},{"$f":"IF('Gefilterde data'!C484=0,\"\",'Gefilterde data'!A484)","v":"BU0363TC02"},{"v":1.1266054982085123,"d":"1.13"},{"v":2.2712072866895436,"d":"2.27"},{"$f":"IF('Gefilterde data'!CL484=0,\"\",'Gefilterde data'!CL484)","v":11},{"$f":"IF('Gefilterde data'!DX484=0,\"\",'Gefilterde data'!DX484)","v":{"v":84.51834862385321,"d":"84.5"}},null,{"$f":"IF('Gefilterde data'!DZ484=0,\"\",'Gefilterde data'!DZ484)","v":{"v":2.7522935779816518,"d":"3"}},{"$f":"IF('Gefilterde data'!DW484=0,\"\",'Gefilterde data'!DW484)","v":{"v":4387,"d":"4,387"}},{"$f":"IF('Gefilterde data'!I484=0,\"\",'Gefilterde data'!I484)","v":{"v":4360,"d":"4,360"}},{"$f":"IF('Gefilterde data'!DI484=0,\"\",'Gefilterde data'!DI484)","v":0.5},{"$f":"IF('Gefilterde data'!EA484=0,\"\",'Gefilterde data'!EA484)","v":{"v":15.36697247706422,"d":"15"}},{"$f":"IF('Gefilterde data'!EA484=0,\"\",'Gefilterde data'!EB484)","v":{"v":5.73394495412844,"d":"6"}}]
[null,{"$f":"IF('Gefilterde data'!C485=0,\"\",'Gefilterde data'!C485)","v":"Amsterdamse Poort"},{"$f":"IF(B498=\"\",\"\",IF(LEFT(D498,2)=\"BU\",'Gefilterde data'!G485,\"-\"))","v":"Amsterdamse Poort e.o."},{"$f":"IF('Gefilterde data'!C485=0,\"\",'Gefilterde data'!A485)","v":"BU0363TC03"},{"v":2.074569864995295,"d":"2.07"},{"v":4.182278713903276,"d":"4.18"},{"$f":"IF('Gefilterde data'!CL485=0,\"\",'Gefilterde data'!CL485)","v":37.4},{"$f":"IF('Gefilterde data'!DX485=0,\"\",'Gefilterde data'!DX485)","v":{"v":90.76923076923077,"d":"90.8"}},null,{"$f":"IF('Gefilterde data'!DZ485=0,\"\",'Gefilterde data'!DZ485)","v":{"v":7.6923076923076925,"d":"8"}},{"$f":"IF('Gefilterde data'!DW485=0,\"\",'Gefilterde data'!DW485)","v":{"v":3417,"d":"3,417"}},{"$f":"IF('Gefilterde data'!I485=0,\"\",'Gefilterde data'!I485)","v":{"v":1300,"d":"1,300"}},{"$f":"IF('Gefilterde data'!DI485=0,\"\",'Gefilterde data'!DI485)","v":0.2},{"$f":"IF('Gefilterde data'!EA485=0,\"\",'Gefilterde data'!EA485)","v":{"v":10.76923076923077,"d":"11"}},{"$f":"IF('Gefilterde data'!EA485=0,\"\",'Gefilterde data'!EB485)","v":15}]
[null,{"$f":"IF('Gefilterde data'!C486=0,\"\",'Gefilterde data'!C486)","v":"Vogeltjeswei"},{"$f":"IF(B499=\"\",\"\",IF(LEFT(D499,2)=\"BU\",'Gefilterde data'!G486,\"-\"))","v":"Amsterdamse Poort e.o."},{"$f":"IF('Gefilterde data'!C486=0,\"\",'Gefilterde data'!A486)","v":"BU0363TC04"},{"v":1.2850172661274863,"d":"1.29"},{"v":2.5905612772097975,"d":"2.59"},{"$f":"IF('Gefilterde data'!CL486=0,\"\",'Gefilterde data'!CL486)","v":15.2},{"$f":"IF('Gefilterde data'!DX486=0,\"\",'Gefilterde data'!DX486)","v":{"v":86.36363636363636,"d":"86.4"}},null,{"$f":"IF('Gefilterde data'!DZ486=0,\"\",'Gefilterde data'!DZ486)","v":{"v":3.0303030303030303,"d":"3"}},{"$f":"IF('Gefilterde data'!DW486=0,\"\",'Gefilterde data'!DW486)","v":{"v":4781,"d":"4,781"}},{"$f":"IF('Gefilterde data'!I486=0,\"\",'Gefilterde data'!I486)","v":660},{"$f":"IF('Gefilterde data'!DI486=0,\"\",'Gefilterde data'!DI486)","v":0.7},{"$f":"IF('Gefilterde data'!EA486=0,\"\",'Gefilterde data'!EA486)","v":{"v":12.878787878787879,"d":"13"}},{"$f":"IF('Gefilterde data'!EA486=0,\"\",'Gefilterde data'!EB486)","v":{"v":19.696969696969695,"d":"20"}}]
[null,{"$f":"IF('Gefilterde data'!C487=0,\"\",'Gefilterde data'!C487)","v":"Nelson Mandelapark"},{"$f":"IF(B500=\"\",\"\",IF(LEFT(D500,2)=\"BU\",'Gefilterde data'!G487,\"-\"))","v":"Amsterdamse Poort e.o."},{"$f":"IF('Gefilterde data'!C487=0,\"\",'Gefilterde data'!A487)","v":"BU0363TC05"},"Ontbrekende waarde","Ontbrekende waarde",{"$f":"IF('Gefilterde data'!CL487=0,\"\",'Gefilterde data'!CL487)","v":"."},{"$f":"IF('Gefilterde data'!DX487=0,\"\",'Gefilterde data'!DX487)","v":"Geen inwoners"},null,{"$f":"IF('Gefilterde data'!DZ487=0,\"\",'Gefilterde data'!DZ487)","v":"Geen inwoners"},{"$f":"IF('Gefilterde data'!DW487=0,\"\",'Gefilterde data'!DW487)","v":{"v":3012,"d":"3,012"}},{"$f":"IF('Gefilterde data'!I487=0,\"\",'Gefilterde data'!I487)","v":""},{"$f":"IF('Gefilterde data'!DI487=0,\"\",'Gefilterde data'!DI487)","v":"."},{"$f":"IF('Gefilterde data'!EA487=0,\"\",'Gefilterde data'!EA487)","v":"Geen inwoners"},{"$f":"IF('Gefilterde data'!EA487=0,\"\",'Gefilterde data'!EB487)","v":"Geen inwoners"}]
[null,{"$f":"IF('Gefilterde data'!C488=0,\"\",'Gefilterde data'!C488)","v":"Hoptille"},{"$f":"IF(B501=\"\",\"\",IF(LEFT(D501,2)=\"BU\",'Gefilterde data'!G488,\"-\"))","v":"H-buurt"},{"$f":"IF('Gefilterde data'!C488=0,\"\",'Gefilterde data'!A488)","v":"BU0363TD01"},{"v":1.613172359937928,"d":"1.61"},{"v":3.252113383436625,"d":"3.25"},{"$f":"IF('Gefilterde data'!CL488=0,\"\",'Gefilterde data'!CL488)","v":24.5},{"$f":"IF('Gefilterde data'!DX488=0,\"\",'Gefilterde data'!DX488)","v":{"v":87.91773778920309,"d":"87.9"}},null,{"$f":"IF('Gefilterde data'!DZ488=0,\"\",'Gefilterde data'!DZ488)","v":{"v":16.452442159383033,"d":"16"}},{"$f":"IF('Gefilterde data'!DW488=0,\"\",'Gefilterde data'!DW488)","v":{"v":2491,"d":"2,491"}},{"$f":"IF('Gefilterde data'!I488=0,\"\",'Gefilterde data'!I488)","v":{"v":1945,"d":"1,945"}},{"$f":"IF('Gefilterde data'!DI488=0,\"\",'Gefilterde data'!DI488)","v":0.2},{"$f":"IF('Gefilterde data'!EA488=0,\"\",'Gefilterde data'!EA488)","v":{"v":13.110539845758353,"d":"13"}},{"$f":"IF('Gefilterde data'!EA488=0,\"\",'Gefilterde data'!EB488)","v":{"v":4.627249357326478,"d":"5"}}]
[null,{"$f":"IF('Gefilterde data'!C489=0,\"\",'Gefilterde data'!C489)","v":"Rechte H-buurt"},{"$f":"IF(B502=\"\",\"\",IF(LEFT(D502,2)=\"BU\",'Gefilterde data'!G489,\"-\"))","v":"H-buurt"},{"$f":"IF('Gefilterde data'!C489=0,\"\",'Gefilterde data'!A489)","v":"BU0363TD02"},{"v":1.744171339963678,"d":"1.74"},{"v":3.5162039088747634,"d":"3.52"},{"$f":"IF('Gefilterde data'!CL489=0,\"\",'Gefilterde data'!CL489)","v":27.8},{"$f":"IF('Gefilterde data'!DX489=0,\"\",'Gefilterde data'!DX489)","v":{"v":90.0990099009901,"d":"90.1"}},null,{"$f":"IF('Gefilterde data'!DZ489=0,\"\",'Gefilterde data'!DZ489)","v":{"v":2.9702970297029703,"d":"3"}},{"$f":"IF('Gefilterde data'!DW489=0,\"\",'Gefilterde data'!DW489)","v":{"v":3211,"d":"3,211"}},{"$f":"IF('Gefilterde data'!I489=0,\"\",'Gefilterde data'!I489)","v":{"v":3030,"d":"3,030"}},{"$f":"IF('Gefilterde data'!DI489=0,\"\",'Gefilterde data'!DI489)","v":0.3},{"$f":"IF('Gefilterde data'!EA489=0,\"\",'Gefilterde data'!EA489)","v":{"v":16.5016501650165,"d":"17"}},{"$f":"IF('Gefilterde data'!EA489=0,\"\",'Gefilterde data'!EB489)","v":{"v":10.891089108910892,"d":"11"}}]
[null,{"$f":"IF('Gefilterde data'!C490=0,\"\",'Gefilterde data'!C490)","v":"Hakfort/Huigenbos"},{"$f":"IF(B503=\"\",\"\",IF(LEFT(D503,2)=\"BU\",'Gefilterde data'!G490,\"-\"))","v":"H-buurt"},{"$f":"IF('Gefilterde data'!C490=0,\"\",'Gefilterde data'!A490)","v":"BU0363TD03"},{"v":1.7399997044723934,"d":"1.74"},{"v":3.507794000579193,"d":"3.51"},{"$f":"IF('Gefilterde data'!CL490=0,\"\",'Gefilterde data'!CL490)","v":28.5},{"$f":"IF('Gefilterde data'!DX490=0,\"\",'Gefilterde data'!DX490)","v":{"v":86.98347107438018,"d":"87.0"}},null,{"$f":"IF('Gefilterde data'!DZ490=0,\"\",'Gefilterde data'!DZ490)","v":{"v":2.066115702479339,"d":"2"}},{"$f":"IF('Gefilterde data'!DW490=0,\"\",'Gefilterde data'!DW490)","v":{"v":2786,"d":"2,786"}},{"$f":"IF('Gefilterde data'!I490=0,\"\",'Gefilterde data'!I490)","v":{"v":2420,"d":"2,420"}},{"$f":"IF('Gefilterde data'!DI490=0,\"\",'Gefilterde data'!DI490)","v":0.4},{"$f":"IF('Gefilterde data'!EA490=0,\"\",'Gefilterde data'!EA490)","v":{"v":18.388429752066116,"d":"18"}},{"$f":"IF('Gefilterde data'!EA490=0,\"\",'Gefilterde data'!EB490)","v":{"v":7.43801652892562,"d":"7"}}]
[null,{"$f":"IF('Gefilterde data'!C491=0,\"\",'Gefilterde data'!C491)","v":"Huntum"},{"$f":"IF(B504=\"\",\"\",IF(LEFT(D504,2)=\"BU\",'Gefilterde data'!G491,\"-\"))","v":"H-buurt"},{"$f":"IF('Gefilterde data'!C491=0,\"\",'Gefilterde data'!A491)","v":"BU0363TD04"},"Ontbrekende waarde","Ontbrekende waarde",{"$f":"IF('Gefilterde data'!CL491=0,\"\",'Gefilterde data'!CL491)","v":"."},{"$f":"IF('Gefilterde data'!DX491=0,\"\",'Gefilterde data'!DX491)","v":{"v":51.28205128205128,"d":"51.3"}},null,{"$f":"IF('Gefilterde data'!DZ491=0,\"\",'Gefilterde data'!DZ491)","v":{"v":5.128205128205128,"d":"5"}},{"$f":"IF('Gefilterde data'!DW491=0,\"\",'Gefilterde data'!DW491)","v":{"v":2869,"d":"2,869"}},{"$f":"IF('Gefilterde data'!I491=0,\"\",'Gefilterde data'!I491)","v":195},{"$f":"IF('Gefilterde data'!DI491=0,\"\",'Gefilterde data'!DI491)","v":0.8},{"$f":"IF('Gefilterde data'!EA491=0,\"\",'Gefilterde data'!EA491)","v":{"v":15.384615384615385,"d":"15"}},{"$f":"IF('Gefilterde data'!EA491=0,\"\",'Gefilterde data'!EB491)","v":{"v":28.205128205128204,"d":"28"}}]
[null,{"$f":"IF('Gefilterde data'!C492=0,\"\",'Gefilterde data'!C492)","v":"E-buurt"},{"$f":"IF(B505=\"\",\"\",IF(LEFT(D505,2)=\"BU\",'Gefilterde data'!G492,\"-\"))","v":"Ganzenhoef e.o."},{"$f":"IF('Gefilterde data'!C492=0,\"\",'Gefilterde data'!A492)","v":"BU0363TE01"},{"v":0.9534902470318889,"d":"0.95"},{"v":1.9222114575952784,"d":"1.92"},{"$f":"IF('Gefilterde data'!CL492=0,\"\",'Gefilterde data'!CL492)","v":7.6},{"$f":"IF('Gefilterde data'!DX492=0,\"\",'Gefilterde data'!DX492)","v":{"v":78,"d":"78.0"}},null,{"$f":"IF('Gefilterde data'!DZ492=0,\"\",'Gefilterde data'!DZ492)","v":{"v":5.333333333333334,"d":"5"}},{"$f":"IF('Gefilterde data'!DW492=0,\"\",'Gefilterde data'!DW492)","v":{"v":4356,"d":"4,356"}},{"$f":"IF('Gefilterde data'!I492=0,\"\",'Gefilterde data'!I492)","v":{"v":2250,"d":"2,250"}},{"$f":"IF('Gefilterde data'!DI492=0,\"\",'Gefilterde data'!DI492)","v":0.7},{"$f":"IF('Gefilterde data'!EA492=0,\"\",'Gefilterde data'!EA492)","v":{"v":22.22222222222222,"d":"22"}},{"$f":"IF('Gefilterde data'!EA492=0,\"\",'Gefilterde data'!EB492)","v":{"v":2.4444444444444446,"d":"2"}}]
[null,{"$f":"IF('Gefilterde data'!C493=0,\"\",'Gefilterde data'!C493)","v":"G-buurt-West"},{"$f":"IF(B506=\"\",\"\",IF(LEFT(D506,2)=\"BU\",'Gefilterde data'!G493,\"-\"))","v":"Ganzenhoef e.o."},{"$f":"IF('Gefilterde data'!C493=0,\"\",'Gefilterde data'!A493)","v":"BU0363TE02"},{"v":1.2419420504442755,"d":"1.24"},{"v":2.5037227663992234,"d":"2.50"},{"$f":"IF('Gefilterde data'!CL493=0,\"\",'Gefilterde data'!CL493)","v":14},{"$f":"IF('Gefilterde data'!DX493=0,\"\",'Gefilterde data'!DX493)","v":{"v":86.08108108108108,"d":"86.1"}},null,{"$f":"IF('Gefilterde data'!DZ493=0,\"\",'Gefilterde data'!DZ493)","v":{"v":2.9729729729729732,"d":"3"}},{"$f":"IF('Gefilterde data'!DW493=0,\"\",'Gefilterde data'!DW493)","v":{"v":4043,"d":"4,043"}},{"$f":"IF('Gefilterde data'!I493=0,\"\",'Gefilterde data'!I493)","v":{"v":3700,"d":"3,700"}},{"$f":"IF('Gefilterde data'!DI493=0,\"\",'Gefilterde data'!DI493)","v":0.6},{"$f":"IF('Gefilterde data'!EA493=0,\"\",'Gefilterde data'!EA493)","v":{"v":12.702702702702704,"d":"13"}},{"$f":"IF('Gefilterde data'!EA493=0,\"\",'Gefilterde data'!EB493)","v":{"v":12.837837837837837,"d":"13"}}]
[null,{"$f":"IF('Gefilterde data'!C494=0,\"\",'Gefilterde data'!C494)","v":"G-buurt-Noord"},{"$f":"IF(B507=\"\",\"\",IF(LEFT(D507,2)=\"BU\",'Gefilterde data'!G494,\"-\"))","v":"Ganzenhoef e.o."},{"$f":"IF('Gefilterde data'!C494=0,\"\",'Gefilterde data'!A494)","v":"BU0363TE03"},{"v":1.9543944097323327,"d":"1.95"},{"v":3.9400081319573355,"d":"3.94"},{"$f":"IF('Gefilterde data'!CL494=0,\"\",'Gefilterde data'!CL494)","v":33.8},{"$f":"IF('Gefilterde data'!DX494=0,\"\",'Gefilterde data'!DX494)","v":{"v":90.93484419263456,"d":"90.9"}},null,{"$f":"IF('Gefilterde data'!DZ494=0,\"\",'Gefilterde data'!DZ494)","v":{"v":0.56657223796034,"d":"1"}},{"$f":"IF('Gefilterde data'!DW494=0,\"\",'Gefilterde data'!DW494)","v":{"v":4013,"d":"4,013"}},{"$f":"IF('Gefilterde data'!I494=0,\"\",'Gefilterde data'!I494)","v":{"v":1765,"d":"1,765"}},{"$f":"IF('Gefilterde data'!DI494=0,\"\",'Gefilterde data'!DI494)","v":0.3},{"$f":"IF('Gefilterde data'!EA494=0,\"\",'Gefilterde data'!EA494)","v":{"v":17.56373937677054,"d":"18"}},{"$f":"IF('Gefilterde data'!EA494=0,\"\",'Gefilterde data'!EB494)","v":{"v":8.78186968838527,"d":"9"}}]
[null,{"$f":"IF('Gefilterde data'!C495=0,\"\",'Gefilterde data'!C495)","v":"G-buurt-Oost"},{"$f":"IF(B508=\"\",\"\",IF(LEFT(D508,2)=\"BU\",'Gefilterde data'!G495,\"-\"))","v":"Geerdinkhof/Kantershof"},{"$f":"IF('Gefilterde data'!C495=0,\"\",'Gefilterde data'!A495)","v":"BU0363TF01"},{"v":0.9400644679935791,"d":"0.94"},{"v":1.895145437386979,"d":"1.90"},{"$f":"IF('Gefilterde data'!CL495=0,\"\",'Gefilterde data'!CL495)","v":13.2},{"$f":"IF('Gefilterde data'!DX495=0,\"\",'Gefilterde data'!DX495)","v":{"v":55.30903328050714,"d":"55.3"}},null,{"$f":"IF('Gefilterde data'!DZ495=0,\"\",'Gefilterde data'!DZ495)","v":{"v":5.388272583201268,"d":"5"}},{"$f":"IF('Gefilterde data'!DW495=0,\"\",'Gefilterde data'!DW495)","v":{"v":2647,"d":"2,647"}},{"$f":"IF('Gefilterde data'!I495=0,\"\",'Gefilterde data'!I495)","v":{"v":3155,"d":"3,155"}},{"$f":"IF('Gefilterde data'!DI495=0,\"\",'Gefilterde data'!DI495)","v":0.5},{"$f":"IF('Gefilterde data'!EA495=0,\"\",'Gefilterde data'!EA495)","v":{"v":7.765451664025356,"d":"8"}},{"$f":"IF('Gefilterde data'!EA495=0,\"\",'Gefilterde data'!EB495)","v":{"v":32.32963549920761,"d":"32"}}]
[null,{"$f":"IF('Gefilterde data'!C496=0,\"\",'Gefilterde data'!C496)","v":"Grunder/Koningshoef"},{"$f":"IF(B509=\"\",\"\",IF(LEFT(D509,2)=\"BU\",'Gefilterde data'!G496,\"-\"))","v":"Geerdinkhof/Kantershof"},{"$f":"IF('Gefilterde data'!C496=0,\"\",'Gefilterde data'!A496)","v":"BU0363TF02"},{"v":1.1221847443831408,"d":"1.12"},{"v":2.262295162332961,"d":"2.26"},{"$f":"IF('Gefilterde data'!CL496=0,\"\",'Gefilterde data'!CL496)","v":10.1},{"$f":"IF('Gefilterde data'!DX496=0,\"\",'Gefilterde data'!DX496)","v":{"v":87.42857142857143,"d":"87.4"}},null,{"$f":"IF('Gefilterde data'!DZ496=0,\"\",'Gefilterde data'!DZ496)","v":{"v":2.2857142857142856,"d":"2"}},{"$f":"IF('Gefilterde data'!DW496=0,\"\",'Gefilterde data'!DW496)","v":{"v":3443,"d":"3,443"}},{"$f":"IF('Gefilterde data'!I496=0,\"\",'Gefilterde data'!I496)","v":{"v":1750,"d":"1,750"}},{"$f":"IF('Gefilterde data'!DI496=0,\"\",'Gefilterde data'!DI496)","v":0.7},{"$f":"IF('Gefilterde data'!EA496=0,\"\",'Gefilterde data'!EA496)","v":18},{"$f":"IF('Gefilterde data'!EA496=0,\"\",'Gefilterde data'!EB496)","v":{"v":8.857142857142856,"d":"9"}}]
[null,{"$f":"IF('Gefilterde data'!C497=0,\"\",'Gefilterde data'!C497)","v":"Kantershof"},{"$f":"IF(B510=\"\",\"\",IF(LEFT(D510,2)=\"BU\",'Gefilterde data'!G497,\"-\"))","v":"Geerdinkhof/Kantershof"},{"$f":"IF('Gefilterde data'!C497=0,\"\",'Gefilterde data'!A497)","v":"BU0363TF03"},{"v":1.4775463924693975,"d":"1.48"},{"v":2.9786949720506772,"d":"2.98"},{"$f":"IF('Gefilterde data'!CL497=0,\"\",'Gefilterde data'!CL497)","v":24.4},{"$f":"IF('Gefilterde data'!DX497=0,\"\",'Gefilterde data'!DX497)","v":{"v":73.11111111111111,"d":"73.1"}},null,{"$f":"IF('Gefilterde data'!DZ497=0,\"\",'Gefilterde data'!DZ497)","v":{"v":1.7777777777777777,"d":"2"}},{"$f":"IF('Gefilterde data'!DW497=0,\"\",'Gefilterde data'!DW497)","v":{"v":2127,"d":"2,127"}},{"$f":"IF('Gefilterde data'!I497=0,\"\",'Gefilterde data'!I497)","v":{"v":2250,"d":"2,250"}},{"$f":"IF('Gefilterde data'!DI497=0,\"\",'Gefilterde data'!DI497)","v":0.6},{"$f":"IF('Gefilterde data'!EA497=0,\"\",'Gefilterde data'!EA497)","v":{"v":14.222222222222221,"d":"14"}},{"$f":"IF('Gefilterde data'!EA497=0,\"\",'Gefilterde data'!EB497)","v":{"v":22.88888888888889,"d":"23"}}]
[null,{"$f":"IF('Gefilterde data'!C498=0,\"\",'Gefilterde data'!C498)","v":"Bijlmermuseum-Noord"},{"$f":"IF(B511=\"\",\"\",IF(LEFT(D511,2)=\"BU\",'Gefilterde data'!G498,\"-\"))","v":"Bijlmermuseum"},{"$f":"IF('Gefilterde data'!C498=0,\"\",'Gefilterde data'!A498)","v":"BU0363TG01"},{"v":1.9483491359125251,"d":"1.95"},{"v":3.927821017682273,"d":"3.93"},{"$f":"IF('Gefilterde data'!CL498=0,\"\",'Gefilterde data'!CL498)","v":34.2},{"$f":"IF('Gefilterde data'!DX498=0,\"\",'Gefilterde data'!DX498)","v":{"v":88.74458874458875,"d":"88.7"}},null,{"$f":"IF('Gefilterde data'!DZ498=0,\"\",'Gefilterde data'!DZ498)","v":{"v":1.7316017316017316,"d":"2"}},{"$f":"IF('Gefilterde data'!DW498=0,\"\",'Gefilterde data'!DW498)","v":{"v":3910,"d":"3,910"}},{"$f":"IF('Gefilterde data'!I498=0,\"\",'Gefilterde data'!I498)","v":{"v":2310,"d":"2,310"}},{"$f":"IF('Gefilterde data'!DI498=0,\"\",'Gefilterde data'!DI498)","v":0.3},{"$f":"IF('Gefilterde data'!EA498=0,\"\",'Gefilterde data'!EA498)","v":{"v":15.584415584415584,"d":"16"}},{"$f":"IF('Gefilterde data'!EA498=0,\"\",'Gefilterde data'!EB498)","v":{"v":20.995670995670995,"d":"21"}}]
[null,{"$f":"IF('Gefilterde data'!C499=0,\"\",'Gefilterde data'!C499)","v":"Bijlmermuseum-Zuid"},{"$f":"IF(B512=\"\",\"\",IF(LEFT(D512,2)=\"BU\",'Gefilterde data'!G499,\"-\"))","v":"Bijlmermuseum"},{"$f":"IF('Gefilterde data'!C499=0,\"\",'Gefilterde data'!A499)","v":"BU0363TG02"},{"v":1.5520188588594512,"d":"1.55"},{"v":3.128829521004856,"d":"3.13"},{"$f":"IF('Gefilterde data'!CL499=0,\"\",'Gefilterde data'!CL499)","v":23.4},{"$f":"IF('Gefilterde data'!DX499=0,\"\",'Gefilterde data'!DX499)","v":{"v":85.23274478330659,"d":"85.2"}},null,{"$f":"IF('Gefilterde data'!DZ499=0,\"\",'Gefilterde data'!DZ499)","v":{"v":3.8523274478330656,"d":"4"}},{"$f":"IF('Gefilterde data'!DW499=0,\"\",'Gefilterde data'!DW499)","v":{"v":3927,"d":"3,927"}},{"$f":"IF('Gefilterde data'!I499=0,\"\",'Gefilterde data'!I499)","v":{"v":3115,"d":"3,115"}},{"$f":"IF('Gefilterde data'!DI499=0,\"\",'Gefilterde data'!DI499)","v":0.3},{"$f":"IF('Gefilterde data'!EA499=0,\"\",'Gefilterde data'!EA499)","v":{"v":17.656500802568218,"d":"18"}},{"$f":"IF('Gefilterde data'!EA499=0,\"\",'Gefilterde data'!EB499)","v":{"v":9.630818619582666,"d":"10"}}]
[null,{"$f":"IF('Gefilterde data'!C500=0,\"\",'Gefilterde data'!C500)","v":"De Kameleon e.o."},{"$f":"IF(B513=\"\",\"\",IF(LEFT(D513,2)=\"BU\",'Gefilterde data'!G500,\"-\"))","v":"Bijlmermuseum"},{"$f":"IF('Gefilterde data'!C500=0,\"\",'Gefilterde data'!A500)","v":"BU0363TG03"},{"v":1.5952675197267905,"d":"1.60"},{"v":3.2160176927807456,"d":"3.22"},{"$f":"IF('Gefilterde data'!CL500=0,\"\",'Gefilterde data'!CL500)","v":24.8},{"$f":"IF('Gefilterde data'!DX500=0,\"\",'Gefilterde data'!DX500)","v":{"v":84.77801268498943,"d":"84.8"}},null,{"$f":"IF('Gefilterde data'!DZ500=0,\"\",'Gefilterde data'!DZ500)","v":{"v":2.9598308668076108,"d":"3"}},{"$f":"IF('Gefilterde data'!DW500=0,\"\",'Gefilterde data'!DW500)","v":{"v":3191,"d":"3,191"}},{"$f":"IF('Gefilterde data'!I500=0,\"\",'Gefilterde data'!I500)","v":{"v":2365,"d":"2,365"}},{"$f":"IF('Gefilterde data'!DI500=0,\"\",'Gefilterde data'!DI500)","v":0.4},{"$f":"IF('Gefilterde data'!EA500=0,\"\",'Gefilterde data'!EA500)","v":{"v":17.758985200845668,"d":"18"}},{"$f":"IF('Gefilterde data'!EA500=0,\"\",'Gefilterde data'!EB500)","v":{"v":8.0338266384778,"d":"8"}}]
[null,{"$f":"IF('Gefilterde data'!C501=0,\"\",'Gefilterde data'!C501)","v":"Gooise Kant"},{"$f":"IF(B514=\"\",\"\",IF(LEFT(D514,2)=\"BU\",'Gefilterde data'!G501,\"-\"))","v":"K-buurt"},{"$f":"IF('Gefilterde data'!C501=0,\"\",'Gefilterde data'!A501)","v":"BU0363TH01"},{"v":0.8289883675774634,"d":"0.83"},{"v":1.6712189173732712,"d":"1.67"},{"$f":"IF('Gefilterde data'!CL501=0,\"\",'Gefilterde data'!CL501)","v":3.6},{"$f":"IF('Gefilterde data'!DX501=0,\"\",'Gefilterde data'!DX501)","v":{"v":79.19463087248322,"d":"79.2"}},null,{"$f":"IF('Gefilterde data'!DZ501=0,\"\",'Gefilterde data'!DZ501)","v":{"v":2.684563758389262,"d":"3"}},{"$f":"IF('Gefilterde data'!DW501=0,\"\",'Gefilterde data'!DW501)","v":{"v":3573,"d":"3,573"}},{"$f":"IF('Gefilterde data'!I501=0,\"\",'Gefilterde data'!I501)","v":745},{"$f":"IF('Gefilterde data'!DI501=0,\"\",'Gefilterde data'!DI501)","v":0.9},{"$f":"IF('Gefilterde data'!EA501=0,\"\",'Gefilterde data'!EA501)","v":{"v":28.859060402684566,"d":"29"}},{"$f":"IF('Gefilterde data'!EA501=0,\"\",'Gefilterde data'!EB501)","v":{"v":1.342281879194631,"d":"1"}}]
[null,{"$f":"IF('Gefilterde data'!C502=0,\"\",'Gefilterde data'!C502)","v":"Kortvoort"},{"$f":"IF(B515=\"\",\"\",IF(LEFT(D515,2)=\"BU\",'Gefilterde data'!G502,\"-\"))","v":"K-buurt"},{"$f":"IF('Gefilterde data'!C502=0,\"\",'Gefilterde data'!A502)","v":"BU0363TH02"},{"v":1.7195530278346005,"d":"1.72"},{"v":3.4665740340139806,"d":"3.47"},{"$f":"IF('Gefilterde data'!CL502=0,\"\",'Gefilterde data'!CL502)","v":29.5},{"$f":"IF('Gefilterde data'!DX502=0,\"\",'Gefilterde data'!DX502)","v":{"v":80.9106830122592,"d":"80.9"}},null,{"$f":"IF('Gefilterde data'!DZ502=0,\"\",'Gefilterde data'!DZ502)","v":{"v":1.0507880910683012,"d":"1"}},{"$f":"IF('Gefilterde data'!DW502=0,\"\",'Gefilterde data'!DW502)","v":{"v":3813,"d":"3,813"}},{"$f":"IF('Gefilterde data'!I502=0,\"\",'Gefilterde data'!I502)","v":{"v":2855,"d":"2,855"}},{"$f":"IF('Gefilterde data'!DI502=0,\"\",'Gefilterde data'!DI502)","v":0.4},{"$f":"IF('Gefilterde data'!EA502=0,\"\",'Gefilterde data'!EA502)","v":{"v":15.061295971978982,"d":"15"}},{"$f":"IF('Gefilterde data'!EA502=0,\"\",'Gefilterde data'!EB502)","v":{"v":18.914185639229423,"d":"19"}}]
[null,{"$f":"IF('Gefilterde data'!C503=0,\"\",'Gefilterde data'!C503)","v":"Kelbergen"},{"$f":"IF(B516=\"\",\"\",IF(LEFT(D516,2)=\"BU\",'Gefilterde data'!G503,\"-\"))","v":"K-buurt"},{"$f":"IF('Gefilterde data'!C503=0,\"\",'Gefilterde data'!A503)","v":"BU0363TH03"},{"v":1.2868591717622415,"d":"1.29"},{"v":2.5942745109066885,"d":"2.59"},{"$f":"IF('Gefilterde data'!CL503=0,\"\",'Gefilterde data'!CL503)","v":17.8},{"$f":"IF('Gefilterde data'!DX503=0,\"\",'Gefilterde data'!DX503)","v":{"v":76.73267326732673,"d":"76.7"}},null,{"$f":"IF('Gefilterde data'!DZ503=0,\"\",'Gefilterde data'!DZ503)","v":{"v":0.9900990099009901,"d":"1"}},{"$f":"IF('Gefilterde data'!DW503=0,\"\",'Gefilterde data'!DW503)","v":{"v":2900,"d":"2,900"}},{"$f":"IF('Gefilterde data'!I503=0,\"\",'Gefilterde data'!I503)","v":{"v":1010,"d":"1,010"}},{"$f":"IF('Gefilterde data'!DI503=0,\"\",'Gefilterde data'!DI503)","v":0.6},{"$f":"IF('Gefilterde data'!EA503=0,\"\",'Gefilterde data'!EA503)","v":{"v":18.81188118811881,"d":"19"}},{"$f":"IF('Gefilterde data'!EA503=0,\"\",'Gefilterde data'!EB503)","v":{"v":15.841584158415841,"d":"16"}}]
[null,{"$f":"IF('Gefilterde data'!C504=0,\"\",'Gefilterde data'!C504)","v":"K-buurt-Zuidwest"},{"$f":"IF(B517=\"\",\"\",IF(LEFT(D517,2)=\"BU\",'Gefilterde data'!G504,\"-\"))","v":"K-buurt"},{"$f":"IF('Gefilterde data'!C504=0,\"\",'Gefilterde data'!A504)","v":"BU0363TH04"},{"v":1.3031258809161888,"d":"1.30"},{"v":2.6270677720967437,"d":"2.63"},{"$f":"IF('Gefilterde data'!CL504=0,\"\",'Gefilterde data'!CL504)","v":15.8},{"$f":"IF('Gefilterde data'!DX504=0,\"\",'Gefilterde data'!DX504)","v":{"v":86.12099644128114,"d":"86.1"}},null,{"$f":"IF('Gefilterde data'!DZ504=0,\"\",'Gefilterde data'!DZ504)","v":{"v":2.8469750889679712,"d":"3"}},{"$f":"IF('Gefilterde data'!DW504=0,\"\",'Gefilterde data'!DW504)","v":{"v":3048,"d":"3,048"}},{"$f":"IF('Gefilterde data'!I504=0,\"\",'Gefilterde data'!I504)","v":{"v":1405,"d":"1,405"}},{"$f":"IF('Gefilterde data'!DI504=0,\"\",'Gefilterde data'!DI504)","v":0.7},{"$f":"IF('Gefilterde data'!EA504=0,\"\",'Gefilterde data'!EA504)","v":{"v":17.08185053380783,"d":"17"}},{"$f":"IF('Gefilterde data'!EA504=0,\"\",'Gefilterde data'!EB504)","v":{"v":9.252669039145907,"d":"9"}}]
[null,{"$f":"IF('Gefilterde data'!C505=0,\"\",'Gefilterde data'!C505)","v":"K-buurt-Zuidoost"},{"$f":"IF(B518=\"\",\"\",IF(LEFT(D518,2)=\"BU\",'Gefilterde data'!G505,\"-\"))","v":"K-buurt"},{"$f":"IF('Gefilterde data'!C505=0,\"\",'Gefilterde data'!A505)","v":"BU0363TH05"},{"v":1.0346966835973235,"d":"1.03"},{"v":2.0859215147064782,"d":"2.09"},{"$f":"IF('Gefilterde data'!CL505=0,\"\",'Gefilterde data'!CL505)","v":9.4},{"$f":"IF('Gefilterde data'!DX505=0,\"\",'Gefilterde data'!DX505)","v":{"v":80.28169014084507,"d":"80.3"}},null,{"$f":"IF('Gefilterde data'!DZ505=0,\"\",'Gefilterde data'!DZ505)","v":{"v":2.112676056338028,"d":"2"}},{"$f":"IF('Gefilterde data'!DW505=0,\"\",'Gefilterde data'!DW505)","v":{"v":2443,"d":"2,443"}},{"$f":"IF('Gefilterde data'!I505=0,\"\",'Gefilterde data'!I505)","v":{"v":1420,"d":"1,420"}},{"$f":"IF('Gefilterde data'!DI505=0,\"\",'Gefilterde data'!DI505)","v":0.8},{"$f":"IF('Gefilterde data'!EA505=0,\"\",'Gefilterde data'!EA505)","v":{"v":25.352112676056336,"d":"25"}},{"$f":"IF('Gefilterde data'!EA505=0,\"\",'Gefilterde data'!EB505)","v":{"v":3.873239436619718,"d":"4"}}]
[null,{"$f":"IF('Gefilterde data'!C506=0,\"\",'Gefilterde data'!C506)","v":"Holendrecht-West"},{"$f":"IF(B519=\"\",\"\",IF(LEFT(D519,2)=\"BU\",'Gefilterde data'!G506,\"-\"))","v":"Holendrecht"},{"$f":"IF('Gefilterde data'!C506=0,\"\",'Gefilterde data'!A506)","v":"BU0363TJ01"},{"v":1.9348785669538637,"d":"1.93"},{"v":3.9006647021632954,"d":"3.90"},{"$f":"IF('Gefilterde data'!CL506=0,\"\",'Gefilterde data'!CL506)","v":35.9},{"$f":"IF('Gefilterde data'!DX506=0,\"\",'Gefilterde data'!DX506)","v":{"v":80.80438756855575,"d":"80.8"}},null,{"$f":"IF('Gefilterde data'!DZ506=0,\"\",'Gefilterde data'!DZ506)","v":{"v":1.0968921389396709,"d":"1"}},{"$f":"IF('Gefilterde data'!DW506=0,\"\",'Gefilterde data'!DW506)","v":{"v":2841,"d":"2,841"}},{"$f":"IF('Gefilterde data'!I506=0,\"\",'Gefilterde data'!I506)","v":{"v":2735,"d":"2,735"}},{"$f":"IF('Gefilterde data'!DI506=0,\"\",'Gefilterde data'!DI506)","v":0.4},{"$f":"IF('Gefilterde data'!EA506=0,\"\",'Gefilterde data'!EA506)","v":{"v":20.47531992687386,"d":"20"}},{"$f":"IF('Gefilterde data'!EA506=0,\"\",'Gefilterde data'!EB506)","v":{"v":20.29250457038391,"d":"20"}}]
[null,{"$f":"IF('Gefilterde data'!C507=0,\"\",'Gefilterde data'!C507)","v":"Holendrecht-Oost"},{"$f":"IF(B520=\"\",\"\",IF(LEFT(D520,2)=\"BU\",'Gefilterde data'!G507,\"-\"))","v":"Holendrecht"},{"$f":"IF('Gefilterde data'!C507=0,\"\",'Gefilterde data'!A507)","v":"BU0363TJ02"},{"v":0.8024728933397138,"d":"0.80"},{"v":1.617764413206046,"d":"1.62"},{"$f":"IF('Gefilterde data'!CL507=0,\"\",'Gefilterde data'!CL507)","v":8.1},{"$f":"IF('Gefilterde data'!DX507=0,\"\",'Gefilterde data'!DX507)","v":{"v":59.199999999999996,"d":"59.2"}},null,{"$f":"IF('Gefilterde data'!DZ507=0,\"\",'Gefilterde data'!DZ507)","v":{"v":1.6,"d":"2"}},{"$f":"IF('Gefilterde data'!DW507=0,\"\",'Gefilterde data'!DW507)","v":{"v":2991,"d":"2,991"}},{"$f":"IF('Gefilterde data'!I507=0,\"\",'Gefilterde data'!I507)","v":{"v":2500,"d":"2,500"}},{"$f":"IF('Gefilterde data'!DI507=0,\"\",'Gefilterde data'!DI507)","v":0.8},{"$f":"IF('Gefilterde data'!EA507=0,\"\",'Gefilterde data'!EA507)","v":{"v":14.6,"d":"15"}},{"$f":"IF('Gefilterde data'!EA507=0,\"\",'Gefilterde data'!EB507)","v":{"v":28.599999999999998,"d":"29"}}]
[null,{"$f":"IF('Gefilterde data'!C508=0,\"\",'Gefilterde data'!C508)","v":"Holendrecht-Zuid"},{"$f":"IF(B521=\"\",\"\",IF(LEFT(D521,2)=\"BU\",'Gefilterde data'!G508,\"-\"))","v":"Holendrecht"},{"$f":"IF('Gefilterde data'!C508=0,\"\",'Gefilterde data'!A508)","v":"BU0363TJ03"},{"v":1.548031623640911,"d":"1.55"},{"v":3.120791358847389,"d":"3.12"},{"$f":"IF('Gefilterde data'!CL508=0,\"\",'Gefilterde data'!CL508)","v":23.5},{"$f":"IF('Gefilterde data'!DX508=0,\"\",'Gefilterde data'!DX508)","v":{"v":84.40797186400938,"d":"84.4"}},null,{"$f":"IF('Gefilterde data'!DZ508=0,\"\",'Gefilterde data'!DZ508)","v":{"v":1.406799531066823,"d":"1"}},{"$f":"IF('Gefilterde data'!DW508=0,\"\",'Gefilterde data'!DW508)","v":{"v":3084,"d":"3,084"}},{"$f":"IF('Gefilterde data'!I508=0,\"\",'Gefilterde data'!I508)","v":{"v":4265,"d":"4,265"}},{"$f":"IF('Gefilterde data'!DI508=0,\"\",'Gefilterde data'!DI508)","v":0.5},{"$f":"IF('Gefilterde data'!EA508=0,\"\",'Gefilterde data'!EA508)","v":{"v":18.522860492379838,"d":"19"}},{"$f":"IF('Gefilterde data'!EA508=0,\"\",'Gefilterde data'!EB508)","v":{"v":12.895662368112543,"d":"13"}}]
[null,{"$f":"IF('Gefilterde data'!C509=0,\"\",'Gefilterde data'!C509)","v":"L-buurt"},{"$f":"IF(B522=\"\",\"\",IF(LEFT(D522,2)=\"BU\",'Gefilterde data'!G509,\"-\"))","v":"Nellestein"},{"$f":"IF('Gefilterde data'!C509=0,\"\",'Gefilterde data'!A509)","v":"BU0363TK01"},{"v":0.9533262015198004,"d":"0.95"},{"v":1.9218807461235197,"d":"1.92"},{"$f":"IF('Gefilterde data'!CL509=0,\"\",'Gefilterde data'!CL509)","v":11.9},{"$f":"IF('Gefilterde data'!DX509=0,\"\",'Gefilterde data'!DX509)","v":{"v":61.7124394184168,"d":"61.7"}},null,{"$f":"IF('Gefilterde data'!DZ509=0,\"\",'Gefilterde data'!DZ509)","v":{"v":1.938610662358643,"d":"2"}},{"$f":"IF('Gefilterde data'!DW509=0,\"\",'Gefilterde data'!DW509)","v":{"v":2106,"d":"2,106"}},{"$f":"IF('Gefilterde data'!I509=0,\"\",'Gefilterde data'!I509)","v":{"v":3095,"d":"3,095"}},{"$f":"IF('Gefilterde data'!DI509=0,\"\",'Gefilterde data'!DI509)","v":0.5},{"$f":"IF('Gefilterde data'!EA509=0,\"\",'Gefilterde data'!EA509)","v":{"v":12.762520193861066,"d":"13"}},{"$f":"IF('Gefilterde data'!EA509=0,\"\",'Gefilterde data'!EB509)","v":{"v":20.516962843295637,"d":"21"}}]
[null,{"$f":"IF('Gefilterde data'!C510=0,\"\",'Gefilterde data'!C510)","v":"Gaasperpark"},{"$f":"IF(B523=\"\",\"\",IF(LEFT(D523,2)=\"BU\",'Gefilterde data'!G510,\"-\"))","v":"Nellestein"},{"$f":"IF('Gefilterde data'!C510=0,\"\",'Gefilterde data'!A510)","v":"BU0363TK02"},"Ontbrekende waarde","Ontbrekende waarde",{"$f":"IF('Gefilterde data'!CL510=0,\"\",'Gefilterde data'!CL510)","v":"."},{"$f":"IF('Gefilterde data'!DX510=0,\"\",'Gefilterde data'!DX510)","v":{"v":66.66666666666666,"d":"66.7"}},null,{"$f":"IF('Gefilterde data'!DZ510=0,\"\",'Gefilterde data'!DZ510)","v":""},{"$f":"IF('Gefilterde data'!DW510=0,\"\",'Gefilterde data'!DW510)","v":{"v":1101,"d":"1,101"}},{"$f":"IF('Gefilterde data'!I510=0,\"\",'Gefilterde data'!I510)","v":15},{"$f":"IF('Gefilterde data'!DI510=0,\"\",'Gefilterde data'!DI510)","v":"."},{"$f":"IF('Gefilterde data'!EA510=0,\"\",'Gefilterde data'!EA510)","v":""},{"$f":"IF('Gefilterde data'!EA510=0,\"\",'Gefilterde data'!EB510)","v":""}]
[null,{"$f":"IF('Gefilterde data'!C511=0,\"\",'Gefilterde data'!C511)","v":"Gaasperplas"},{"$f":"IF(B524=\"\",\"\",IF(LEFT(D524,2)=\"BU\",'Gefilterde data'!G511,\"-\"))","v":"Nellestein"},{"$f":"IF('Gefilterde data'!C511=0,\"\",'Gefilterde data'!A511)","v":"BU0363TK03"},"Ontbrekende waarde","Ontbrekende waarde",{"$f":"IF('Gefilterde data'!CL511=0,\"\",'Gefilterde data'!CL511)","v":"."},{"$f":"IF('Gefilterde data'!DX511=0,\"\",'Gefilterde data'!DX511)","v":""},null,{"$f":"IF('Gefilterde data'!DZ511=0,\"\",'Gefilterde data'!DZ511)","v":""},{"$f":"IF('Gefilterde data'!DW511=0,\"\",'Gefilterde data'!DW511)","v":589},{"$f":"IF('Gefilterde data'!I511=0,\"\",'Gefilterde data'!I511)","v":5},{"$f":"IF('Gefilterde data'!DI511=0,\"\",'Gefilterde data'!DI511)","v":"."},{"$f":"IF('Gefilterde data'!EA511=0,\"\",'Gefilterde data'!EA511)","v":""},{"$f":"IF('Gefilterde data'!EA511=0,\"\",'Gefilterde data'!EB511)","v":""}]
[null,{"$f":"IF('Gefilterde data'!C512=0,\"\",'Gefilterde data'!C512)","v":"Reigersbos 1"},{"$f":"IF(B525=\"\",\"\",IF(LEFT(D525,2)=\"BU\",'Gefilterde data'!G512,\"-\"))","v":"Reigersbos"},{"$f":"IF('Gefilterde data'!C512=0,\"\",'Gefilterde data'!A512)","v":"BU0363TL01"},{"v":1.3442281320162763,"d":"1.34"},{"v":2.7099288377903754,"d":"2.71"},{"$f":"IF('Gefilterde data'!CL512=0,\"\",'Gefilterde data'!CL512)","v":19.2},{"$f":"IF('Gefilterde data'!DX512=0,\"\",'Gefilterde data'!DX512)","v":{"v":77.85888077858881,"d":"77.9"}},null,{"$f":"IF('Gefilterde data'!DZ512=0,\"\",'Gefilterde data'!DZ512)","v":{"v":1.9464720194647203,"d":"2"}},{"$f":"IF('Gefilterde data'!DW512=0,\"\",'Gefilterde data'!DW512)","v":{"v":3099,"d":"3,099"}},{"$f":"IF('Gefilterde data'!I512=0,\"\",'Gefilterde data'!I512)","v":{"v":2055,"d":"2,055"}},{"$f":"IF('Gefilterde data'!DI512=0,\"\",'Gefilterde data'!DI512)","v":0.5},{"$f":"IF('Gefilterde data'!EA512=0,\"\",'Gefilterde data'!EA512)","v":{"v":13.86861313868613,"d":"14"}},{"$f":"IF('Gefilterde data'!EA512=0,\"\",'Gefilterde data'!EB512)","v":{"v":11.922141119221411,"d":"12"}}]
[null,{"$f":"IF('Gefilterde data'!C513=0,\"\",'Gefilterde data'!C513)","v":"Reigersbos 2"},{"$f":"IF(B526=\"\",\"\",IF(LEFT(D526,2)=\"BU\",'Gefilterde data'!G513,\"-\"))","v":"Reigersbos"},{"$f":"IF('Gefilterde data'!C513=0,\"\",'Gefilterde data'!A513)","v":"BU0363TL02"},{"v":1.320153199734205,"d":"1.32"},{"v":2.661394402522177,"d":"2.66"},{"$f":"IF('Gefilterde data'!CL513=0,\"\",'Gefilterde data'!CL513)","v":19.2},{"$f":"IF('Gefilterde data'!DX513=0,\"\",'Gefilterde data'!DX513)","v":{"v":75.16339869281046,"d":"75.2"}},null,{"$f":"IF('Gefilterde data'!DZ513=0,\"\",'Gefilterde data'!DZ513)","v":{"v":2.6143790849673203,"d":"3"}},{"$f":"IF('Gefilterde data'!DW513=0,\"\",'Gefilterde data'!DW513)","v":{"v":2990,"d":"2,990"}},{"$f":"IF('Gefilterde data'!I513=0,\"\",'Gefilterde data'!I513)","v":{"v":1530,"d":"1,530"}},{"$f":"IF('Gefilterde data'!DI513=0,\"\",'Gefilterde data'!DI513)","v":0.4},{"$f":"IF('Gefilterde data'!EA513=0,\"\",'Gefilterde data'!EA513)","v":{"v":11.11111111111111,"d":"11"}},{"$f":"IF('Gefilterde data'!EA513=0,\"\",'Gefilterde data'!EB513)","v":{"v":19.28104575163399,"d":"19"}}]
[null,{"$f":"IF('Gefilterde data'!C514=0,\"\",'Gefilterde data'!C514)","v":"Reigersbos 3"},{"$f":"IF(B527=\"\",\"\",IF(LEFT(D527,2)=\"BU\",'Gefilterde data'!G514,\"-\"))","v":"Reigersbos"},{"$f":"IF('Gefilterde data'!C514=0,\"\",'Gefilterde data'!A514)","v":"BU0363TL03"},{"v":1.3272826247648266,"d":"1.33"},{"v":2.6757671373483456,"d":"2.68"},{"$f":"IF('Gefilterde data'!CL514=0,\"\",'Gefilterde data'!CL514)","v":19.4},{"$f":"IF('Gefilterde data'!DX514=0,\"\",'Gefilterde data'!DX514)","v":{"v":75.20491803278688,"d":"75.2"}},null,{"$f":"IF('Gefilterde data'!DZ514=0,\"\",'Gefilterde data'!DZ514)","v":{"v":2.0491803278688523,"d":"2"}},{"$f":"IF('Gefilterde data'!DW514=0,\"\",'Gefilterde data'!DW514)","v":{"v":2522,"d":"2,522"}},{"$f":"IF('Gefilterde data'!I514=0,\"\",'Gefilterde data'!I514)","v":{"v":2440,"d":"2,440"}},{"$f":"IF('Gefilterde data'!DI514=0,\"\",'Gefilterde data'!DI514)","v":0.6},{"$f":"IF('Gefilterde data'!EA514=0,\"\",'Gefilterde data'!EA514)","v":{"v":14.139344262295081,"d":"14"}},{"$f":"IF('Gefilterde data'!EA514=0,\"\",'Gefilterde data'!EB514)","v":{"v":19.262295081967213,"d":"19"}}]
[null,{"$f":"IF('Gefilterde data'!C515=0,\"\",'Gefilterde data'!C515)","v":"Reigersbos 4"},{"$f":"IF(B528=\"\",\"\",IF(LEFT(D528,2)=\"BU\",'Gefilterde data'!G515,\"-\"))","v":"Reigersbos"},{"$f":"IF('Gefilterde data'!C515=0,\"\",'Gefilterde data'!A515)","v":"BU0363TL04"},{"v":0.995925464680081,"d":"1.00"},{"v":2.007759749067395,"d":"2.01"},{"$f":"IF('Gefilterde data'!CL515=0,\"\",'Gefilterde data'!CL515)","v":12.9},{"$f":"IF('Gefilterde data'!DX515=0,\"\",'Gefilterde data'!DX515)","v":{"v":62.698412698412696,"d":"62.7"}},null,{"$f":"IF('Gefilterde data'!DZ515=0,\"\",'Gefilterde data'!DZ515)","v":{"v":1.1904761904761905,"d":"1"}},{"$f":"IF('Gefilterde data'!DW515=0,\"\",'Gefilterde data'!DW515)","v":{"v":2145,"d":"2,145"}},{"$f":"IF('Gefilterde data'!I515=0,\"\",'Gefilterde data'!I515)","v":{"v":2520,"d":"2,520"}},{"$f":"IF('Gefilterde data'!DI515=0,\"\",'Gefilterde data'!DI515)","v":0.7},{"$f":"IF('Gefilterde data'!EA515=0,\"\",'Gefilterde data'!EA515)","v":{"v":16.865079365079367,"d":"17"}},{"$f":"IF('Gefilterde data'!EA515=0,\"\",'Gefilterde data'!EB515)","v":{"v":21.825396825396826,"d":"22"}}]
[null,{"$f":"IF('Gefilterde data'!C516=0,\"\",'Gefilterde data'!C516)","v":"Gein 1"},{"$f":"IF(B529=\"\",\"\",IF(LEFT(D529,2)=\"BU\",'Gefilterde data'!G516,\"-\"))","v":"Gein"},{"$f":"IF('Gefilterde data'!C516=0,\"\",'Gefilterde data'!A516)","v":"BU0363TM01"},{"$f":"IF(G529=\"\",\"\",IF(OR(NOT(ISNUMBER(G529)),NOT(ISNUMBER(H529))),\"Ontbrekende waarde\",F529/F$1))","v":{"v":1.5393915554187003,"d":"1.54"}},{"$f":"IF(G529=\"\",\"\",IF(OR(NOT(ISNUMBER(G529)),NOT(ISNUMBER(H529))),\"Ontbrekende waarde\",((G529/AVERAGE(G$16:G$532)+H529/AVERAGE(H$16:H$532)))))","v":{"v":3.1033732067657738,"d":"3.10"}},{"$f":"IF('Gefilterde data'!CL516=0,\"\",'Gefilterde data'!CL516)","v":25.5},{"$f":"IF('Gefilterde data'!DX516=0,\"\",'Gefilterde data'!DX516)","v":{"v":75.87354409317804,"d":"75.9"}},null,{"$f":"IF('Gefilterde data'!DZ516=0,\"\",'Gefilterde data'!DZ516)","v":{"v":2.329450915141431,"d":"2"}},{"$f":"IF('Gefilterde data'!DW516=0,\"\",'Gefilterde data'!DW516)","v":{"v":2460,"d":"2,460"}},{"$f":"IF('Gefilterde data'!I516=0,\"\",'Gefilterde data'!I516)","v":{"v":3005,"d":"3,005"}},{"$f":"IF('Gefilterde data'!DI516=0,\"\",'Gefilterde data'!DI516)","v":0.4},{"$f":"IF('Gefilterde data'!EA516=0,\"\",'Gefilterde data'!EA516)","v":{"v":15.640599001663894,"d":"16"}},{"$f":"IF('Gefilterde data'!EA516=0,\"\",'Gefilterde data'!EB516)","v":{"v":16.306156405990016,"d":"16"}}]
[null,{"$f":"IF('Gefilterde data'!C517=0,\"\",'Gefilterde data'!C517)","v":"Gein 2"},{"$f":"IF(B530=\"\",\"\",IF(LEFT(D530,2)=\"BU\",'Gefilterde data'!G517,\"-\"))","v":"Gein"},{"$f":"IF('Gefilterde data'!C517=0,\"\",'Gefilterde data'!A517)","v":"BU0363TM02"},{"v":1.436167749764143,"d":"1.44"},{"v":2.8952767080932054,"d":"2.90"},{"$f":"IF('Gefilterde data'!CL517=0,\"\",'Gefilterde data'!CL517)","v":20.7},{"$f":"IF('Gefilterde data'!DX517=0,\"\",'Gefilterde data'!DX517)","v":{"v":82.4773413897281,"d":"82.5"}},null,{"$f":"IF('Gefilterde data'!DZ517=0,\"\",'Gefilterde data'!DZ517)","v":{"v":1.812688821752266,"d":"2"}},{"$f":"IF('Gefilterde data'!DW517=0,\"\",'Gefilterde data'!DW517)","v":{"v":2585,"d":"2,585"}},{"$f":"IF('Gefilterde data'!I517=0,\"\",'Gefilterde data'!I517)","v":{"v":1655,"d":"1,655"}},{"$f":"IF('Gefilterde data'!DI517=0,\"\",'Gefilterde data'!DI517)","v":0.5},{"$f":"IF('Gefilterde data'!EA517=0,\"\",'Gefilterde data'!EA517)","v":{"v":16.61631419939577,"d":"17"}},{"$f":"IF('Gefilterde data'!EA517=0,\"\",'Gefilterde data'!EB517)","v":{"v":10.574018126888216,"d":"11"}}]
[null,{"$f":"IF('Gefilterde data'!C518=0,\"\",'Gefilterde data'!C518)","v":"Gein 3"},{"$f":"IF(B531=\"\",\"\",IF(LEFT(D531,2)=\"BU\",'Gefilterde data'!G518,\"-\"))","v":"Gein"},{"$f":"IF('Gefilterde data'!C518=0,\"\",'Gefilterde data'!A518)","v":"BU0363TM03"},{"v":0.528965117591395,"d":"0.53"},{"v":1.066379874222675,"d":"1.07"},{"$f":"IF('Gefilterde data'!CL518=0,\"\",'Gefilterde data'!CL518)","v":2.5},{"$f":"IF('Gefilterde data'!DX518=0,\"\",'Gefilterde data'!DX518)","v":{"v":49.76525821596244,"d":"49.8"}},null,{"$f":"IF('Gefilterde data'!DZ518=0,\"\",'Gefilterde data'!DZ518)","v":{"v":2.190923317683881,"d":"2"}},{"$f":"IF('Gefilterde data'!DW518=0,\"\",'Gefilterde data'!DW518)","v":{"v":1580,"d":"1,580"}},{"$f":"IF('Gefilterde data'!I518=0,\"\",'Gefilterde data'!I518)","v":{"v":3195,"d":"3,195"}},{"$f":"IF('Gefilterde data'!DI518=0,\"\",'Gefilterde data'!DI518)","v":{"v":1,"d":"1.0"}},{"$f":"IF('Gefilterde data'!EA518=0,\"\",'Gefilterde data'!EA518)","v":{"v":13.302034428794993,"d":"13"}},{"$f":"IF('Gefilterde data'!EA518=0,\"\",'Gefilterde data'!EB518)","v":{"v":23.630672926447573,"d":"24"}}]
[null,{"$f":"IF('Gefilterde data'!C519=0,\"\",'Gefilterde data'!C519)","v":"Gein 4"},{"$f":"IF(B532=\"\",\"\",IF(LEFT(D532,2)=\"BU\",'Gefilterde data'!G519,\"-\"))","v":"Gein"},{"$f":"IF('Gefilterde data'!C519=0,\"\",'Gefilterde data'!A519)","v":"BU0363TM04"},{"v":1.0505260152323836,"d":"1.05"},{"v":2.1178330342314076,"d":"2.12"},{"$f":"IF('Gefilterde data'!CL519=0,\"\",'Gefilterde data'!CL519)","v":14.2},{"$f":"IF('Gefilterde data'!DX519=0,\"\",'Gefilterde data'!DX519)","v":{"v":63.893016344725105,"d":"63.9"}},null,{"$f":"IF('Gefilterde data'!DZ519=0,\"\",'Gefilterde data'!DZ519)","v":{"v":1.188707280832095,"d":"1"}},{"$f":"IF('Gefilterde data'!DW519=0,\"\",'Gefilterde data'!DW519)","v":{"v":1871,"d":"1,871"}},{"$f":"IF('Gefilterde data'!I519=0,\"\",'Gefilterde data'!I519)","v":{"v":3365,"d":"3,365"}},{"$f":"IF('Gefilterde data'!DI519=0,\"\",'Gefilterde data'!DI519)","v":0.7},{"$f":"IF('Gefilterde data'!EA519=0,\"\",'Gefilterde data'!EA519)","v":{"v":15.601783060921248,"d":"16"}},{"$f":"IF('Gefilterde data'!EA519=0,\"\",'Gefilterde data'!EB519)","v":{"v":21.099554234769688,"d":"21"}}]
[null,null,{"$f":"IF(B533=\"\",\"\",IF(LEFT(D533,2)=\"BU\",'Gefilterde data'!G520,\"-\"))","v":""}]
[null,null,{"$f":"IF(B534=\"\",\"\",IF(LEFT(D534,2)=\"BU\",'Gefilterde data'!G521,\"-\"))","v":""}]
[null,null,{"$f":"IF(B535=\"\",\"\",IF(LEFT(D535,2)=\"BU\",'Gefilterde data'!G522,\"-\"))","v":""}]
[null,null,{"$f":"IF(B536=\"\",\"\",IF(LEFT(D536,2)=\"BU\",'Gefilterde data'!G523,\"-\"))","v":""}]
[null,null,{"$f":"IF(B537=\"\",\"\",IF(LEFT(D537,2)=\"BU\",'Gefilterde data'!G524,\"-\"))","v":""}]
[null,null,{"$f":"IF(B538=\"\",\"\",IF(LEFT(D538,2)=\"BU\",'Gefilterde data'!G525,\"-\"))","v":""}]
[null,null,{"$f":"IF(B539=\"\",\"\",IF(LEFT(D539,2)=\"BU\",'Gefilterde data'!G526,\"-\"))","v":""}]
[null,null,{"$f":"IF(B540=\"\",\"\",IF(LEFT(D540,2)=\"BU\",'Gefilterde data'!G527,\"-\"))","v":""}]
[null,null,{"$f":"IF(B541=\"\",\"\",IF(LEFT(D541,2)=\"BU\",'Gefilterde data'!G528,\"-\"))","v":""}]
[null,null,{"$f":"IF(B542=\"\",\"\",IF(LEFT(D542,2)=\"BU\",'Gefilterde data'!G529,\"-\"))","v":""}]
[null,null,{"$f":"IF(B543=\"\",\"\",IF(LEFT(D543,2)=\"BU\",'Gefilterde data'!G530,\"-\"))","v":""}]
[null,null,{"$f":"IF(B544=\"\",\"\",IF(LEFT(D544,2)=\"BU\",'Gefilterde data'!G531,\"-\"))","v":""}]
[null,null,{"$f":"IF(B545=\"\",\"\",IF(LEFT(D545,2)=\"BU\",'Gefilterde data'!G532,\"-\"))","v":""}]
[null,null,{"$f":"IF(B546=\"\",\"\",IF(LEFT(D546,2)=\"BU\",'Gefilterde data'!G533,\"-\"))","v":""}]
[null,null,{"$f":"IF(B547=\"\",\"\",IF(LEFT(D547,2)=\"BU\",'Gefilterde data'!G534,\"-\"))","v":""}]
[null,null,{"$f":"IF(B548=\"\",\"\",IF(LEFT(D548,2)=\"BU\",'Gefilterde data'!G535,\"-\"))","v":""}]
[null,null,{"$f":"IF(B549=\"\",\"\",IF(LEFT(D549,2)=\"BU\",'Gefilterde data'!G536,\"-\"))","v":""}]
[null,null,{"$f":"IF(B550=\"\",\"\",IF(LEFT(D550,2)=\"BU\",'Gefilterde data'!G537,\"-\"))","v":""}]
[null,null,{"$f":"IF(B551=\"\",\"\",IF(LEFT(D551,2)=\"BU\",'Gefilterde data'!G538,\"-\"))","v":""}]
[null,null,{"$f":"IF(B552=\"\",\"\",IF(LEFT(D552,2)=\"BU\",'Gefilterde data'!G539,\"-\"))","v":""}]
[null,null,{"$f":"IF(B553=\"\",\"\",IF(LEFT(D553,2)=\"BU\",'Gefilterde data'!G540,\"-\"))","v":""}]
[null,null,{"$f":"IF(B554=\"\",\"\",IF(LEFT(D554,2)=\"BU\",'Gefilterde data'!G541,\"-\"))","v":""}]
[null,null,{"$f":"IF(B555=\"\",\"\",IF(LEFT(D555,2)=\"BU\",'Gefilterde data'!G542,\"-\"))","v":""}]
[null,null,{"$f":"IF(B556=\"\",\"\",IF(LEFT(D556,2)=\"BU\",'Gefilterde data'!G543,\"-\"))","v":""}]
[null,null,{"$f":"IF(B557=\"\",\"\",IF(LEFT(D557,2)=\"BU\",'Gefilterde data'!G544,\"-\"))","v":""}]
[null,null,{"$f":"IF(B558=\"\",\"\",IF(LEFT(D558,2)=\"BU\",'Gefilterde data'!G545,\"-\"))","v":""}]
[null,null,{"$f":"IF(B559=\"\",\"\",IF(LEFT(D559,2)=\"BU\",'Gefilterde data'!G546,\"-\"))","v":""}]
[null,null,{"$f":"IF(B560=\"\",\"\",IF(LEFT(D560,2)=\"BU\",'Gefilterde data'!G547,\"-\"))","v":""}]
[null,null,{"$f":"IF(B561=\"\",\"\",IF(LEFT(D561,2)=\"BU\",'Gefilterde data'!G548,\"-\"))","v":""}]
[null,null,{"$f":"IF(B562=\"\",\"\",IF(LEFT(D562,2)=\"BU\",'Gefilterde data'!G549,\"-\"))","v":""}]
[null,null,{"$f":"IF(B563=\"\",\"\",IF(LEFT(D563,2)=\"BU\",'Gefilterde data'!G550,\"-\"))","v":""}]
[null,null,{"$f":"IF(B564=\"\",\"\",IF(LEFT(D564,2)=\"BU\",'Gefilterde data'!G551,\"-\"))","v":""}]
[null,null,{"$f":"IF(B565=\"\",\"\",IF(LEFT(D565,2)=\"BU\",'Gefilterde data'!G552,\"-\"))","v":""}]
[null,null,{"$f":"IF(B566=\"\",\"\",IF(LEFT(D566,2)=\"BU\",'Gefilterde data'!G553,\"-\"))","v":""}]
[null,null,{"$f":"IF(B567=\"\",\"\",IF(LEFT(D567,2)=\"BU\",'Gefilterde data'!G554,\"-\"))","v":""}]
[null,null,{"$f":"IF(B568=\"\",\"\",IF(LEFT(D568,2)=\"BU\",'Gefilterde data'!G555,\"-\"))","v":""}]
[null,null,{"$f":"IF(B569=\"\",\"\",IF(LEFT(D569,2)=\"BU\",'Gefilterde data'!G556,\"-\"))","v":""}]
[null,null,{"$f":"IF(B570=\"\",\"\",IF(LEFT(D570,2)=\"BU\",'Gefilterde data'!G557,\"-\"))","v":""}]
[null,null,{"$f":"IF(B571=\"\",\"\",IF(LEFT(D571,2)=\"BU\",'Gefilterde data'!G558,\"-\"))","v":""}]
[null,null,{"$f":"IF(B572=\"\",\"\",IF(LEFT(D572,2)=\"BU\",'Gefilterde data'!G559,\"-\"))","v":""}]
[null,null,{"$f":"IF(B573=\"\",\"\",IF(LEFT(D573,2)=\"BU\",'Gefilterde data'!G560,\"-\"))","v":""}]
[null,null,{"$f":"IF(B574=\"\",\"\",IF(LEFT(D574,2)=\"BU\",'Gefilterde data'!G561,\"-\"))","v":""}]
[null,null,{"$f":"IF(B575=\"\",\"\",IF(LEFT(D575,2)=\"BU\",'Gefilterde data'!G562,\"-\"))","v":""}]
[null,null,{"$f":"IF(B576=\"\",\"\",IF(LEFT(D576,2)=\"BU\",'Gefilterde data'!G563,\"-\"))","v":""}]
[null,null,{"$f":"IF(B577=\"\",\"\",IF(LEFT(D577,2)=\"BU\",'Gefilterde data'!G564,\"-\"))","v":""}]
[null,null,{"$f":"IF(B578=\"\",\"\",IF(LEFT(D578,2)=\"BU\",'Gefilterde data'!G565,\"-\"))","v":""}]
[null,null,{"$f":"IF(B579=\"\",\"\",IF(LEFT(D579,2)=\"BU\",'Gefilterde data'!G566,\"-\"))","v":""}]
[null,null,{"$f":"IF(B580=\"\",\"\",IF(LEFT(D580,2)=\"BU\",'Gefilterde data'!G567,\"-\"))","v":""}]
[null,null,{"$f":"IF(B581=\"\",\"\",IF(LEFT(D581,2)=\"BU\",'Gefilterde data'!G568,\"-\"))","v":""}]
[null,null,{"$f":"IF(B582=\"\",\"\",IF(LEFT(D582,2)=\"BU\",'Gefilterde data'!G569,\"-\"))","v":""}]
[null,null,{"$f":"IF(B583=\"\",\"\",IF(LEFT(D583,2)=\"BU\",'Gefilterde data'!G570,\"-\"))","v":""}]
[null,null,{"$f":"IF(B584=\"\",\"\",IF(LEFT(D584,2)=\"BU\",'Gefilterde data'!G571,\"-\"))","v":""}]
[null,null,{"$f":"IF(B585=\"\",\"\",IF(LEFT(D585,2)=\"BU\",'Gefilterde data'!G572,\"-\"))","v":""}]
[null,null,{"$f":"IF(B586=\"\",\"\",IF(LEFT(D586,2)=\"BU\",'Gefilterde data'!G573,\"-\"))","v":""}]
[null,null,{"$f":"IF(B587=\"\",\"\",IF(LEFT(D587,2)=\"BU\",'Gefilterde data'!G574,\"-\"))","v":""}]
[null,null,{"$f":"IF(B588=\"\",\"\",IF(LEFT(D588,2)=\"BU\",'Gefilterde data'!G575,\"-\"))","v":""}]
[null,null,{"$f":"IF(B589=\"\",\"\",IF(LEFT(D589,2)=\"BU\",'Gefilterde data'!G576,\"-\"))","v":""}]
[null,null,{"$f":"IF(B590=\"\",\"\",IF(LEFT(D590,2)=\"BU\",'Gefilterde data'!G577,\"-\"))","v":""}]
[null,null,{"$f":"IF(B591=\"\",\"\",IF(LEFT(D591,2)=\"BU\",'Gefilterde data'!G578,\"-\"))","v":""}]
[null,null,{"$f":"IF(B592=\"\",\"\",IF(LEFT(D592,2)=\"BU\",'Gefilterde data'!G579,\"-\"))","v":""}]
[null,null,{"$f":"IF(B593=\"\",\"\",IF(LEFT(D593,2)=\"BU\",'Gefilterde data'!G580,\"-\"))","v":""}]
[null,null,{"$f":"IF(B594=\"\",\"\",IF(LEFT(D594,2)=\"BU\",'Gefilterde data'!G581,\"-\"))","v":""}]
[null,null,{"$f":"IF(B595=\"\",\"\",IF(LEFT(D595,2)=\"BU\",'Gefilterde data'!G582,\"-\"))","v":""}]
[null,null,{"$f":"IF(B596=\"\",\"\",IF(LEFT(D596,2)=\"BU\",'Gefilterde data'!G583,\"-\"))","v":""}]
[null,null,{"$f":"IF(B597=\"\",\"\",IF(LEFT(D597,2)=\"BU\",'Gefilterde data'!G584,\"-\"))","v":""}]
[null,null,{"$f":"IF(B598=\"\",\"\",IF(LEFT(D598,2)=\"BU\",'Gefilterde data'!G585,\"-\"))","v":""}]
[null,null,{"$f":"IF(B599=\"\",\"\",IF(LEFT(D599,2)=\"BU\",'Gefilterde data'!G586,\"-\"))","v":""}]
[null,null,{"$f":"IF(B600=\"\",\"\",IF(LEFT(D600,2)=\"BU\",'Gefilterde data'!G587,\"-\"))","v":""}]
[null,null,{"$f":"IF(B601=\"\",\"\",IF(LEFT(D601,2)=\"BU\",'Gefilterde data'!G588,\"-\"))","v":""}]
[null,null,{"$f":"IF(B602=\"\",\"\",IF(LEFT(D602,2)=\"BU\",'Gefilterde data'!G589,\"-\"))","v":""}]
[null,null,{"$f":"IF(B603=\"\",\"\",IF(LEFT(D603,2)=\"BU\",'Gefilterde data'!G590,\"-\"))","v":""}]
[null,null,{"$f":"IF(B604=\"\",\"\",IF(LEFT(D604,2)=\"BU\",'Gefilterde data'!G591,\"-\"))","v":""}]
[null,null,{"$f":"IF(B605=\"\",\"\",IF(LEFT(D605,2)=\"BU\",'Gefilterde data'!G592,\"-\"))","v":""}]
[null,null,{"$f":"IF(B606=\"\",\"\",IF(LEFT(D606,2)=\"BU\",'Gefilterde data'!G593,\"-\"))","v":""}]
[null,null,{"$f":"IF(B607=\"\",\"\",IF(LEFT(D607,2)=\"BU\",'Gefilterde data'!G594,\"-\"))","v":""}]

{"sheet":"2. Achtergrond","index":1,"n_rows":0,"n_cols":0,"rows_kept":0}

{"sheet":"3. Gebruik","index":2,"n_rows":0,"n_cols":0,"rows_kept":0}

{"sheet":"4. Verantwoording","index":3,"n_rows":0,"n_cols":0,"rows_kept":0}

{"sheet":"5. Voorbeeld","index":4,"n_rows":0,"n_cols":0,"rows_kept":0}

{"sheet":"Gefilterde data","index":5,"n_rows":519,"n_cols":157,"rows_kept":519,"hidden":true}
[{"$f":"Data_2023!A1","v":"gwb_code_10"},{"$f":"Data_2023!B1","v":"gwb_code_8"},{"$f":"Data_2023!C1","v":"regio"},{"$f":"Data_2023!D1","v":"gm_naam"},{"$f":"Data_2023!E1","v":"recs"},{"$f":"Data_2023!F1","v":"gwb_code"},{"$f":"Data_2023!G1","v":"Wijk bij buurt"},{"$f":"Data_2023!H1","v":"ind_wbi"},{"$f":"Data_2023!I1","v":"a_inw"},{"$f":"Data_2023!J1","v":"a_man"},{"$f":"Data_2023!K1","v":"a_vrouw"},{"$f":"Data_2023!L1","v":"a_00_14"},{"$f":"Data_2023!M1","v":"a_15_24"},{"$f":"Data_2023!N1","v":"a_25_44"},{"$f":"Data_2023!O1","v":"a_45_64"},{"$f":"Data_2023!P1","v":"a_65_oo"},{"$f":"Data_2023!Q1","v":"a_ongeh"},{"$f":"Data_2023!R1","v":"a_gehuwd"},{"$f":"Data_2023!S1","v":"a_gesch"},{"$f":"Data_2023!T1","v":"a_verwed"},{"$f":"Data_2023!U1","v":"a_nl_all"},{"$f":"Data_2023!V1","v":"a_eur_al"},{"$f":"Data_2023!W1","v":"a_neu_al"},{"$f":"Data_2023!X1","v":"a_geb_nl"},{"$f":"Data_2023!Y1","v":"a_geb_eu"},{"$f":"Data_2023!Z1","v":"a_geb_ne"},{"$f":"Data_2023!AA1","v":"a_gbl_eu"},{"$f":"Data_2023!AB1","v":"a_gbl_ne"},{"$f":"Data_2023!AC1","v":"a_geb"},{"$f":"Data_2023!AD1","v":"p_geb"},{"$f":"Data_2023!AE1","v":"a_ste"},{"$f":"Data_2023!AF1","v":"p_ste"},{"$f":"Data_2023!AG1","v":"a_hh"},{"$f":"Data_2023!AH1","v":"a_1p_hh"},{"$f":"Data_2023!AI1","v":"a_hh_z_k"},{"$f":"Data_2023!AJ1","v":"a_hh_m_k"},{"$f":"Data_2023!AK1","v":"g_hhgro"},{"$f":"Data_2023!AL1","v":"bev_dich"},{"$f":"Data_2023!AM1","v":"a_woning"},{"$f":"Data_2023!AN1","v":"g_wozbag"},{"$f":"Data_2023!AO1","v":"p_1gezw"},{"$f":"Data_2023!AP1","v":"p_mgezw"},{"$f":"Data_2023!AQ1","v":"p_bewndw"},{"$f":"Data_2023!AR1","v":"p_leegsw"},{"$f":"Data_2023!AS1","v":"p_koopw"},{"$f":"Data_2023!AT1","v":"p_huurw"},{"$f":"Data_2023!AU1","v":"p_wcorpw"},{"$f":"Data_2023!AV1","v":"p_ov_hw"},{"$f":"Data_2023!AW1","v":"p_e_o_w"},{"$f":"Data_2023!AX1","v":"p_bjj2k"},{"$f":"Data_2023!AY1","v":"p_bjo2k"},{"$f":"Data_2023!AZ1","v":"g_ele"},{"$f":"Data_2023!BA1","v":"g_ele_ap"},{"$f":"Data_2023!BB1","v":"g_ele_tw"},{"$f":"Data_2023!BC1","v":"g_ele_hw"},{"$f":"Data_2023!BD1","v":"g_ele_2w"},{"$f":"Data_2023!BE1","v":"g_ele_vw"},{"$f":"Data_2023!BF1","v":"g_ele_hu"},{"$f":"Data_2023!BG1","v":"g_ele_ko"},{"$f":"Data_2023!BH1","v":"g_gas"},{"$f":"Data_2023!BI1","v":"g_gas_ap"},{"$f":"Data_2023!BJ1","v":"g_gas_tw"},{"$f":"Data_2023!BK1","v":"g_gas_hw"},{"$f":"Data_2023!BL1","v":"g_gas_2w"},{"$f":"Data_2023!BM1","v":"g_gas_vw"},{"$f":"Data_2023!BN1","v":"g_gas_hu"},{"$f":"Data_2023!BO1","v":"g_gas_ko"},{"$f":"Data_2023!BP1","v":"p_stadsv"},{"$f":"Data_2023!BQ1","v":"a_ons_po"},{"$f":"Data_2023!BR1","v":"a_ons_vovavo"},{"$f":"Data_2023!BS1","v":"a_ons_mbo"},{"$f":"Data_2023!BT1","v":"a_ons_hbo"},{"$f":"Data_2023!BU1","v":"a_ons_wo"},{"$f":"Data_2023!BV1","v":"a_opl_bvm"},{"$f":"Data_2023!BW1","v":"a_opl_hvm"},{"$f":"Data_2023!BX1","v":"a_opl_hw"},{"$f":"Data_2023!BY1","v":"p_arb_pp"},{"$f":"Data_2023!BZ1","v":"p_arb_wn"},{"$f":"Data_2023!CA1","v":"p_arb_zs"},{"$f":"Data_2023!CB1","v":"a_inkont"},{"$f":"Data_2023!CC1","v":"g_ink_po"},{"$f":"Data_2023!CD1","v":"g_ink_pi"},{"$f":"Data_2023!CE1","v":"p_ink_li"},{"$f":"Data_2023!CF1","v":"p_ink_hi"},{"$f":"Data_2023!CG1","v":"g_hh_sti"},{"$f":"Data_2023!CH1","v":"p_hh_li"},{"$f":"Data_2023!CI1","v":"p_hh_hi"},{"$f":"Data_2023!CJ1","v":"p_hh_lkk"},{"$f":"Data_2023!CK1","v":"p_hh_osm"},{"$f":"Data_2023!CL1","v":"p_hh_110"},{"$f":"Data_2023!CM1","v":"p_hh_120"},{"$f":"Data_2023!CN1","v":"m_hh_ver"},{"$f":"Data_2023!CO1","v":"a_soz_wb"},{"$f":"Data_2023!CP1","v":"a_soz_ao"},{"$f":"Data_2023!CQ1","v":"a_soz_ww"},{"$f":"Data_2023!CR1","v":"a_soz_ow"},{"$f":"Data_2023!CS1","v":"a_jz_tn"},{"$f":"Data_2023!CT1","v":"p_jz_tn"},{"$f":"Data_2023!CU1","v":"a_wmo_t"},{"$f":"Data_2023!CV1","v":"p_wmo_t"},{"$f":"Data_2023!CW1","v":"a_bedv"},{"$f":"Data_2023!CX1","v":"a_bed_a"},{"$f":"Data_2023!CY1","v":"a_bed_bf"},{"$f":"Data_2023!CZ1","v":"a_bed_gi"},{"$f":"Data_2023!DA1","v":"a_bed_hj"},{"$f":"Data_2023!DB1","v":"a_bed_kl"},{"$f":"Data_2023!DC1","v":"a_bed_mn"},{"$f":"Data_2023!DD1","v":"a_bed_oq"},{"$f":"Data_2023!DE1","v":"a_bed_ru"},{"$f":"Data_2023!DF1","v":"a_pau"},{"$f":"Data_2023!DG1","v":"a_bst_b"},{"$f":"Data_2023!DH1","v":"a_bst_nb"},{"$f":"Data_2023!DI1","v":"g_pau_hh"},{"$f":"Data_2023!DJ1","v":"g_pau_km"},{"$f":"Data_2023!DK1","v":"a_m2w"},{"$f":"Data_2023!DL1","v":"g_afs_hp"},{"$f":"Data_2023!DM1","v":"g_afs_gs"},{"$f":"Data_2023!DN1","v":"g_afs_kv"},{"$f":"Data_2023!DO1","v":"g_afs_sc"},{"$f":"Data_2023!DP1","v":"g_3km_sc"},{"$f":"Data_2023!DQ1","v":"a_opp_ha"},{"$f":"Data_2023!DR1","v":"a_lan_ha"},{"$f":"Data_2023!DS1","v":"a_wat_ha"},{"$f":"Data_2023!DT1","v":"pst_mvp"},{"$f":"Data_2023!DU1","v":"pst_dekp"},{"$f":"Data_2023!DV1","v":"ste_mvs"},{"$f":"Data_2023!DW1","v":"ste_oad"},{"$f":"Data_2023!DX1","v":"Percentage geboren buiten NL"},{"$f":"Data_2023!DY1","v":"Percentage herkomst niet NL"},{"$f":"Data_2023!DZ1","v":"%WO student"},{"$f":"Data_2023!EA1","v":"% kinderen onder 15 jaar"},{"$f":"Data_2023!EB1","v":"% senioren"},{"$f":"Data_2023!EC1","v":0},{"$f":"Data_2023!ED1","v":0},{"$f":"Data_2023!EE1","v":0},{"$f":"Data_2023!EF1","v":0},{"$f":"Data_2023!EG1","v":0},{"$f":"Data_2023!EH1","v":0},{"$f":"Data_2023!EI1","v":0},{"$f":"Data_2023!EJ1","v":0},{"$f":"Data_2023!EK1","v":0},{"$f":"Data_2023!EL1","v":0},{"$f":"Data_2023!EM1","v":0},{"$f":"Data_2023!EN1","v":0},{"$f":"Data_2023!EO1","v":0},{"$f":"Data_2023!EP1","v":0},{"$f":"Data_2023!EQ1","v":0},{"$f":"Data_2023!ER1","v":0},{"$f":"Data_2023!ES1","v":0},{"$f":"Data_2023!ET1","v":0},{"$f":"Data_2023!EU1","v":0},{"$f":"Data_2023!EV1","v":0},{"$f":"Data_2023!EW1","v":0}]
[{"$f":"Data_2023!A2","v":0},{"$f":"Data_2023!B2","v":0},{"$f":"Data_2023!C2","v":0},{"$f":"Data_2023!D2","v":0},{"$f":"Data_2023!E2","v":0},{"$f":"Data_2023!F2","v":0},null,{"$f":"Data_2023!H2","v":0},{"$f":"Data_2023!I2","v":0},{"$f":"Data_2023!J2","v":0},{"$f":"Data_2023!K2","v":0},{"$f":"Data_2023!L2","v":0},{"$f":"Data_2023!M2","v":0},{"$f":"Data_2023!N2","v":0},{"$f":"Data_2023!O2","v":0},{"$f":"Data_2023!P2","v":0},{"$f":"Data_2023!Q2","v":0},{"$f":"Data_2023!R2","v":0},{"$f":"Data_2023!S2","v":0},{"$f":"Data_2023!T2","v":0},{"$f":"Data_2023!U2","v":0},{"$f":"Data_2023!V2","v":0},{"$f":"Data_2023!W2","v":0},{"$f":"Data_2023!X2","v":0},{"$f":"Data_2023!Y2","v":0},{"$f":"Data_2023!Z2","v":0},{"$f":"Data_2023!AA2","v":0},{"$f":"Data_2023!AB2","v":0},{"$f":"Data_2023!AC2","v":0},{"$f":"Data_2023!AD2","v":0},{"$f":"Data_2023!AE2","v":0},{"$f":"Data_2023!AF2","v":0},{"$f":"Data_2023!AG2","v":0},{"$f":"Data_2023!AH2","v":0},{"$f":"Data_2023!AI2","v":0},{"$f":"Data_2023!AJ2","v":0},{"$f":"Data_2023!AK2","v":0},{"$f":"Data_2023!AL2","v":0},{"$f":"Data_2023!AM2","v":0},{"$f":"Data_2023!AN2","v":0},{"$f":"Data_2023!AO2","v":0},{"$f":"Data_2023!AP2","v":0},{"$f":"Data_2023!AQ2","v":0},{"$f":"Data_2023!AR2","v":0},{"$f":"Data_2023!AS2","v":0},{"$f":"Data_2023!AT2","v":0},{"$f":"Data_2023!AU2","v":0},{"$f":"Data_2023!AV2","v":0},{"$f":"Data_2023!AW2","v":0},{"$f":"Data_2023!AX2","v":0},{"$f":"Data_2023!AY2","v":0},{"$f":"Data_2023!AZ2","v":0},{"$f":"Data_2023!BA2","v":0},{"$f":"Data_2023!BB2","v":0},{"$f":"Data_2023!BC2","v":0},{"$f":"Data_2023!BD2","v":0},{"$f":"Data_2023!BE2","v":0},{"$f":"Data_2023!BF2","v":0},{"$f":"Data_2023!BG2","v":0},{"$f":"Data_2023!BH2","v":0},{"$f":"Data_2023!BI2","v":0},{"$f":"Data_2023!BJ2","v":0},{"$f":"Data_2023!BK2","v":0},{"$f":"Data_2023!BL2","v":0},{"$f":"Data_2023!BM2","v":0},{"$f":"Data_2023!BN2","v":0},{"$f":"Data_2023!BO2","v":0},{"$f":"Data_2023!BP2","v":0},{"$f":"Data_2023!BQ2","v":0},{"$f":"Data_2023!BR2","v":0},{"$f":"Data_2023!BS2","v":0},{"$f":"Data_2023!BT2","v":0},{"$f":"Data_2023!BU2","v":0},{"$f":"Data_2023!BV2","v":0},{"$f":"Data_2023!BW2","v":0},{"$f":"Data_2023!BX2","v":0},{"$f":"Data_2023!BY2","v":0},{"$f":"Data_2023!BZ2","v":0},{"$f":"Data_2023!CA2","v":0},{"$f":"Data_2023!CB2","v":0},{"$f":"Data_2023!CC2","v":0},{"$f":"Data_2023!CD2","v":0},{"$f":"Data_2023!CE2","v":0},{"$f":"Data_2023!CF2","v":0},{"$f":"Data_2023!CG2","v":0},{"$f":"Data_2023!CH2","v":0},{"$f":"Data_2023!CI2","v":0},{"$f":"Data_2023!CJ2","v":0},{"$f":"Data_2023!CK2","v":0},{"$f":"Data_2023!CL2","v":"Percentage huishoudens onder 110% WSM"},{"$f":"Data_2023!CM2","v":0},{"$f":"Data_2023!CN2","v":0},{"$f":"Data_2023!CO2","v":0},{"$f":"Data_2023!CP2","v":0},{"$f":"Data_2023!CQ2","v":0},{"$f":"Data_2023!CR2","v":0},{"$f":"Data_2023!CS2","v":0},{"$f":"Data_2023!CT2","v":0},{"$f":"Data_2023!CU2","v":0},{"$f":"Data_2023!CV2","v":0},{"$f":"Data_2023!CW2","v":0},{"$f":"Data_2023!CX2","v":0},{"$f":"Data_2023!CY2","v":0},{"$f":"Data_2023!CZ2","v":0},{"$f":"Data_2023!DA2","v":0},{"$f":"Data_2023!DB2","v":0},{"$f":"Data_2023!DC2","v":0},{"$f":"Data_2023!DD2","v":0},{"$f":"Data_2023!DE2","v":0},{"$f":"Data_2023!DF2","v":0},{"$f":"Data_2023!DG2","v":0},{"$f":"Data_2023!DH2","v":0},{"$f":"Data_2023!DI2","v":0},{"$f":"Data_2023!DJ2","v":0},{"$f":"Data_2023!DK2","v":0},{"$f":"Data_2023!DL2","v":0},{"$f":"Data_2023!DM2","v":0},{"$f":"Data_2023!DN2","v":0},{"$f":"Data_2023!DO2","v":0},{"$f":"Data_2023!DP2","v":0},{"$f":"Data_2023!DQ2","v":0},{"$f":"Data_2023!DR2","v":0},{"$f":"Data_2023!DS2","v":0},{"$f":"Data_2023!DT2","v":0},{"$f":"Data_2023!DU2","v":0},{"$f":"Data_2023!DV2","v":0},{"$f":"Data_2023!DW2","v":"Omgevingsadressendichtheid"},{"$f":"Data_2023!DX2","v":"Percentage geboren buiten NL"},{"$f":"Data_2023!DY2","v":"Percentage herkomst niet NL"},{"$f":"Data_2023!DZ2","v":"%WO student"},{"$f":"Data_2023!EA2","v":"% kinderen onder 15 jaar"},{"$f":"Data_2023!EB2","v":"%senioren"},{"$f":"Data_2023!EC2","v":0},{"$f":"Data_2023!ED2","v":0},{"$f":"Data_2023!EE2","v":0},{"$f":"Data_2023!EF2","v":0},{"$f":"Data_2023!EG2","v":0},{"$f":"Data_2023!EH2","v":0},{"$f":"Data_2023!EI2","v":0},{"$f":"Data_2023!EJ2","v":0},{"$f":"Data_2023!EK2","v":0},{"$f":"Data_2023!EL2","v":0},{"$f":"Data_2023!EM2","v":0},{"$f":"Data_2023!EN2","v":0},{"$f":"Data_2023!EO2","v":0},{"$f":"Data_2023!EP2","v":0},{"$f":"Data_2023!EQ2","v":0},{"$f":"Data_2023!ER2","v":0},{"$f":"Data_2023!ES2","v":0},{"$f":"Data_2023!ET2","v":0},{"$f":"Data_2023!EU2","v":0},{"$f":"Data_2023!EV2","v":0},{"$f":"Data_2023!EW2","v":0}]
[{"$f":"_xlfn._xlws.FILTER(Data_2023!A3:FA100001, (Data_2023!D3:D100001='1. Wijkscan'!C3)*(Data_2023!E3:E100001='1. Wijkscan'!C4))","v":"BU0363AA01"},"0363AA01","Planciusbuurt-Noord","Amsterdam","Buurt","BU0363AA01","Haarlemmerbuurt",2,345,180,160,15,25,180,90,35,270,40,20,5,"160","90","95","160","15","35","70","60","5","15","5","9",255,185,50,20,1.3,18761,242,395,1,99,96,4,10,90,51,40,0,100,0,"1360","1350",".",".",".",".","1330","1740","650","640",".",".",".",".","640","810",".","10","10","0","10","10",".",".",".",79,72,28,300,".",".",35.2,24.2,".",57.8,6,11.9,11.4,18.2,20.8,5.7,"10","20","10","30",".",".",10,35,"85","0","5","10","15","0","15","10","30","55","45","10",0.2,"3026","15",0.8,0.3,0.1,0.5,15.7,2,2,1,1013,1,1,8723,53.62318840579711,53.62318840579711,2.898550724637681,4.3478260869565215,10.144927536231885,0,0,0,0,0,0,0,0,0,0,0,0,0,0,0,0,0,0,0,0,0,0,0,0,0]
["BU0363AA02","0363AA02","Westelijke eilanden","Amsterdam","Buurt","BU0363AA02","Haarlemmerbuurt",2,2910,1395,1520,290,260,910,870,585,1875,700,275,65,"1600","570","745","1595","160","280","405","465","25","8","15","4",1840,1140,400,295,1.6,19139,1731,609,3,97,92,8,33,67,50,17,0,86,14,"1760","1720","3210","3060","3380","2940","1480","2340","700","680","1220","1270","1790","1710","640","820",".","150","100","20","40","110",320,570,1530,70,66,34,2500,".",41.7,38.1,27.4,".",52.2,18.7,9.6,11.4,15.4,18,39.8,"70","90","30","530",55,12.1,160,56,"965","0","50","80","105","60","365","110","195","670","500","170",0.4,"4417","80",0.8,0.6,0.3,0.4,14.3,22,15,6,1013,1,1,7797,45.18900343642612,45.017182130584196,3.7800687285223367,9.965635738831615,20.103092783505154,0,0,0,0,0,0,0,0,0,0,0,0,0,0,0,0,0,0,0,0,0,0,0,0,0]
["BU0363AA03","0363AA03","Westerdokseiland","Amsterdam","Buurt","BU0363AA03","Haarlemmerbuurt",2,1825,925,900,210,140,515,550,410,1025,565,170,60,"880","335","610","875","75","235","260","375","15","8","10","6",990,445,330,215,1.8,11712,977,800,0,100,94,6,43,57,28,29,0,0,100,"2300","2300",".",".",".",".","2120","2540","720","720",".",".",".",".","920","440","26,3","100","80","30","20","30",230,260,970,71,74,26,1500,".",".",31.5,41.8,".",31.6,32.4,6.6,10.1,12.5,14.8,133.2,"40","50","20","370",30,8.5,145,79,"500","0","20","50","55","60","190","60","70","525","350","175",0.5,"3376","60",0.2,0.7,0.2,1,14.7,34,16,18,1013,1,1,6823,52.054794520547944,51.78082191780822,1.643835616438356,11.506849315068493,22.465753424657535,0,0,0,0,0,0,0,0,0,0,0,0,0,0,0,0,0,0,0,0,0,0,0,0,0]
["BU0363AA04","0363AA04","Planciusbuurt-Zuid","Amsterdam","Buurt","BU0363AA04","Haarlemmerbuurt",2,165,85,80,10,10,65,55,30,115,25,20,5,"90","30","45","90","5","20","25","25","0","12","0","6",125,90,20,15,1.4,12941,123,403,0,100,93,7,1,99,91,8,0,100,0,"1410","1410",".",".",".",".","1410",".","530","530",".",".",".",".","530",".",".","0","0","0","0","0",".",".",".",".",".",".",100,".",".",49.3,11.1,".",75.2,2.6,22.7,25.5,30.9,36.4,3.1,"20","10","0","30",".",".",20,109,"55","0","0","10","10","0","15","10","10","20","20","5",0.2,"1726","5",0.6,0.2,0.3,0.7,20,2,1,0,1013,1,1,8984,45.45454545454545,45.45454545454545,0,6.0606060606060606,18.181818181818183,0,0,0,0,0,0,0,0,0,0,0,0,0,0,0,0,0,0,0,0,0,0,0,0,0]
["BU0363AA05","0363AA05","Haarlemmerbuurt-West","Amsterdam","Buurt","BU0363AA05","Haarlemmerbuurt",2,2375,1210,1170,190,240,810,685,445,1545,525,220,80,"1220","465","690","1225","120","255","340","440","20","7","25","12",1475,905,355,215,1.6,21731,1550,567,2,98,90,10,25,74,44,31,0,94,6,"1750","1730","2450",".",".",".","1630","2110","710","700","1040",".",".",".","680","810",".","90","70","30","50","100",310,460,1240,72,72,28,2000,".",".",39.2,27.7,".",51.7,16,11.5,13.9,17.8,21,23.2,"90","90","30","410",45,13.1,215,91,"740","0","30","180","70","40","195","75","150","490","390","100",0.3,"4498","50",0.3,0.2,0.5,0.7,16.1,12,11,1,1013,1,1,9613,48.421052631578945,48.63157894736842,4.2105263157894735,8,18.736842105263158,0,0,0,0,0,0,0,0,0,0,0,0,0,0,0,0,0,0,0,0,0,0,0,0,0]
["BU0363AA06","0363AA06","Haarlemmerbuurt-Oost","Amsterdam","Buurt","BU0363AA06","Haarlemmerbuurt",2,1515,775,745,95,180,575,400,270,1065,285,125,35,"835","325","360","835","80","115","240","240","10","7","10","5",1010,640,250,115,1.5,16243,1054,614,5,95,87,13,25,75,32,43,0,99,1,"1730","1670","2910",".",".",".","1550","2210","770","750","1370",".",".",".","720","920",".","50","30","10","40","80",120,270,940,73,70,30,1300,".",".",35.5,28.5,".",50.7,16,8,9.4,12.6,15.4,32.2,"30","30","20","240",15,8.1,75,50,"595","0","20","140","70","35","160","65","105","310","245","65",0.3,"3334","30",0.3,0.3,0.3,0.4,20.4,10,9,1,1013,1,1,8303,44.884488448844884,44.884488448844884,5.2805280528052805,6.270627062706271,17.82178217821782,0,0,0,0,0,0,0,0,0,0,0,0,0,0,0,0,0,0,0,0,0,0,0,0,0]
["BU0363AB01","0363AB01","Marnixbuurt-Noord","Amsterdam","Buurt","BU0363AB01","Jordaan",2,1455,715,735,125,135,540,405,260,980,290,130,50,"725","290","440","720","80","165","210","280","5","6","10","8",955,605,210,140,1.5,26253,974,471,0,100,92,8,16,84,52,31,0,100,0,"1580","1580",".",".",".",".","1500","1990","550","550",".",".",".",".","530","660",".","60","40","10","20","50",210,530,500,72,75,25,1300,".",".",39.1,23.6,".",59.6,13.4,11.1,14.8,19.5,23.3,9.4,"60","60","20","230",25,11.9,120,84,"315","0","25","45","40","10","90","45","60","255","200","50",0.3,"4571","30",0.5,0.5,0.4,0.9,23.9,7,6,2,1015,1,1,10924,50.51546391752577,50.171821305841924,3.436426116838488,8.59106529209622,17.869415807560138,0,0,0,0,0,0,0,0,0,0,0,0,0,0,0,0,0,0,0,0,0,0,0,0,0]
["BU0363AB02","0363AB02","Driehoekbuurt","Amsterdam","Buurt","BU0363AB02","Jordaan",2,2725,1330,1390,215,295,1065,695,450,1920,510,230,60,"1440","605","675","1440","130","230","475","445","15","6","20","6",1890,1290,375,220,1.4,27661,1896,519,4,96,91,9,26,73,39,34,1,97,3,"1480","1450","2180","1790",".",".","1370","1780","670","660","960","1030",".",".","640","750",".","90","60","20","110","120",240,580,1540,72,73,27,2400,".",43,38.1,27.5,".",56.2,13.8,11.9,13.8,17.5,20.3,18.9,"100","100","30","400",30,7.5,185,67,"680","0","30","95","65","30","195","100","160","530","420","110",0.3,"5374","70",0.3,0.4,0.4,0.8,18.9,11,10,1,1015,1,1,10744,47.1559633027523,47.1559633027523,4.4036697247706424,7.889908256880735,16.51376146788991,0,0,0,0,0,0,0,0,0,0,0,0,0,0,0,0,0,0,0,0,0,0,0,0,0]
["BU0363AB03","0363AB03","Anjeliersbuurt-Noord","Amsterdam","Buurt","BU0363AB03","Jordaan",2,2095,1025,1070,155,250,675,630,380,1450,420,175,50,"1260","415","420","1260","105","180","310","245","15","6","10","5",1345,840,310,200,1.6,22153,1340,627,7,93,91,9,28,71,31,40,0,97,3,"1800","1740","2570","1450",".",".","1570","2400","770","740","1230","1420",".",".","690","980",".","70","70","20","50","100",250,440,1090,73,67,33,1800,".",".",38.3,27.5,".",51.5,17.2,9.8,10.8,14.5,17.3,29,"50","60","20","340",40,12.3,115,56,"670","0","25","115","50","65","210","75","135","530","420","110",0.4,"5578","80",0.4,0.3,0.4,0.7,23.2,10,9,0,1015,1,1,11013,39.856801909307876,39.856801909307876,4.77326968973747,7.398568019093078,18.138424821002385,0,0,0,0,0,0,0,0,0,0,0,0,0,0,0,0,0,0,0,0,0,0,0,0,0]
["BU0363AB04","0363AB04","Zaagpoortbuurt","Amsterdam","Buurt","BU0363AB04","Jordaan",2,915,540,380,50,115,450,215,85,725,100,80,10,"380","195","340","380","35","105","160","230","5","5","5","3",730,585,100,45,1.3,26154,725,368,0,100,91,9,16,84,51,33,0,100,0,"1390","1390",".",".",".",".","1370","1500","500","500",".",".",".",".","500","520",".","20","10","10","30","70",".",".",".",69,78,22,800,".",".",45.6,17.8,".",72.1,6.1,17.1,18.8,25.2,28.1,4,"80","50","20","70",10,9.1,65,69,"205","0","5","25","35","10","60","25","45","115","85","30",0.2,"3341","20",0.4,0.6,0.3,0.4,31.3,4,4,0,1015,1,1,12438,58.46994535519126,58.46994535519126,7.650273224043716,5.46448087431694,9.289617486338798,0,0,0,0,0,0,0,0,0,0,0,0,0,0,0,0,0,0,0,0,0,0,0,0,0]
["BU0363AB05","0363AB05","Anjeliersbuurt-Zuid","Amsterdam","Buurt","BU0363AB05","Jordaan",2,2915,1445,1470,225,305,905,905,575,2005,565,270,75,"1650","580","685","1650","185","245","400","440","20","5","20","8",1960,1310,380,270,1.5,26355,1981,568,5,95,91,9,26,73,47,26,1,98,2,"1570","1520","2710","3240",".",".","1430","1980","700","680","1190","1130",".",".","660","830",".","100","70","20","70","150",280,800,1400,70,71,29,2600,47.4,42.4,39.3,25.6,".",55.9,14.7,10.6,13.1,17.5,20.4,25.9,"110","110","40","500",45,10.4,195,66,"785","0","35","135","75","50","230","90","170","560","455","105",0.3,"5083","75",0.5,0.4,0.4,0.4,25.7,12,11,1,1015,1,1,11876,43.39622641509434,43.39622641509434,5.145797598627787,7.718696397941681,19.725557461406517,0,0,0,0,0,0,0,0,0,0,0,0,0,0,0,0,0,0,0,0,0,0,0,0,0]
["BU0363AB06","0363AB06","Marnixbuurt-Midden","Amsterdam","Buurt","BU0363AB06","Jordaan",2,215,120,95,15,25,125,30,15,170,40,10,0,"95","55","60","95","15","20","40","45","0","14","0","0",130,65,45,20,1.7,14086,119,601,1,99,92,8,43,57,1,56,0,100,0,"1930","1920",".",".",".",".","1820","2070","710","700",".",".",".",".","670","770",".","10","10","0","10","10",".",".",".",84,75,25,200,".",".",29.2,39.5,".",39.5,27.4,4.4,4.4,5.3,7,37.6,"0","0","0","10",".",".",".",".","70","0","0","15","10","5","15","10","20","35","30","5",0.3,"2293","10",0.2,0.5,0.4,0.2,34.8,2,2,1,1016,1,1,12047,55.81395348837209,55.81395348837209,4.651162790697675,6.976744186046512,6.976744186046512,0,0,0,0,0,0,0,0,0,0,0,0,0,0,0,0,0,0,0,0,0,0,0,0,0]
["BU0363AB07","0363AB07","Bloemgrachtbuurt","Amsterdam","Buurt","BU0363AB07","Jordaan",2,2980,1435,1540,245,365,1135,750,485,2075,585,245,65,"1525","690","770","1525","145","255","545","515","25","9","15","5",1955,1270,425,270,1.5,26211,1980,647,7,93,88,12,32,67,23,44,1,95,5,"1740","1650","2890",".",".",".","1510","2200","770","730","1280",".",".",".","710","910",".","110","90","20","60","180",240,690,1650,73,74,26,2500,54.2,47.5,34,32.1,".",49.7,18.1,9.7,10.9,14.4,16.7,29.8,"80","70","30","430",40,7.8,165,55,"815","0","30","140","90","80","270","70","140","600","470","130",0.3,"5261","60",0.4,0.5,0.4,0.5,29.7,13,11,1,1016,5,1,12003,48.8255033557047,48.8255033557047,6.0402684563758395,8.221476510067115,16.2751677852349,0,0,0,0,0,0,0,0,0,0,0,0,0,0,0,0,0,0,0,0,0,0,0,0,0]
["BU0363AB08","0363AB08","Groenmarktkadebuurt","Amsterdam","Buurt","BU0363AB08","Jordaan",2,310,130,180,10,80,155,35,25,250,30,20,5,"150","80","85","150","10","20","65","60","5","13","0","0",215,130,75,10,1.4,8670,210,580,0,100,88,12,26,74,0,74,0,81,19,"2020","2020",".",".",".",".","2090","1830","510","510",".",".",".",".","480","590",".","0","0","0","10","40",".",".",".",82,83,17,300,".",".",34.2,35.2,".",44.7,23.3,5.5,5.5,8.2,10.4,21.7,"0","10","10","20",".",".",10,29,"95","0","5","20","10","10","35","10","10","40","30","10",0.2,"1175","5",0.4,0.6,0.5,0.4,33.7,5,4,1,1016,1,1,12038,51.61290322580645,51.61290322580645,12.903225806451612,3.225806451612903,8.064516129032258,0,0,0,0,0,0,0,0,0,0,0,0,0,0,0,0,0,0,0,0,0,0,0,0,0]
["BU0363AB09","0363AB09","Marnixbuurt-Zuid","Amsterdam","Buurt","BU0363AB09","Jordaan",2,700,365,335,30,45,280,145,195,445,110,70,70,"350","145","205","350","50","70","95","130","0","4","20","26",530,410,90,25,1.3,17081,515,510,0,100,94,6,13,86,34,52,1,71,29,"1580","1570",".",".",".",".","1500","2120","500","490",".",".",".",".","460","750",".","10","10","0","20","40",".",".",".",73,72,28,600,".",".",33.5,28.6,".",59.3,10.8,12.3,13.2,15.9,18.7,24.2,"20","20","10","180",".",".",115,164,"135","0","5","20","10","10","40","20","30","105","90","20",0.2,"2611","15",0.1,0.5,0.3,0.4,41.4,5,4,1,1016,1,1,11370,50,50,5.714285714285714,4.285714285714286,27.857142857142858,0,0,0,0,0,0,0,0,0,0,0,0,0,0,0,0,0,0,0,0,0,0,0,0,0]
["BU0363AB10","0363AB10","Elandsgrachtbuurt","Amsterdam","Buurt","BU0363AB10","Jordaan",2,4325,2195,2130,320,470,1590,1135,810,2975,875,375,100,"2240","950","1135","2240","225","385","725","745","40","8","40","9",2885,1920,615,350,1.5,22898,2966,576,3,97,89,11,24,75,33,42,1,96,4,"1680","1640","2890",".",".",".","1520","2160","710","690","1300",".",".",".","660","870",".","140","110","30","90","240",420,940,2320,71,72,28,3700,50.1,44.6,37.8,28.3,44,55.8,15,10.7,13.4,17.3,19.9,23,"120","140","40","720",65,10.4,310,71,"1360","0","70","255","125","85","370","160","295","850","685","165",0.3,"4508","135",0.5,0.4,0.3,0.5,33.6,21,19,2,1016,1,1,11783,48.20809248554913,48.20809248554913,5.5491329479768785,7.398843930635839,18.728323699421964,0,0,0,0,0,0,0,0,0,0,0,0,0,0,0,0,0,0,0,0,0,0,0,0,0]
["BU0363AB11","0363AB11","Passeerdersgrachtbuurt","Amsterdam","Buurt","BU0363AB11","Jordaan",2,915,495,420,50,100,355,240,180,655,165,70,30,"450","205","255","455","45","75","160","180","10","9","5","7",640,430,150,55,1.4,20002,648,695,3,97,89,11,37,62,34,27,2,97,3,"1700","1670","2710",".",".",".","1500","2060","730","710","1340",".",".",".","690","770",".","30","20","10","20","40",120,150,510,66,73,27,800,".",".",35.9,31,".",49.7,17.8,12.3,12.9,17.2,20.2,60,"30","40","10","160",10,6.9,55,62,"290","0","15","35","30","30","95","25","55","160","130","25",0.2,"3454","20",0.3,0.5,0.4,0.6,40.5,5,5,1,1016,1,1,10307,50.27322404371585,50.81967213114754,4.371584699453552,5.46448087431694,19.672131147540984,0,0,0,0,0,0,0,0,0,0,0,0,0,0,0,0,0,0,0,0,0,0,0,0,0]
["BU0363AC01","0363AC01","Langestraat e.o.","Amsterdam","Buurt","BU0363AC01","Grachtengordel-West",2,1895,1000,900,160,240,610,500,395,1160,545,135,55,"1000","465","435","1000","100","125","365","305","15","8","20","9",1170,675,330,165,1.6,19537,1208,947,9,91,81,19,48,51,7,43,1,99,1,"2200","2070","3560",".",".",".","1810","2590","990","940","1460",".",".",".","840","1140",".","80","60","10","50","120",310,300,990,73,65,35,1600,".",".",33.4,39.4,".",38.7,29.6,7.9,7.6,9.7,10.6,214.2,"0","20","20","340",30,9.5,50,26,"860","0","35","100","90","105","295","90","145","540","390","150",0.5,"5555","40",0.3,0.5,0.7,0.5,22.4,12,10,3,1015,1,1,9729,47.229551451187334,47.229551451187334,6.33245382585752,8.443271767810026,20.844327176781004,0,0,0,0,0,0,0,0,0,0,0,0,0,0,0,0,0,0,0,0,0,0,0,0,0]
["BU0363AC02","0363AC02","Leliegracht e.o.","Amsterdam","Buurt","BU0363AC02","Grachtengordel-West",2,1870,935,935,120,310,720,450,265,1305,440,90,35,"865","485","515","870","75","100","410","410","10","5","10","5",1230,785,320,125,1.5,13748,1213,938,7,93,79,21,40,59,17,42,1,100,0,"2200","2140","3030",".",".",".","1930","2590","930","890","1410",".",".",".","800","1110",".","50","40","10","40","140",100,340,1210,67,69,31,1400,".",".",31.1,40.2,".",42.3,28.7,8.7,7.9,9.1,10.3,72.4,"10","20","10","230",20,5.7,40,22,"965","0","20","170","120","150","305","65","135","610","450","160",0.5,"4499","45",0.2,0.5,0.6,0.8,25.4,17,14,4,1015,3,1,10958,53.475935828877006,53.7433155080214,7.4866310160427805,6.417112299465241,14.171122994652407,0,0,0,0,0,0,0,0,0,0,0,0,0,0,0,0,0,0,0,0,0,0,0,0,0]
["BU0363AC03","0363AC03","Felix Meritisbuurt","Amsterdam","Buurt","BU0363AC03","Grachtengordel-West",2,2075,1095,980,120,260,825,545,320,1395,510,135,35,"990","550","535","990","110","135","435","405","15","7","5","3",1360,825,380,160,1.5,12875,1482,908,8,92,77,23,39,60,8,52,1,99,1,"2110","2010","3210","2830",".",".","1870","2460","930","880","1530","950",".",".","840","1060",".","40","40","10","50","150",80,340,1440,73,67,33,1700,".",".",30.6,39.4,".",41.4,26.8,8.1,8,9.9,11.3,64.6,"10","20","20","290",".",".",50,25,"1505","0","55","335","190","180","495","100","150","630","430","195",0.5,"3897","45",0.4,0.3,0.4,0.8,31.7,20,16,4,1016,1,1,11681,52.28915662650603,52.28915662650603,7.228915662650602,5.783132530120482,15.421686746987953,0,0,0,0,0,0,0,0,0,0,0,0,0,0,0,0,0,0,0,0,0,0,0,0,0]
["BU0363AC04","0363AC04","Leidsegracht-Noord","Amsterdam","Buurt","BU0363AC04","Grachtengordel-West",2,740,390,350,50,105,285,175,120,485,190,45,15,"335","235","175","330","45","55","185","125","5","3","0","1",480,305,125,50,1.5,13839,454,1113,10,90,80,20,42,57,9,48,1,99,1,"2210","2120","3110",".",".",".","1820","2740","1000","940","1550",".",".",".","810","1250",".","10","20","0","20","60",110,120,380,72,66,34,600,".",".",32.1,41.9,".",43.4,30.9,10.1,8.9,10.8,11.8,51.1,"0","10","10","110",".",".",10,16,"555","0","20","105","70","55","195","55","55","230","160","70",0.5,"4307","15",0.6,0.4,0.4,0.9,36.9,7,5,2,1016,1,1,10004,55.4054054054054,54.729729729729726,8.108108108108109,6.756756756756757,16.216216216216218,0,0,0,0,0,0,0,0,0,0,0,0,0,0,0,0,0,0,0,0,0,0,0,0,0]
["BU0363AD01","0363AD01","Stationsplein e.o.","Amsterdam","Buurt","BU0363AD01","Burgwallen-Nieuwe Zijde",2,5,0,0,0,0,0,0,0,0,0,0,0,"0","0","5","0","0","0","0","0","0","0","0","0",5,0,0,0,1.5,".",0,".",".",".",".",".",".",".",".",".",".",".",".",".",".",".",".",".",".",".",".",".",".",".",".",".",".",".",".",".","0","0","0","0","0",".",".",".",".",".",".",0,".",".",".",".",".",".",".",".",".",".",".",".",".",".",".",".",".",".",".",".","70","0","0","50","5","5","5","0","5","5","5","0",".",".","0",".",".",".",".",".",26,14,12,1012,1,1,6747,100,100,0,0,0,0,0,0,0,0,0,0,0,0,0,0,0,0,0,0,0,0,0,0,0,0,0,0,0,0]
["BU0363AD02","0363AD02","Hemelrijk","Amsterdam","Buurt","BU0363AD02","Burgwallen-Nieuwe Zijde",2,565,325,245,20,110,275,135,35,460,70,35,5,"215","205","145","215","25","40","180","110","0","5","5","2",405,275,110,20,1.4,10224,413,496,2,98,80,20,27,72,3,69,1,99,1,"1750","1750","1790",".",".",".","1770","1690","720","720","1010",".",".",".","740","680",".","10","0","0","20","50",40,140,350,76,73,27,500,".",".",36.7,26,".",55.8,12.4,11.9,11.6,14.7,15.6,7.8,"10","10","10","30",".",".",".",".","365","0","10","120","30","30","110","15","45","95","65","35",0.2,"1752","15",0.5,0.4,0.6,0.8,20.3,6,6,1,1012,1,1,8884,61.94690265486725,61.94690265486725,8.849557522123893,3.5398230088495577,6.1946902654867255,0,0,0,0,0,0,0,0,0,0,0,0,0,0,0,0,0,0,0,0,0,0,0,0,0]
["BU0363AD03","0363AD03","Nieuwendijk-Noord","Amsterdam","Buurt","BU0363AD03","Burgwallen-Nieuwe Zijde",2,505,285,215,20,95,270,95,25,415,60,25,0,"155","180","165","155","15","50","160","125","5","2","0","2",360,250,90,25,1.4,9191,345,532,6,94,79,21,14,85,10,75,1,97,3,"1880","1850","2480",".",".",".","1810","2380","690","660","1320",".",".",".","670","830",".","10","0","0","10","40",".",".",".",78,78,22,400,".",".",40.4,25.1,".",57.9,8.8,13.5,12.8,15.2,17.4,5.6,"10","10","0","10",".",".",10,18,"305","0","5","135","35","25","55","10","40","60","50","10",0.2,"1135","10",0.7,0.5,0.8,0.9,22.2,7,5,1,1012,1,1,7205,69.3069306930693,69.3069306930693,7.920792079207921,3.9603960396039604,4.9504950495049505,0,0,0,0,0,0,0,0,0,0,0,0,0,0,0,0,0,0,0,0,0,0,0,0,0]
["BU0363AD04","0363AD04","Spuistraat-Noord","Amsterdam","Buurt","BU0363AD04","Burgwallen-Nieuwe Zijde",2,890,465,420,30,175,470,145,70,720,125,30,10,"335","315","240","335","30","70","290","170","5","4","0","4",605,380,190,40,1.5,17663,565,561,6,94,86,14,27,72,8,64,1,100,0,"2050","2030","2430",".",".",".","1940","2340","870","840","1240",".",".",".","810","1020",".","10","10","0","30","100",".",".",".",77,78,22,800,".",".",34.4,28.3,".",51.1,13.7,8.3,7.3,10.1,10.7,7.6,"0","10","10","60",".",".",15,19,"495","0","20","130","65","40","135","25","85","140","100","40",0.2,"2818","15",0.4,0.5,0.7,1.1,22.8,6,5,1,1012,1,1,9860,62.35955056179775,62.35955056179775,11.235955056179774,3.3707865168539324,7.865168539325842,0,0,0,0,0,0,0,0,0,0,0,0,0,0,0,0,0,0,0,0,0,0,0,0,0]
["BU0363AD05","0363AD05","Nieuwe Kerk e.o.","Amsterdam","Buurt","BU0363AD05","Burgwallen-Nieuwe Zijde",2,790,430,360,40,155,405,145,45,635,120,25,5,"330","220","240","330","25","70","195","170","5","6","5","3",535,340,165,35,1.5,9376,535,515,8,92,84,16,21,78,6,72,1,97,3,"1850","1810","2270",".",".",".","1800","2040","750","720","1150",".",".",".","740","800",".","20","10","10","40","90",".",".",".",80,80,20,700,".",".",34.3,30,".",50.3,15.1,6.5,6.5,8.4,9.5,6,"10","10","10","40",10,9.4,".",".","435","0","15","195","30","25","80","20","70","115","85","30",0.2,"1390","30",0.7,0.6,0.9,1.1,21.3,8,8,0,1012,1,1,9666,58.22784810126582,58.22784810126582,11.39240506329114,5.063291139240507,5.69620253164557,0,0,0,0,0,0,0,0,0,0,0,0,0,0,0,0,0,0,0,0,0,0,0,0,0]
["BU0363AD06","0363AD06","Spuistraat-Zuid","Amsterdam","Buurt","BU0363AD06","Burgwallen-Nieuwe Zijde",2,785,435,355,35,125,405,145,85,610,120,50,5,"310","250","230","315","35","55","215","175","5","1","0","3",550,355,145,50,1.4,13229,588,543,3,97,84,16,16,83,23,60,1,93,7,"1740","1720","2180",".",".",".","1670","2120","710","710","980",".",".",".","700","810",".","20","10","0","30","70",".",".",".",77,74,26,700,".",".",35.6,30.6,".",53.1,15.8,11.5,11.5,14.1,16.5,9.8,"10","0","10","70",".",".",15,22,"390","0","15","130","35","25","80","35","75","130","100","35",0.2,"2213","20",0.2,0.4,0.6,1.2,28.9,7,6,1,1012,1,1,10146,59.87261146496815,60.509554140127385,8.9171974522293,4.45859872611465,10.828025477707007,0,0,0,0,0,0,0,0,0,0,0,0,0,0,0,0,0,0,0,0,0,0,0,0,0]
["BU0363AD07","0363AD07","Begijnhofbuurt","Amsterdam","Buurt","BU0363AD07","Burgwallen-Nieuwe Zijde",2,460,195,260,5,70,230,75,75,360,50,45,5,"190","135","135","195","10","45","125","90","0","0","0","2",355,260,85,10,1.3,6501,353,499,6,94,82,18,9,90,1,89,0,100,0,"1600","1600","1560",".",".",".","1550","2110","740","720","1010",".",".",".","730","780",".","0","0","0","10","30",".",".",".",77,80,20,400,".",".",33.8,24.8,".",59.9,9.7,8.4,9.1,12.5,16.2,5.6,"10","10","10","60",".",".",15,35,"370","0","10","165","25","25","75","30","35","80","60","20",0.2,"1119","10",0.5,0.4,0.8,1.2,26.8,7,7,0,1012,1,1,10098,57.608695652173914,58.69565217391305,6.521739130434782,1.0869565217391304,16.304347826086957,0,0,0,0,0,0,0,0,0,0,0,0,0,0,0,0,0,0,0,0,0,0,0,0,0]
["BU0363AD08","0363AD08","Kalverdriehoek","Amsterdam","Buurt","BU0363AD08","Burgwallen-Nieuwe Zijde",2,335,190,145,15,80,175,50,20,275,45,15,0,"130","120","90","130","15","25","100","65","0","3","0","0",230,140,70,20,1.5,6424,234,631,3,97,76,24,21,78,5,73,1,98,2,"2070","2080","1720",".",".",".","2000","2330","700","690","1150",".",".",".","680","780",".","0","0","0","10","40",".",".",".",77,76,24,300,".",".",35.5,30.3,".",50.5,14.8,6.8,7.4,8,8.6,3.7,"0","0","10","20",".",".",".",".","220","0","5","120","10","10","35","15","20","40","25","10",0.2,"724","5",0.9,0.4,1,1.3,23.3,6,5,1,1012,1,1,9859,61.19402985074627,61.19402985074627,11.940298507462686,4.477611940298507,5.970149253731343,0,0,0,0,0,0,0,0,0,0,0,0,0,0,0,0,0,0,0,0,0,0,0,0,0]
["BU0363AE01","0363AE01","Kop Zeedijk","Amsterdam","Buurt","BU0363AE01","Burgwallen-Oude Zijde",2,1155,650,505,50,155,570,280,105,875,185,80,10,"480","310","355","485","35","100","275","260","0","2","15","10",835,570,210,50,1.4,19086,772,492,4,96,85,15,20,80,7,73,1,97,3,"1800","1760","2470",".",".",".","1730","2060","750","730","1100",".",".",".","710","890",".","20","10","10","40","100",".",".",".",77,73,27,1000,".",".",38.4,24.7,".",57.4,9.5,12.3,12.6,15.2,17.7,6.3,"10","30","20","80",10,8.7,45,40,"505","0","15","215","40","30","90","35","80","135","100","35",0.2,"2266","20",0.6,0.3,0.3,0.8,20.3,8,6,2,1012,1,1,6841,58.00865800865801,58.44155844155844,8.658008658008658,4.329004329004329,9.090909090909092,0,0,0,0,0,0,0,0,0,0,0,0,0,0,0,0,0,0,0,0,0,0,0,0,0]
["BU0363AE02","0363AE02","Oude Kerk e.o.","Amsterdam","Buurt","BU0363AE02","Burgwallen-Oude Zijde",2,740,430,310,25,180,345,120,70,595,90,40,15,"330","215","195","325","25","50","190","140","5","1","5","5",525,350,145,35,1.4,8353,535,566,5,95,79,21,14,84,26,58,1,87,13,"1750","1730","2180",".",".",".","1670","2260","760","760","940",".",".",".","750","850",".","10","10","0","50","90",".",".",".",76,70,30,700,".",".",44,20.2,".",64.6,9.9,13.2,14,17.7,20.7,4.6,"10","10","10","60",".",".",20,24,"570","0","20","145","45","55","115","25","165","90","60","25",0.2,"1009","15",0.6,0.2,0.5,0.9,22,9,9,0,1012,1,1,7498,56.08108108108109,55.4054054054054,12.162162162162163,3.3783783783783785,9.45945945945946,0,0,0,0,0,0,0,0,0,0,0,0,0,0,0,0,0,0,0,0,0,0,0,0,0]
["BU0363AE03","0363AE03","Burgwallen-Oost","Amsterdam","Buurt","BU0363AE03","Burgwallen-Oude Zijde",2,1600,875,725,75,295,760,300,170,1250,235,105,15,"670","450","480","670","70","145","390","335","10","6","5","3",1135,785,255,100,1.4,25650,1024,549,4,96,83,17,17,83,9,74,0,96,4,"1720","1680","2650",".",".",".","1680","1910","770","750","1340",".",".",".","740","940",".","40","30","10","70","140",130,460,930,75,70,30,1400,".",".",44.3,20.1,".",63,8.6,14.1,13.7,18,20.7,3.7,"30","20","20","150",15,5.5,45,29,"765","0","25","200","65","40","155","50","225","230","180","55",0.2,"3703","50",0.3,0.2,0.4,0.7,22.6,7,6,1,1012,1,1,7618,58.12500000000001,58.12500000000001,8.75,4.6875,10.625,0,0,0,0,0,0,0,0,0,0,0,0,0,0,0,0,0,0,0,0,0,0,0,0,0]
["BU0363AE04","0363AE04","Nes e.o.","Amsterdam","Buurt","BU0363AE04","Burgwallen-Oude Zijde",2,375,200,180,15,70,185,80,30,295,55,20,10,"155","125","95","155","15","30","105","65","0","8","5","3",255,160,70,25,1.5,7067,263,690,8,92,78,22,28,71,5,66,1,98,2,"1920","1890","2260",".",".",".","1820","2160","900","880","1160",".",".",".","910","870",".","10","10","0","10","40",".",".",".",76,76,24,300,".",".",33.4,33.8,".",41.1,17.4,7.4,7.9,9.7,11.1,12.9,"10","0","0","30",".",".",".",".","290","0","10","95","25","25","55","15","65","8155","60","8095",".",".","15",0.6,0.4,0.8,1.1,23.2,6,5,0,1012,1,1,10044,58.666666666666664,58.666666666666664,10.666666666666668,4,8,0,0,0,0,0,0,0,0,0,0,0,0,0,0,0,0,0,0,0,0,0,0,0,0,0]
["BU0363AE05","0363AE05","BG-terrein e.o.","Amsterdam","Buurt","BU0363AE05","Burgwallen-Oude Zijde",2,695,370,330,30,135,300,150,90,540,105,40,10,"370","175","155","370","45","45","130","105","0","3","5","4",515,385,100,40,1.3,8246,410,610,6,94,85,15,21,78,36,43,0,100,0,"1810","1750","2450",".",".",".","1690","2260","830","800","1230",".",".",".","770","1080",".","10","10","0","30","120",60,160,440,74,73,27,600,".",".",43.1,24.8,".",64.7,11.2,13.7,13.7,15.6,19.3,5.3,"20","10","10","70",10,8.8,15,23,"295","0","5","65","35","15","80","35","60","110","80","30",0.2,"1323","15",0.3,0.4,0.7,0.9,24.1,10,8,2,1012,1,1,8551,46.76258992805755,46.76258992805755,17.26618705035971,4.316546762589928,12.949640287769784,0,0,0,0,0,0,0,0,0,0,0,0,0,0,0,0,0,0,0,0,0,0,0,0,0]
["BU0363AF01","0363AF01","Oosterdokseiland","Amsterdam","Buurt","BU0363AF01","Nieuwmarkt/Lastage",2,505,290,210,55,25,230,135,55,335,120,45,5,"205","100","200","210","20","60","80","135","5","10","5","6",310,175,85,45,1.6,4076,268,815,0,100,88,12,43,56,34,22,1,4,96,"2260","2260",".",".",".",".","1940","2660","420","420",".",".",".",".","450","380",".","30","20","0","0","20",".",".",".",74,81,19,400,".",".",24,45.8,".",32,27.9,5.4,5.4,7.6,8.3,17.1,"10","20","10","60",10,17.4,15,26,"175","0","0","30","15","35","55","10","30","1115","640","475",".",".","10",0.9,0.1,1,1.1,16.3,24,12,12,1011,1,1,5476,58.415841584158414,59.4059405940594,3.9603960396039604,10.891089108910892,10.891089108910892,0,0,0,0,0,0,0,0,0,0,0,0,0,0,0,0,0,0,0,0,0,0,0,0,0]
["BU0363AF02","0363AF02","Lastage","Amsterdam","Buurt","BU0363AF02","Nieuwmarkt/Lastage",2,1100,575,525,75,130,430,295,170,780,230,80,20,"605","255","250","605","65","90","190","155","5","5","10","5",700,405,205,85,1.6,20743,691,589,7,93,88,12,34,66,23,43,0,98,2,"1830","1760","2860",".",".",".","1600","2260","800","780","1180",".",".",".","750","900",".","30","40","10","30","60",70,230,680,77,70,30,1000,".",".",33,32.9,".",44.8,20.1,6.8,9.2,11.5,13.4,44.5,"20","30","20","150",10,7.6,40,37,"385","0","15","60","35","20","135","40","85","210","155","50",0.3,"3908","30",0.4,0.5,0.4,0.4,20.7,8,5,2,1011,1,1,6700,45,45,5.454545454545454,6.8181818181818175,15.454545454545453,0,0,0,0,0,0,0,0,0,0,0,0,0,0,0,0,0,0,0,0,0,0,0,0,0]
["BU0363AF03","0363AF03","Scheepvaarthuisbuurt","Amsterdam","Buurt","BU0363AF03","Nieuwmarkt/Lastage",2,745,360,390,55,150,270,170,105,535,160,40,10,"465","170","120","460","60","60","110","55","10","9","5","5",455,265,125,60,1.6,15504,336,763,4,96,87,13,38,61,4,57,1,98,2,"2320","2240","4230",".",".",".","2120","2630","890","850","1670",".",".",".","790","1040",".","20","30","0","40","90",30,210,460,76,69,31,700,".",".",35.9,30.6,".",45.1,21.2,6.5,5.7,7,8,44.7,"0","10","10","100",10,5.2,10,16,"250","0","15","35","25","15","80","20","60","160","115","45",0.4,"3337","30",0.3,0.7,0.4,0.6,20.3,11,5,6,1011,1,1,6396,38.25503355704698,37.58389261744966,12.080536912751679,7.38255033557047,14.093959731543624,0,0,0,0,0,0,0,0,0,0,0,0,0,0,0,0,0,0,0,0,0,0,0,0,0]
["BU0363AF04","0363AF04","Rapenburg","Amsterdam","Buurt","BU0363AF04","Nieuwmarkt/Lastage",2,995,490,505,85,230,345,225,115,720,205,60,15,"460","260","275","455","30","75","230","205","5","4","5","5",665,425,155,80,1.5,10840,599,510,4,96,90,10,25,74,36,38,1,94,6,"1890","1880","2280",".",".",".","1720","2380","750","740","1110",".",".",".","700","900",".","30","30","0","20","90",".",".",".",63,72,28,700,".",".",35.9,32.4,".",51.2,18.1,6.9,8.8,10.8,11.4,20.1,"10","20","0","100",10,5.2,25,24,"290","0","10","35","40","25","100","40","40","175","125","45",0.3,"1883","15",0.5,0.7,0.2,0.8,21.9,17,9,7,1011,1,1,6134,54.2713567839196,53.768844221105525,9.045226130653267,8.542713567839195,11.557788944723619,0,0,0,0,0,0,0,0,0,0,0,0,0,0,0,0,0,0,0,0,0,0,0,0,0]
["BU0363AF05","0363AF05","Nieuwmarkt","Amsterdam","Buurt","BU0363AF05","Nieuwmarkt/Lastage",2,1585,775,810,105,165,405,430,475,995,310,205,80,"915","280","390","915","95","160","185","230","5","4","35","21",1055,725,195,135,1.5,26690,1091,504,5,95,93,7,17,83,68,15,0,100,0,"1570","1520","2620",".",".",".","1430","2250","690","670","1170",".",".",".","660","890",".","50","40","10","40","80",170,460,660,64,68,32,1400,".",".",44.6,21,".",63.1,10.7,12.1,17.2,23,27.1,16.6,"60","70","20","430",30,12.6,170,107,"410","0","20","60","40","15","110","60","105","260","205","55",0.2,"4370","45",0.3,0.3,0.3,0.4,22.6,7,6,1,1011,1,1,7384,42.27129337539432,42.27129337539432,5.047318611987381,6.624605678233439,29.96845425867508,0,0,0,0,0,0,0,0,0,0,0,0,0,0,0,0,0,0,0,0,0,0,0,0,0]
["BU0363AF06","0363AF06","Uilenburg","Amsterdam","Buurt","BU0363AF06","Nieuwmarkt/Lastage",2,1245,645,595,80,140,455,350,220,810,295,110,30,"545","305","395","545","55","90","250","305","5","5","5","4",815,495,215,105,1.5,15475,805,588,0,100,92,8,36,64,36,28,0,72,28,"1760","1760",".",".",".",".","1590","2080","580","580",".",".",".",".","570","600","10,0","40","20","10","30","70",150,220,740,71,76,24,1100,".",".",34.4,34.7,".",44.9,23.2,9.9,12.3,16.1,17.7,40.6,"40","30","10","200",35,20,60,47,"370","0","20","60","35","20","110","45","75","245","190","55",0.3,"3030","40",0.6,0.4,0.3,0.4,23.7,11,8,3,1011,1,1,6666,56.22489959839358,56.22489959839358,5.622489959839357,6.425702811244979,17.670682730923694,0,0,0,0,0,0,0,0,0,0,0,0,0,0,0,0,0,0,0,0,0,0,0,0,0]
["BU0363AF07","0363AF07","Valkenburg","Amsterdam","Buurt","BU0363AF07","Nieuwmarkt/Lastage",2,1200,610,585,85,170,380,275,290,760,280,110,50,"590","285","320","590","65","105","220","215","5","8","10","9",810,550,160,100,1.5,17664,822,589,0,100,88,12,41,58,23,35,1,100,0,"1660","1660",".",".",".",".","1430","1990","360","360",".",".",".",".","370","350","43,7","30","40","0","30","110",120,250,630,70,79,21,1000,".",".",34.1,32.9,".",49,18.5,4.5,9.1,12.6,14.8,54.4,"10","40","10","260",10,6.5,115,95,"315","0","15","25","45","35","115","25","50","270","210","60",0.3,"3951","25",0.7,0.6,0.4,0.4,24.2,7,7,1,1011,1,1,7142,50.83333333333333,50.83333333333333,9.166666666666666,7.083333333333333,24.166666666666668,0,0,0,0,0,0,0,0,0,0,0,0,0,0,0,0,0,0,0,0,0,0,0,0,0]
["BU0363AF08","0363AF08","Zuiderkerkbuurt","Amsterdam","Buurt","BU0363AF08","Nieuwmarkt/Lastage",2,1630,940,695,95,185,575,430,345,1095,330,165,40,"840","320","465","845","80","155","240","310","10","4","10","6",1085,725,235,130,1.5,24020,1076,630,5,95,90,10,21,78,49,29,1,100,0,"1810","1790","2340",".",".",".","1710","2200","800","780","1300",".",".",".","760","970",".","50","40","10","40","100",130,370,880,70,71,29,1400,".",".",38.3,25.7,".",56.6,16.1,11,13.8,17.8,20.9,21.6,"40","30","20","320",20,8.5,90,56,"555","0","20","145","60","40","125","50","115","305","245","60",0.3,"4504","45",0.3,0.4,0.6,0.7,21.4,9,7,2,1011,1,1,8396,48.15950920245399,48.466257668711656,6.134969325153374,5.828220858895705,21.165644171779142,0,0,0,0,0,0,0,0,0,0,0,0,0,0,0,0,0,0,0,0,0,0,0,0,0]
["BU0363AF09","0363AF09","Waterloopleinbuurt","Amsterdam","Buurt","BU0363AF09","Nieuwmarkt/Lastage",2,895,460,430,60,105,325,225,180,610,185,75,15,"430","205","260","430","60","95","145","160","10","11","10","11",615,405,145,65,1.5,7961,579,545,2,98,92,8,30,70,38,32,0,96,4,"1740","1710","3420",".",".",".","1620","2050","700","690","1180",".",".",".","690","730",".","20","20","0","20","70",80,240,460,71,73,27,800,".",".",36.2,27.5,".",52.8,15.3,7.7,10.5,14.7,17.1,28,"20","20","10","160",20,15.6,70,78,"300","0","10","60","20","25","75","35","80","190","140","50",0.3,"1674","15",0.6,0.4,0.5,0.5,26.5,13,11,2,1011,1,1,8165,51.955307262569825,51.955307262569825,7.82122905027933,6.70391061452514,20.11173184357542,0,0,0,0,0,0,0,0,0,0,0,0,0,0,0,0,0,0,0,0,0,0,0,0,0]
["BU0363AG01","0363AG01","Leidsegracht-Zuid","Amsterdam","Buurt","BU0363AG01","Grachtengordel-Zuid",2,700,395,305,50,85,295,165,110,490,155,30,30,"320","195","185","325","25","40","170","145","10","13","10","11",445,285,110,50,1.5,12879,454,947,15,85,77,23,34,64,2,62,2,100,0,"2260","2150","2810",".",".",".","2040","2630","990","890","1560",".",".",".","900","1170",".","20","20","0","10","50",20,130,450,75,69,31,600,".",".",28.8,40.6,".",39.6,27.6,7.2,6.7,8.6,9.1,64.3,"0","10","10","100",10,9,30,40,"640","0","20","145","85","70","225","45","45","245","140","110",0.6,"4532","20",0.7,0.3,0.5,1.1,36.7,7,5,1,1017,1,1,9979,53.57142857142857,54.285714285714285,7.142857142857142,7.142857142857142,15.714285714285714,0,0,0,0,0,0,0,0,0,0,0,0,0,0,0,0,0,0,0,0,0,0,0,0,0]
["BU0363AG02","0363AG02","Geelvinckbuurt","Amsterdam","Buurt","BU0363AG02","Grachtengordel-Zuid",3,345,190,150,20,80,180,40,20,280,45,15,5,"125","135","80","125","15","15","120","65","0","3","5","3",245,170,60,20,1.4,8516,194,738,3,97,80,20,15,84,0,84,1,96,4,"2050","2010","3440",".",".",".","2000","2360","900","890","1360",".",".",".","900","930",".","10","10","0","10","40",".",".",".",74,82,18,300,".",".",36.6,35.2,".",51.8,13.8,7.2,6,6.6,9,4.4,"0","0","10","20",".",".",".",".","565","0","25","155","95","65","175","20","30","90","55","35",0.4,"2198","5",0.8,0.4,0.7,1.1,29.7,5,4,1,1017,1,1,9859,63.76811594202898,63.76811594202898,11.594202898550725,5.797101449275362,5.797101449275362,0,0,0,0,0,0,0,0,0,0,0,0,0,0,0,0,0,0,0,0,0,0,0,0,0]
["BU0363AG03","0363AG03","Rembrandtplein e.o.","Amsterdam","Buurt","BU0363AG03","Grachtengordel-Zuid",3,1025,585,440,60,160,590,160,55,770,200,40,10,"310","320","390","315","20","60","295","335","5","9","5","4",710,470,195,50,1.4,10260,536,639,6,94,74,26,20,79,4,75,1,97,3,"1890","1890","1970",".",".",".","1890","1950","780","760","1200",".",".",".","790","750",".","20","10","0","20","90",".",".",".",74,81,19,800,".",".",30.5,38.6,".",45.4,13.5,8,6.9,8.2,9.1,4.3,"10","10","10","50",".",".",15,16,"500","0","10","210","40","50","90","25","80","135","90","40",0.2,"1331","20",0.6,0.4,0.4,0.8,31.9,12,10,2,1017,1,1,9184,69.26829268292683,69.7560975609756,8.780487804878048,5.853658536585367,5.365853658536586,0,0,0,0,0,0,0,0,0,0,0,0,0,0,0,0,0,0,0,0,0,0,0,0,0]
["BU0363AG04","0363AG04","Spiegelbuurt","Amsterdam","Buurt","BU0363AG04","Grachtengordel-Zuid",2,835,480,355,65,125,300,240,105,560,215,50,10,"330","260","250","330","55","70","205","175","5","7","0","4",530,320,140,70,1.6,10459,614,980,9,91,72,28,41,58,7,51,1,99,1,"2210","2160","2630",".",".",".","1950","2540","950","900","1390",".",".",".","850","1090",".","30","30","0","20","60",80,160,510,72,71,29,700,".",".",30.7,41.5,".",39.9,29.3,6.5,5.6,6.7,6.9,142,"0","10","10","90",".",".",15,18,"835","0","30","180","100","120","290","45","70","310","205","105",0.6,"3880","40",0.8,0.5,0.6,1,33.1,9,8,1,1017,1,1,9511,60.47904191616767,60.47904191616767,7.18562874251497,7.784431137724551,12.574850299401197,0,0,0,0,0,0,0,0,0,0,0,0,0,0,0,0,0,0,0,0,0,0,0,0,0]
["BU0363AG05","0363AG05","Vijzelstraatbuurt","Amsterdam","Buurt","BU0363AG05","Grachtengordel-Zuid",3,1410,730,685,95,195,495,360,265,890,375,100,50,"805","305","305","805","85","100","225","200","5","2","10","8",880,535,230,120,1.6,10506,842,1106,19,81,81,19,47,53,1,52,1,97,3,"2450","2210","3420",".",".",".","2110","2820","1060","940","1550",".",".",".","950","1190",".","40","50","10","30","110",270,270,670,74,70,30,1200,".",".",32,38.5,".",40,30.7,7.8,7.4,8.5,9.4,146.4,"0","20","10","230",15,5.6,40,28,"800","0","25","135","95","115","255","80","95","405","295","115",0.5,"3026","30",0.5,0.3,0.5,0.7,34.2,16,13,3,1017,1,1,9283,42.90780141843972,42.90780141843972,7.801418439716312,6.73758865248227,18.79432624113475,0,0,0,0,0,0,0,0,0,0,0,0,0,0,0,0,0,0,0,0,0,0,0,0,0]
["BU0363AG06","0363AG06","Amstelveldbuurt","Amsterdam","Buurt","BU0363AG06","Grachtengordel-Zuid",2,1550,785,770,140,220,510,430,250,1005,425,80,40,"870","340","340","875","75","130","265","210","10","4","5","5",950,560,255,135,1.6,13937,956,979,13,87,83,17,42,57,7,50,1,99,1,"2150","1980","3280",".",".",".","1760","2660","970","890","1530",".",".",".","850","1150",".","70","40","10","50","120",40,310,980,74,67,33,1300,".",".",32.4,38.8,".",40.3,28.3,8.7,8.2,9.1,10.6,160.3,"10","20","10","220",15,5.6,25,15,"680","0","25","135","45","120","215","55","90","515","370","145",0.5,"4628","55",0.4,0.5,0.3,0.6,33.9,15,11,4,1017,1,1,9341,43.54838709677419,43.87096774193549,7.741935483870968,9.032258064516128,16.129032258064516,0,0,0,0,0,0,0,0,0,0,0,0,0,0,0,0,0,0,0,0,0,0,0,0,0]
["BU0363AH01","0363AH01","Leidsebuurt-Noordwest","Amsterdam","Buurt","BU0363AH01","De Weteringschans",2,285,165,120,10,40,170,45,15,235,40,15,0,"100","100","85","100","10","30","90","60","0","3","0","0",215,155,50,15,1.3,11435,210,570,8,92,85,15,35,64,0,64,1,100,0,"1820","1700","3030",".",".",".","1750","1970","710","610","1650",".",".",".","730","670",".","0","0","0","10","20",".",".",".",86,84,16,300,".",".",28,37.2,".",49,14.6,5.6,6.7,7.3,7.3,18.2,"0","0","10","10",".",".",".",".","145","0","5","50","15","10","30","10","25","40","25","15",0.2,"1679","10",0.6,0.5,0.3,0.8,43.6,3,3,0,1017,1,1,9579,64.91228070175438,64.91228070175438,7.017543859649122,3.508771929824561,5.263157894736842,0,0,0,0,0,0,0,0,0,0,0,0,0,0,0,0,0,0,0,0,0,0,0,0,0]
["BU0363AH02","0363AH02","Leidsebuurt-Noordoost","Amsterdam","Buurt","BU0363AH02","De Weteringschans",2,1110,570,540,45,260,570,165,65,915,140,45,10,"420","355","335","420","50","80","310","255","10","8","0","0",770,505,220,50,1.4,20651,735,604,6,94,83,17,27,72,0,72,1,98,2,"1870","1820","2540",".",".",".","1720","2240","750","720","1220",".",".",".","700","890",".","10","20","10","50","130",".",".",".",81,79,21,1000,".",".",34.1,31,".",50,14.5,8.7,8.7,10.3,11.3,7.3,"10","10","10","60",10,4.7,15,15,"495","0","15","185","45","40","105","30","80","165","120","45",0.2,"3046","20",0.7,0.6,0.6,0.9,40.7,6,5,1,1017,1,1,9452,62.16216216216216,62.16216216216216,11.711711711711711,4.054054054054054,5.8558558558558556,0,0,0,0,0,0,0,0,0,0,0,0,0,0,0,0,0,0,0,0,0,0,0,0,0]
["BU0363AH03","0363AH03","Weteringbuurt","Amsterdam","Buurt","BU0363AH03","De Weteringschans",2,2400,1170,1225,220,305,1055,530,295,1750,495,120,40,"1195","600","605","1195","110","190","490","410","15","6","5","3",1535,945,385,205,1.6,20206,1551,686,9,91,86,14,39,61,8,53,1,92,8,"1910","1810","2970",".",".",".","1690","2280","820","750","1510",".",".",".","740","940",".","90","80","10","60","190",120,590,1420,76,74,26,2000,".",".",30.8,38.7,".",42.8,23.4,7.7,7.8,10,11.5,39.8,"30","50","30","260",30,7.5,65,28,"725","0","25","110","60","70","240","100","120","495","370","125",0.3,"4176","85",0.4,0.5,0.5,0.6,34.1,14,12,2,1017,1,1,9642,50.208333333333336,50.208333333333336,7.916666666666666,9.166666666666666,12.291666666666666,0,0,0,0,0,0,0,0,0,0,0,0,0,0,0,0,0,0,0,0,0,0,0,0,0]
["BU0363AH04","0363AH04","Utrechtsebuurt-Zuid","Amsterdam","Buurt","BU0363AH04","De Weteringschans",2,1220,635,585,95,135,445,330,215,785,305,105,30,"640","275","300","645","65","105","215","190","10","7","5","4",790,485,185,115,1.5,21349,797,749,9,91,86,14,39,60,14,46,1,97,3,"1920","1800","3260",".",".",".","1650","2320","780","730","1450",".",".",".","700","910",".","50","30","10","30","60",80,210,720,73,71,29,1000,".",".",31,38,".",42.1,23.6,8,8.9,11.5,12.8,86.5,"20","20","20","200",15,8.2,60,48,"470","0","25","70","45","50","160","45","70","290","225","70",0.4,"5096","25",0.4,0.3,0.3,0.3,34.6,7,6,1,1017,1,1,9451,47.13114754098361,47.540983606557376,4.918032786885246,7.786885245901639,17.62295081967213,0,0,0,0,0,0,0,0,0,0,0,0,0,0,0,0,0,0,0,0,0,0,0,0,0]
["BU0363AH05","0363AH05","Leidsebuurt-Zuidwest","Amsterdam","Buurt","BU0363AH05","De Weteringschans",2,160,80,80,5,30,75,35,20,115,30,15,5,"55","45","65","55","10","30","40","30","0","0","0","6",120,85,20,10,1.4,5966,112,561,0,100,84,16,14,86,20,66,0,96,4,"2100","2100",".",".",".",".","1980","2760","780","780",".",".",".",".","760","870",".","0","0","10","10","20",".",".",".",70,".",".",100,".",".",35.3,26.5,".",62.6,15.9,".",".",".",".",6.1,"0","0","10","10",".",".",".",".","55","0","5","15","5","5","10","0","15","35","30","5",0.3,"1289","0",0.5,0.4,0.5,0.7,42.8,3,3,1,1017,1,1,9855,65.625,65.625,12.5,3.125,12.5,0,0,0,0,0,0,0,0,0,0,0,0,0,0,0,0,0,0,0,0,0,0,0,0,0]
["BU0363AH06","0363AH06","Leidsebuurt-Zuidoost","Amsterdam","Buurt","BU0363AH06","De Weteringschans",2,300,160,140,30,30,120,70,45,210,65,20,10,"130","70","100","130","10","40","60","60","0","7","0","0",195,125,45,25,1.6,6904,215,656,2,98,79,21,27,73,13,59,0,100,0,"2000","1920",".",".",".",".","1880","2370","670","640",".",".",".",".","620","820",".","10","10","0","10","20",".",".",".",77,77,23,300,".",".",34.1,33.7,".",49.5,18.9,8.5,10.3,11.5,12.1,24.8,"0","0","10","40",".",".",10,30,"150","0","5","30","15","15","50","10","20","50","40","15",0.3,"1201","5",0.7,0.6,0.7,0.8,41.1,5,4,1,1017,1,1,9452,56.666666666666664,56.666666666666664,6.666666666666667,10,15,0,0,0,0,0,0,0,0,0,0,0,0,0,0,0,0,0,0,0,0,0,0,0,0,0]
["BU0363AH07","0363AH07","Den Texbuurt","Amsterdam","Buurt","BU0363AH07","De Weteringschans",2,1110,570,540,110,145,415,255,190,695,320,65,30,"585","250","285","585","50","90","195","195","10","8","0","3",645,365,160,120,1.7,11730,571,910,3,97,89,11,44,55,17,38,0,98,2,"2310","2270","3310",".",".",".","2020","2660","930","910","1560",".",".",".","840","1040",".","50","40","10","20","80",50,300,620,73,74,26,900,".",".",30,41.4,".",38.8,30.4,6.5,8.5,9.9,11.5,83.9,"20","10","20","180",15,7,45,42,"405","0","20","50","25","55","155","55","45","255","195","60",0.4,"2692","15",0.3,0.5,0.4,0.8,34.7,11,9,2,1017,1,1,10199,47.2972972972973,47.2972972972973,7.207207207207207,9.90990990990991,17.117117117117118,0,0,0,0,0,0,0,0,0,0,0,0,0,0,0,0,0,0,0,0,0,0,0,0,0]
["BU0363AH08","0363AH08","Frederikspleinbuurt","Amsterdam","Buurt","BU0363AH08","De Weteringschans",2,970,495,475,75,95,370,265,150,625,255,65,20,"495","225","245","500","45","85","180","160","5","4","5","6",605,365,165,80,1.6,7120,566,859,6,94,88,12,45,55,19,36,0,92,8,"2110","1990","3620",".",".",".","1730","2590","850","790","1550",".",".",".","740","980",".","30","30","0","20","40",40,190,580,75,70,30,800,".",".",26.6,44.7,".",36.8,32.1,8.9,8.9,10.6,13,90,"20","20","10","140",15,8.9,30,33,"405","0","15","35","40","80","145","55","35","325","245","80",0.5,"2383","20",0.5,0.5,0.4,0.5,35.5,16,14,2,1017,1,1,10506,48.45360824742268,48.96907216494845,4.123711340206185,7.731958762886598,15.463917525773196,0,0,0,0,0,0,0,0,0,0,0,0,0,0,0,0,0,0,0,0,0,0,0,0,0]
["BU0363AJ01","0363AJ01","Weesperbuurt","Amsterdam","Buurt","BU0363AJ01","Weesperbuurt/Plantage",2,3060,1535,1525,190,500,1120,640,615,2150,580,245,80,"1575","705","780","1580","155","260","545","520","25","8","60","19",2030,1370,455,205,1.4,14443,1830,636,2,98,85,15,30,70,28,41,0,98,2,"1770","1730","3280",".",".",".","1630","2050","730","710","1330",".",".",".","670","850",".","90","70","20","90","330",190,1110,1390,70,74,26,2500,57,51.6,36.6,32,".",51.9,18.8,7.9,10.1,13.4,15.5,25.1,"60","90","30","560",35,6.5,240,79,"915","0","25","85","110","65","330","150","150","945","525","420",0.5,"4459","50",0.6,0.6,0.5,0.5,28.8,28,21,7,1018,1,1,8096,48.36601307189542,48.529411764705884,10.784313725490197,6.209150326797386,20.098039215686274,0,0,0,0,0,0,0,0,0,0,0,0,0,0,0,0,0,0,0,0,0,0,0,0,0]
["BU0363AJ02","0363AJ02","Plantage","Amsterdam","Buurt","BU0363AJ02","Weesperbuurt/Plantage",2,2385,1195,1195,195,300,830,540,515,1535,575,175,100,"1380","485","520","1380","125","190","360","330","25","10","30","13",1405,785,425,195,1.6,6978,1414,705,4,96,89,11,36,63,15,49,0,96,4,"2370","2310","3930",".",".",".","2350","2410","610","580","1390",".",".",".","440","910",".","100","80","10","40","170",620,270,1140,72,73,27,1900,".",".",28.1,41.2,".",36,26.7,6.6,6.3,8.6,9.6,118.9,"20","40","30","490",20,5.3,165,68,"595","0","15","70","60","55","210","80","105","610","445","165",0.4,"1784","45",0.5,0.9,0.5,0.8,28.9,38,34,4,1018,1,1,7290,42.138364779874216,42.138364779874216,7.127882599580712,8.176100628930817,21.59329140461216,0,0,0,0,0,0,0,0,0,0,0,0,0,0,0,0,0,0,0,0,0,0,0,0,0]
["BU0363AJ03","0363AJ03","Sarphatistrook","Amsterdam","Buurt","BU0363AJ03","Weesperbuurt/Plantage",2,1995,990,1005,175,355,795,440,230,1460,400,100,35,"1000","485","510","1000","110","145","375","365","25","11","10","4",1240,730,325,180,1.6,10924,1182,630,1,99,91,9,28,72,42,30,0,88,12,"1770","1750","4820",".",".",".","1540","2340","740","740","1800",".",".",".","670","920",".","70","60","10","50","180",250,400,1070,71,74,26,1600,".",".",36.9,31.2,".",51,21.6,10,11.7,14.8,16.6,21,"40","40","20","200",25,6.1,65,33,"710","0","20","70","70","95","250","85","120","400","295","105",0.3,"2201","35",0.5,0.4,0.5,0.4,34.5,21,18,3,1018,1,1,8296,49.87468671679198,49.87468671679198,9.022556390977442,8.771929824561402,11.528822055137844,0,0,0,0,0,0,0,0,0,0,0,0,0,0,0,0,0,0,0,0,0,0,0,0,0]
["BU0363AJ04","0363AJ04","Alexanderplein e.o.","Amsterdam","Buurt","BU0363AJ04","Weesperbuurt/Plantage",2,390,200,195,45,50,170,90,40,295,70,25,5,"220","75","90","220","15","45","60","50","5","5","5","5",235,140,65,35,1.6,9785,234,646,1,99,90,10,48,52,16,36,0,99,1,"1870","1860",".",".",".",".","1680","2100","710","710",".",".",".",".","660","760",".","20","20","0","10","30",".",".",".",81,72,28,300,".",".",28.6,42.5,".",40.6,28.2,6.3,5.8,6.7,7.7,126.2,"10","0","10","30",".",".",".",".","100","0","5","10","5","5","30","15","30","70","55","15",0.3,"1702","5",0.7,0.5,0.8,0.9,27.2,5,4,1,1018,1,1,9304,43.58974358974359,43.58974358974359,7.6923076923076925,11.538461538461538,10.256410256410255,0,0,0,0,0,0,0,0,0,0,0,0,0,0,0,0,0,0,0,0,0,0,0,0,0]
["BU0363AK01","0363AK01","Marine-Etablissement","Amsterdam","Buurt","BU0363AK01","Oostelijke Eilanden/Kadijken",2,110,65,50,10,15,30,35,15,65,30,5,5,"55","10","45","55","5","5","10","40","0","18","0","0",40,15,10,10,1.9,655,3,".",".",".",".",".",".",".",".",".",".",".",".",".",".",".",".",".",".",".",".",".",".",".",".",".",".",".",".",".","0","10","0","0","0",".",".",".",".",".",".",100,".",".",".",".",".",".",".",".",".",".",".",".","0","0","0","20",".",".",".",".","100","0","10","15","20","5","10","10","25","25","20","5",".",".","10",1.2,1,0.6,0.7,16.6,27,17,10,1019,2,1,4259,50,50,0,9.090909090909092,13.636363636363635,0,0,0,0,0,0,0,0,0,0,0,0,0,0,0,0,0,0,0,0,0,0,0,0,0]
["BU0363AK02","0363AK02","Kattenburg","Amsterdam","Buurt","BU0363AK02","Oostelijke Eilanden/Kadijken",2,1670,760,905,160,340,430,350,385,1025,425,155,60,"895","275","500","890","85","205","180","295","10","7","15","10",1030,645,205,185,1.6,18648,785,486,4,96,97,3,23,77,70,7,0,100,0,"1990","2000","1520","1980",".",".","1960","2090","780","780","710","1210",".",".","780","780",".","90","60","20","60","190",310,480,560,63,81,19,1400,".",".",49.4,17.4,".",63.5,12.5,9.4,12.5,18.4,22.3,8.2,"60","60","10","340",40,9.4,200,121,"230","0","15","30","30","5","70","30","55","355","310","45",0.3,"3974","20",0.9,0.8,0.3,0.9,18.5,12,9,3,1018,1,1,5209,46.706586826347305,46.40718562874252,11.377245508982035,9.580838323353294,23.053892215568865,0,0,0,0,0,0,0,0,0,0,0,0,0,0,0,0,0,0,0,0,0,0,0,0,0]
["BU0363AK03","0363AK03","Wittenburg","Amsterdam","Buurt","BU0363AK03","Oostelijke Eilanden/Kadijken",2,2525,1390,1130,205,160,930,805,415,1680,485,315,45,"1105","350","1075","1100","95","430","255","640","20","8","10","5",1345,805,285,260,1.6,20315,1313,486,1,99,96,4,31,69,60,9,0,94,6,"1560","1550","2960",".",".",".","1510","1680","640","630","980",".",".",".","640","630",".","100","70","30","40","60",540,550,1120,70,77,23,1900,".",".",38.2,23.7,".",51.4,14.7,10.5,13.5,18.1,21.1,26.3,"110","180","40","370",35,10.8,215,86,"445","0","25","40","50","10","125","65","125","565","445","120",0.4,"4531","65",1,0.5,0.4,0.4,19.6,18,12,6,1018,1,1,5333,56.43564356435643,56.237623762376245,2.376237623762376,8.118811881188119,16.435643564356436,0,0,0,0,0,0,0,0,0,0,0,0,0,0,0,0,0,0,0,0,0,0,0,0,0]
["BU0363AK04","0363AK04","Oostenburg","Amsterdam","Buurt","BU0363AK04","Oostelijke Eilanden/Kadijken",2,2900,1475,1430,210,270,1610,530,280,2200,485,180,35,"1280","545","1075","1280","120","425","430","645","25","8","15","4",1895,1215,445,235,1.5,14379,1250,492,1,99,97,3,22,78,56,22,0,66,34,"1690","1640","5810",".",".",".","1580","2110","420","430","20",".",".",".","400","510",".","110","60","30","80","130",330,670,2050,80,85,15,2600,50.9,46.2,27.8,33.8,".",45.7,15.5,7.2,8.8,11.1,13.3,8.2,"100","100","40","260",40,10.6,180,62,"575","0","30","55","95","30","195","80","95","485","385","105",0.3,"2412","65",0.4,0.8,0.7,0.8,20.8,25,20,5,1018,1,1,6438,55.86206896551724,55.86206896551724,4.482758620689655,7.241379310344828,9.655172413793103,0,0,0,0,0,0,0,0,0,0,0,0,0,0,0,0,0,0,0,0,0,0,0,0,0]
["BU0363AK05","0363AK05","Czaar Peterbuurt","Amsterdam","Buurt","BU0363AK05","Oostelijke Eilanden/Kadijken",2,2320,1170,1150,220,280,1010,555,260,1675,380,225,40,"1030","440","855","1035","105","345","330","510","30","13","40","17",1500,975,285,240,1.5,22329,1461,432,2,98,95,5,23,77,52,25,0,79,21,"1470","1450","2980",".",".",".","1400","1720","540","530","950",".",".",".","540","530",".","110","70","40","40","110",280,590,1130,73,79,21,2000,".",".",40.2,25.1,".",57,13.2,13.9,15.8,20.3,23,7.6,"140","90","30","230",55,13.7,185,80,"675","0","40","100","95","25","195","105","115","385","290","90",0.3,"3683","55",0.5,0.5,0.2,0.3,25.4,11,10,0,1018,1,1,7029,55.38793103448276,55.603448275862064,4.741379310344827,9.482758620689655,11.206896551724139,0,0,0,0,0,0,0,0,0,0,0,0,0,0,0,0,0,0,0,0,0,0,0,0,0]
["BU0363AK06","0363AK06","Het Funen","Amsterdam","Buurt","BU0363AK06","Oostelijke Eilanden/Kadijken",2,1295,660,640,230,150,350,420,145,800,380,90,25,"705","225","365","700","85","185","135","185","10","7","5","5",625,280,135,205,2.1,17510,562,700,0,100,97,3,61,39,31,8,0,1,99,"2370","2370",".",".",".",".","2140","2520","650","640",".",".",".",".","640","650",".","110","110","20","30","40",130,210,670,74,77,23,1000,".",".",34.3,37.6,".",35.1,33.7,5.4,6,9.5,11.7,385.4,"20","40","10","130",45,12.9,85,65,"310","0","15","30","50","30","95","55","40","330","230","95",0.5,"4452","35",0.7,0.7,0.5,0.7,22,9,7,2,1018,1,1,7997,45.94594594594595,45.559845559845556,3.088803088803089,17.760617760617762,11.196911196911197,0,0,0,0,0,0,0,0,0,0,0,0,0,0,0,0,0,0,0,0,0,0,0,0,0]
["BU0363AK07","0363AK07","Kadijken","Amsterdam","Buurt","BU0363AK07","Oostelijke Eilanden/Kadijken",2,2905,1490,1415,220,305,830,870,680,1865,715,240,85,"1685","465","755","1685","145","270","325","485","20","8","15","4",1875,1170,440,275,1.5,17110,1661,611,2,98,96,4,33,66,53,13,0,92,8,"1670","1650","2390",".",".",".","1430","2140","600","590","1100",".",".",".","560","680",".","110","100","30","70","90",280,570,1610,68,68,32,2500,46.9,41.6,36.8,29,".",50.8,16.8,9.8,12.3,15.5,18.5,42,"80","100","30","620",45,10.2,145,50,"795","0","30","70","95","50","255","105","195","790","595","195",0.4,"4644","115",0.6,0.7,0.8,1.1,22.5,22,17,5,1018,1,1,6535,41.996557659208264,41.996557659208264,3.098106712564544,7.573149741824441,23.407917383820998,0,0,0,0,0,0,0,0,0,0,0,0,0,0,0,0,0,0,0,0,0,0,0,0,0]
["BU0363AK08","0363AK08","Kazernebuurt","Amsterdam","Buurt","BU0363AK08","Oostelijke Eilanden/Kadijken",2,940,460,480,55,75,345,225,235,670,160,80,30,"515","145","285","510","40","125","100","165","10","9","0","2",620,405,140,80,1.5,17220,577,549,1,99,95,5,23,76,69,7,0,100,0,"1690","1680",".",".",".",".","1620","1880","660","660",".",".",".",".","610","810",".","20","20","10","20","20",140,180,480,65,75,25,800,".",".",39.1,23.1,".",54.4,11.8,13.1,13.6,19.9,22.8,16.9,"30","60","20","210",10,9,105,113,"210","0","10","25","30","5","60","40","45","210","165","40",0.3,"3825","25",0.5,0.2,0.7,0.7,27.2,7,5,1,1018,1,1,8163,45.744680851063826,45.21276595744681,2.127659574468085,5.851063829787234,25,0,0,0,0,0,0,0,0,0,0,0,0,0,0,0,0,0,0,0,0,0,0,0,0,0]
["BU0363BA01","0363BA01","Afrikahaven","Amsterdam","Buurt","BU0363BA01","Havens-West",2,5,5,5,0,5,0,5,0,0,0,0,0,"5","0","0","5","0","0","0","0","0","0","0","0",0,0,0,0,2.5,".",2,".",".",".",".",".",".",".",".",".",".",".",".",".",".",".",".",".",".",".",".",".",".",".",".",".",".",".",".",".","0","0","0","0","0",".",".",".",".",".",".",0,".",".",".",".",".",".",".",".",".",".",".",".",".",".",".",".",".",".",".",".","60","0","5","15","25","0","5","0","10","25","15","10",".",".","0",".",".",".",".",".",536,429,107,1047,1,5,51,0,0,0,0,0,0,0,0,0,0,0,0,0,0,0,0,0,0,0,0,0,0,0,0,0,0,0,0,0,0]
["BU0363BA02","0363BA02","Amerikahaven","Amsterdam","Buurt","BU0363BA02","Havens-West",2,5,5,0,0,0,5,0,0,0,0,0,0,"0","0","5","0","0","0","0","0","0","0","0","0",5,5,0,0,1,".",0,".",".",".",".",".",".",".",".",".",".",".",".",".",".",".",".",".",".",".",".",".",".",".",".",".",".",".",".",".","0","0","0","0","0",".",".",".",".",".",".",0,".",".",".",".",".",".",".",".",".",".",".",".",".",".",".",".",".",".",".",".","215","0","70","50","55","15","20","0","10","125","55","70",".",".","10",".",".",".",".",".",1012,703,309,1045,3,5,47,100,100,0,0,0,0,0,0,0,0,0,0,0,0,0,0,0,0,0,0,0,0,0,0,0,0,0,0,0,0]
["BU0363BA03","0363BA03","Westhaven-Noord","Amsterdam","Buurt","BU0363BA03","Havens-West",2,15,10,5,5,5,10,5,5,10,10,0,0,"10","5","0","10","0","5","5","0","0","0","0","0",10,10,0,0,1.4,4,8,".",".",".",".",".",".",".",".",".",".",".",".","1970",".",".",".",".",".","1970",".","980",".",".",".",".",".","980",".",".","0","0","0","0","0",".",".",".",".",".",".",0,".",".",".",".",".",".",".",".",".",".",".",".",".",".",".",".",".",".",".",".","220","0","60","55","45","15","45","5","5","150","80","70",".",".","5",4.3,2.6,4,4.1,0,570,385,185,1042,5,5,99,33.33333333333333,33.33333333333333,0,33.33333333333333,33.33333333333333,0,0,0,0,0,0,0,0,0,0,0,0,0,0,0,0,0,0,0,0,0,0,0,0,0]
["BU0363BA04","0363BA04","Petroleumhaven","Amsterdam","Buurt","BU0363BA04","Havens-West",2,0,0,0,0,0,0,0,5,0,0,0,0,"0","0","0","0","0","0","0","0","0","0","0","0",0,5,0,0,1,".",5,".",".",".",".",".",".",".",".",".",".",".",".",".",".",".",".",".",".",".",".",".",".",".",".",".",".",".",".",".","0","0","0","0","0",".",".",".",".",".",".",0,".",".",".",".",".",".",".",".",".",".",".",".",".",".",".",".",".",".",".",".","65","0","15","25","5","5","15","0","0","30","20","15",".",".","0",".",".",".",".",".",322,194,128,1041,1,5,84,"Geen inwoners","Geen inwoners","Geen inwoners","Geen inwoners","Geen inwoners",0,0,0,0,0,0,0,0,0,0,0,0,0,0,0,0,0,0,0,0,0,0,0,0,0]
["BU0363BA05","0363BA05","Vervoerscentrum","Amsterdam","Buurt","BU0363BA05","Havens-West",2,0,0,0,0,0,0,0,0,0,0,0,0,"0","0","0","0","0","0","0","0","0","0","0","0",0,0,0,0,".",".",0,".",".",".",".",".",".",".",".",".",".",".",".",".",".",".",".",".",".",".",".",".",".",".",".",".",".",".",".",".","0","0","0","0","0",".",".",".",".",".",".",0,".",".",".",".",".",".",".",".",".",".",".",".",".",".",".",".",".",".",".",".","140","0","15","50","30","15","30","0","5","65","45","20",".",".","5",".",".",".",".",".",70,69,1,1042,1,5,171,"Geen inwoners","Geen inwoners","Geen inwoners","Geen inwoners","Geen inwoners",0,0,0,0,0,0,0,0,0,0,0,0,0,0,0,0,0,0,0,0,0,0,0,0,0]
["BU0363BA06","0363BA06","Westhaven-Zuid","Amsterdam","Buurt","BU0363BA06","Havens-West",2,10,5,5,0,5,5,0,5,5,0,5,0,"5","0","5","5","0","5","0","5","0","","0","0",5,5,0,0,1.5,".",2,".",".",".",".",".",".",".",".",".",".",".",".",".",".",".",".",".",".",".",".",".",".",".",".",".",".",".",".",".","0","0","0","0","0",".",".",".",".",".",".",0,".",".",".",".",".",".",".",".",".",".",".",".",".",".",".",".",".",".",".",".","85","0","20","30","5","5","15","0","5","35","15","15",".",".","5",".",".",".",".",".",47,42,5,1043,1,5,316,50,50,0,0,50,0,0,0,0,0,0,0,0,0,0,0,0,0,0,0,0,0,0,0,0,0,0,0,0,0]
["BU0363BB01","0363BB01","Coenhaven","Amsterdam","Buurt","BU0363BB01","Coenhaven/Minervahaven",3,175,165,15,0,45,105,15,0,115,55,0,0,"0","0","170","0","0","0","0","170","0","0","0","0",0,0,0,0,1,341,1,".",".",".",".",".",".",".",".",".",".",".",".",".",".",".",".",".",".",".",".",".",".",".",".",".",".",".",".",".","10","20","0","0","0",".",".",".",".",".",".",0,".",".",".",".",".",".",".",".",".",".",".",".","0","0","0","0",".",".",".",".","45","0","10","5","10","5","5","0","5","35","20","15",".",".","0",3.8,3.3,3.4,3.8,0,113,51,62,1013,1,5,124,100,100,0,0,0,0,0,0,0,0,0,0,0,0,0,0,0,0,0,0,0,0,0,0,0,0,0,0,0,0]
["BU0363BB02","0363BB02","Vlothaven","Amsterdam","Buurt","BU0363BB02","Coenhaven/Minervahaven",3,0,0,0,0,0,0,0,0,0,0,0,0,"0","0","0","0","0","0","0","0","0","0","0","0",0,0,0,0,".",".",0,".",".",".",".",".",".",".",".",".",".",".",".",".",".",".",".",".",".",".",".",".",".",".",".",".",".",".",".",".","0","0","0","0","0",".",".",".",".",".",".",0,".",".",".",".",".",".",".",".",".",".",".",".",".",".",".",".",".",".",".",".","10",".",".",".",".",".",".",".",".","0","0","0",".",".","0",".",".",".",".",".",71,39,32,1013,1,5,133,"Geen inwoners","Geen inwoners","Geen inwoners","Geen inwoners","Geen inwoners",0,0,0,0,0,0,0,0,0,0,0,0,0,0,0,0,0,0,0,0,0,0,0,0,0]
["BU0363BB03","0363BB03","Minervahaven-Noordoost","Amsterdam","Buurt","BU0363BB03","Coenhaven/Minervahaven",3,785,330,455,0,675,105,5,0,775,5,0,0,"5","505","265","10","5","5","500","265","0","0","0","0",775,775,5,0,1,7020,0,".",".",".",".",".",".",".",".",".",".",".",".",".",".",".",".",".",".",".",".",".",".",".",".",".",".",".",".",".","0","0","0","40","500",".",".",".",20,92,8,300,".",".",89.2,1.3,".",97.8,0,".",".",".",".",0,"0","0","0","0",".",".",".",".","175","0","5","45","45","25","45","5","5","145","45","100",0.2,"1312","5",1.4,1.4,1.3,1.3,5,48,11,36,1013,1,3,1454,98.72611464968153,99.36305732484077,63.69426751592356,0,0,0,0,0,0,0,0,0,0,0,0,0,0,0,0,0,0,0,0,0,0,0,0,0,0,0]
["BU0363BB04","0363BB04","Minervahaven-Noordwest","Amsterdam","Buurt","BU0363BB04","Coenhaven/Minervahaven",3,5,0,0,0,0,5,0,0,0,0,5,0,"0","0","0","0","0","0","0","0","0","0","0","0",0,5,0,0,1,".",1,".",".",".",".",".",".",".",".",".",".",".",".",".",".",".",".",".",".",".",".",".",".",".",".",".",".",".",".",".","0","0","0","0","0",".",".",".",".",".",".",0,".",".",".",".",".",".",".",".",".",".",".",".",".",".",".",".",".",".",".",".","180","0","30","65","35","10","30","0","10","35","15","15",".",".","10",".",".",".",".",".",34,23,11,1013,1,2,1707,100,100,0,0,0,0,0,0,0,0,0,0,0,0,0,0,0,0,0,0,0,0,0,0,0,0,0,0,0,0]
["BU0363BB05","0363BB05","Minervahaven-Zuidwest","Amsterdam","Buurt","BU0363BB05","Coenhaven/Minervahaven",3,0,0,0,0,0,0,0,0,0,0,0,0,"0","0","0","0","0","0","0","0","0","0","0","0",0,0,0,0,".",".",0,".",".",".",".",".",".",".",".",".",".",".",".",".",".",".",".",".",".",".",".",".",".",".",".",".",".",".",".",".","0","0","0","0","0",".",".",".",".",".",".",0,".",".",".",".",".",".",".",".",".",".",".",".",".",".",".",".",".",".",".",".","110","0","15","35","10","20","15","0","10","35","20","15",".",".","0",".",".",".",".",".",8,8,0,1013,1,1,2523,"Geen inwoners","Geen inwoners","Geen inwoners","Geen inwoners","Geen inwoners",0,0,0,0,0,0,0,0,0,0,0,0,0,0,0,0,0,0,0,0,0,0,0,0,0]
["BU0363BB06","0363BB06","Minervahaven-Zuidoost","Amsterdam","Buurt","BU0363BB06","Coenhaven/Minervahaven",3,20,15,10,0,0,15,5,0,15,5,0,0,"5","5","15","0","5","0","5","10","0","0","0","0",20,10,5,0,1.2,151,2,".",".",".",".",".",".",".",".",".",".",".",".",".",".",".",".",".",".",".",".",".",".",".",".",".",".",".",".",".","0","0","0","0","0",".",".",".",".",".",".",0,".",".",".",".",".",".",".",".",".",".",".",".",".",".",".",".",".",".",".",".","270","0","15","45","55","40","85","5","25","35","15","25",".",".","5",0.6,0.7,0.5,0.5,8.2,27,13,14,1013,1,1,2569,100,75,0,0,0,0,0,0,0,0,0,0,0,0,0,0,0,0,0,0,0,0,0,0,0,0,0,0,0,0]
["BU0363BB07","0363BB07","Alfa-driehoek","Amsterdam","Buurt","BU0363BB07","Coenhaven/Minervahaven",3,0,0,0,0,0,0,0,0,0,0,0,0,"0","0","0","0","0","0","0","0","0","0","0","0",0,0,0,0,".",".",0,".",".",".",".",".",".",".",".",".",".",".",".",".",".",".",".",".",".",".",".",".",".",".",".",".",".",".",".",".","0","0","0","0","0",".",".",".",".",".",".",0,".",".",".",".",".",".",".",".",".",".",".",".",".",".",".",".",".",".",".",".","345","0","25","65","55","30","120","35","15","1510","955","555",".",".","10",".",".",".",".",".",31,31,0,1014,1,5,409,"Geen inwoners","Geen inwoners","Geen inwoners","Geen inwoners","Geen inwoners",0,0,0,0,0,0,0,0,0,0,0,0,0,0,0,0,0,0,0,0,0,0,0,0,0]
["BU0363BB08","0363BB08","Hemknoop-Noord","Amsterdam","Buurt","BU0363BB08","Coenhaven/Minervahaven",3,0,0,0,0,0,0,0,0,0,0,0,0,"0","0","0","0","0","0","0","0","0","0","0","0",0,0,0,0,".",".",0,".",".",".",".",".",".",".",".",".",".",".",".",".",".",".",".",".",".",".",".",".",".",".",".",".",".",".",".",".","0","0","0","0","0",".",".",".",".",".",".",0,".",".",".",".",".",".",".",".",".",".",".",".",".",".",".",".",".",".",".",".","10",".",".",".",".",".",".",".",".","5","5","0",".",".","0",".",".",".",".",".",11,11,0,1014,4,4,581,"Geen inwoners","Geen inwoners","Geen inwoners","Geen inwoners","Geen inwoners",0,0,0,0,0,0,0,0,0,0,0,0,0,0,0,0,0,0,0,0,0,0,0,0,0]
["BU0363EA01","0363EA01","Isolatorbuurt","Amsterdam","Buurt","BU0363EA01","Sloterdijk-West",3,60,50,15,0,0,25,30,5,55,5,5,0,"20","10","30","15","0","5","10","30","0","0","0","48",20,15,5,0,1.2,181,8,".",".",".",".",".",".",".",".",".",".",".",".","2070","1710",".",".",".",".","2070",".","760","660",".",".",".",".","760",".","25,0","0","0","0","0","0",".",".",".",".",".",".",0,".",".",".",".",".",".",".",".",".",".",".",".","10","10","0","0",".",".",25,383,"395","0","40","65","55","50","120","10","50","70","50","20",".",".","5",2.3,1.7,2.1,2.3,5,35,35,0,1014,1,4,654,75,66.66666666666666,0,0,8.333333333333332,0,0,0,0,0,0,0,0,0,0,0,0,0,0,0,0,0,0,0,0,0,0,0,0,0]
["BU0363EA02","0363EA02","Contactbuurt","Amsterdam","Buurt","BU0363EA02","Sloterdijk-West",3,15,10,10,5,0,10,0,0,10,5,0,0,"5","0","10","5","0","0","0","10","0","0","0","0",15,10,0,0,1.3,48,7,".",".",".",".",".",".",".",".",".",".",".",".",".",".",".",".",".",".",".",".",".",".",".",".",".",".",".",".",".","0","0","0","0","0",".",".",".",".",".",".",0,".",".",".",".",".",".",".",".",".",".",".",".",".",".",".",".",".",".",".",".","170","0","15","40","20","10","50","10","25","70","40","30",".",".","5",2.3,1.6,2,2.3,6.4,33,33,0,1014,1,2,1998,66.66666666666666,66.66666666666666,0,33.33333333333333,0,0,0,0,0,0,0,0,0,0,0,0,0,0,0,0,0,0,0,0,0,0,0,0,0,0]
["BU0363EA03","0363EA03","Woon- en Groengebied Sloterdijk","Amsterdam","Buurt","BU0363EA03","Sloterdijk-West",3,580,315,265,60,25,385,80,35,430,115,30,5,"320","135","125","320","30","50","105","80","10","19","0","5",335,155,130,55,1.7,1117,320,573,11,89,93,7,29,71,3,68,0,42,58,"1920","1900","1980","2040",".",".","1830","2130","300","230","750","1080",".",".","350","190","29,4","20","10","0","10","10",".",".",".",89,82,18,500,".",".",13.3,53.1,".",23.8,32.2,3.4,3.8,3.8,4.1,28.9,"0","10","20","30",".",".",".",".","135","0","10","20","15","15","55","10","15","165","130","35",0.5,"317","20",1.4,0.6,0.8,1,22.1,53,52,1,1014,1,1,4144,44.827586206896555,44.827586206896555,1.7241379310344827,10.344827586206897,6.0344827586206895,0,0,0,0,0,0,0,0,0,0,0,0,0,0,0,0,0,0,0,0,0,0,0,0,0]
["BU0363EB01","0363EB01","Hemknoop-Zuid","Amsterdam","Buurt","BU0363EB01","Spaarndammerbuurt/Zeeheldenbuurt",3,0,0,0,0,0,0,0,0,0,0,0,0,"0","0","0","0","0","0","0","0","0","0","0","0",0,0,0,0,".",".",1,".",".",".",".",".",".",".",".",".",".",".",".",".",".",".",".",".",".",".",".",".",".",".",".",".",".",".",".",".","0","0","0","0","0",".",".",".",".",".",".",0,".",".",".",".",".",".",".",".",".",".",".",".",".",".",".",".",".",".",".",".","0",".",".",".",".",".",".",".",".","0","0","0",".",".","0",".",".",".",".",".",12,12,0,1014,1,4,852,"Geen inwoners","Geen inwoners","Geen inwoners","Geen inwoners","Geen inwoners",0,0,0,0,0,0,0,0,0,0,0,0,0,0,0,0,0,0,0,0,0,0,0,0,0]
["BU0363EB02","0363EB02","Overbraker Binnenpolder","Amsterdam","Buurt","BU0363EB02","Spaarndammerbuurt/Zeeheldenbuurt",3,5,0,5,0,0,0,5,0,5,0,0,5,"5","0","0","5","0","0","0","0","0","0","0","0",5,0,0,0,1.3,".",5,".",".",".",".",".",".",".",".",".",".",".",".","1930",".",".",".",".",".","1930",".","660",".",".",".",".",".","660",".",".","0","0","0","0","0",".",".",".",".",".",".",0,".",".",".",".",".",".",".",".",".",".",".",".",".",".",".",".",".",".",".",".","10",".",".",".",".",".",".",".",".","0","0","0",".",".","0",".",".",".",".",".",33,33,0,1014,1,1,2739,0,0,0,0,0,0,0,0,0,0,0,0,0,0,0,0,0,0,0,0,0,0,0,0,0,0,0,0,0,0]
["BU0363EB03","0363EB03","Zaanstraat emplacement","Amsterdam","Buurt","BU0363EB03","Spaarndammerbuurt/Zeeheldenbuurt",3,0,0,0,0,0,0,0,0,0,0,0,0,"0","0","0","0","0","0","0","0","0","0","0","0",0,0,0,0,".",".",0,".",".",".",".",".",".",".",".",".",".",".",".",".",".",".",".",".",".",".",".",".",".",".",".",".",".",".",".",".","0","0","0","0","0",".",".",".",".",".",".",0,".",".",".",".",".",".",".",".",".",".",".",".",".",".",".",".",".",".",".",".","0",".",".",".",".",".",".",".",".","0","0","0",".",".","0",".",".",".",".",".",19,19,0,1014,1,1,4440,"Geen inwoners","Geen inwoners","Geen inwoners","Geen inwoners","Geen inwoners",0,0,0,0,0,0,0,0,0,0,0,0,0,0,0,0,0,0,0,0,0,0,0,0,0]
["BU0363EB04","0363EB04","Spaarndammerbuurt-Noordwest","Amsterdam","Buurt","BU0363EB04","Spaarndammerbuurt/Zeeheldenbuurt",2,1920,940,980,245,130,810,525,205,1315,365,205,30,"860","275","785","860","85","330","190","455","25","14","10","5",1115,605,245,265,1.7,16121,1087,497,0,100,97,3,10,90,86,4,0,100,0,"1540","1540","1340",".",".",".","1530","1620","740","740","740",".",".",".","750","640",".","110","60","30","30","20",460,410,730,72,79,21,1600,".",".",37.5,20.6,".",55.5,13.7,13.6,16.2,19.2,22.3,5.3,"140","90","30","180",45,13.7,160,84,"335","0","20","30","50","10","90","60","75","415","340","75",0.4,"3500","40",0.7,0.4,0.3,0.8,9.1,12,12,0,1013,1,1,4249,55.208333333333336,55.208333333333336,1.0416666666666665,12.760416666666666,10.677083333333332,0,0,0,0,0,0,0,0,0,0,0,0,0,0,0,0,0,0,0,0,0,0,0,0,0]
["BU0363EB05","0363EB05","Spaarndammerbuurt-Midden","Amsterdam","Buurt","BU0363EB05","Spaarndammerbuurt/Zeeheldenbuurt",2,1460,725,740,215,125,625,400,105,1035,300,110,20,"655","250","560","655","75","245","180","315","15","8","5","3",835,480,160,195,1.8,25530,811,495,1,99,97,3,26,74,57,17,0,88,12,"1640","1640","2100",".",".",".","1580","1840","580","570","950",".",".",".","610","480",".","100","80","20","30","30",250,350,590,75,77,23,1200,".",".",38.9,25.9,".",52.1,15.7,11.4,13.5,18.6,20.6,11.4,"90","70","20","100",30,10.2,80,55,"310","0","20","35","30","10","95","55","65","305","245","60",0.4,"5354","30",0.4,0.2,0.2,0.8,9.7,6,6,0,1013,1,1,5726,55.13698630136986,55.13698630136986,2.054794520547945,14.726027397260275,7.191780821917808,0,0,0,0,0,0,0,0,0,0,0,0,0,0,0,0,0,0,0,0,0,0,0,0,0]
["BU0363EB06","0363EB06","Spaarndammerbuurt-Zuidwest","Amsterdam","Buurt","BU0363EB06","Spaarndammerbuurt/Zeeheldenbuurt",2,1800,910,900,190,155,725,360,370,1260,285,175,80,"880","305","610","880","90","210","220","400","20","9","45","26",1095,745,190,160,1.5,23790,1051,429,0,100,97,3,27,73,52,21,0,92,8,"1570","1570",".",".",".",".","1510","1710","560","560",".",".",".",".","540","610",".","100","70","20","50","50",320,380,760,74,81,19,1400,".",".",38.7,26,".",57.1,13.2,10.4,14.9,19.7,23,9,"90","70","30","360",25,9,295,163,"350","0","15","50","40","10","100","60","80","280","225","60",0.3,"3708","30",0.4,0.3,0.4,1,10.5,8,8,0,1013,1,1,5905,51.11111111111111,51.11111111111111,2.7777777777777777,10.555555555555555,20.555555555555554,0,0,0,0,0,0,0,0,0,0,0,0,0,0,0,0,0,0,0,0,0,0,0,0,0]
["BU0363EB07","0363EB07","Spaarndammerbuurt-Noordoost","Amsterdam","Buurt","BU0363EB07","Spaarndammerbuurt/Zeeheldenbuurt",2,2645,1325,1320,290,215,970,785,390,1795,505,285,60,"1175","390","1075","1175","135","450","255","630","25","9","15","5",1670,1055,310,310,1.6,26513,1646,461,0,100,97,3,22,78,72,7,0,100,0,"1420","1420",".",".",".",".","1350","1690","620","620",".",".",".",".","620","620",".","130","100","40","70","60",570,750,910,66,79,21,2300,".",34,42.5,20.7,".",60,11.2,14.7,17.4,22.8,26.7,7,"200","130","20","340",55,12.7,245,93,"465","0","25","55","65","10","130","65","115","560","450","110",0.3,"5638","60",0.5,0.4,0.4,0.5,10.8,11,10,1,1013,1,1,6052,55.576559546313796,55.576559546313796,2.2684310018903595,10.964083175803403,14.744801512287333,0,0,0,0,0,0,0,0,0,0,0,0,0,0,0,0,0,0,0,0,0,0,0,0,0]
["BU0363EB08","0363EB08","Zeeheldenbuurt","Amsterdam","Buurt","BU0363EB08","Spaarndammerbuurt/Zeeheldenbuurt",2,1955,945,1010,265,210,705,530,250,1355,385,185,35,"840","330","785","840","85","345","250","440","15","9","10","4",1065,595,235,230,1.7,21458,1027,496,0,100,96,4,27,73,56,17,0,93,7,"1490","1490",".",".",".",".","1420","1660","660","660",".",".",".",".","680","620",".","120","80","50","40","70",320,410,880,70,78,22,1500,".",".",41,24.5,".",52.3,14.6,11.3,14.7,19.3,23.1,18.9,"110","80","30","220",115,26.5,180,93,"495","5","30","50","60","20","160","70","95","390","315","75",0.4,"4294","35",0.8,0.8,0.3,0.4,12.3,10,9,1,1013,1,1,5622,57.033248081841435,57.033248081841435,3.580562659846547,13.554987212276215,12.787723785166241,0,0,0,0,0,0,0,0,0,0,0,0,0,0,0,0,0,0,0,0,0,0,0,0,0]
["BU0363EB09","0363EB09","Westergasfabriek","Amsterdam","Buurt","BU0363EB09","Spaarndammerbuurt/Zeeheldenbuurt",3,0,0,0,5,0,5,0,0,0,0,0,0,"5","0","0","0","0","0","0","0","0","0","0","0",0,0,0,0,3,".",1,".",".",".",".",".",".",".",".",".",".",".",".",".",".",".",".",".",".",".",".",".",".",".",".",".",".",".",".",".","0","0","0","0","0",".",".",".",".",".",".",0,".",".",".",".",".",".",".",".",".",".",".",".",".",".",".",".",".",".",".",".","65","0","0","15","5","0","10","20","10","0","0","0",".",".","0",".",".",".",".",".",26,24,1,1014,1,1,7442,"Geen inwoners","Geen inwoners","Geen inwoners","Geen inwoners","Geen inwoners",0,0,0,0,0,0,0,0,0,0,0,0,0,0,0,0,0,0,0,0,0,0,0,0,0]
["BU0363EB10","0363EB10","Spaarndammerbuurt-Zuidoost","Amsterdam","Buurt","BU0363EB10","Spaarndammerbuurt/Zeeheldenbuurt",2,1020,490,525,110,95,395,260,155,700,210,80,20,"480","205","335","480","60","155","140","185","10","11","0","2",615,360,140,115,1.6,20864,596,450,0,100,96,4,31,69,42,27,0,89,11,"1530","1530",".",".",".",".","1500","1600","620","620",".",".",".",".","630","600",".","60","40","20","20","20",".",".",".",72,80,20,900,".",".",40.2,24.4,".",52,13.6,9.7,13.4,17,20.7,18.2,"50","50","10","140",35,18,80,76,"210","0","20","20","40","5","60","35","30","240","190","50",0.4,"4878","35",0.4,0.4,0.2,0.7,14.4,6,5,1,1013,1,1,7354,52.94117647058824,52.94117647058824,1.9607843137254901,10.784313725490197,15.196078431372548,0,0,0,0,0,0,0,0,0,0,0,0,0,0,0,0,0,0,0,0,0,0,0,0,0]
["BU0363EC01","0363EC01","Houthavens-West","Amsterdam","Buurt","BU0363EC01","Houthavens",2,4015,2030,1985,830,225,1690,940,330,2580,1190,195,55,"2225","790","1000","2225","215","430","575","575","60","15","15","4",1905,775,530,595,2.1,10588,1962,833,7,93,92,8,53,47,8,39,0,0,100,"2070","2000","2970","3500",".",".","1710","2380","0","0","0","0",".",".","0","0","98,2","440","190","30","130","220",540,700,2370,84,75,25,3000,86.4,65.9,17.9,57.5,".",21,47.3,3.6,3.6,4.6,5.1,345.6,"30","50","50","300",90,9,80,20,"820","0","15","65","70","100","345","130","90","2150","1525","630",1.1,"5672","105",0.4,0.8,0.3,0.3,9,66,38,28,1014,3,1,3553,44.58281444582815,44.58281444582815,5.47945205479452,20.672478206724783,8.21917808219178,0,0,0,0,0,0,0,0,0,0,0,0,0,0,0,0,0,0,0,0,0,0,0,0,0]
["BU0363EC02","0363EC02","Houthavens-Oost","Amsterdam","Buurt","BU0363EC02","Houthavens",2,645,340,305,35,50,160,250,145,405,180,50,15,"380","120","140","385","40","60","80","85","5","5","10","9",405,230,125,50,1.6,27497,352,740,0,100,94,6,56,44,28,16,0,55,45,"2190","2190",".",".",".",".","1870","2440","10","10",".",".",".",".","10",".","98,6","20","20","10","10","10",140,110,320,70,61,39,600,".",".",31.9,34.7,".",39.6,24.8,10.1,9.8,11.4,13.8,435,"10","20","10","120",10,12.2,30,43,"235","0","5","15","35","20","105","15","35","225","160","65",0.6,"9592","20",0.7,1.1,0.7,0.7,10.7,26,2,23,1013,1,1,4467,40.310077519379846,41.08527131782946,1.550387596899225,5.426356589147287,22.48062015503876,0,0,0,0,0,0,0,0,0,0,0,0,0,0,0,0,0,0,0,0,0,0,0,0,0]
["BU0363ED01","0363ED01","Kolenkitbuurt-Noord","Amsterdam","Buurt","BU0363ED01","De Kolenkit",2,4805,2415,2390,940,675,1880,980,320,3035,1380,325,60,"840","555","3410","840","95","1635","460","1775","80","16","15","4",2165,980,425,765,2.2,16175,1912,449,6,94,92,8,14,86,66,20,0,51,49,"1760","1730","2280","1680",".",".","1720","2000","380","400","90","1070",".",".","410","220","49,2","490","310","180","120","60",1260,1280,1340,64,82,18,3600,34.5,26.1,49.1,17.7,".",51.4,14.2,17.3,18.8,23.7,27,2.3,"370","240","50","280",150,10.2,275,57,"575","0","70","60","115","10","140","90","90","895","675","220",0.4,"3017","65",0.6,0.5,0.2,0.2,29,30,30,0,1061,1,1,5886,82.51821019771072,82.51821019771072,1.2486992715920915,19.562955254942768,6.659729448491156,0,0,0,0,0,0,0,0,0,0,0,0,0,0,0,0,0,0,0,0,0,0,0,0,0]
["BU0363ED02","0363ED02","Kolenkitbuurt-Zuid","Amsterdam","Buurt","BU0363ED02","De Kolenkit",2,2170,1090,1080,340,245,945,420,215,1355,610,155,50,"550","255","1365","550","75","650","180","715","20","9","15","7",1040,490,255,295,2.1,17784,1077,460,0,100,89,11,25,75,64,11,0,31,69,"1870","1870",".",".",".",".","1840","1960","180","180",".",".",".",".","210","100","69,8","180","90","50","70","30",620,450,630,68,82,18,1700,".",".",40.1,24.2,".",44.5,18.8,9.9,13.1,18.1,20.7,8.5,"100","120","30","200",35,6.6,170,79,"315","0","30","40","55","10","85","60","35","480","375","105",0.5,"3934","35",0.4,0.2,0.4,0.4,30.4,13,12,1,1061,1,1,6368,74.65437788018433,74.65437788018433,1.3824884792626728,15.668202764976957,9.90783410138249,0,0,0,0,0,0,0,0,0,0,0,0,0,0,0,0,0,0,0,0,0,0,0,0,0]
["BU0363ED03","0363ED03","Laan van Spartaan","Amsterdam","Buurt","BU0363ED03","De Kolenkit",2,2800,1365,1440,450,605,1225,350,165,2050,570,145,30,"910","455","1435","910","75","675","380","765","45","15","10","5",1585,945,320,320,1.7,17501,1537,435,8,92,97,3,19,81,40,40,0,0,100,"1800","1720","2620",".",".",".","1710","2170","0","0","0",".",".",".","0","0","96,0","230","110","60","100","320",300,610,1350,68,85,15,2000,".",35.2,38,29.5,".",50,17.9,8.2,9.8,13.1,15.6,7,"70","80","30","150",60,6.8,170,61,"345","0","20","40","50","15","105","70","40","525","400","125",0.3,"3271","40",0.8,0.6,1,1.1,32.6,17,16,1,1061,1,1,6173,67.5,67.5,11.428571428571429,16.071428571428573,5.892857142857142,0,0,0,0,0,0,0,0,0,0,0,0,0,0,0,0,0,0,0,0,0,0,0,0,0]
["BU0363ED04","0363ED04","Robert Scottbuurt-West","Amsterdam","Buurt","BU0363ED04","De Kolenkit",2,2000,980,1020,160,315,925,330,270,1395,370,160,70,"660","345","1000","660","65","425","280","570","15","8","15","6",1365,990,200,170,1.5,14128,1452,332,1,99,87,13,22,78,50,28,0,86,14,"1620","1630","940",".",".",".","1580","1780","300","290","460",".",".",".","300","290","60,3","90","60","40","90","130",".",".",".",69,81,19,1700,".",".",45.9,16.2,".",68,8.5,10.6,14.8,20.5,24.8,4.2,"110","90","30","250",30,8.5,220,109,"340","0","30","40","55","10","90","60","60","380","275","105",0.3,"2676","50",0.3,0.4,0.5,0.5,33.6,15,14,1,1055,3,1,7874,67,67,6.5,8,13.5,0,0,0,0,0,0,0,0,0,0,0,0,0,0,0,0,0,0,0,0,0,0,0,0,0]
["BU0363EE01","0363EE01","Bosleeuw","Amsterdam","Buurt","BU0363EE01","Landlust",2,5485,2650,2830,755,835,2145,1240,505,3565,1420,385,110,"1575","855","3050","1575","175","1280","680","1775","65","12","20","4",2840,1450,650,740,1.9,16070,2747,421,3,97,93,7,28,72,51,21,0,94,6,"1720","1690","2560","2420",".",".","1670","1830","570","580",".","120",".",".","540","620","17,3","390","270","150","170","320",1220,1290,2170,67,81,19,4400,37.1,30.5,45.3,19.9,33.3,51.1,14.6,11.7,13.8,18.3,21.2,5.7,"350","270","70","440",135,10.3,405,74,"905","0","90","115","150","15","230","140","170","1085","865","220",0.4,"3181","85",0.7,0.4,0.3,0.4,31,34,34,0,1055,1,1,6394,71.28532360984504,71.28532360984504,5.834092980856882,13.764813126709207,9.206927985414767,0,0,0,0,0,0,0,0,0,0,0,0,0,0,0,0,0,0,0,0,0,0,0,0,0]
["BU0363EE02","0363EE02","Gibraltarbuurt","Amsterdam","Buurt","BU0363EE02","Landlust",2,4185,2085,2105,510,440,1940,935,360,2970,790,360,70,"1570","665","1955","1570","145","770","515","1180","35","9","20","5",2490,1415,585,490,1.7,21664,2345,415,0,100,96,4,22,78,46,33,0,100,0,"1530","1530",".",".",".",".","1500","1630","650","650",".",".",".",".","650","630",".","260","120","80","110","120",680,1100,1760,70,80,20,3500,39.6,33.4,40.9,20.5,".",55.4,10.3,12.6,15,19.6,22.7,4.4,"280","210","60","310",85,10.6,305,73,"770","0","60","90","90","10","215","135","170","810","655","155",0.3,"4192","75",0.9,0.4,0.2,0.7,27.2,20,19,1,1055,1,1,5215,62.48506571087217,62.48506571087217,2.867383512544803,12.186379928315413,8.60215053763441,0,0,0,0,0,0,0,0,0,0,0,0,0,0,0,0,0,0,0,0,0,0,0,0,0]
["BU0363EE03","0363EE03","Bedrijventerrein Landlust","Amsterdam","Buurt","BU0363EE03","Landlust",2,585,320,270,40,40,425,50,30,445,110,25,5,"225","180","185","220","25","60","155","125","10","15","5","3",390,245,110,35,1.5,5421,360,408,1,99,95,5,41,59,10,49,0,100,0,"1890","1880",".",".",".",".","1960","1770","520","520",".",".",".",".","590","410",".","10","0","0","10","20",".",".",".",86,85,15,500,".",".",23.3,40,".",41.7,18.5,5.4,6.2,8.5,9,29.5,"10","10","10","20",".",".",20,32,"350","0","30","55","65","10","110","25","55","170","125","45",0.4,"1587","15",0.9,0.3,0.4,0.7,28.3,14,11,3,1055,1,1,5338,62.39316239316239,61.53846153846154,3.418803418803419,6.837606837606838,5.128205128205128,0,0,0,0,0,0,0,0,0,0,0,0,0,0,0,0,0,0,0,0,0,0,0,0,0]
["BU0363EE04","0363EE04","Landlust-Noord","Amsterdam","Buurt","BU0363EE04","Landlust",2,2410,1160,1245,350,305,1090,475,190,1680,515,170,45,"830","335","1235","835","75","530","260","710","40","15","5","2",1315,685,325,305,1.8,24551,1224,442,0,100,97,3,26,74,46,28,0,98,2,"1560","1560","1220",".",".",".","1500","1740","590","590","660",".",".",".","600","590",".","180","100","50","60","70",480,560,910,70,81,19,1900,".",".",41.8,20.2,".",52.7,10.9,11.3,14.4,19.5,23.1,6.6,"130","120","40","170",65,11.3,180,75,"395","0","25","55","55","10","100","70","80","500","385","115",0.4,"5120","50",0.4,0.4,0.3,0.4,32.6,10,10,0,1055,1,1,7447,65.35269709543569,65.56016597510373,2.904564315352697,14.522821576763487,7.883817427385892,0,0,0,0,0,0,0,0,0,0,0,0,0,0,0,0,0,0,0,0,0,0,0,0,0]
["BU0363EE05","0363EE05","Erasmusparkbuurt-Oost","Amsterdam","Buurt","BU0363EE05","Landlust",2,1865,915,950,270,230,730,470,160,1265,440,130,30,"785","360","720","785","100","305","260","415","30","15","5","3",980,475,245,260,1.9,22451,877,573,0,100,97,3,38,62,29,32,0,82,18,"1890","1890",".",".",".",".","1680","2210","700","700",".",".",".",".","710","680",".","130","130","20","50","70",310,290,940,74,79,21,1500,".",".",35,31.2,".",45.3,24.2,9.3,10.8,15.2,17.5,16.8,"90","60","30","140",60,13.7,85,46,"345","0","20","35","35","10","125","55","65","395","315","80",0.4,"4775","30",0.2,0.5,0.3,0.5,33.9,9,8,1,1056,6,1,9009,57.9088471849866,57.9088471849866,3.753351206434316,14.47721179624665,8.579088471849866,0,0,0,0,0,0,0,0,0,0,0,0,0,0,0,0,0,0,0,0,0,0,0,0,0]
["BU0363EE06","0363EE06","Landlust-Zuid","Amsterdam","Buurt","BU0363EE06","Landlust",2,4125,2050,2075,540,395,1940,890,345,2950,785,305,75,"1855","720","1545","1860","175","640","545","905","60","14","20","4",2355,1270,585,500,1.8,20724,2266,496,0,100,96,4,32,68,37,31,0,100,0,"1600","1600",".",".",".",".","1490","1850","610","610",".",".",".",".","600","620",".","270","130","60","100","140",790,980,1700,74,80,20,3400,46.9,39.3,35.7,29.9,".",47.5,19.1,10.3,13.5,17.6,20.6,16.4,"210","160","50","300",65,7.8,280,68,"775","0","50","100","95","30","250","120","130","890","725","160",0.4,"4465","85",0.3,0.4,0.3,0.3,33.4,22,20,2,1056,5,1,9716,54.90909090909091,55.03030303030303,3.3939393939393945,13.090909090909092,8.363636363636363,0,0,0,0,0,0,0,0,0,0,0,0,0,0,0,0,0,0,0,0,0,0,0,0,0]
["BU0363EF01","0363EF01","Robert Scottbuurt-Oost","Amsterdam","Buurt","BU0363EF01","Erasmuspark",2,1750,815,930,170,235,825,360,165,1260,340,110,40,"765","320","665","765","65","260","255","410","20","11","5","2",995,495,310,190,1.8,26388,931,486,0,100,96,4,30,69,25,44,0,99,1,"1690","1690",".",".",".",".","1700","1690","690","690",".",".",".",".","710","660",".","80","50","30","60","60",360,330,820,75,83,17,1500,".",".",37.6,25.7,".",46.8,17,8.4,11.4,15.2,17.3,12.8,"70","60","30","140",35,10.2,90,50,"290","0","20","35","30","10","85","45","65","335","265","65",0.3,"5024","30",0.2,0.6,0.3,0.5,38.9,7,7,0,1056,1,1,8150,56.285714285714285,56.285714285714285,3.428571428571429,9.714285714285714,9.428571428571429,0,0,0,0,0,0,0,0,0,0,0,0,0,0,0,0,0,0,0,0,0,0,0,0,0]
["BU0363EF02","0363EF02","Erasmusparkbuurt-West","Amsterdam","Buurt","BU0363EF02","Erasmuspark",2,3995,1865,2130,420,420,2060,790,300,2910,765,255,65,"1810","860","1325","1805","185","495","675","835","45","11","15","4",2305,1160,720,425,1.7,13479,2176,459,0,100,96,4,48,52,10,41,0,89,11,"1630","1630",".",".",".",".","1600","1670","660","660",".",".",".",".","690","630",".","180","110","40","130","140",490,940,2030,80,80,20,3400,49.1,42.7,29.8,33.4,".",38.4,20.9,5.4,6.9,9.3,10.8,56.5,"80","110","60","270",75,10.4,175,44,"850","0","55","100","90","25","255","150","175","860","710","150",0.4,"2906","80",0.3,0.5,0.3,0.5,33.3,34,30,4,1055,1,1,8432,54.81852315394244,54.69336670838548,3.504380475594493,10.513141426783479,7.509386733416772,0,0,0,0,0,0,0,0,0,0,0,0,0,0,0,0,0,0,0,0,0,0,0,0,0]
["BU0363EG01","0363EG01","Bedrijvencentrum Westerkwartier","Amsterdam","Buurt","BU0363EG01","Centrale Markt",2,60,35,25,5,10,10,25,5,35,15,5,0,"50","0","5","50","0","5","5","5","0","0","0","0",30,10,10,15,1.9,427,12,".",".",".",".",".",".",".",".",".",".",".",".","1990","2040",".",".",".",".","1720","2360","580","470",".",".",".",".","730","380","50,0","0","10","0","0","0",".",".",".",".",".",".",100,".",".",".",".",".",".",".",".",".",".",".",".","0","0","0","0",".",".",".",".","150","0","20","40","20","15","30","10","15","60","40","20",".",".","20",1.1,1.1,0.6,1.1,23.4,15,14,1,1051,1,1,6257,16.666666666666664,16.666666666666664,0,8.333333333333332,8.333333333333332,0,0,0,0,0,0,0,0,0,0,0,0,0,0,0,0,0,0,0,0,0,0,0,0,0]
["BU0363EG02","0363EG02","GWL-terrein","Amsterdam","Buurt","BU0363EG02","Centrale Markt",2,1235,590,650,145,170,275,475,170,750,355,110,20,"650","185","400","650","65","165","110","230","10","6","5","4",610,260,145,205,2,19368,602,603,0,100,98,2,47,53,45,8,0,100,0,"1730","1730",".",".",".",".","1590","1870","40","40",".",".",".",".","50","40","99,5","70","80","30","20","30",280,230,520,71,80,20,1000,".",".",34.5,29,".",33.5,26.2,6.8,8.6,12,14.4,178,"50","40","10","140",30,10.5,80,66,"220","0","5","20","35","10","65","45","40","200","150","50",0.3,"3155","15",0.6,0.7,0.4,0.6,25,7,6,0,1051,1,1,7177,47.368421052631575,47.368421052631575,2.42914979757085,11.740890688259109,13.765182186234817,0,0,0,0,0,0,0,0,0,0,0,0,0,0,0,0,0,0,0,0,0,0,0,0,0]
["BU0363EG03","0363EG03","Markthallen","Amsterdam","Buurt","BU0363EG03","Centrale Markt",2,15,10,5,5,0,5,0,5,10,5,0,0,"10","5","0","10","0","0","5","0","0","0","0","0",10,10,0,0,1.8,62,0,".",".",".",".",".",".",".",".",".",".",".",".",".",".",".",".",".",".",".",".",".",".",".",".",".",".",".",".",".","0","0","0","0","0",".",".",".",".",".",".",0,".",".",".",".",".",".",".",".",".",".",".",".",".",".",".",".",".",".",".",".","75","0","0","50","5","5","5","0","10","70","35","35",".",".","0",0.4,0.5,0.3,0.6,31.6,28,26,3,1051,1,1,10121,33.33333333333333,33.33333333333333,0,33.33333333333333,33.33333333333333,0,0,0,0,0,0,0,0,0,0,0,0,0,0,0,0,0,0,0,0,0,0,0,0,0]
["BU0363EG04","0363EG04","Marcanti","Amsterdam","Buurt","BU0363EG04","Centrale Markt",2,1030,495,535,95,75,445,245,170,675,245,75,35,"455","185","390","460","55","145","125","250","10","11","5","6",605,360,140,105,1.7,17695,631,500,0,100,96,4,28,71,44,27,0,76,24,"1620","1620",".",".",".",".","1610","1630","580","580",".",".",".",".","620","490",".","40","40","10","10","30",180,120,580,73,83,17,900,".",".",34,30.2,".",49.3,18,8.9,13.1,17.1,19.9,17,"40","40","20","150",15,11.8,110,106,"155","0","5","15","20","5","50","30","30","210","175","35",0.3,"3628","15",0.6,0.4,0.2,0.8,32.8,7,6,1,1051,1,1,11439,55.33980582524271,55.8252427184466,2.912621359223301,9.223300970873787,16.50485436893204,0,0,0,0,0,0,0,0,0,0,0,0,0,0,0,0,0,0,0,0,0,0,0,0,0]
["BU0363EH01","0363EH01","Westerstaatsman","Amsterdam","Buurt","BU0363EH01","Staatsliedenbuurt",2,2785,1375,1405,245,265,1410,690,160,2160,435,175,15,"1225","645","905","1225","150","330","500","575","35","13","0","1",1815,1170,370,275,1.5,28281,1776,459,0,100,94,6,36,63,36,28,1,97,3,"1460","1460",".",".",".",".","1380","1600","600","600",".",".",".",".","610","570",".","110","90","30","80","110",360,530,1650,77,77,23,2400,".",43.1,34.9,32.3,".",48.1,16.2,11.5,12.5,16.6,20,20.4,"150","100","40","130",45,10.8,110,40,"680","0","30","65","75","15","210","115","170","555","480","75",0.3,"5622","85",0.3,0.5,0.2,0.3,26,10,10,0,1051,1,1,8295,56.01436265709157,56.01436265709157,3.949730700179533,8.797127468581687,5.745062836624776,0,0,0,0,0,0,0,0,0,0,0,0,0,0,0,0,0,0,0,0,0,0,0,0,0]
["BU0363EH02","0363EH02","Fannius Scholtenbuurt","Amsterdam","Buurt","BU0363EH02","Staatsliedenbuurt",2,3635,1840,1790,355,315,1630,1025,315,2735,605,255,40,"1540","825","1275","1540","195","490","625","790","35","9","20","5",2305,1440,475,390,1.6,35045,2331,446,0,100,94,6,29,71,50,21,0,97,3,"1460","1460","2010",".",".",".","1400","1630","570","570","660",".",".",".","580","560",".","160","120","40","80","100",530,830,1840,74,78,22,3100,45.8,39.8,37.1,28.1,".",51.4,13.6,13.4,15.3,19.4,21.9,17.8,"220","130","50","270",65,11.4,230,64,"825","0","50","85","105","25","260","120","180","670","560","110",0.3,"6448","100",0.3,0.3,0.2,0.3,23.1,11,10,1,1051,1,1,9147,57.63411279229711,57.63411279229711,2.7510316368638237,9.766162310866575,8.665749656121045,0,0,0,0,0,0,0,0,0,0,0,0,0,0,0,0,0,0,0,0,0,0,0,0,0]
["BU0363EH03","0363EH03","Staatsliedenbuurt-Noordoost","Amsterdam","Buurt","BU0363EH03","Staatsliedenbuurt",2,1195,590,605,100,95,350,325,325,705,270,175,50,"500","195","500","500","50","185","145","315","10","9","15","11",760,475,150,135,1.6,20258,743,443,0,100,97,3,20,80,74,6,0,100,0,"1490","1490",".",".",".",".","1420","1790","630","630",".",".",".",".","640","610",".","50","30","20","20","20",250,250,480,63,81,19,1100,".",".",47.1,18.4,".",62.3,10.1,11.2,18.5,25.3,30.3,9.1,"60","70","20","290",25,14.7,200,167,"195","0","15","25","20","10","45","45","35","225","185","45",0.3,"3831","25",0.4,0.3,0.3,0.5,20.1,7,6,1,1051,1,1,9193,58.15899581589959,58.15899581589959,1.6736401673640167,8.368200836820083,27.19665271966527,0,0,0,0,0,0,0,0,0,0,0,0,0,0,0,0,0,0,0,0,0,0,0,0,0]
["BU0363EH04","0363EH04","De Wittenbuurt-Noord","Amsterdam","Buurt","BU0363EH04","Staatsliedenbuurt",2,1355,680,675,145,115,560,370,170,930,290,115,30,"620","280","460","620","55","175","225","285","15","9","10","7",855,535,190,130,1.6,21309,833,529,0,100,92,8,22,77,45,32,1,100,0,"1650","1650",".",".",".",".","1520","2100","620","620",".",".",".",".","600","710",".","60","50","10","30","50",120,410,640,74,75,25,1200,".",".",38.2,28.8,".",53.1,15.7,11.3,13.9,17.4,21.1,16.7,"50","40","20","150",20,9.6,90,66,"375","0","15","40","45","10","110","55","100","275","225","50",0.3,"4356","25",0.2,0.3,0.1,0.6,18,7,6,1,1052,1,1,9790,54.24354243542435,54.24354243542435,3.6900369003690034,10.70110701107011,12.546125461254611,0,0,0,0,0,0,0,0,0,0,0,0,0,0,0,0,0,0,0,0,0,0,0,0,0]
["BU0363EH05","0363EH05","De Wittenbuurt-Zuid","Amsterdam","Buurt","BU0363EH05","Staatsliedenbuurt",2,815,410,400,60,80,215,265,200,515,185,90,25,"385","130","300","385","40","115","90","185","5","1","10","9",540,355,105,80,1.5,22881,552,477,1,99,96,4,21,79,66,13,0,100,0,"1440","1440",".",".",".",".","1380","1630","580","580",".",".",".",".","590","550",".","30","20","20","20","20",130,210,360,58,78,22,700,".",".",49.9,17.3,".",63.6,9.2,15.8,21.2,27.5,31.7,13.1,"70","40","10","180",15,14.5,80,101,"135","0","10","20","15","0","40","25","25","180","155","30",0.3,"5122","15",0.3,0.2,0.2,0.5,18.4,5,4,1,1052,1,1,11037,52.760736196319016,52.760736196319016,2.4539877300613497,7.361963190184049,24.539877300613497,0,0,0,0,0,0,0,0,0,0,0,0,0,0,0,0,0,0,0,0,0,0,0,0,0]
["BU0363EH06","0363EH06","Buyskade e.o.","Amsterdam","Buurt","BU0363EH06","Staatsliedenbuurt",2,3190,1565,1620,315,365,1310,860,330,2275,645,225,45,"1565","670","955","1565","175","400","495","555","20","7","15","4",1870,1020,485,365,1.7,28245,1780,548,0,100,97,3,30,70,41,29,0,69,31,"1640","1630",".",".",".",".","1490","1970","620","620",".",".",".",".","590","680",".","140","130","40","70","140",500,580,1670,76,77,23,2700,49,42.7,34.9,31.8,".",45.3,22.4,9.2,11.1,15.3,16.7,18.1,"120","100","30","300",50,8.9,170,54,"680","0","40","70","90","30","215","125","115","665","520","145",0.4,"5899","75",0.2,0.7,0.4,0.5,26.6,13,11,2,1051,1,1,9789,50.94043887147336,50.94043887147336,4.38871473354232,9.87460815047022,10.344827586206897,0,0,0,0,0,0,0,0,0,0,0,0,0,0,0,0,0,0,0,0,0,0,0,0,0]
["BU0363EJ01","0363EJ01","Frederik Hendrikbuurt-Noord","Amsterdam","Buurt","BU0363EJ01","Frederik Hendrikbuurt",2,3820,1830,1990,350,390,1735,865,480,2790,700,285,50,"1840","860","1115","1840","205","430","655","680","35","10","20","6",2370,1380,620,370,1.6,20868,2314,512,0,100,95,5,28,71,32,39,0,99,1,"1550","1550",".",".",".",".","1400","1920","640","640",".",".",".",".","610","700",".","150","100","30","80","170",620,850,1860,75,77,23,3300,48.2,42.3,34.7,30.5,".",49.7,16.7,10.6,12.5,16.5,19.1,20.6,"150","110","50","410",65,10.8,190,50,"770","0","30","85","95","30","240","120","165","740","600","140",0.3,"4039","85",0.4,0.4,0.2,0.6,28.8,21,18,3,1052,1,1,11688,51.832460732984295,51.832460732984295,4.450261780104712,9.162303664921465,12.56544502617801,0,0,0,0,0,0,0,0,0,0,0,0,0,0,0,0,0,0,0,0,0,0,0,0,0]
["BU0363EJ02","0363EJ02","Frederik Hendrikbuurt-Zuidwest","Amsterdam","Buurt","BU0363EJ02","Frederik Hendrikbuurt",2,1190,595,600,80,90,350,360,320,720,260,130,80,"645","185","365","645","60","125","130","235","5","5","40","34",695,400,185,115,1.6,19090,788,591,2,98,94,6,34,66,40,26,0,88,12,"1590","1560","3080",".",".",".","1410","1930","680","670","900",".",".",".","680","680",".","40","30","10","20","40",170,230,560,71,76,24,1000,".",".",36,30.9,".",44.9,19.2,8.3,11.7,15.6,17.7,39.7,"50","50","10","290",15,11.3,175,147,"225","0","10","20","30","15","80","35","40","260","210","50",0.4,"4145","30",0.5,0.3,0.4,0.6,32.7,8,6,2,1052,1,1,11957,45.79831932773109,45.79831932773109,3.361344537815126,6.722689075630252,26.89075630252101,0,0,0,0,0,0,0,0,0,0,0,0,0,0,0,0,0,0,0,0,0,0,0,0,0]
["BU0363EJ03","0363EJ03","Frederik Hendrikbuurt-Zuidoost","Amsterdam","Buurt","BU0363EJ03","Frederik Hendrikbuurt",2,3185,1745,1440,245,255,1575,755,350,2400,485,265,40,"1400","675","1110","1400","145","355","530","750","30","9","30","10",2050,1360,445,245,1.5,28242,2069,479,0,100,93,7,28,72,39,33,0,91,9,"1470","1470",".",".",".",".","1350","1770","590","590",".",".",".",".","580","620",".","100","80","40","80","130",740,580,1560,74,80,20,2700,51.4,46.2,33.5,32.1,".",50.7,16.4,12.7,14.7,18.7,21,12.8,"170","120","40","290",45,11.7,225,70,"700","0","40","110","85","40","205","90","130","585","470","115",0.3,"5196","85",0.4,0.3,0.3,0.4,34.8,12,11,1,1052,1,1,12106,56.043956043956044,56.043956043956044,4.081632653061225,7.6923076923076925,10.989010989010989,0,0,0,0,0,0,0,0,0,0,0,0,0,0,0,0,0,0,0,0,0,0,0,0,0]
["BU0363EK01","0363EK01","Mercatorpark","Amsterdam","Buurt","BU0363EK01","Van Galenbuurt",2,2500,1840,665,250,300,1090,830,30,1985,110,400,10,"365","225","1910","365","60","805","165","1110","20","8","20","8",0,0,0,0,2,25950,1,".",".",".",".",".",".",".",".",".",".",".",".",".",".",".",".",".",".",".",".",".",".",".",".",".",".",".",".",".","100","40","60","10","0",".",".",".",".",".",".",0,".",".",".",".",".",".",".",".",".",".",".",".","90","20","20","10",75,17.4,325,129,"120","0","15","15","25","5","30","10","20","205","150","55",".",".","25",0.4,0.7,0.4,0.4,39,10,10,0,1056,2,1,7654,85.39999999999999,85.39999999999999,0,10,1.2,0,0,0,0,0,0,0,0,0,0,0,0,0,0,0,0,0,0,0,0,0,0,0,0,0]
["BU0363EK02","0363EK02","Orteliusbuurt-Noord","Amsterdam","Buurt","BU0363EK02","Van Galenbuurt",2,1330,620,705,135,130,630,270,160,925,230,130,40,"575","200","545","580","35","225","165","325","15","14","10","8",815,465,220,130,1.6,31131,778,454,0,100,96,4,29,71,48,23,0,100,0,"1540","1540",".",".",".",".","1480","1680","650","650",".",".",".",".","680","580",".","60","50","20","30","50",390,240,480,71,82,18,1100,".",".",38.5,25.1,".",51.9,12.7,12.9,14.6,19.4,23.7,11.7,"80","60","20","140",20,9,125,95,"200","0","10","25","30","5","60","40","30","265","220","45",0.3,"6193","35",0.3,0.5,0.6,0.6,38.2,4,4,0,1056,1,1,8329,56.390977443609025,56.766917293233085,3.7593984962406015,10.150375939849624,12.030075187969924,0,0,0,0,0,0,0,0,0,0,0,0,0,0,0,0,0,0,0,0,0,0,0,0,0]
["BU0363EK03","0363EK03","Jan Maijenbuurt","Amsterdam","Buurt","BU0363EK03","Van Galenbuurt",2,2230,1070,1160,225,270,960,555,220,1575,430,190,40,"805","310","1115","805","60","445","250","670","35","15","10","4",1355,805,315,240,1.6,28480,1319,443,0,100,97,3,21,78,53,25,0,100,0,"1510","1510",".",".",".",".","1470","1640","620","620",".",".",".",".","630","580",".","110","80","50","60","100",580,420,940,69,83,17,1900,".",".",45.5,19.5,".",58.6,11.2,15,19,24.1,27.7,4.7,"190","110","40","200",30,7.6,205,93,"365","0","25","70","35","10","85","50","85","405","340","65",0.3,"5168","35",0.3,0.6,0.6,0.6,38.1,8,8,0,1056,1,1,9511,63.901345291479814,63.901345291479814,4.484304932735426,10.089686098654708,9.865470852017937,0,0,0,0,0,0,0,0,0,0,0,0,0,0,0,0,0,0,0,0,0,0,0,0,0]
["BU0363EK04","0363EK04","John Franklinbuurt","Amsterdam","Buurt","BU0363EK04","Van Galenbuurt",2,1845,920,925,200,200,845,415,190,1370,290,155,30,"830","300","715","830","85","295","215","425","25","12","15","7",1150,680,275,200,1.6,25962,1128,471,0,100,94,6,17,83,44,40,0,100,0,"1510","1510",".",".",".",".","1440","1820","620","620",".",".",".",".","620","640",".","80","40","20","60","80",390,510,730,72,79,21,1600,".",".",39.9,20.3,".",58.8,11.1,11.8,14.4,19.6,23.6,4.6,"100","80","30","160",35,10.9,130,71,"380","0","30","60","40","5","110","55","85","400","335","65",0.3,"5640","55",0.5,0.6,0.3,0.3,37,7,7,0,1056,1,1,10545,55.013550135501355,55.013550135501355,4.336043360433604,10.840108401084011,10.29810298102981,0,0,0,0,0,0,0,0,0,0,0,0,0,0,0,0,0,0,0,0,0,0,0,0,0]
["BU0363EL01","0363EL01","Pieter van der Doesbuurt","Amsterdam","Buurt","BU0363EL01","Geuzenbuurt",2,1835,900,935,215,235,770,435,175,1320,345,130,30,"815","350","675","815","85","275","265","405","15","8","5","4",1095,620,265,210,1.7,25746,1041,511,0,100,91,9,18,82,40,42,0,94,6,"1690","1690",".",".",".",".","1600","2080","700","700",".",".",".",".","680","780",".","110","60","30","50","80",260,380,990,73,78,22,1600,".",".",42,21.8,".",55.9,13.6,13.5,16.5,21.3,24.3,5.1,"130","70","20","160",50,13.5,140,77,"410","0","30","55","45","15","120","65","80","375","300","75",0.3,"5259","45",0.5,0.5,0.2,0.4,34.9,7,7,0,1056,1,1,10632,55.5858310626703,55.5858310626703,4.35967302452316,11.716621253405995,9.536784741144414,0,0,0,0,0,0,0,0,0,0,0,0,0,0,0,0,0,0,0,0,0,0,0,0,0]
["BU0363EL02","0363EL02","Trompbuurt","Amsterdam","Buurt","BU0363EL02","Geuzenbuurt",2,3130,1465,1665,380,380,1490,585,295,2310,585,175,60,"1665","625","835","1670","160","360","465","475","30","10","20","6",1770,900,525,345,1.8,25430,1626,581,0,100,95,5,32,68,17,51,0,100,0,"1870","1870",".",".",".",".","1730","2180","740","740",".",".",".",".","730","770",".","170","120","30","90","160",320,650,1650,79,78,22,2600,50.9,43.4,32.2,32,".",45.1,21.7,7.6,9.9,12.1,14.3,18.6,"80","80","40","250",70,11.3,145,47,"675","0","35","85","75","30","220","90","145","600","495","105",0.3,"4867","60",0.3,0.3,0.2,0.4,36.4,12,12,0,1056,1,1,11506,46.64536741214057,46.80511182108626,5.111821086261981,12.140575079872203,9.424920127795527,0,0,0,0,0,0,0,0,0,0,0,0,0,0,0,0,0,0,0,0,0,0,0,0,0]
["BU0363EL03","0363EL03","Geuzenhofbuurt","Amsterdam","Buurt","BU0363EL03","Geuzenbuurt",2,1660,780,880,125,180,940,290,130,1300,260,80,20,"880","405","370","880","90","105","315","270","15","9","5","4",1115,690,305,120,1.5,20455,1083,471,0,100,94,6,44,56,3,53,0,97,3,"1480","1480",".",".",".",".","1410","1550","630","630",".",".",".",".","640","620",".","50","30","10","30","100",60,290,1120,83,80,20,1500,".",".",27.1,37.7,".",41.3,18.3,6.2,6.9,8.9,10.2,69.3,"20","30","30","110",15,5.8,50,31,"340","0","15","25","35","15","130","50","65","335","280","60",0.3,"4143","35",0.6,0.5,0.3,0.8,33.6,9,8,1,1056,1,1,11669,46.98795180722892,46.98795180722892,6.024096385542169,7.530120481927711,7.83132530120482,0,0,0,0,0,0,0,0,0,0,0,0,0,0,0,0,0,0,0,0,0,0,0,0,0]
["BU0363EM01","0363EM01","Orteliusbuurt-Midden","Amsterdam","Buurt","BU0363EM01","Hoofdweg e.o.",2,1895,930,960,205,190,905,425,170,1395,325,155,25,"880","350","665","875","80","240","265","425","20","11","5","4",1155,645,315,195,1.6,31079,1114,483,0,100,97,3,29,71,33,38,0,100,0,"1520","1520",".",".",".",".","1410","1790","610","610",".",".",".",".","600","630",".","90","50","10","50","70",360,370,890,74,82,18,1600,".",".",34.8,28.1,".",49.7,15.5,10.6,13.2,16.2,19,11.9,"100","70","30","150",20,6.7,115,60,"350","0","30","30","35","15","115","50","75","385","320","65",0.3,"6304","40",0.4,0.5,0.4,0.7,38.3,6,6,0,1057,1,1,9207,53.825857519788926,53.562005277044854,3.6939313984168867,10.817941952506596,8.970976253298153,0,0,0,0,0,0,0,0,0,0,0,0,0,0,0,0,0,0,0,0,0,0,0,0,0]
["BU0363EM02","0363EM02","Balboaplein e.o.","Amsterdam","Buurt","BU0363EM02","Hoofdweg e.o.",2,2970,1435,1540,315,425,1315,675,240,2125,535,265,50,"1210","455","1305","1215","100","535","360","770","30","10","15","5",1750,985,450,315,1.7,25483,1672,463,0,100,96,4,21,79,32,47,0,94,6,"1530","1530",".",".",".",".","1450","1810","610","610",".",".",".",".","610","610",".","160","110","50","120","140",750,700,1160,73,81,19,2500,40.6,35,40.6,22.2,".",53,13.3,11.6,13.5,18.1,20.9,4.7,"160","130","40","210",70,12,200,68,"645","0","45","120","65","15","165","105","130","580","460","120",0.3,"4954","55",0.3,0.4,0.3,0.4,38,12,12,0,1057,1,1,10846,59.09090909090909,59.25925925925925,4.713804713804714,10.606060606060606,8.080808080808081,0,0,0,0,0,0,0,0,0,0,0,0,0,0,0,0,0,0,0,0,0,0,0,0,0]
["BU0363EM03","0363EM03","Orteliusbuurt-Zuid","Amsterdam","Buurt","BU0363EM03","Hoofdweg e.o.",2,1865,900,965,145,210,895,360,260,1315,335,145,70,"850","385","635","850","75","240","310","390","20","11","35","20",1105,645,310,155,1.6,24238,1068,469,0,100,95,5,26,74,22,52,0,100,0,"1470","1470",".",".",".",".","1380","1730","660","660",".",".",".",".","650","670",".","60","40","30","50","70",260,370,970,77,82,18,1600,".",".",33.8,28.6,".",50.6,15.3,9.5,12.4,16.6,19.4,9.1,"60","70","30","240",25,9.1,185,98,"345","0","20","45","30","5","120","60","65","340","285","55",0.3,"4414","30",0.4,0.3,0.2,0.5,40,8,8,1,1057,1,1,10211,54.42359249329759,54.42359249329759,3.753351206434316,7.774798927613941,13.941018766756033,0,0,0,0,0,0,0,0,0,0,0,0,0,0,0,0,0,0,0,0,0,0,0,0,0]
["BU0363EM04","0363EM04","Columbusplein e.o.","Amsterdam","Buurt","BU0363EM04","Hoofdweg e.o.",2,3415,1735,1680,415,380,1470,805,350,2345,715,295,60,"1335","480","1605","1330","135","660","340","945","50","14","20","6",2005,1135,435,430,1.7,23614,1956,473,0,100,96,4,16,84,55,29,0,100,0,"1490","1490",".",".",".",".","1430","1840","630","630",".",".",".",".","620","680",".","190","130","70","80","120",770,1000,1180,70,82,18,2900,39.4,33.5,42.4,20.3,".",57.1,12.1,13.6,16.9,21.2,24.9,4.3,"250","190","40","310",85,12.7,235,69,"595","0","50","95","70","15","125","105","130","705","575","125",0.4,"4861","60",0.4,0.5,0.4,0.4,39.3,16,14,1,1057,1,1,10925,61.05417276720352,60.9077598828697,3.513909224011713,12.152269399707174,10.248901903367496,0,0,0,0,0,0,0,0,0,0,0,0,0,0,0,0,0,0,0,0,0,0,0,0,0]
["BU0363EN01","0363EN01","Filips van Almondekwartier","Amsterdam","Buurt","BU0363EN01","Chassébuurt",2,1105,565,545,120,130,530,240,85,800,215,75,20,"525","225","355","525","55","150","170","210","10","9","5","5",660,380,170,115,1.7,26487,587,556,0,100,96,4,36,64,27,37,0,79,21,"1840","1840",".",".",".",".","1730","2030","680","680",".",".",".",".","680","670",".","60","30","20","30","50",160,160,630,76,80,20,900,".",".",31.5,32.6,".",49.2,23.2,7.6,11.5,14.6,16.9,14.7,"40","40","10","80",20,9.2,50,47,"235","0","15","30","20","5","90","30","45","210","165","45",0.3,"5005","25",0.6,0.3,0.2,0.2,37.3,5,4,0,1057,1,1,11062,52.488687782805435,52.488687782805435,4.524886877828054,10.85972850678733,7.6923076923076925,0,0,0,0,0,0,0,0,0,0,0,0,0,0,0,0,0,0,0,0,0,0,0,0,0]
["BU0363EN02","0363EN02","Kortenaerkwartier","Amsterdam","Buurt","BU0363EN02","Chassébuurt",2,2220,1075,1145,265,330,850,550,225,1540,505,135,35,"1090","425","705","1095","115","300","310","410","20","9","10","4",1205,590,325,290,1.8,23093,1078,594,5,95,95,5,30,70,32,38,0,99,1,"1850","1840","1950","2150",".",".","1710","2150","710","710","780","870",".",".","700","750",".","130","90","30","60","90",360,490,1020,71,79,21,1800,".",".",39.2,27.7,".",46.4,19.9,9.4,11.8,15.2,18.2,16.1,"90","90","20","190",55,10.3,90,41,"485","0","15","60","50","20","145","80","105","460","360","100",0.4,"4764","50",0.5,0.4,0.1,0.3,37.4,10,10,0,1057,1,1,12149,50.67567567567568,50.9009009009009,4.054054054054054,11.936936936936938,10.135135135135135,0,0,0,0,0,0,0,0,0,0,0,0,0,0,0,0,0,0,0,0,0,0,0,0,0]
["BU0363EN03","0363EN03","Van Brakelkwartier","Amsterdam","Buurt","BU0363EN03","Chassébuurt",2,990,445,540,155,125,345,250,110,650,235,75,30,"345","115","530","345","30","225","85","305","10","13","5","3",500,230,105,165,2,22000,472,513,0,100,97,3,17,83,48,35,0,92,8,"1730","1730",".",".",".",".","1690","1940","680","680",".",".",".",".","690","630",".","90","60","40","20","30",220,190,370,63,81,19,800,".",".",46.5,20.9,".",52.3,13.2,12,14.8,20.8,23.4,4.1,"70","40","10","100",35,13.3,75,77,"200","0","15","20","30","5","60","25","40","205","165","40",0.4,"4552","25",0.2,0.5,0.4,0.4,39.8,5,4,1,1057,1,1,11620,65.15151515151516,65.15151515151516,3.0303030303030303,15.656565656565657,11.11111111111111,0,0,0,0,0,0,0,0,0,0,0,0,0,0,0,0,0,0,0,0,0,0,0,0,0]
["BU0363EN04","0363EN04","De Wester Quartier","Amsterdam","Buurt","BU0363EN04","Chassébuurt",2,1750,850,900,240,210,695,415,185,1135,440,130,40,"595","285","870","595","80","375","205","495","15","9","5","3",910,445,215,255,1.9,24699,864,537,0,100,95,5,22,78,56,22,0,87,13,"1750","1750",".",".",".",".","1680","2000","670","670",".",".",".",".","670","660",".","140","80","30","30","60",380,320,750,70,80,20,1400,".",".",42.1,22,".",50.4,16.3,12.4,14.5,19,23.2,7.7,"100","70","30","150",40,10.4,100,57,"315","0","20","40","35","5","110","40","65","340","280","60",0.4,"4815","40",0.4,0.6,0.4,0.4,38.5,8,7,1,1057,1,1,12559,66,66,3.428571428571429,13.714285714285715,10.571428571428571,0,0,0,0,0,0,0,0,0,0,0,0,0,0,0,0,0,0,0,0,0,0,0,0,0]
["BU0363EP01","0363EP01","Bellamybuurt-Noord","Amsterdam","Buurt","BU0363EP01","Bellamybuurt",2,2400,1160,1240,265,235,1100,535,265,1780,430,155,35,"1225","500","675","1220","120","285","380","390","20","8","15","6",1450,840,360,255,1.6,24970,1383,569,1,99,93,7,23,77,32,44,0,98,2,"1670","1660","3130",".",".",".","1530","2120","670","670","1220",".",".",".","660","720",".","130","80","20","50","90",530,500,1000,76,77,23,2000,".",".",33.9,30.3,".",50.2,17.6,10,11.7,16.1,19.1,12.2,"80","70","30","230",30,7.5,145,60,"570","0","30","75","65","20","175","95","105","420","340","80",0.3,"4396","55",0.4,0.4,0.2,0.5,41.4,11,10,1,1053,2,1,12419,49.166666666666664,48.95833333333333,3.75,11.041666666666666,11.041666666666666,0,0,0,0,0,0,0,0,0,0,0,0,0,0,0,0,0,0,0,0,0,0,0,0,0]
["BU0363EP02","0363EP02","Bellamybuurt-Zuid","Amsterdam","Buurt","BU0363EP02","Bellamybuurt",2,3980,1985,2000,420,395,2015,805,345,3040,610,280,45,"1830","835","1305","1835","175","455","660","855","35","9","10","3",2510,1590,590,335,1.5,25494,2476,501,2,98,92,8,23,77,37,40,0,83,17,"1490","1480","2250","2470",".",".","1400","1800","560","550","810","1070",".",".","550","560",".","200","100","20","80","190",380,750,2280,78,79,21,3300,52.4,46.2,30.8,33.4,".",49.2,17.6,8.7,10.2,13,15.5,14.2,"110","130","50","300",95,14.1,185,47,"1020","5","50","210","100","35","310","115","190","695","565","130",0.3,"4452","95",0.4,0.3,0.4,0.5,40,16,16,1,1053,1,1,12192,53.89447236180904,54.020100502512555,4.773869346733668,10.552763819095476,8.668341708542714,0,0,0,0,0,0,0,0,0,0,0,0,0,0,0,0,0,0,0,0,0,0,0,0,0]
["BU0363EQ01","0363EQ01","Da Costabuurt-Noord","Amsterdam","Buurt","BU0363EQ01","Da Costabuurt",2,4740,2330,2415,400,510,2180,1025,625,3460,870,330,80,"2365","1165","1215","2365","245","425","920","790","45","10","20","4",2955,1715,815,430,1.6,21812,2719,605,0,100,93,7,31,68,22,47,0,98,2,"1740","1740",".",".",".",".","1600","2040","670","670",".",".",".",".","650","710",".","180","140","30","100","210",410,1010,2740,77,77,23,4100,54.7,48.5,31,34.6,42.6,45.9,21.1,7.9,9.8,12.4,14.2,29.4,"100","110","60","570",75,10.4,225,48,"1290","0","65","205","120","75","360","160","305","920","735","185",0.3,"4234","130",0.3,0.2,0.3,0.4,39.2,26,22,4,1053,3,1,12219,50.105485232067515,50.105485232067515,4.430379746835443,8.438818565400844,13.185654008438819,0,0,0,0,0,0,0,0,0,0,0,0,0,0,0,0,0,0,0,0,0,0,0,0,0]
["BU0363ER01","0363ER01","Postjeskade e.o.","Amsterdam","Buurt","BU0363ER01","Westindische Buurt",2,2990,1400,1585,325,315,1430,590,330,2160,560,215,55,"1670","550","765","1670","130","295","420","470","45","15","10","4",1740,875,550,315,1.7,18418,1673,551,1,99,95,5,26,74,18,56,0,100,0,"1750","1740","4230",".",".",".","1660","2020","690","690","1900",".",".",".","670","740",".","150","70","30","60","130",300,680,1580,79,80,20,2600,50.5,43.6,30.6,33.5,".",43.4,20.7,7,8.5,11.4,14.1,17.6,"90","90","40","290",50,10,155,53,"555","0","30","55","50","20","180","100","110","645","535","110",0.4,"3976","70",0.7,0.6,0.3,0.4,40.4,18,16,1,1058,1,1,8979,44.14715719063545,44.14715719063545,4.3478260869565215,10.869565217391305,11.036789297658862,0,0,0,0,0,0,0,0,0,0,0,0,0,0,0,0,0,0,0,0,0,0,0,0,0]
["BU0363ER02","0363ER02","Paramariboplein e.o.","Amsterdam","Buurt","BU0363ER02","Westindische Buurt",2,3705,1755,1950,465,375,1840,715,310,2725,675,230,70,"1860","780","1055","1860","195","430","590","625","60","17","5","2",2110,1055,630,425,1.8,23682,1986,579,1,99,95,5,36,64,15,49,0,100,0,"1750","1740","3330",".",".",".","1570","2060","730","720","1550",".",".",".","690","810",".","220","130","30","90","170",330,660,2190,81,81,19,3100,55.1,46.9,28.8,35.3,".",41.7,23.2,6.8,8.2,10.8,12.9,28.6,"70","110","60","280",60,8.9,155,42,"795","0","30","95","95","40","285","115","135","785","635","150",0.4,"5023","95",0.3,0.3,0.2,0.6,41.7,17,16,2,1058,1,1,10025,49.797570850202426,49.797570850202426,4.588394062078273,12.550607287449392,8.367071524966262,0,0,0,0,0,0,0,0,0,0,0,0,0,0,0,0,0,0,0,0,0,0,0,0,0]
["BU0363ES01","0363ES01","Lootsbuurt","Amsterdam","Buurt","BU0363ES01","Van Lennepbuurt",2,1865,955,910,170,175,850,465,205,1380,290,170,30,"805","335","720","805","70","265","270","460","20","12","10","4",1245,825,240,185,1.5,29389,1221,467,0,100,95,5,22,78,53,25,0,94,6,"1420","1420",".",".",".",".","1370","1620","580","580",".",".",".",".","590","580",".","70","50","20","50","70",330,360,940,70,79,21,1600,".",".",38.2,25.7,".",59.1,12.8,13.8,17.7,23,25.4,9.6,"130","100","30","180",25,10,165,89,"400","0","30","65","50","10","115","60","75","345","290","55",0.3,"5465","30",0.4,0.4,0.4,0.4,38.4,7,6,1,1053,1,1,10530,56.83646112600537,56.83646112600537,3.753351206434316,9.115281501340483,10.991957104557642,0,0,0,0,0,0,0,0,0,0,0,0,0,0,0,0,0,0,0,0,0,0,0,0,0]
["BU0363ES02","0363ES02","Borgerbuurt","Amsterdam","Buurt","BU0363ES02","Van Lennepbuurt",2,2790,1280,1510,270,255,845,740,680,1695,620,340,140,"1035","395","1365","1030","135","505","260","855","10","5","45","16",1740,1125,300,315,1.6,24621,1722,460,0,100,95,5,18,82,74,8,0,100,0,"1460","1460",".",".",".",".","1460","1460","650","650",".",".",".",".","680","520",".","130","110","50","50","90",730,630,910,59,79,21,2400,".",31.3,50.5,17.2,".",63.6,9.4,13.1,21.4,27.9,32.6,8.6,"240","160","30","600",50,10.9,440,157,"435","0","20","85","65","10","110","80","65","535","445","90",0.3,"4702","50",0.4,0.3,0.4,0.4,38.6,12,11,1,1053,1,1,11200,63.08243727598566,62.903225806451616,3.225806451612903,9.67741935483871,24.372759856630825,0,0,0,0,0,0,0,0,0,0,0,0,0,0,0,0,0,0,0,0,0,0,0,0,0]
["BU0363ES03","0363ES03","Da Costabuurt-Zuid","Amsterdam","Buurt","BU0363ES03","Van Lennepbuurt",2,2235,1120,1120,160,260,1170,460,190,1765,335,120,20,"1015","560","660","1015","95","220","465","440","15","7","10","4",1530,1045,335,155,1.5,30700,1476,509,0,100,93,7,32,68,22,46,1,99,1,"1600","1590",".",".",".",".","1470","1860","580","580",".",".",".",".","540","650",".","70","60","20","50","130",160,630,1270,76,79,21,1900,".",".",32.3,33.4,".",50,15.3,9.8,11.2,13.3,16,17.8,"70","60","20","170",35,10.5,95,43,"595","0","35","95","55","30","195","60","125","385","295","85",0.2,"5259","55",0.4,0.3,0.4,0.4,42.2,9,7,2,1053,1,1,11670,54.58612975391499,54.58612975391499,5.8165548098434,7.158836689038031,8.501118568232663,0,0,0,0,0,0,0,0,0,0,0,0,0,0,0,0,0,0,0,0,0,0,0,0,0]
["BU0363ET01","0363ET01","Cremerbuurt-West","Amsterdam","Buurt","BU0363ET01","Overtoomse Sluis",2,5690,2760,2930,545,525,2920,1195,515,4290,1000,335,70,"2765","1460","1470","2765","340","505","1120","960","65","12","25","4",3545,2045,975,525,1.6,28932,3410,570,0,100,94,6,31,69,19,50,0,100,0,"1670","1670","2120",".",".",".","1560","1930","670","660","910",".",".",".","650","710",".","230","140","20","120","230",570,1040,3420,79,78,22,4900,58,50.7,29.1,37.5,43.7,42.9,22.5,8.6,9.4,12.1,14.1,29.1,"140","140","80","420",105,12.1,210,37,"1420","0","60","195","145","85","480","185","275","1080","875","210",0.3,"5499","145",0.7,0.4,0.3,0.5,40.8,21,20,1,1054,1,1,9720,51.40597539543058,51.40597539543058,4.042179261862917,9.578207381370826,9.050966608084359,0,0,0,0,0,0,0,0,0,0,0,0,0,0,0,0,0,0,0,0,0,0,0,0,0]
["BU0363ET02","0363ET02","Vondelparkbuurt-West","Amsterdam","Buurt","BU0363ET02","Overtoomse Sluis",2,2250,1065,1185,230,240,980,495,305,1580,470,145,50,"1190","510","545","1190","105","220","405","325","30","12","10","4",1310,765,340,210,1.6,22227,1237,692,3,97,94,6,38,62,24,38,0,98,2,"1920","1900","3120",".",".",".","1630","2400","750","730","1670",".",".",".","660","910",".","90","70","10","80","90",110,470,1330,78,75,25,1800,".",".",29.6,38.4,".",43,26.5,6.8,8.7,10.6,12.5,45.1,"20","130","30","280",25,6.1,170,76,"560","0","20","75","45","40","185","85","110","435","335","105",0.3,"4309","40",0.9,0.6,0.1,0.9,39.4,10,10,0,1054,1,1,8826,47.11111111111111,47.11111111111111,4,10.222222222222223,13.555555555555557,0,0,0,0,0,0,0,0,0,0,0,0,0,0,0,0,0,0,0,0,0,0,0,0,0]
["BU0363EU01","0363EU01","Cremerbuurt-Oost","Amsterdam","Buurt","BU0363EU01","Helmersbuurt",2,2335,1150,1180,245,255,1115,545,170,1810,385,115,25,"1270","535","525","1270","130","185","405","340","20","9","5","2",1425,835,355,235,1.6,34647,1353,618,0,100,93,7,37,63,16,47,0,100,0,"1740","1740",".",".",".",".","1490","2160","650","650",".",".",".",".","600","730",".","100","80","0","40","120",120,460,1450,81,78,22,2000,".",".",28.2,38.4,".",41.8,24.3,8.5,9.2,11.1,12.8,36.2,"50","50","30","140",30,7.4,75,33,"565","0","25","75","65","35","190","85","90","435","355","80",0.3,"6475","40",0.5,0.3,0.4,0.5,40.7,7,7,0,1054,1,1,10508,45.610278372591004,45.610278372591004,5.139186295503212,10.492505353319057,7.28051391862955,0,0,0,0,0,0,0,0,0,0,0,0,0,0,0,0,0,0,0,0,0,0,0,0,0]
["BU0363EU02","0363EU02","WG-terrein","Amsterdam","Buurt","BU0363EU02","Helmersbuurt",2,2630,1290,1335,240,235,930,710,510,1745,590,235,60,"1370","485","765","1370","130","295","355","475","25","9","15","5",1665,1055,350,260,1.6,16025,1680,622,1,99,90,10,25,75,54,21,0,91,9,"1790","1770","3790",".",".",".","1530","2500","670","660","1420",".",".",".","610","840",".","130","90","20","60","90",270,490,1400,71,72,28,2300,".",46.5,37.9,30.2,".",53.5,19,11.8,14.6,18.6,22.3,24.8,"100","100","30","460",35,8.2,200,76,"945","0","25","75","95","50","260","205","235","615","480","135",0.4,"3739","70",0.3,0.4,0.3,0.9,38.5,17,16,0,1054,1,1,10597,47.90874524714829,47.90874524714829,3.4220532319391634,9.125475285171103,19.39163498098859,0,0,0,0,0,0,0,0,0,0,0,0,0,0,0,0,0,0,0,0,0,0,0,0,0]
["BU0363EU03","0363EU03","Helmersbuurt-Oost","Amsterdam","Buurt","BU0363EU03","Helmersbuurt",2,2535,1195,1340,270,360,1120,540,240,1810,560,135,30,"1320","655","565","1320","135","210","520","350","35","14","5","2",1485,810,415,260,1.7,24460,1413,763,1,99,91,9,38,62,3,59,0,99,1,"2040","2010","4240",".",".",".","1800","2410","820","810","1380",".",".",".","750","940",".","110","110","20","70","170",130,440,1670,80,76,24,2100,".",".",28,40.5,".",37.4,27.5,5.1,5.9,7.6,8.7,61,"20","30","30","230",50,9.8,65,25,"675","0","25","115","80","60","205","90","100","535","410","130",0.4,"5184","65",0.3,0.3,0.2,0.5,42.3,11,10,1,1054,1,1,10472,47.928994082840234,47.928994082840234,6.70611439842209,10.650887573964498,9.467455621301776,0,0,0,0,0,0,0,0,0,0,0,0,0,0,0,0,0,0,0,0,0,0,0,0,0]
["BU0363EV01","0363EV01","Vondelparkbuurt-Midden","Amsterdam","Buurt","BU0363EV01","Vondelparkbuurt",2,860,425,430,95,125,260,240,140,580,200,70,20,"420","185","255","425","50","100","135","155","5","8","20","21",500,285,115,100,1.7,9441,448,959,12,88,90,10,36,64,25,38,0,100,0,"2340","2110","3730",".","4040",".","1870","3110","980","880","1530",".","1780",".","810","1250",".","50","40","10","20","50",".",".",".",71,70,30,700,".",".",37.3,31.2,".",46.2,25.7,8.3,9,13,16,34.3,"20","20","10","180",25,12.6,35,40,"275","0","15","25","15","30","105","35","50","240","175","60",0.5,"2613","30",0.4,0.5,0.3,1.2,36.6,9,9,0,1054,1,1,9737,50.58139534883721,51.162790697674424,5.813953488372093,11.046511627906977,16.27906976744186,0,0,0,0,0,0,0,0,0,0,0,0,0,0,0,0,0,0,0,0,0,0,0,0,0]
["BU0363EV02","0363EV02","Vondelparkbuurt-Oost","Amsterdam","Buurt","BU0363EV02","Vondelparkbuurt",2,1005,550,455,80,145,370,255,155,660,255,65,30,"415","285","300","420","40","85","250","215","5","5","5","9",625,385,150,95,1.6,7998,522,1242,7,93,83,17,48,51,8,43,1,100,0,"2530","2370","4400","5280",".",".","2060","3010","1050","970","2000","2230",".",".","930","1180",".","30","30","0","10","50",70,150,560,68,69,31,800,".",".",35.5,40.3,".",41.6,28.3,13.7,12.5,14.4,15.3,39.8,"10","10","10","130",10,5.5,30,32,"370","0","10","80","35","45","105","40","55","285","205","75",0.5,"2250","30",0.5,0.2,0.4,0.8,43.2,13,13,0,1054,1,1,10016,58.2089552238806,58.70646766169154,4.975124378109453,7.960199004975125,15.422885572139302,0,0,0,0,0,0,0,0,0,0,0,0,0,0,0,0,0,0,0,0,0,0,0,0,0]
["BU0363FA01","0363FA01","Sloterdijk De Heining","Amsterdam","Buurt","BU0363FA01","Sloterdijk Nieuw-West",2,30,15,10,5,0,5,5,5,10,10,5,0,"20","5","0","20","5","0","5","0","0","38","0","0",10,5,5,0,2.6,26,2,".",".",".",".",".",".",".",".",".",".",".",".",".",".",".",".",".",".",".",".",".",".",".",".",".",".",".",".",".","0","0","0","0","0",".",".",".",".",".",".",0,".",".",".",".",".",".",".",".",".",".",".",".",".",".",".",".",".",".",".",".","85","0","15","35","0","5","10","0","20","35","25","10",".",".","0",4.9,4.6,4.3,4,0,113,100,12,1047,1,5,147,33.33333333333333,33.33333333333333,0,16.666666666666664,16.666666666666664,0,0,0,0,0,0,0,0,0,0,0,0,0,0,0,0,0,0,0,0,0,0,0,0,0]
["BU0363FA02","0363FA02","Sloterdijk Poort-Noord","Amsterdam","Buurt","BU0363FA02","Sloterdijk Nieuw-West",3,15,15,5,0,0,0,15,0,15,0,0,0,"10","10","5","5","0","0","5","0","0","0","0","0",15,15,0,0,1,12,0,".",".",".",".",".",".",".",".",".",".",".",".",".",".",".",".",".",".",".",".",".",".",".",".",".",".",".",".",".","0","0","0","0","0",".",".",".",".",".",".",0,".",".",".",".",".",".",".",".",".",".",".",".",".",".",".",".",".",".",".",".","55","0","5","15","15","5","5","5","5","25","5","20",".",".","0",3.1,2.9,2.5,2.5,1,144,139,5,1046,1,5,186,66.66666666666666,33.33333333333333,0,0,0,0,0,0,0,0,0,0,0,0,0,0,0,0,0,0,0,0,0,0,0,0,0,0,0,0]
["BU0363FA03","0363FA03","Sloterdijk Poort-Zuid","Amsterdam","Buurt","BU0363FA03","Sloterdijk Nieuw-West",3,115,90,25,5,65,35,15,5,100,10,10,0,"30","20","70","25","0","35","15","35","0","9","0","0",105,95,10,0,1.1,80,29,".",3,97,62,38,7,93,0,93,0,17,83,"3670","3600",".",".",".",".","3670",".","1150","1130",".",".",".",".","1150",".",".","0","0","20","0","0",".",".",".",".",".",".",100,".",".",".",".",".",".",".",".",".",".",".",".","0","10","0","0",20,33.3,35,287,"1205","0","205","355","180","60","260","90","50","630","280","355",".",".","45",3.1,2.8,2.5,2.5,1.8,147,144,3,1046,2,5,387,78.26086956521739,73.91304347826086,0,4.3478260869565215,4.3478260869565215,0,0,0,0,0,0,0,0,0,0,0,0,0,0,0,0,0,0,0,0,0,0,0,0,0]
["BU0363FA04","0363FA04","Sloterdijk Rhônepark","Amsterdam","Buurt","BU0363FA04","Sloterdijk Nieuw-West",3,0,0,0,0,5,0,0,0,5,0,0,0,"5","0","0","5","0","0","0","0","0","0","0","0",5,5,0,0,1.5,".",7,".",".",".",".",".",".",".",".",".",".",".",".",".",".",".",".",".",".",".",".",".",".",".",".",".",".",".",".",".","0","0","0","0","0",".",".",".",".",".",".",0,".",".",".",".",".",".",".",".",".",".",".",".",".",".",".",".",".",".",".",".","145","0","20","35","25","5","30","10","20","675","320","355",".",".","30",".",".",".",".",".",31,31,0,1043,1,3,1193,"Geen inwoners","Geen inwoners","Geen inwoners","Geen inwoners","Geen inwoners",0,0,0,0,0,0,0,0,0,0,0,0,0,0,0,0,0,0,0,0,0,0,0,0,0]
["BU0363FA05","0363FA05","Sloterdijk Donauhoek","Amsterdam","Buurt","BU0363FA05","Sloterdijk Nieuw-West",3,10,10,0,0,0,10,0,0,5,5,0,0,"0","10","5","0","0","0","5","5","0","0","0","0",10,10,0,0,1.1,78,2,".",".",".",".",".",".",".",".",".",".",".",".",".",".",".",".",".",".",".",".",".",".",".",".",".",".",".",".",".","0","0","0","0","0",".",".",".",".",".",".",0,".",".",".",".",".",".",".",".",".",".",".",".",".",".",".",".",".",".",".",".","165","0","5","25","40","30","50","10","5","30","15","15",".",".","5",2.6,0.6,2.2,2.3,8.4,15,15,0,1043,1,4,561,100,100,0,0,0,0,0,0,0,0,0,0,0,0,0,0,0,0,0,0,0,0,0,0,0,0,0,0,0,0]
["BU0363FA06","0363FA06","Bretten-West","Amsterdam","Buurt","BU0363FA06","Sloterdijk Nieuw-West",2,0,0,0,0,0,0,0,0,0,0,0,0,"0","0","0","0","0","0","0","0","0","0","0","0",0,0,0,0,".",".",0,".",".",".",".",".",".",".",".",".",".",".",".",".",".",".",".",".",".",".",".",".",".",".",".",".",".",".",".",".","0","0","0","0","0",".",".",".",".",".",".",0,".",".",".",".",".",".",".",".",".",".",".",".",".",".",".",".",".",".",".",".","0",".",".",".",".",".",".",".",".","0","0","0",".",".","0",".",".",".",".",".",149,127,23,1046,1,5,205,"Geen inwoners","Geen inwoners","Geen inwoners","Geen inwoners","Geen inwoners",0,0,0,0,0,0,0,0,0,0,0,0,0,0,0,0,0,0,0,0,0,0,0,0,0]
["BU0363FA07","0363FA07","Bretten-Oost","Amsterdam","Buurt","BU0363FA07","Sloterdijk Nieuw-West",2,0,0,5,0,0,0,0,0,0,0,0,0,"5","0","0","5","0","0","0","0","0","0","0","0",0,0,0,0,2,".",0,".",".",".",".",".",".",".",".",".",".",".",".",".",".",".",".",".",".",".",".",".",".",".",".",".",".",".",".",".","0","0","0","0","0",".",".",".",".",".",".",0,".",".",".",".",".",".",".",".",".",".",".",".",".",".",".",".",".",".",".",".","10",".",".",".",".",".",".",".",".","0","0","0",".",".","0",".",".",".",".",".",84,78,7,1043,1,2,2416,"Geen inwoners","Geen inwoners","Geen inwoners","Geen inwoners","Geen inwoners",0,0,0,0,0,0,0,0,0,0,0,0,0,0,0,0,0,0,0,0,0,0,0,0,0]
["BU0363FA08","0363FA08","Sloterdijk Stationskwartier","Amsterdam","Buurt","BU0363FA08","Sloterdijk Nieuw-West",2,1010,555,460,60,375,500,65,5,895,90,25,0,"135","365","515","130","25","145","340","370","5","4","0","3",815,690,95,35,1.2,1185,806,197,0,100,87,13,3,97,15,83,0,22,78,"1110","1110",".",".",".",".","1060","2730","0","0",".",".",".",".","0","0","89,7","30","20","10","30","210",".",".",".",64,84,16,700,".",".",51.8,11.7,".",79.3,3.4,14.4,11.7,14.6,18.2,0.5,"20","20","10","10",15,4.9,20,18,"1025","0","70","165","170","240","255","60","65","1105","635","475",1.4,"1300","15",1.9,1,1.5,1.6,18.1,86,85,1,1043,1,1,2603,87.12871287128714,86.63366336633663,20.792079207920793,5.9405940594059405,0.49504950495049505,0,0,0,0,0,0,0,0,0,0,0,0,0,0,0,0,0,0,0,0,0,0,0,0,0]
["BU0363FB01","0363FB01","Osdorper Binnenpolder","Amsterdam","Buurt","BU0363FB01","Geuzenveld",2,25,15,10,0,5,5,10,10,10,15,0,0,"15","0","5","15","0","5","5","5","0","0","0","0",15,5,5,0,2.1,15,11,".",".",".",".",".",".",".",".",".",".",".",".","3040",".",".",".",".","3540","2470","3510","1000",".",".",".",".","1170","940","1050",".","0","0","0","0","0",".",".",".",".",".",".",0,".",".",".",".",".",".",".",".",".",".",".",".",".",".",".",".",".",".",".",".","50","5","5","0","0","0","10","5","20","45","40","5",".",".","0",1.9,1.7,1.3,1.6,5.5,210,185,25,1067,1,4,672,40,40,0,0,40,0,0,0,0,0,0,0,0,0,0,0,0,0,0,0,0,0,0,0,0,0,0,0,0,0]
["BU0363FB02","0363FB02","De Eendracht","Amsterdam","Buurt","BU0363FB02","Geuzenveld",2,2425,1210,1215,470,250,630,635,450,1105,1075,155,90,"870","215","1335","875","65","775","145","560","20","9","10","5",1010,310,285,415,2.4,7866,923,478,74,26,98,2,52,48,44,4,0,100,0,"2420","1740","2670","2580",".",".","2020","2780","820","660","850","1010",".",".","720","910",".","270","140","50","50","20",560,760,500,66,75,25,1800,".",".",39.8,17,".",37.8,20.3,4.9,4.8,7.6,9.6,80.4,"50","100","20","400",70,10.6,180,74,"285","0","70","40","50","10","55","40","25","1000","800","200",1,"3233","65",0.9,0.7,0.3,0.9,10.6,32,31,1,1067,1,2,1752,63.91752577319587,64.12371134020619,0.8247422680412372,19.381443298969074,18.556701030927837,0,0,0,0,0,0,0,0,0,0,0,0,0,0,0,0,0,0,0,0,0,0,0,0,0]
["BU0363FB03","0363FB03","Ruys de Beerenbrouckbuurt","Amsterdam","Buurt","BU0363FB03","Geuzenveld",2,6105,3100,3005,1330,830,1865,1380,700,3390,2030,515,175,"1070","485","4555","1070","125","2395","360","2160","70","11","40","6",2545,1090,420,1040,2.4,15213,2246,389,28,72,97,3,20,80,61,20,0,52,48,"2130","1970","2510","2780",".",".","1990","2690","740","670","870","1120",".",".","720","810","8,5","720","410","200","170","80",2020,1660,830,60,75,25,4300,30.8,22.3,50.6,11.7,".",54,12.4,12.7,16.3,22.4,26.2,4.5,"310","390","60","610",165,8.2,570,93,"710","0","180","80","160","10","105","135","45","1800","1350","450",0.7,"4484","95",0.7,0.4,0.3,0.3,13.7,43,40,3,1067,1,1,2845,82.47338247338247,82.47338247338247,1.3104013104013106,21.785421785421786,11.466011466011466,0,0,0,0,0,0,0,0,0,0,0,0,0,0,0,0,0,0,0,0,0,0,0,0,0]
["BU0363FB04","0363FB04","Eendrachtspark","Amsterdam","Buurt","BU0363FB04","Geuzenveld",2,295,175,125,35,35,120,85,20,190,75,25,5,"85","35","175","85","10","90","25","80","0","0","0","0",175,115,25,35,1.7,2409,154,294,0,100,96,4,49,51,43,8,0,100,0,"1730","1650","2290",".",".",".","1240","2260","690","660","800",".",".",".","700","670",".","10","20","10","0","10",".",".",".",58,".",".",200,".",".",48.9,16,".",58.1,8.1,26.3,26.9,32.5,35,4.6,"30","30","0","20",10,17.5,70,234,"45","0","10","5","5","0","10","10","5","120","90","25",0.7,"964","5",0.7,0.8,0.4,0.6,15.2,14,12,2,1067,1,2,2175,71.1864406779661,71.1864406779661,3.389830508474576,11.864406779661017,6.779661016949152,0,0,0,0,0,0,0,0,0,0,0,0,0,0,0,0,0,0,0,0,0,0,0,0,0]
["BU0363FB05","0363FB05","Van Tijenbuurt","Amsterdam","Buurt","BU0363FB05","Geuzenveld",2,2910,1515,1395,670,435,860,575,365,1570,1075,195,70,"640","325","1950","640","90","1115","235","830","30","11","20","6",1140,425,220,500,2.5,10248,969,460,72,28,96,4,46,54,49,5,0,62,38,"2410","2090","2590","2490","2650",".","2030","2910","610","350","690","820","1120",".","600","630","30,9","380","210","100","90","50",700,960,430,66,74,26,2100,".",24.3,47.7,15.5,".",44.7,19.6,8,9.6,13.4,16.6,20.2,"80","130","20","330",90,9,195,67,"385","0","115","40","70","10","70","55","25","985","735","250",0.9,"3475","60",0.6,0.5,0.3,0.2,14.9,30,28,1,1067,1,1,2657,78.00687285223368,78.00687285223368,1.718213058419244,23.02405498281787,12.542955326460481,0,0,0,0,0,0,0,0,0,0,0,0,0,0,0,0,0,0,0,0,0,0,0,0,0]
["BU0363FB06","0363FB06","Dudokbuurt","Amsterdam","Buurt","BU0363FB06","Geuzenveld",3,2755,1350,1405,645,375,965,550,225,1675,780,235,70,"345","315","2100","350","70","1060","250","1035","35","13","10","4",1210,535,200,475,2.3,20396,1095,340,3,97,96,4,25,75,65,10,0,71,29,"1890","1860","3170",".",".",".","1800","2170","370","380",".",".",".",".","400","250","51,4","360","210","80","70","50",750,880,390,62,76,24,2000,".",21.7,53,10,".",55.2,9.9,14.2,18.4,26,30.9,3,"180","160","30","200",80,8.4,250,91,"360","0","70","45","85","5","75","50","30","695","545","150",0.6,"5123","35",0.2,0.2,0.2,0.3,14.9,14,14,1,1067,1,1,2906,87.29582577132487,87.47731397459165,1.8148820326678767,23.41197822141561,8.166969147005444,0,0,0,0,0,0,0,0,0,0,0,0,0,0,0,0,0,0,0,0,0,0,0,0,0]
["BU0363FB07","0363FB07","Bakemabuurt","Amsterdam","Buurt","BU0363FB07","Geuzenveld",3,2920,1445,1475,590,430,1015,620,265,1700,900,240,75,"445","295","2180","445","40","1175","255","1005","45","15","35","11",1185,485,215,495,2.3,15537,1064,372,3,97,98,2,24,76,68,8,0,34,66,"1910","1860","2890","2610",".",".","1820","2170","490","490","330","560",".",".","460","540","30,2","290","200","100","100","70",1080,810,510,65,77,23,2000,".",24,49.6,13.9,".",45.2,10.8,14.2,15.4,20.5,24.2,3.8,"200","150","30","240",70,7.4,235,80,"390","0","80","45","80","5","65","90","30","795","605","185",0.7,"4222","50",0.3,0.2,0.2,0.2,16.6,20,19,2,1067,1,1,3375,84.76027397260275,84.76027397260275,2.3972602739726026,20.205479452054796,9.075342465753424,0,0,0,0,0,0,0,0,0,0,0,0,0,0,0,0,0,0,0,0,0,0,0,0,0]
["BU0363FB08","0363FB08","Wegener Sleeswijkbuurt","Amsterdam","Buurt","BU0363FB08","Geuzenveld",3,1520,770,755,290,185,400,390,250,790,510,160,70,"390","90","1040","390","30","540","60","505","15","10","15","11",695,305,125,265,2.2,8120,651,328,51,49,97,3,7,93,93,1,0,100,0,"2010","1740","2230","2140",".",".","1980","2650","770","660","820","960",".",".","770","740",".","150","90","50","30","10",510,460,140,60,79,21,1200,".",".",50,7.8,".",57.8,8.9,13.6,17.8,23.4,27.6,4.2,"90","90","10","210",35,8,160,107,"160","0","35","20","30","0","25","35","15","435","335","100",0.6,"2331","20",0.6,0.4,0.3,0.2,15.8,20,19,1,1067,1,1,3337,74.3421052631579,74.3421052631579,0.6578947368421052,19.078947368421055,16.447368421052634,0,0,0,0,0,0,0,0,0,0,0,0,0,0,0,0,0,0,0,0,0,0,0,0,0]
["BU0363FC01","0363FC01","Jan de Louterbuurt","Amsterdam","Buurt","BU0363FC01","Slotermeer-West",2,3435,1740,1695,540,480,1170,775,475,2050,1020,270,95,"750","750","1930","755","110","845","640","1090","35","10","20","6",1780,955,345,480,1.9,10035,1513,353,29,71,92,8,35,65,48,17,0,85,15,"2030","1940","2210","2400","2720",".","1930","2200","700","590","940","950","1360",".","630","820","20,6","300","180","60","70","70",850,1120,700,64,77,23,2600,32.2,25.4,48.3,12.9,".",58.1,10,13.1,15.4,19.3,22,6.9,"140","160","50","400",90,10.3,300,88,"500","0","150","50","70","5","80","90","55","945","745","195",0.5,"2755","70",0.8,0.6,0.4,0.4,19.3,36,34,2,1063,1,1,3535,78.02037845705968,78.16593886462883,2.037845705967977,15.72052401746725,13.828238719068414,0,0,0,0,0,0,0,0,0,0,0,0,0,0,0,0,0,0,0,0,0,0,0,0,0]
["BU0363FC02","0363FC02","Lodewijk van Deysselbuurt","Amsterdam","Buurt","BU0363FC02","Slotermeer-West",2,3440,1740,1695,660,530,1050,830,360,1965,1045,355,70,"395","210","2835","395","50","1375","165","1460","45","13","20","6",1465,650,220,590,2.3,15293,1410,289,6,94,94,6,7,93,90,4,0,98,2,"1720","1700","2260","1830",".",".","1690","2180","710","690","940","1230",".",".","710","660","6,7","350","230","120","110","60",1410,910,380,56,78,22,2600,26.5,19.9,58,6.2,".",61.2,7.9,17.7,21.7,26.8,31.5,1.9,"300","220","30","300",90,8.4,285,83,"420","0","75","55","85","5","65","90","40","890","680","210",0.6,"3965","50",0.6,0.3,0.3,0.7,20.8,23,22,1,1064,1,1,3767,88.51744186046511,88.51744186046511,1.744186046511628,19.186046511627907,10.465116279069768,0,0,0,0,0,0,0,0,0,0,0,0,0,0,0,0,0,0,0,0,0,0,0,0,0]
["BU0363FC03","0363FC03","Confuciusbuurt","Amsterdam","Buurt","BU0363FC03","Slotermeer-West",2,3830,1945,1885,750,625,1210,845,410,2270,1155,295,110,"820","295","2720","825","90","1405","205","1310","55","14","5","2",1810,950,255,615,2.1,12317,1765,320,24,76,93,7,14,86,80,6,0,82,18,"1730","1560","2220","2270",".",".","1590","2520","580","530","710","850",".",".","560","680","25,6","400","280","160","120","70",1170,1140,610,60,76,24,2900,30,22.9,54.1,10.8,".",61,9.6,14.7,18.5,24.5,29.3,2.8,"310","230","40","380",140,11.3,365,95,"545","0","105","70","110","10","85","100","70","1090","810","280",0.6,"3498","60",0.4,0.3,0.6,0.7,21.5,32,31,1,1064,1,1,3405,78.45953002610966,78.59007832898173,1.8276762402088773,19.5822454308094,10.704960835509137,0,0,0,0,0,0,0,0,0,0,0,0,0,0,0,0,0,0,0,0,0,0,0,0,0]
["BU0363FD01","0363FD01","Arondeusbuurt","Amsterdam","Buurt","BU0363FD01","Slotermeer-Noordoost",3,2795,1475,1325,660,395,860,615,260,1750,745,250,50,"515","310","1970","515","75","980","235","990","30","11","15","5",1275,645,165,460,2.2,12397,1145,353,21,79,93,7,19,81,73,9,0,93,7,"1770","1570","2460","2370","2740",".","1640","2300","840","810","920","1050","1040",".","810","940",".","360","200","90","90","40",880,750,380,59,78,22,2000,".",21,53.8,9.9,".",59.7,10,16.1,19.7,26.2,29.8,2.5,"220","160","30","220",120,12.2,220,78,"335","0","65","40","65","0","85","55","25","675","515","165",0.5,"3001","45",0.5,0.4,0.2,0.3,23,23,23,0,1063,1,1,3308,81.5742397137746,81.5742397137746,1.4311270125223614,23.613595706618963,9.30232558139535,0,0,0,0,0,0,0,0,0,0,0,0,0,0,0,0,0,0,0,0,0,0,0,0,0]
["BU0363FD02","0363FD02","Coronelbuurt","Amsterdam","Buurt","BU0363FD02","Slotermeer-Noordoost",3,1510,755,755,255,220,505,380,140,1010,390,85,25,"630","325","555","630","85","240","240","315","5","5","5","5",760,395,155,210,2,7860,657,408,52,48,93,7,65,35,0,35,0,100,0,"2190","1780","2570","2670",".",".","1960","2320","840","670","980","1190",".",".","760","880",".","130","110","20","50","70",420,320,490,78,76,24,1200,".",".",34.3,22.2,".",41.3,20.4,6.1,5.7,6.7,7.1,186,"10","40","20","120",55,12.4,60,41,"280","0","35","35","45","10","70","30","55","405","330","75",0.5,"2104","40",0.7,1,0.3,0.3,23.4,20,19,1,1063,1,1,3489,58.27814569536424,58.27814569536424,4.635761589403973,16.887417218543046,9.271523178807946,0,0,0,0,0,0,0,0,0,0,0,0,0,0,0,0,0,0,0,0,0,0,0,0,0]
["BU0363FD03","0363FD03","Meerwaldtbuurt","Amsterdam","Buurt","BU0363FD03","Slotermeer-Noordoost",3,1985,1030,960,340,245,610,510,280,1105,585,225,70,"430","125","1430","435","40","630","85","800","20","11","15","8",1000,540,160,300,2,7543,954,316,39,61,97,3,7,93,89,3,0,100,0,"1480","1250","1750","1740","2810",".","1380","2530","720","600","830","970","1410",".","680","1160",".","190","100","60","50","30",690,550,260,56,80,20,1500,".",".",58.1,8.9,".",67.3,7.7,19.6,25.1,31.9,36.5,2.3,"200","130","20","250",75,14.2,210,106,"260","0","50","30","50","5","40","55","30","550","440","110",0.6,"2092","30",0.4,0.8,0.2,0.2,25.8,27,26,0,1063,1,1,4705,78.08564231738035,78.33753148614609,1.5113350125944585,17.12846347607053,14.105793450881613,0,0,0,0,0,0,0,0,0,0,0,0,0,0,0,0,0,0,0,0,0,0,0,0,0]
["BU0363FD04","0363FD04","Dobbebuurt","Amsterdam","Buurt","BU0363FD04","Slotermeer-Noordoost",2,2910,1460,1450,540,380,995,710,280,1710,855,280,70,"490","270","2155","490","45","985","225","1170","50","17","10","3",1410,700,255,455,2.1,10321,1393,312,0,100,91,9,24,76,69,7,0,91,9,"1590","1590",".",".",".",".","1540","1750","540","540",".",".",".",".","520","580","21,6","310","190","90","70","60",950,730,670,61,81,19,2200,".",24.2,49.3,10.9,".",54.3,7.6,15.1,17.2,22.5,25.8,3.9,"260","160","20","260",90,10.6,195,67,"405","0","75","100","65","5","65","55","40","700","545","155",0.5,"2485","35",0.4,0.5,0.7,0.6,25.9,32,28,3,1063,1,1,4428,83.16151202749141,83.16151202749141,2.0618556701030926,18.556701030927837,9.621993127147768,0,0,0,0,0,0,0,0,0,0,0,0,0,0,0,0,0,0,0,0,0,0,0,0,0]
["BU0363FE01","0363FE01","Dichtersbuurt","Amsterdam","Buurt","BU0363FE01","Slotermeer-Zuidoost",3,1050,595,450,125,90,370,250,210,575,275,165,30,"205","105","740","200","25","290","80","450","15","11","15","14",625,410,90,125,1.7,9485,605,251,0,100,98,2,11,89,86,3,0,100,0,"1400","1400",".",".",".",".","1330","1950","620","620",".",".",".",".","610","710",".","60","40","20","30","10",".",".",".",54,78,22,800,".",".",54.7,8.2,".",74.4,4.9,19.1,26.6,33.3,37.7,2.8,"110","70","10","180",25,13,140,132,"150","0","30","15","40","0","20","35","10","350","255","95",0.6,"3159","20",0.7,0.3,0.3,0.3,26.5,12,11,1,1064,1,1,4003,80.95238095238095,80.47619047619048,0.9523809523809524,11.904761904761903,20,0,0,0,0,0,0,0,0,0,0,0,0,0,0,0,0,0,0,0,0,0,0,0,0,0]
["BU0363FE02","0363FE02","Louis Couperusbuurt","Amsterdam","Buurt","BU0363FE02","Slotermeer-Zuidoost",3,2330,1215,1115,410,355,860,470,230,1500,555,220,50,"545","255","1530","545","75","785","180","745","40","18","20","9",1315,810,205,305,1.8,7905,1269,275,11,89,95,5,10,90,83,8,0,100,0,"1510","1440","2080","1720",".","4820","1420","2340","670","640","860","840",".","2120","640","930","3,8","230","100","70","90","60",550,700,590,60,80,20,1800,".",".",53.5,8.8,".",71,4.3,16.1,19.9,27.6,32.3,1.5,"210","130","30","200",70,11.6,180,78,"325","0","45","45","70","5","50","75","35","615","505","110",0.5,"2088","70",0.9,0.8,0.4,0.4,34.8,32,29,2,1064,1,1,4921,76.60944206008584,76.60944206008584,2.575107296137339,17.59656652360515,9.871244635193133,0,0,0,0,0,0,0,0,0,0,0,0,0,0,0,0,0,0,0,0,0,0,0,0,0]
["BU0363FE03","0363FE03","Noordoever Sloterplas","Amsterdam","Buurt","BU0363FE03","Slotermeer-Zuidoost",3,3385,1665,1715,545,470,1210,770,385,2200,855,260,65,"1300","545","1540","1295","115","660","435","880","25","7","10","4",1815,985,370,460,1.9,8440,1617,418,16,84,94,6,38,62,29,33,0,88,12,"1830","1710","2490","2330",".",".","1700","2050","420","410","540","270",".",".","440","400","40,8","300","150","60","120","130",650,920,1150,71,81,19,2700,39.9,32.3,39.4,22.6,".",49.8,16.8,9.4,11.4,15.8,17.9,25.3,"130","100","40","340",95,10.7,195,58,"520","0","55","55","90","10","145","105","65","865","700","165",0.5,"2159","85",1,1,0.7,0.9,29.8,48,40,8,1064,1,1,3845,61.74298375184638,61.595273264401776,3.8404726735598227,16.100443131462335,11.37370753323486,0,0,0,0,0,0,0,0,0,0,0,0,0,0,0,0,0,0,0,0,0,0,0,0,0]
["BU0363FE04","0363FE04","Sloterpark","Amsterdam","Buurt","BU0363FE04","Slotermeer-Zuidoost",3,0,0,0,0,0,0,0,0,0,0,0,0,"0","0","0","0","0","0","0","0","0","0","0","0",0,0,0,0,".",".",0,".",".",".",".",".",".",".",".",".",".",".",".",".",".",".",".",".",".",".",".",".",".",".",".",".",".",".",".",".","0","0","0","0","0",".",".",".",".",".",".",0,".",".",".",".",".",".",".",".",".",".",".",".",".",".",".",".",".",".",".",".","10",".",".",".",".",".",".",".",".","0","0","0",".",".","0",".",".",".",".",".",99,56,42,1064,3,1,2742,"Geen inwoners","Geen inwoners","Geen inwoners","Geen inwoners","Geen inwoners",0,0,0,0,0,0,0,0,0,0,0,0,0,0,0,0,0,0,0,0,0,0,0,0,0]
["BU0363FF01","0363FF01","Osdorper Bovenpolder","Amsterdam","Buurt","BU0363FF01","Lutkemeer/Ookmeer",2,760,405,360,100,80,180,235,170,380,305,50,30,"530","80","150","530","30","80","55","75","5","8","5","7",355,135,110,120,2.1,315,283,747,93,7,89,11,70,30,5,26,0,76,24,"3790","2560","3090","2300","3690","4230","3100","4050","1360","1130","790","870","1200","1570","1330","1370",".","60","40","20","10","10",230,230,160,63,65,35,600,".",".",42.7,22.6,".",42.7,26.2,7.9,10.9,15.7,17.2,317.4,"30","40","10","150",25,16.4,40,53,"235","10","60","60","15","20","35","15","15","450","355","95",1.3,"186","55",1.7,1.7,1.3,1.3,10.3,260,242,18,1067,1,3,1034,30.263157894736842,30.263157894736842,1.3157894736842104,13.157894736842104,22.36842105263158,0,0,0,0,0,0,0,0,0,0,0,0,0,0,0,0,0,0,0,0,0,0,0,0,0]
["BU0363FF02","0363FF02","Ookmeer","Amsterdam","Buurt","BU0363FF02","Lutkemeer/Ookmeer",2,420,285,135,50,70,225,65,10,275,125,15,5,"0","5","410","0","0","20","5","390","10","22","0","2",5,5,0,0,1.2,597,2,".",".",".",".",".",".",".",".",".",".",".",".",".",".",".",".",".",".",".",".",".",".",".",".",".",".",".",".",".","10","10","10","0","0",".",".",".",".",".",".",0,".",".",".",".",".",".",".",".",".",".",".",".","0","0","0","0",60,62.2,".",".","25","0","0","5","0","0","5","10","5","10","5","0",".",".","0",1.1,1,0.9,0.5,20,73,70,2,1067,1,1,2601,100,100,0,11.904761904761903,2.380952380952381,0,0,0,0,0,0,0,0,0,0,0,0,0,0,0,0,0,0,0,0,0,0,0,0,0]
["BU0363FF03","0363FF03","Bedrijvenpark Lutkemeer","Amsterdam","Buurt","BU0363FF03","Lutkemeer/Ookmeer",2,70,40,30,10,15,15,25,10,40,25,0,5,"45","10","20","50","0","10","10","5","0","0","5","29",30,20,5,10,2.1,33,23,1021,100,0,91,9,74,26,0,26,0,57,43,"3880",".",".",".","3440","4410","3110","4320","1340",".",".",".","1320","1440","1350","1330",".","10","0","0","0","0",".",".",".",".",".",".",100,".",".",".",".",".",".",".",".",".",".",".",".","0","0","0","10",".",".",10,114,"80","5","5","25","5","5","25","5","5","135","35","100",".",".","10",2.4,2.3,1.9,2.1,7.1,236,213,22,1060,5,3,1004,28.57142857142857,35.714285714285715,0,14.285714285714285,14.285714285714285,0,0,0,0,0,0,0,0,0,0,0,0,0,0,0,0,0,0,0,0,0,0,0,0,0]
["BU0363FG01","0363FG01","Middelveldsche Akerpolder","Amsterdam","Buurt","BU0363FG01","De Aker",2,4000,1900,2095,860,430,1095,910,700,2085,1440,330,150,"1550","375","2080","1545","135","1235","240","845","50","12","20","6",1715,650,395,675,2.3,11901,1569,468,65,35,98,2,23,77,47,29,0,99,1,"2240","1750","2380","2650","3610","5860","2140","2570","800","650","820","980","1460","1630","780","860",".","490","240","80","90","50",940,1210,730,65,77,23,2900,37.7,28.2,40.7,17.8,".",43.2,16.9,7.8,8.3,11.8,14.3,17.3,"100","200","20","620",110,9.2,350,88,"460","0","90","60","90","10","90","80","35","1495","1185","315",0.9,"4455","100",1.3,1,0.5,0.9,12.9,35,34,2,1069,1,1,3264,61.375,61.25000000000001,1.25,21.5,17.5,0,0,0,0,0,0,0,0,0,0,0,0,0,0,0,0,0,0,0,0,0,0,0,0,0]
["BU0363FG02","0363FG02","De Aker-West","Amsterdam","Buurt","BU0363FG02","De Aker",2,4570,2255,2315,700,655,1155,1420,640,2325,1755,325,165,"1755","465","2345","1755","135","1175","330","1170","50","11","20","4",1985,705,460,825,2.3,8793,1761,532,58,42,98,2,65,35,21,15,0,93,7,"2510","1960","2860","3020","3390","3050","1890","2850","570","80","880","1050","1360","1330","310","710","37,9","370","260","90","140","110",800,1380,1430,70,80,20,3600,43.3,34.9,37.3,26.1,".",35.2,30.1,6.7,7.5,10.8,12.6,256,"80","200","40","530",105,8.6,300,66,"585","0","75","65","90","35","160","100","55","1775","1400","375",0.9,"3420","120",1.2,1.2,0.7,1.1,13.4,57,52,5,1060,1,1,2789,61.59737417943107,61.59737417943107,2.4070021881838075,15.317286652078774,14.00437636761488,0,0,0,0,0,0,0,0,0,0,0,0,0,0,0,0,0,0,0,0,0,0,0,0,0]
["BU0363FG03","0363FG03","De Aker-Oost","Amsterdam","Buurt","BU0363FG03","De Aker",2,5865,2930,2940,920,1010,1350,1890,700,3055,2305,355,155,"2220","640","3005","2220","200","1540","440","1465","55","9","25","4",2370,740,505,1125,2.5,8969,2102,585,72,28,97,3,68,32,22,10,0,62,38,"2840","2150","2980","3000","3740","4740","2310","3080","760","300","870","970","1230","1550","680","790","15,1","460","420","150","190","170",1150,1980,1560,72,79,21,4600,45.7,36.7,39.6,27,".",31,34.9,4.9,5.7,8.5,10,312.9,"100","240","40","610",185,10.5,290,49,"845","0","115","135","120","40","205","155","75","2255","1750","505",1,"3446","180",0.6,0.8,0.4,0.4,16.9,72,65,6,1060,1,1,3588,62.14833759590793,62.14833759590793,2.898550724637681,15.686274509803921,11.935208866155158,0,0,0,0,0,0,0,0,0,0,0,0,0,0,0,0,0,0,0,0,0,0,0,0,0]
["BU0363FH01","0363FH01","Bedrijvencentrum Osdorp","Amsterdam","Buurt","BU0363FH01","De Punt",2,115,105,15,0,0,35,65,10,90,0,25,5,"40","10","65","40","5","20","5","45","0","0","5","42",5,5,0,0,1,1000,44,".",0,100,89,11,2,98,0,98,0,7,93,"1560","1560",".",".",".",".","1560",".","520","520",".",".",".",".","520",".",".","0","0","0","0","0",".",".",".",".",".",".",0,".",".",".",".",".",".",".",".",".",".",".",".","20","20","0","10",".",".",105,896,"420","0","25","90","70","30","135","45","25","125","55","70",".",".","5",1.4,0.8,0.6,0.6,15.1,12,12,0,1069,1,1,2741,65.21739130434783,65.21739130434783,0,0,8.695652173913043,0,0,0,0,0,0,0,0,0,0,0,0,0,0,0,0,0,0,0,0,0,0,0,0,0]
["BU0363FH02","0363FH02","Dijkgraafpleinbuurt","Amsterdam","Buurt","BU0363FH02","De Punt",2,6210,3250,2965,1085,990,2025,1310,800,3730,1785,515,185,"1510","1015","3685","1505","190","1885","830","1805","70","11","40","6",3010,1565,535,910,2,12946,2601,327,27,73,96,4,33,67,39,28,0,88,12,"2380","2220","2800","2920",".",".","2120","2920","450","300","850","1040",".",".","440","490","41,9","590","390","160","190","140",2080,1520,1160,67,78,22,4700,31.9,25.1,46.5,11.7,30.2,54.4,10.8,10.2,13.1,17.1,20.9,10.4,"180","320","60","720",175,9.6,545,88,"840","0","235","95","145","10","150","135","65","1835","1435","400",0.6,"3825","125",1.1,0.4,0.3,0.4,15.1,48,48,0,1069,1,1,3915,75.76489533011272,75.68438003220612,2.254428341384863,17.47181964573269,12.88244766505636,0,0,0,0,0,0,0,0,0,0,0,0,0,0,0,0,0,0,0,0,0,0,0,0,0]
["BU0363FJ01","0363FJ01","Reimerswaal","Amsterdam","Buurt","BU0363FJ01","Osdorp-Midden",2,2800,1315,1485,520,350,765,600,565,1430,845,305,215,"525","160","2110","525","50","1035","105","1075","25","10","90","32",1205,595,150,465,2.2,13271,1287,328,6,94,96,4,8,92,91,1,0,58,42,"1880","1810","3020","3050",".",".","1850","2230","500","540","0","0",".",".","520","340","36,9","260","160","100","70","40",720,950,260,56,79,21,1900,".",21,56.6,6.8,".",62.9,7.7,16.4,22,28.6,34.3,3.2,"230","190","20","500",85,10.4,495,177,"270","0","45","30","60","0","40","60","25","810","640","170",0.7,"3839","30",0.6,0.7,0.2,0.2,18.9,22,21,0,1069,1,1,3317,81.25,81.25,1.4285714285714286,18.571428571428573,20.17857142857143,0,0,0,0,0,0,0,0,0,0,0,0,0,0,0,0,0,0,0,0,0,0,0,0,0]
["BU0363FJ02","0363FJ02","Botteskerkbuurt","Amsterdam","Buurt","BU0363FJ02","Osdorp-Midden",2,3410,1690,1715,755,465,1080,730,375,1955,1030,315,110,"620","395","2385","625","105","1200","295","1185","45","14","20","6",1575,720,280,575,2.2,14290,1413,345,3,97,97,3,21,79,66,13,0,60,40,"1910","1880","2910","2520",".",".","1770","2430","620","630","0","0",".",".","700","290","16,8","380","280","90","90","50",970,1050,460,61,78,22,2400,".",24.1,50.2,13.9,".",56.5,11.6,14.2,18,23.6,27.3,3.5,"240","180","30","330",125,11,310,91,"415","0","105","40","80","10","70","80","30","915","710","205",0.6,"3847","45",0.5,0.4,0.3,0.4,18.6,26,24,2,1069,1,1,4629,81.67155425219941,81.81818181818183,1.466275659824047,22.14076246334311,10.997067448680351,0,0,0,0,0,0,0,0,0,0,0,0,0,0,0,0,0,0,0,0,0,0,0,0,0]
["BU0363FJ03","0363FJ03","Zuidwestkwadrant-Noord","Amsterdam","Buurt","BU0363FJ03","Osdorp-Midden",2,3100,1545,1550,565,480,1000,615,435,1785,940,270,110,"520","425","2145","525","65","985","360","1160","30","10","30","10",1450,685,300,465,2.1,13398,1295,384,0,100,93,7,23,77,59,17,0,30,70,"2040","2040",".",".",".",".","2000","2160","580","580",".",".",".",".","600","520","19,3","290","180","80","80","90",760,760,790,63,77,23,2300,".",24.7,50.9,12.8,".",56.2,12,11.9,16.8,22.3,26,4,"160","160","40","390",75,8.3,325,105,"445","0","100","70","80","15","75","75","30","835","630","200",0.6,"3601","40",0.4,0.4,0.3,0.3,20.1,24,23,1,1069,1,1,4989,83.06451612903226,83.22580645161291,2.903225806451613,18.225806451612904,14.032258064516128,0,0,0,0,0,0,0,0,0,0,0,0,0,0,0,0,0,0,0,0,0,0,0,0,0]
["BU0363FJ04","0363FJ04","Zuidwestkwadrant-Zuid","Amsterdam","Buurt","BU0363FJ04","Osdorp-Midden",2,6175,3110,3065,1040,970,2170,1490,505,3705,1850,490,125,"1280","950","3945","1275","180","1875","775","2065","65","11","20","4",2980,1415,590,975,2.1,17558,2527,425,9,91,97,3,42,58,37,21,0,24,76,"2150","2040","3290","3340",".",".","2010","2330","590","570","870","760",".",".","620","560","11,8","540","330","150","200","200",1450,1830,1720,69,80,20,4700,39.4,30.9,41.3,20.6,34.6,45.1,17.5,9.2,10.3,13.6,16,12.2,"230","270","80","430",160,9.2,395,64,"810","0","135","110","130","20","200","140","70","1910","1430","480",0.6,"5431","125",0.7,0.4,0.4,0.5,21,40,35,5,1069,1,1,4532,79.35222672064778,79.27125506072873,3.2388663967611335,16.842105263157894,8.178137651821862,0,0,0,0,0,0,0,0,0,0,0,0,0,0,0,0,0,0,0,0,0,0,0,0,0]
["BU0363FK01","0363FK01","Wildeman","Amsterdam","Buurt","BU0363FK01","Osdorp-Oost",2,4845,2390,2460,890,575,1360,1135,890,2625,1375,585,260,"1065","490","3290","1060","115","1475","380","1815","75","15","40","8",2495,1325,395,780,1.9,15350,2452,273,2,98,94,6,10,90,85,5,0,96,4,"1560","1550","1950","1780",".",".","1510","1970","570","570","930","1000",".",".","600","340","28,8","480","280","140","110","80",1680,1200,660,54,80,20,3700,26.9,20.8,57.6,6.2,".",69.2,5,16.7,21.8,30.1,36.2,2.9,"500","300","30","800",125,9.3,725,150,"500","0","120","60","95","5","90","95","35","1265","1015","250",0.5,"4008","60",0.3,0.4,0.3,0.6,22.3,33,32,1,1068,1,1,3615,78.12177502579979,78.0185758513932,1.6511867905056758,18.369453044375643,18.369453044375643,0,0,0,0,0,0,0,0,0,0,0,0,0,0,0,0,0,0,0,0,0,0,0,0,0]
["BU0363FK02","0363FK02","Meer en Oever","Amsterdam","Buurt","BU0363FK02","Osdorp-Oost",2,3195,1655,1540,445,345,1070,745,600,1720,1035,320,125,"970","545","1685","965","125","750","420","935","40","12","30","9",1670,815,445,410,1.9,15374,1541,450,1,99,96,4,45,55,25,30,0,45,55,"2410","2390","4320",".",".",".","2230","2630","490","500","0",".",".",".","510","480","25,5","210","140","70","60","80",590,720,1180,67,77,23,2500,42.8,34.8,37.6,25.4,".",40.6,16.4,7.1,9.5,11.9,14.8,52.5,"80","110","30","550",50,7,280,88,"490","0","70","40","75","25","115","100","65","1075","840","235",0.6,"5163","80",0.6,0.8,0.5,1,24.4,23,21,3,1068,1,1,3077,69.79655712050078,69.64006259780908,2.503912363067293,13.928012519561817,18.779342723004692,0,0,0,0,0,0,0,0,0,0,0,0,0,0,0,0,0,0,0,0,0,0,0,0,0]
["BU0363FK03","0363FK03","Osdorpplein e.o.","Amsterdam","Buurt","BU0363FK03","Osdorp-Oost",2,4270,2090,2175,720,695,1720,695,440,2775,1065,315,115,"975","645","2645","975","100","1330","550","1320","60","14","25","6",2195,1165,480,550,1.9,14187,2052,356,3,97,95,5,19,81,32,49,0,45,55,"1830","1790","2870",".",".","4190","1670","2510","320","320","0",".",".","2530","270","530","52,6","430","230","130","160","140",1140,1400,1170,71,84,16,3300,37.5,29.8,40.6,18.7,".",50,11.1,7.7,10.5,13.5,15.9,4.6,"190","180","40","420",105,8.7,310,73,"675","0","75","160","100","20","130","115","75","1030","790","240",0.5,"3428","65",0.5,0.2,0.4,0.7,23.5,41,30,11,1068,1,1,4728,77.1662763466042,77.1662763466042,3.278688524590164,16.861826697892273,10.304449648711945,0,0,0,0,0,0,0,0,0,0,0,0,0,0,0,0,0,0,0,0,0,0,0,0,0]
["BU0363FK04","0363FK04","Calandlaan/Lelylaan","Amsterdam","Buurt","BU0363FK04","Osdorp-Oost",2,1245,640,605,180,110,335,370,250,710,350,135,50,"425","130","690","430","45","355","85","340","5","3","10","9",680,385,125,170,1.8,4720,661,356,21,79,97,3,25,75,72,3,0,85,15,"1750","1470","2680","3260","2630",".","1530","2390","640","560","890","1090","1000",".","600","770",".","100","60","30","20","20",380,390,200,57,82,18,1000,".",".",46.6,13.7,".",61.8,9.8,15.6,17.4,22.4,27.3,10.6,"100","100","10","220",25,8.4,170,138,"105","0","20","10","20","5","20","25","10","400","315","85",0.6,"1519","45",0.6,0.5,0.3,0.3,23.2,28,26,1,1068,1,1,4567,65.46184738955823,65.86345381526104,1.6064257028112447,14.457831325301203,20.080321285140563,0,0,0,0,0,0,0,0,0,0,0,0,0,0,0,0,0,0,0,0,0,0,0,0,0]
["BU0363FK05","0363FK05","Osdorp-Zuidoost","Amsterdam","Buurt","BU0363FK05","Osdorp-Oost",2,4080,1950,2130,535,700,1200,785,860,2430,1090,325,230,"1760","630","1685","1765","155","770","475","915","35","8","35","9",2395,1470,450,480,1.7,8377,1922,387,47,53,96,4,34,66,51,15,0,98,2,"2210","2140","2150","2450","3850","4410","2010","2620","770","630","850","1020","1310","1870","730","840","8,3","280","210","90","160","300",740,1150,1250,65,83,17,3300,33.9,28.5,48.1,15.9,".",61.8,11.7,9,12.4,16.4,21.6,10.3,"100","150","30","760",90,8.6,505,124,"520","0","75","65","90","20","105","105","55","1195","975","215",0.5,"2449","100",0.3,0.9,0.5,0.5,25.8,52,49,3,1068,1,1,4091,56.74019607843137,56.86274509803921,7.352941176470589,13.112745098039216,21.07843137254902,0,0,0,0,0,0,0,0,0,0,0,0,0,0,0,0,0,0,0,0,0,0,0,0,0]
["BU0363FL01","0363FL01","Oostoever Sloterplas","Amsterdam","Buurt","BU0363FL01","Slotervaart-Noord",2,2440,1175,1260,305,300,500,735,600,1185,920,185,145,"1245","330","865","1245","115","355","215","505","15","6","25","9",1185,495,325,365,2.1,6787,1073,561,32,68,98,2,63,37,30,6,0,99,1,"2260","2020","2800","2640",".",".","1780","2540","770","710","900","1000",".",".","710","810",".","150","140","30","60","80",430,600,830,68,79,21,2000,".",".",37.8,27.8,".",39.3,27.3,4.8,8.8,12.1,15.1,332,"20","80","30","540",50,9.4,300,123,"330","0","25","30","45","20","120","60","35","815","645","170",0.7,"2271","75",0.8,0.8,0.8,0.9,31.7,65,36,29,1064,1,1,4172,48.97540983606557,48.97540983606557,3.278688524590164,12.5,24.59016393442623,0,0,0,0,0,0,0,0,0,0,0,0,0,0,0,0,0,0,0,0,0,0,0,0,0]
["BU0363FL02","0363FL02","Emanuel van Meterenbuurt","Amsterdam","Buurt","BU0363FL02","Slotervaart-Noord",2,2255,1130,1125,445,285,595,530,405,1290,635,215,120,"955","400","900","955","130","420","270","480","10","6","55","25",1025,485,190,350,2.1,5101,922,473,40,60,96,4,37,63,26,38,0,100,0,"2350","2280","2370","2370",".","3640","2280","2460","670","360","1050","1320",".","1840","410","1120","32,9","250","150","40","50","60",370,440,820,69,74,26,1600,".",".",43.9,20.5,".",51.4,17.3,11.3,14.1,17.5,19.4,12.1,"90","80","10","370",70,10.6,220,98,"380","0","55","50","40","10","95","65","65","590","475","115",0.6,"1330","45",0.8,0.8,0.3,0.4,23.1,58,44,14,1065,1,1,3581,57.64966740576497,57.64966740576497,2.6607538802660753,19.733924611973393,17.96008869179601,0,0,0,0,0,0,0,0,0,0,0,0,0,0,0,0,0,0,0,0,0,0,0,0,0]
["BU0363FL03","0363FL03","Jacob Geelbuurt","Amsterdam","Buurt","BU0363FL03","Slotervaart-Noord",2,3115,1565,1545,660,460,1000,725,270,1935,790,310,75,"585","355","2170","580","65","1095","295","1075","30","11","15","5",1430,675,215,540,2.1,10077,1305,363,22,78,96,4,7,93,63,31,0,94,6,"1960","2020","1740","1530",".",".","1980","1600","480","400","760","740",".",".","460","680","39,4","360","190","110","90","70",1110,820,400,63,77,23,2200,".",20.9,53.1,8.1,".",62.7,5.6,14.3,17.3,23,27.1,2.3,"200","130","30","230",110,10.7,225,73,"425","0","90","65","85","0","60","80","45","785","605","175",0.5,"2536","45",0.7,0.6,0.3,0.3,26.4,32,31,1,1065,1,1,4561,81.38041733547352,81.2199036918138,2.247191011235955,21.187800963081862,8.667736757624397,0,0,0,0,0,0,0,0,0,0,0,0,0,0,0,0,0,0,0,0,0,0,0,0,0]
["BU0363FM01","0363FM01","Lucas/Andreasziekenhuis e.o.","Amsterdam","Buurt","BU0363FM01","Overtoomse Veld",2,1245,625,620,20,705,495,20,5,1180,60,5,0,"210","550","490","210","10","85","535","400","0","2","0","0",1120,1020,85,20,1.1,6927,282,366,0,100,99,1,0,100,0,100,0,0,100,"1520","1520",".",".",".",".","1450","2040","0","0",".",".",".",".","0","0","100","0","20","0","30","300",".",".",".",39,93,7,600,".",".",38,34.6,".",57.9,6.9,5,2.8,3.1,3.4,0.3,"0","0","0","0",10,1.5,".",".","115","0","5","15","20","5","35","25","10","145","120","30",0.1,"811","20",0.4,0.7,0.7,0.7,35.9,18,18,0,1061,1,1,6954,83.13253012048193,83.13253012048193,24.096385542168676,1.6064257028112447,0.4016064257028112,0,0,0,0,0,0,0,0,0,0,0,0,0,0,0,0,0,0,0,0,0,0,0,0,0]
["BU0363FM02","0363FM02","Overtoomse Veld-Noord","Amsterdam","Buurt","BU0363FM02","Overtoomse Veld",2,6030,2990,3040,1145,840,2230,1260,550,3655,1820,415,140,"1230","670","4135","1230","150","1995","515","2140","75","12","25","5",2550,990,545,1015,2.3,17938,2385,443,6,94,97,3,23,77,55,22,0,45,55,"2030","1980","2720","2910",".",".","1990","2160","430","440","180","190",".",".","480","240","43,0","580","340","190","170","130",1710,1300,1580,65,80,20,4500,37.4,28.4,47.5,20.2,".",44.5,19.9,12,15.5,20,23.6,5,"370","320","40","470",185,10.1,410,68,"845","0","65","80","165","15","210","195","110","1440","1070","375",0.6,"4286","110",0.4,0.7,0.4,0.3,35.3,34,34,1,1061,1,1,5509,79.60199004975125,79.60199004975125,2.155887230514096,18.988391376451077,9.12106135986733,0,0,0,0,0,0,0,0,0,0,0,0,0,0,0,0,0,0,0,0,0,0,0,0,0]
["BU0363FM03","0363FM03","Rembrandtpark-Noord","Amsterdam","Buurt","BU0363FM03","Overtoomse Veld",2,1015,475,540,70,395,400,85,65,875,85,45,10,"515","270","230","515","40","95","230","135","10","9","0","0",780,610,110,55,1.3,3680,363,506,0,100,93,7,0,100,0,100,0,100,0,"1670","1670",".",".",".",".","1670",".","710","710",".",".",".",".","710",".",".","30","10","0","370","20",".",".",".",68,85,15,900,".",".",48.4,23.1,".",66.9,8.6,5.9,5.4,6.2,7.8,1.7,"10","20","20","60",10,2.3,25,24,"160","0","5","20","30","5","35","30","35","175","140","35",0.2,"635","25",0.7,0.7,0.7,0.7,36.8,30,28,3,1057,1,1,7000,49.26108374384236,49.26108374384236,1.9704433497536946,6.896551724137931,6.403940886699508,0,0,0,0,0,0,0,0,0,0,0,0,0,0,0,0,0,0,0,0,0,0,0,0,0]
["BU0363FM04","0363FM04","Overtoomse Veld-Zuid","Amsterdam","Buurt","BU0363FM04","Overtoomse Veld",2,4545,2195,2345,670,635,2195,695,345,3150,1060,255,80,"1325","730","2490","1325","125","1240","600","1255","50","11","15","3",2460,1385,525,550,1.8,15150,2296,386,3,97,97,3,18,82,35,47,0,36,64,"1570","1550","2250","2180",".",".","1480","1950","280","270","250","220",".",".","270","290","58,3","370","210","110","140","160",930,1100,1780,75,86,14,3600,40.9,33.4,34.3,21.6,".",51,13.4,5.9,7.2,9.9,12.5,4.5,"170","150","50","310",110,9.8,205,45,"720","0","50","85","95","20","185","170","115","1045","810","230",0.4,"3477","85",0.2,0.3,0.2,0.3,30.5,31,30,1,1062,1,1,5795,70.84708470847085,70.84708470847085,3.52035203520352,14.74147414741474,7.590759075907591,0,0,0,0,0,0,0,0,0,0,0,0,0,0,0,0,0,0,0,0,0,0,0,0,0]
["BU0363FM05","0363FM05","Rembrandtpark-Zuid","Amsterdam","Buurt","BU0363FM05","Overtoomse Veld",2,880,465,415,85,70,525,125,80,610,230,30,15,"360","260","260","360","45","65","215","195","15","17","5","6",550,320,155,80,1.6,3235,452,512,0,100,95,5,54,46,0,46,0,100,0,"1830","1830",".",".",".",".","1730","1900","20","20",".",".",".",".","20","20","99,8","50","10","10","10","30",".",".",".",85,82,18,800,".",".",20.8,47.2,".",34.6,24.9,4.2,3.4,4.6,5.8,48.8,"0","10","10","60",10,9.3,25,26,"170","0","5","20","30","10","55","30","20","230","185","45",0.4,"836","40",0.7,0.8,0.2,0.2,32.7,32,27,4,1058,1,1,6079,59.09090909090909,59.09090909090909,3.4090909090909087,9.659090909090908,9.090909090909092,0,0,0,0,0,0,0,0,0,0,0,0,0,0,0,0,0,0,0,0,0,0,0,0,0]
["BU0363FM06","0363FM06","Johan Jongkindbuurt","Amsterdam","Buurt","BU0363FM06","Overtoomse Veld",2,955,440,520,225,165,280,230,50,610,265,70,10,"70","310","575","70","10","280","295","290","10","10","0","2",415,205,20,195,2.3,11077,367,296,0,100,67,33,0,100,61,39,0,100,0,"1520","1520",".",".",".",".","1520",".","730","730",".",".",".",".","730",".",".","140","90","40","20","10",".",".",".",56,87,13,700,".",".",64.1,3.3,".",71.7,6.1,31,29.5,35.1,38.2,0.7,"60","50","10","40",35,9.7,60,62,"60","0","10","10","5","5","5","25","5","145","115","30",0.3,"1685","5",0.4,0.5,0.4,0.5,30.3,9,9,0,1062,1,1,6705,92.67015706806284,92.67015706806284,1.0471204188481675,23.56020942408377,5.2356020942408374,0,0,0,0,0,0,0,0,0,0,0,0,0,0,0,0,0,0,0,0,0,0,0,0,0]
["BU0363FN01","0363FN01","Louis Crispijnbuurt","Amsterdam","Buurt","BU0363FN01","Slotervaart-Zuid",2,3240,1550,1690,505,540,890,675,625,1900,900,305,130,"1065","435","1740","1065","95","820","340","920","20","7","35","12",1700,950,310,445,1.9,9029,1524,415,22,78,90,10,20,80,64,15,0,85,15,"1840","1800","1850","1900",".","4600","1760","2120","740","680","860","1060",".","1680","700","880","12,5","300","170","80","120","160",720,860,870,62,84,16,2600,32,25.8,49.2,12.4,".",60,9.2,9.3,11.5,16.2,20.5,5.5,"160","150","20","660",100,10.8,375,116,"415","0","50","75","55","15","75","90","55","830","685","150",0.5,"2321","60",0.3,0.4,0.3,0.4,23.2,37,36,1,1065,1,1,3977,67.12962962962963,67.12962962962963,4.938271604938271,15.58641975308642,19.290123456790123,0,0,0,0,0,0,0,0,0,0,0,0,0,0,0,0,0,0,0,0,0,0,0,0,0]
["BU0363FN02","0363FN02","Jacques Veldmanbuurt","Amsterdam","Buurt","BU0363FN02","Slotervaart-Zuid",2,3760,1835,1925,530,630,1535,645,420,2455,955,265,95,"1115","690","1960","1115","125","825","565","1140","35","10","20","6",2130,1210,460,455,1.8,12756,2052,361,18,82,96,4,20,80,58,22,0,62,38,"1630","1570","1910","2140",".",".","1550","1950","550","500","730","890",".",".","510","700","27,8","260","160","70","200","190",690,1070,1290,67,86,14,2900,39.6,32.1,41.6,22,".",54.3,12,7.8,10.8,14.3,17.1,6,"140","130","40","370",90,9.4,265,71,"470","0","40","75","75","5","115","110","50","820","655","165",0.4,"2773","70",0.7,0.5,0.6,0.8,23,31,29,1,1065,1,1,5122,70.34574468085107,70.34574468085107,5.053191489361701,14.095744680851062,11.170212765957446,0,0,0,0,0,0,0,0,0,0,0,0,0,0,0,0,0,0,0,0,0,0,0,0,0]
["BU0363FN03","0363FN03","Medisch Centrum Slotervaart","Amsterdam","Buurt","BU0363FN03","Slotervaart-Zuid",2,775,380,395,40,355,270,55,50,660,40,60,15,"230","215","325","235","20","150","190","180","5","5","25","30",630,575,25,30,1.1,2661,287,354,0,100,82,18,0,100,100,0,0,62,38,"1870","1870",".",".",".",".","1870",".","1040","1040",".",".",".",".","1040",".",".","30","10","20","150","200",".",".",".",63,82,18,600,".",".",73,1.8,".",93.1,0.7,20.8,18.6,24,31.2,-1.3,"70","20","10","60",".",".",60,77,"210","0","15","20","35","5","50","35","55","85","60","30",0.1,"299","15",0.5,1,0.4,0.7,16.1,30,29,1,1066,1,1,2536,69.6774193548387,70.3225806451613,25.806451612903224,5.161290322580645,6.451612903225806,0,0,0,0,0,0,0,0,0,0,0,0,0,0,0,0,0,0,0,0,0,0,0,0,0]
["BU0363FN04","0363FN04","Staalmanbuurt","Amsterdam","Buurt","BU0363FN04","Slotervaart-Zuid",2,3315,1615,1695,700,425,1130,680,375,1955,955,280,120,"770","320","2220","775","105","1135","220","1085","55","17","30","8",1415,580,275,560,2.3,10846,1368,492,12,88,98,2,19,81,73,8,0,43,57,"1990","1860","2920","3140",".",".","1920","2290","130","150","0","0",".",".","140","80","75,5","370","240","100","100","50",810,890,760,64,83,17,2400,".",28.1,47.5,19.7,".",46.6,16.1,11.2,14.5,20.8,24.4,4.7,"210","170","40","350",110,10.6,325,97,"370","0","40","45","75","15","90","80","30","835","635","205",0.6,"2737","80",0.4,1,0.2,0.3,21,32,31,2,1066,1,1,4859,76.6214177978884,76.77224736048267,1.5082956259426847,21.116138763197586,11.312217194570136,0,0,0,0,0,0,0,0,0,0,0,0,0,0,0,0,0,0,0,0,0,0,0,0,0]
["BU0363FP01","0363FP01","Schipluidenbuurt","Amsterdam","Buurt","BU0363FP01","Westlandgracht",2,1635,775,860,75,445,1025,65,20,1485,120,20,5,"385","630","615","385","40","170","590","450","5","5","0","1",1315,1050,200,60,1.2,14465,1128,292,0,100,95,5,5,95,0,95,0,1,99,"1280","1280",".",".",".",".","1240","1990","0","0",".",".",".",".","0","0","99,9","30","20","10","90","390",".",".",".",71,89,11,1300,".",".",39.4,25.7,".",67.6,6.7,13,10.1,11.9,14.6,0.5,"0","10","10","10",".",".",20,11,"320","0","5","50","50","15","100","35","65","155","100","55",0.1,"1354","20",0.9,0.8,0.5,1,29,12,11,0,1062,1,1,5872,76.45259938837921,76.45259938837921,23.853211009174313,4.587155963302752,1.2232415902140672,0,0,0,0,0,0,0,0,0,0,0,0,0,0,0,0,0,0,0,0,0,0,0,0,0]
["BU0363FP02","0363FP02","Koningin Wilhelminaplein","Amsterdam","Buurt","BU0363FP02","Westlandgracht",2,2975,1610,1360,250,230,1940,370,185,2095,745,100,25,"820","965","1180","820","115","260","850","925","35","12","10","3",1835,980,625,230,1.6,12109,1650,468,0,100,96,4,22,78,2,76,0,60,40,"1800","1800",".",".",".",".","1770","1930","270","270",".",".",".",".","190","580","39,7","110","40","10","100","180",320,530,1880,83,89,11,2500,61,52.7,15.8,47.3,".",30.4,22.6,3.4,3.1,3.3,3.6,25.8,"10","20","40","160",25,6.6,40,14,"635","0","25","160","85","60","180","70","55","595","455","140",0.3,"2421","55",0.9,0.8,0.5,0.9,26.5,26,25,2,1062,1,1,6943,72.43697478991596,72.43697478991596,6.050420168067227,8.403361344537815,6.218487394957983,0,0,0,0,0,0,0,0,0,0,0,0,0,0,0,0,0,0,0,0,0,0,0,0,0]
["BU0363FP03","0363FP03","Andreasterrein","Amsterdam","Buurt","BU0363FP03","Westlandgracht",2,1275,625,645,225,155,405,325,150,760,405,90,20,"460","265","545","455","65","240","205","310","15","9","0","3",575,230,145,195,2.2,8823,519,826,3,97,98,2,45,55,29,25,0,3,97,"2490","2450","3650",".",".",".","2340","2670","50","0","1610",".",".",".",".","120","96,5","120","90","20","20","20",160,210,630,72,83,17,1000,".",".",33.1,41.9,".",30.2,38.1,7.1,9.5,12.3,13.8,79.6,"40","40","20","130",30,8.5,85,65,"180","0","5","15","25","10","60","35","25","345","250","95",0.6,"2398","20",0.9,1,0.3,0.7,35.5,18,14,3,1058,1,1,7863,64.31372549019608,63.921568627450974,1.5686274509803921,17.647058823529413,11.76470588235294,0,0,0,0,0,0,0,0,0,0,0,0,0,0,0,0,0,0,0,0,0,0,0,0,0]
["BU0363FP04","0363FP04","Delflandpleinbuurt-West","Amsterdam","Buurt","BU0363FP04","Westlandgracht",2,4740,2425,2315,490,1155,2130,630,330,3630,760,295,55,"1505","920","2310","1510","180","1125","740","1185","60","12","15","3",3160,2210,535,415,1.5,14679,2921,312,0,100,96,4,10,90,59,31,0,40,60,"1440","1440",".",".",".",".","1370","2050","160","160",".",".",".",".","140","370","57,4","220","140","90","270","450",650,1340,2160,72,85,15,3900,36.8,32,42.9,17.4,29.6,66.6,8.4,10.1,12.1,16.3,18.9,1.4,"170","150","60","290",105,8.6,310,65,"845","0","80","140","125","25","185","170","115","1020","810","210",0.3,"3166","90",0.3,0.3,0.3,0.3,24.7,34,32,2,1062,1,1,5414,68.14345991561181,68.24894514767934,9.49367088607595,10.337552742616033,6.962025316455696,0,0,0,0,0,0,0,0,0,0,0,0,0,0,0,0,0,0,0,0,0,0,0,0,0]
["BU0363FP05","0363FP05","Delflandpleinbuurt-Oost","Amsterdam","Buurt","BU0363FP05","Westlandgracht",2,2130,1040,1090,235,660,705,385,140,1625,320,165,20,"535","355","1235","535","60","355","290","880","15","8","10","6",1305,955,165,185,1.5,12442,1342,305,0,100,94,6,9,91,65,26,0,48,52,"1390","1390",".",".",".",".","1320","2090","250","240",".",".",".",".","240","310","66,1","120","60","40","100","430",550,660,660,51,84,16,1300,".",".",55.6,16.1,".",70.7,8.9,13.7,15.3,21.8,27.2,1.8,"100","110","20","120",55,8,145,69,"210","0","10","30","40","10","55","40","30","360","270","85",0.3,"2092","25",0.5,0.4,0.4,0.5,29.6,18,17,1,1059,1,1,5976,74.88262910798123,74.88262910798123,20.187793427230048,11.032863849765258,6.572769953051644,0,0,0,0,0,0,0,0,0,0,0,0,0,0,0,0,0,0,0,0,0,0,0,0,0]
["BU0363FP06","0363FP06","Riekerhaven","Amsterdam","Buurt","BU0363FP06","Westlandgracht",2,450,270,185,10,225,220,0,0,445,0,5,0,"135","50","270","135","15","55","35","210","0","2","0","0",395,345,45,10,1.1,1085,454,".",0,100,78,22,0,100,100,0,0,0,100,"1310","1300",".",".",".",".","1310",".","380","370",".",".",".",".","380",".",".","0","0","60","50","30",".",".",".",67,84,16,400,".",".",71.8,1.6,".",93.1,0,33.5,29.6,38.5,44.6,-0.6,"70","0","10","0",".",".",10,18,"225","0","10","30","25","25","80","25","30","60","45","20",0.2,"149","5",1.1,0.8,0.8,0.9,13.7,42,42,0,1062,1,2,2314,70,70,6.666666666666667,2.2222222222222223,0,0,0,0,0,0,0,0,0,0,0,0,0,0,0,0,0,0,0,0,0,0,0,0,0,0]
["BU0363FQ01","0363FQ01","Dorp Sloten","Amsterdam","Buurt","BU0363FQ01","Sloten/Nieuw-Sloten",2,720,360,355,95,80,160,240,145,350,280,60,35,"550","75","95","550","20","50","50","45","5","4","5","7",350,135,110,100,2.1,1345,273,569,75,25,91,9,75,25,5,19,0,89,11,"2790","1900","2620","2600","3510","4390","2290","2940","1110","1040","870","1120","1240","1720","960","1150",".","50","30","10","10","10",70,260,240,72,69,31,600,".",".",35.6,29.6,".",31.5,30.6,6,6,7.2,8.5,337.7,"10","30","10","130",10,5,40,54,"190","0","30","30","15","20","50","25","25","365","300","65",1,"678","45",1.1,1.5,0.8,0.8,18.1,61,54,8,1066,1,2,2337,23.61111111111111,23.61111111111111,1.3888888888888888,13.194444444444445,20.13888888888889,0,0,0,0,0,0,0,0,0,0,0,0,0,0,0,0,0,0,0,0,0,0,0,0,0]
["BU0363FQ02","0363FQ02","Nieuw-Sloten-Noordwest","Amsterdam","Buurt","BU0363FQ02","Sloten/Nieuw-Sloten",2,3055,1460,1595,495,350,765,910,535,1515,1170,265,105,"1315","330","1405","1320","135","725","195","680","30","9","15","5",1285,405,335,550,2.4,8838,1219,525,78,22,98,2,51,49,34,16,0,100,0,"2360","1830","2440","2750","3720",".","2190","2530","760","670","750","960","1140",".","750","770",".","260","190","50","100","40",530,930,910,69,81,19,2400,".",34.4,37.1,25.4,".",32.6,28.7,6.2,7.8,9.7,12.1,132.1,"50","120","30","460",85,10.9,215,71,"335","0","35","35","60","10","90","80","30","1130","895","230",0.9,"3262","90",0.5,0.8,0.3,0.4,20.1,37,35,3,1066,1,1,3222,56.79214402618658,56.955810147299516,1.309328968903437,16.20294599018003,17.51227495908347,0,0,0,0,0,0,0,0,0,0,0,0,0,0,0,0,0,0,0,0,0,0,0,0,0]
["BU0363FQ03","0363FQ03","Nieuw-Sloten-Noordoost","Amsterdam","Buurt","BU0363FQ03","Sloten/Nieuw-Sloten",2,3170,1555,1610,480,325,805,860,700,1510,1270,230,160,"1520","335","1320","1520","120","700","210","620","35","10","25","8",1445,530,435,480,2.2,7233,1361,528,70,30,98,2,35,65,33,32,0,100,0,"2210","1740","2340","2480","3720","4450","1980","2640","810","670","830","960","1390","2000","780","880",".","240","180","50","60","50",480,850,1070,69,82,18,2500,42.1,34.2,34.7,23.8,".",36.2,23.3,4.8,5.2,7.1,9,43.9,"40","140","20","610",70,9.9,290,92,"360","0","40","50","55","20","90","70","40","1225","980","245",0.8,"2792","80",0.8,0.9,0.6,0.6,19.1,48,44,4,1066,1,1,3111,52.05047318611987,52.05047318611987,1.5772870662460567,15.141955835962145,22.082018927444793,0,0,0,0,0,0,0,0,0,0,0,0,0,0,0,0,0,0,0,0,0,0,0,0,0]
["BU0363FQ04","0363FQ04","Nieuw-Sloten-Zuidwest","Amsterdam","Buurt","BU0363FQ04","Sloten/Nieuw-Sloten",2,2220,1105,1110,320,300,470,820,305,1085,975,130,30,"1190","280","750","1185","110","335","175","410","10","6","5","3",890,195,280,415,2.5,10267,839,584,88,12,98,2,95,5,0,5,0,100,0,"2600","2320","2580","2870","2750",".","2630","2590","830","700","790","1030","1030",".","830","830",".","160","140","30","70","60",310,650,870,75,82,18,1800,".",".",28.4,35.7,".",13.9,44.9,1.9,1.6,1.9,2.2,498.2,"10","70","20","270",55,9.9,50,23,"270","0","20","25","30","20","80","65","35","920","750","170",1,"4263","65",0.7,0.6,0.6,0.8,17,23,22,2,1066,1,2,2498,46.62162162162162,46.3963963963964,2.7027027027027026,14.414414414414415,13.73873873873874,0,0,0,0,0,0,0,0,0,0,0,0,0,0,0,0,0,0,0,0,0,0,0,0,0]
["BU0363FQ05","0363FQ05","Belgiëplein e.o.","Amsterdam","Buurt","BU0363FQ05","Sloten/Nieuw-Sloten",2,1165,555,615,95,115,325,275,360,540,435,115,70,"445","205","515","445","45","150","160","365","10","12","15","14",685,360,210,120,1.7,14075,637,423,1,99,96,4,43,57,39,17,0,100,0,"1910","1910",".",".",".",".","1740","2150","610","610",".",".",".",".","590","640","3,5","40","20","10","20","40",180,210,510,65,83,17,1000,".",".",42.7,20.3,".",51.6,14.5,7.9,11,16.5,19.1,37.2,"20","40","10","330",10,4.4,175,151,"160","0","10","25","25","5","40","30","25","370","295","75",0.5,"4438","20",0.3,0.2,0.2,0.5,17.6,8,8,0,1066,1,2,2470,61.80257510729614,61.80257510729614,3.4334763948497855,8.15450643776824,30.90128755364807,0,0,0,0,0,0,0,0,0,0,0,0,0,0,0,0,0,0,0,0,0,0,0,0,0]
["BU0363FQ06","0363FQ06","Nieuw-Sloten-Zuidoost","Amsterdam","Buurt","BU0363FQ06","Sloten/Nieuw-Sloten",2,2185,1095,1090,425,250,680,595,240,1290,695,150,45,"965","290","925","970","90","530","200","400","30","14","5","2",930,315,215,400,2.3,9606,871,509,66,34,97,3,20,80,0,80,0,91,9,"2130","1940","2110","2550","3260",".","2050","2480","770","630","790","990","1220",".","770","780",".","240","110","50","50","40",300,660,700,75,76,24,1600,".",".",31.4,27.5,".",32.4,25.1,4.7,3.8,5.3,6.3,27.9,"10","120","20","210",45,7.5,110,50,"345","0","45","30","35","15","95","85","40","755","565","190",0.8,"3309","75",0.5,0.6,0.3,0.4,16.5,26,23,3,1066,1,2,2214,55.60640732265446,55.83524027459954,1.8306636155606408,19.450800915331808,10.983981693363845,0,0,0,0,0,0,0,0,0,0,0,0,0,0,0,0,0,0,0,0,0,0,0,0,0]
["BU0363FQ07","0363FQ07","Sloterweg e.o.","Amsterdam","Buurt","BU0363FQ07","Sloten/Nieuw-Sloten",2,335,160,175,70,40,75,85,60,160,150,15,10,"190","30","115","190","20","65","10","55","0","3","5","9",125,30,40,55,2.6,423,119,1212,87,13,87,13,79,21,0,21,0,67,33,"3740","3300","2540","4130","3380","4180","2680","3980","1370","1480","1190","1190","820","1610","930","1480",".","40","30","0","10","10",".",".",".",68,61,39,200,".",".",37.5,33.9,".",21.6,45.6,8.2,7.4,8.2,8.2,993.8,"0","10","0","50",15,15.5,10,33,"80","0","5","10","10","10","15","15","10","210","145","60",1.6,"265","30",1,1.1,1.1,1.3,16.2,86,79,7,1066,1,3,1483,43.28358208955223,43.28358208955223,2.9850746268656714,20.8955223880597,17.91044776119403,0,0,0,0,0,0,0,0,0,0,0,0,0,0,0,0,0,0,0,0,0,0,0,0,0]
["BU0363FQ08","0363FQ08","Park Haagseweg","Amsterdam","Buurt","BU0363FQ08","Sloten/Nieuw-Sloten",2,995,505,490,140,80,225,330,215,475,445,50,25,"595","165","235","595","70","100","95","135","5","7","0","2",450,130,165,150,2.2,8769,440,624,56,44,98,2,93,7,0,7,0,91,9,"2570","2040","2520","2670","3160","4890","2030","2610","810","700","800","1010","860","1290","790","810",".","70","50","10","20","10",60,250,440,73,82,18,800,".",".",23.2,39.4,".",14.3,44.4,2,2,2.5,2.5,588.2,"0","30","10","200",15,6.5,45,46,"125","0","5","10","10","10","45","25","20","430","340","90",1,"3798","30",1.3,0.7,1.2,1.6,11,12,11,1,1066,1,2,2396,40.20100502512563,40.20100502512563,1.0050251256281406,14.07035175879397,21.608040201005025,0,0,0,0,0,0,0,0,0,0,0,0,0,0,0,0,0,0,0,0,0,0,0,0,0]
["BU0363FQ09","0363FQ09","Riekerpolder","Amsterdam","Buurt","BU0363FQ09","Sloten/Nieuw-Sloten",2,705,365,340,40,65,550,40,5,555,110,40,5,"260","145","295","260","20","135","130","165","10","13","0","0",470,275,150,40,1.5,1149,369,436,1,99,97,3,1,99,0,99,0,1,99,"1750","1750",".",".",".",".","1750",".","0","0",".",".",".",".","0",".","100","10","10","10","20","20",".",".",".",85,90,10,600,".",".",13.7,38.5,".",35,14.7,1.7,1.5,2,2.2,3.2,"0","10","10","0",".",".",".",".","415","0","15","45","90","50","175","30","20","205","145","60",0.4,"336","20",1.3,0.1,1.2,1.5,10,65,61,3,1066,1,3,1030,63.12056737588653,63.12056737588653,2.8368794326241136,5.673758865248227,0.7092198581560284,0,0,0,0,0,0,0,0,0,0,0,0,0,0,0,0,0,0,0,0,0,0,0,0,0]
["BU0363FQ10","0363FQ10","Nieuwe Meer","Amsterdam","Buurt","BU0363FQ10","Sloten/Nieuw-Sloten",2,165,90,75,20,25,35,75,15,120,25,15,0,"120","20","25","120","10","15","10","10","0","0","0","6",100,65,5,25,1.7,128,5,".",".",".",".",".",".",".",".",".",".",".",".",".",".",".",".",".",".",".",".",".",".",".",".",".",".",".",".",".","10","10","0","0","0",".",".",".",".",".",".",100,".",".",63.8,7.9,".",".",".",".",".",".",".",".","10","10","0","10",".",".",".",".","110","0","10","10","10","5","15","5","55","60","45","15",0.6,"48","10",2.1,2.2,2,2.1,4.3,227,130,97,1066,1,5,270,27.27272727272727,27.27272727272727,0,12.121212121212121,9.090909090909092,0,0,0,0,0,0,0,0,0,0,0,0,0,0,0,0,0,0,0,0,0,0,0,0,0]
["BU0363KA01","0363KA01","Westlandgrachtbuurt","Amsterdam","Buurt","BU0363KA01","Hoofddorppleinbuurt",2,3625,1710,1910,425,330,1725,760,385,2585,740,240,65,"1990","705","930","1990","175","350","530","580","55","14","10","3",2115,1115,590,405,1.7,22835,2071,549,0,100,94,6,34,65,15,50,1,99,1,"1770","1770",".",".",".",".","1630","2040","660","660",".",".",".",".","630","730",".","190","100","30","60","150",400,750,1910,80,82,18,3100,57.1,48.8,26.7,38,".",39.6,25.1,6.2,7.6,10.1,12,34.4,"60","90","40","340",55,8.6,155,43,"795","0","40","85","80","45","265","160","120","850","690","160",0.4,"5370","75",0.4,0.6,0.2,0.4,38.6,19,16,3,1058,1,1,7197,45.10344827586207,45.10344827586207,4.137931034482759,11.724137931034482,10.620689655172413,0,0,0,0,0,0,0,0,0,0,0,0,0,0,0,0,0,0,0,0,0,0,0,0,0]
["BU0363KA02","0363KA02","Surinamepleinbuurt","Amsterdam","Buurt","BU0363KA02","Hoofddorppleinbuurt",2,1535,680,860,205,150,670,320,195,1075,345,85,35,"930","285","330","925","95","140","185","190","15","12","10","6",905,520,205,175,1.7,18246,842,632,8,92,93,7,39,61,10,51,0,98,2,"1910","1820","2990","4070",".",".","1540","2520","870","830","1390","1740",".",".","800","980",".","100","60","10","30","70",130,280,830,80,73,27,1300,".",".",30.1,35.5,".",47.4,24.3,9.3,9.7,11.8,13.8,39.3,"10","20","30","180",35,11.1,75,48,"395","0","10","35","40","25","145","45","90","375","305","70",0.4,"4467","30",0.9,0.8,0.2,0.6,39.1,9,8,1,1058,1,1,8113,39.73941368078176,39.413680781758956,4.5602605863192185,13.355048859934854,12.703583061889251,0,0,0,0,0,0,0,0,0,0,0,0,0,0,0,0,0,0,0,0,0,0,0,0,0]
["BU0363KA03","0363KA03","Legmeerpleinbuurt","Amsterdam","Buurt","BU0363KA03","Hoofddorppleinbuurt",2,1645,750,890,205,160,695,380,200,1160,330,115,35,"940","330","380","935","90","150","245","225","15","11","5","2",955,500,270,185,1.7,23576,949,606,3,97,93,7,32,67,7,60,0,96,4,"1870","1820","3540",".",".",".","1660","2330","740","720","1370",".",".",".","670","880",".","90","70","10","30","70",110,500,760,76,79,21,1400,".",".",29.2,36,".",40.8,24.1,6.7,7.4,10.2,12.4,38.2,"30","40","20","170",30,9.1,70,42,"370","0","20","55","25","25","115","65","70","405","330","70",0.4,"5797","30",0.5,0.3,0.2,0.6,37.9,8,7,1,1058,1,1,7690,43.161094224924014,42.857142857142854,4.25531914893617,12.462006079027356,12.158054711246201,0,0,0,0,0,0,0,0,0,0,0,0,0,0,0,0,0,0,0,0,0,0,0,0,0]
["BU0363KA04","0363KA04","Aalsmeerwegbuurt-West","Amsterdam","Buurt","BU0363KA04","Hoofddorppleinbuurt",2,2530,1135,1395,280,235,1315,500,205,1860,475,155,35,"1430","490","600","1435","115","220","380","385","45","17","10","4",1525,810,460,250,1.7,25832,1469,523,0,100,95,5,43,56,8,48,0,100,0,"1710","1710",".",".",".",".","1600","1860","670","670",".",".",".",".","650","690",".","100","70","20","60","120",210,430,1550,81,82,18,2200,".",".",26,41.1,".",38.3,24.5,6.8,8,9.6,11.2,55.7,"40","60","30","170",30,6.8,100,39,"490","0","25","50","50","30","175","75","80","595","505","90",0.4,"6093","40",0.5,0.4,0.2,0.8,33,11,10,1,1059,1,1,6853,43.280632411067195,43.47826086956522,4.743083003952568,11.067193675889328,8.102766798418973,0,0,0,0,0,0,0,0,0,0,0,0,0,0,0,0,0,0,0,0,0,0,0,0,0]
["BU0363KA05","0363KA05","Aalsmeerwegbuurt-Oost","Amsterdam","Buurt","BU0363KA05","Hoofddorppleinbuurt",2,2165,1045,1120,200,225,990,515,235,1550,405,165,40,"1190","425","550","1190","110","215","315","340","40","18","5","2",1320,720,375,230,1.6,19126,1274,564,2,98,95,5,39,61,16,45,0,99,1,"1750","1730","2140",".","3930",".","1560","2050","700","690","910",".","1130",".","670","740",".","70","60","10","50","90",160,360,1360,78,81,19,1900,".",".",28.9,38.1,".",40.8,24,7.4,8.9,11.2,13.2,36.9,"50","60","20","210",35,10,100,47,"445","0","25","60","35","20","160","65","80","560","455","105",0.4,"4962","40",0.6,0.2,0.2,0.9,30.7,12,11,0,1059,1,1,6777,45.03464203233256,45.03464203233256,4.157043879907621,9.237875288683602,10.854503464203233,0,0,0,0,0,0,0,0,0,0,0,0,0,0,0,0,0,0,0,0,0,0,0,0,0]
["BU0363KA06","0363KA06","Bedrijventerrein Schinkel","Amsterdam","Buurt","BU0363KA06","Hoofddorppleinbuurt",2,270,130,140,5,120,75,45,15,225,30,5,5,"75","95","95","80","5","5","90","90","0","0","0","0",215,190,10,20,1.2,823,8,".",".",".",".",".",".",".",".",".",".",".",".",".",".",".",".",".",".",".",".",".",".",".",".",".",".",".",".",".","0","10","0","0","50",".",".",".",48,".",".",200,".",".",44.8,23.9,".",70.2,17.4,".",".",".",".",2.5,"0","0","0","10",".",".",".",".","450","0","50","70","60","60","135","20","50","245","160","85",1.1,"746","15",1.5,1.1,0.6,1.3,11.5,38,33,5,1059,1,1,2906,70.37037037037037,72.22222222222221,18.51851851851852,1.8518518518518516,5.555555555555555,0,0,0,0,0,0,0,0,0,0,0,0,0,0,0,0,0,0,0,0,0,0,0,0,0]
["BU0363KB01","0363KB01","Schinkelbuurt-Noord","Amsterdam","Buurt","BU0363KB01","Schinkelbuurt",2,2455,1175,1275,190,285,1210,545,220,1830,425,170,30,"1230","580","640","1230","135","220","445","420","35","15","5","3",1575,940,435,200,1.5,24505,1487,561,1,99,93,7,32,68,21,46,1,94,6,"1710","1700","2040",".",".",".","1590","1960","660","660","870",".",".",".","620","740",".","80","60","20","60","130",290,500,1400,79,79,21,2100,".",".",29.9,34.9,".",45.5,20.2,7.4,8.3,11.3,12.9,26.2,"60","90","30","190",30,8.5,105,42,"620","0","35","85","55","40","190","95","110","555","460","100",0.4,"5554","50",0.4,0.3,0.2,1,37,11,10,1,1075,1,1,8192,49.89816700610998,49.89816700610998,5.295315682281059,7.739307535641547,8.961303462321792,0,0,0,0,0,0,0,0,0,0,0,0,0,0,0,0,0,0,0,0,0,0,0,0,0]
["BU0363KB02","0363KB02","Schinkelbuurt-Zuid","Amsterdam","Buurt","BU0363KB02","Schinkelbuurt",2,1480,695,780,130,160,625,340,230,1040,235,165,35,"690","270","515","690","70","195","200","320","10","7","5","3",980,645,190,145,1.5,7775,955,527,2,98,93,7,15,85,49,36,0,89,11,"1510","1500","2460",".",".",".","1440","1920","680","670","1100",".",".",".","670","730",".","50","30","20","30","70",".",".",".",71,80,20,1300,".",".",38,26.2,".",56.8,12.4,10.8,13.6,18.4,21.2,9.2,"80","50","10","200",35,15.7,140,93,"315","0","10","60","35","15","85","45","65","335","270","65",0.3,"1762","25",0.8,0.3,0.2,0.9,31.4,24,19,5,1075,1,1,7691,53.37837837837838,53.37837837837838,4.72972972972973,8.783783783783784,15.54054054054054,0,0,0,0,0,0,0,0,0,0,0,0,0,0,0,0,0,0,0,0,0,0,0,0,0]
["BU0363KC01","0363KC01","Vondelpark-West","Amsterdam","Buurt","BU0363KC01","Willemspark",2,0,0,0,0,0,0,0,0,0,0,0,0,"0","0","0","0","0","0","0","0","0","0","0","0",0,0,0,0,".",".",0,".",".",".",".",".",".",".",".",".",".",".",".",".",".",".",".",".",".",".",".",".",".",".",".",".",".",".",".",".","0","0","0","0","0",".",".",".",".",".",".",0,".",".",".",".",".",".",".",".",".",".",".",".",".",".",".",".",".",".",".",".","0",".",".",".",".",".",".",".",".","0","0","0",".",".","0",".",".",".",".",".",25,20,5,1075,1,1,8327,"Geen inwoners","Geen inwoners","Geen inwoners","Geen inwoners","Geen inwoners",0,0,0,0,0,0,0,0,0,0,0,0,0,0,0,0,0,0,0,0,0,0,0,0,0]
["BU0363KC02","0363KC02","Willemsparkbuurt-Noord","Amsterdam","Buurt","BU0363KC02","Willemspark",2,1550,750,805,200,225,470,445,205,935,490,90,35,"805","365","380","805","95","115","275","265","15","12","10","6",795,375,210,210,1.9,8206,797,1371,13,87,85,15,47,52,6,47,1,100,0,"2830","2570","4600","4200","4750","5240","2320","3370","1190","1060","1910","1850","2470","2380","940","1450",".","70","80","0","20","80",100,220,930,72,67,33,1200,".",".",30.9,44.8,".",31.7,44.1,6.7,6.4,7.3,8.5,164.6,"10","10","10","180",35,9.7,35,23,"810","0","20","75","35","205","320","95","60","655","435","220",0.8,"3465","30",0.4,0.5,0.3,0.7,35.5,19,19,0,1075,1,1,8317,48.064516129032256,48.064516129032256,5.161290322580645,12.903225806451612,13.225806451612904,0,0,0,0,0,0,0,0,0,0,0,0,0,0,0,0,0,0,0,0,0,0,0,0,0]
["BU0363KC03","0363KC03","Valeriusbuurt-West","Amsterdam","Buurt","BU0363KC03","Willemspark",2,2615,1275,1340,450,240,890,660,380,1600,810,160,45,"1275","620","720","1270","140","260","485","455","35","13","10","3",1275,550,350,380,2,19243,1265,1016,2,98,92,8,45,55,17,38,0,100,0,"2350","2310","4400",".",".",".","1930","2860","1010","990","2010",".",".",".","880","1160",".","210","160","10","20","80",200,450,1370,73,73,27,2000,".",67.8,27.5,44.5,".",29.9,39.2,5.4,6.4,7.6,9.8,154.9,"30","30","30","340",70,10.5,85,32,"610","0","15","75","50","70","230","95","75","705","540","165",0.6,"5194","35",0.5,0.2,0.4,0.3,31.5,14,14,1,1075,1,1,7703,51.434034416826,51.24282982791587,3.0592734225621414,17.208413001912046,14.531548757170173,0,0,0,0,0,0,0,0,0,0,0,0,0,0,0,0,0,0,0,0,0,0,0,0,0]
["BU0363KC04","0363KC04","Valeriusbuurt-Oost","Amsterdam","Buurt","BU0363KC04","Willemspark",2,1400,715,685,270,160,335,435,190,760,525,90,30,"660","375","365","660","95","100","280","265","15","10","5","4",640,250,155,230,2.2,12161,679,1394,3,97,85,15,57,43,1,42,0,100,0,"2910","2870","4030",".",".",".","2540","3190","1180","1160","1810",".",".",".","1110","1240",".","110","80","0","20","50",480,140,460,69,67,33,1000,".",".",27.1,52,".",22,52.2,5.3,5.8,6.9,7.2,945.7,"0","10","10","180",40,9.3,20,14,"600","0","20","40","30","185","215","65","40","490","350","140",0.8,"4254","30",0.2,0.3,0.3,0.4,34.1,12,11,1,1075,1,1,7481,52.85714285714286,52.85714285714286,3.571428571428571,19.28571428571429,13.571428571428571,0,0,0,0,0,0,0,0,0,0,0,0,0,0,0,0,0,0,0,0,0,0,0,0,0]
["BU0363KD01","0363KD01","Vondelpark-Oost","Amsterdam","Buurt","BU0363KD01","Museumkwartier",2,0,0,0,0,0,0,0,5,0,0,0,0,"0","0","0","0","0","0","0","0","0","0","0","0",0,0,0,0,1,".",3,".",".",".",".",".",".",".",".",".",".",".",".",".",".",".",".",".",".",".",".",".",".",".",".",".",".",".",".",".","0","0","0","0","0",".",".",".",".",".",".",0,".",".",".",".",".",".",".",".",".",".",".",".",".",".",".",".",".",".",".",".","5",".",".",".",".",".",".",".",".","0","0","0",".",".","0",".",".",".",".",".",24,21,3,1071,1,1,8476,"Geen inwoners","Geen inwoners","Geen inwoners","Geen inwoners","Geen inwoners",0,0,0,0,0,0,0,0,0,0,0,0,0,0,0,0,0,0,0,0,0,0,0,0,0]
["BU0363KD02","0363KD02","Cornelis Schuytbuurt","Amsterdam","Buurt","BU0363KD02","Museumkwartier",2,2960,1435,1525,505,380,805,840,440,1680,1065,155,65,"1470","745","745","1465","180","225","565","520","25","8","15","5",1440,635,380,420,2.1,15184,1509,1489,8,92,84,16,55,45,2,43,0,100,0,"2840","2740","3960","3710",".",".","2360","3230","1190","1120","1860","2210",".",".","1040","1300",".","200","170","10","30","140",150,500,1610,70,66,34,2100,".",86.2,28.9,49.1,".",25.9,46.5,6.4,5.8,6.6,7.4,810.1,"10","20","30","390",70,8.7,60,20,"915","0","20","130","50","180","325","115","90","1055","785","270",0.7,"5411","50",0.4,0.4,0.2,0.6,37.3,19,19,0,1071,1,1,7309,50.50675675675676,50.33783783783784,4.72972972972973,17.06081081081081,14.864864864864865,0,0,0,0,0,0,0,0,0,0,0,0,0,0,0,0,0,0,0,0,0,0,0,0,0]
["BU0363KD03","0363KD03","Concertgebouwbuurt","Amsterdam","Buurt","BU0363KD03","Museumkwartier",2,1865,940,925,280,235,535,520,290,1105,590,120,50,"970","405","490","970","90","155","315","340","20","11","10","5",980,515,195,265,1.9,14129,1031,1373,10,90,83,17,54,45,6,39,1,98,2,"2800","2640","4040","4360",".",".","2240","3230","1100","1030","1640","2100",".",".","910","1250",".","100","120","0","30","100",160,270,1040,69,67,33,1400,".",".",31.4,46.4,".",30.5,40,6.5,7,8.1,9.1,687.5,"10","10","10","260",45,9,45,25,"665","0","5","115","35","165","180","80","80","610","445","160",0.6,"4611","30",0.5,0.5,0.2,0.5,41.5,13,13,0,1071,1,1,7858,47.98927613941019,47.98927613941019,5.361930294906166,15.013404825737265,15.549597855227882,0,0,0,0,0,0,0,0,0,0,0,0,0,0,0,0,0,0,0,0,0,0,0,0,0]
["BU0363KD04","0363KD04","P.C. Hooftbuurt","Amsterdam","Buurt","BU0363KD04","Museumkwartier",2,770,390,380,80,75,265,225,130,475,240,40,15,"345","235","190","345","40","60","195","130","10","10","10","8",445,245,125,75,1.7,6940,518,1224,6,94,73,27,32,68,1,67,0,99,1,"2530","2400","4350",".",".",".","2160","3220","1040","980","1800",".",".",".","900","1320",".","30","30","10","10","30",100,170,430,75,65,35,600,".",".",27.2,46,".",31.9,39.6,6.3,7,7.3,8.5,87.9,"0","20","10","110",10,7.8,25,32,"515","0","15","140","20","125","140","35","40","290","210","80",0.7,"2614","25",0.9,0.6,0.4,0.4,39.5,11,11,0,1071,1,1,8562,55.1948051948052,55.1948051948052,3.896103896103896,10.38961038961039,16.883116883116884,0,0,0,0,0,0,0,0,0,0,0,0,0,0,0,0,0,0,0,0,0,0,0,0,0]
["BU0363KD05","0363KD05","Museumplein","Amsterdam","Buurt","BU0363KD05","Museumkwartier",2,10,5,0,0,0,0,0,5,5,5,0,0,"5","5","0","5","0","0","0","0","0","0","0","0",5,0,5,5,1.6,".",5,".",".",".",".",".",".",".",".",".",".",".",".","3030","3030",".",".",".",".",".","3030","2470","2470",".",".",".",".",".","2470",".","0","0","0","0","0",".",".",".",".",".",".",0,".",".",".",".",".",".",".",".",".",".",".",".",".",".",".",".",".",".",".",".","15",".",".",".",".",".",".",".",".","5","5","0",".",".","0",".",".",".",".",".",13,13,0,1071,1,1,8644,50,50,0,0,50,0,0,0,0,0,0,0,0,0,0,0,0,0,0,0,0,0,0,0,0,0,0,0,0,0]
["BU0363KD06","0363KD06","Banpleinbuurt","Amsterdam","Buurt","BU0363KD06","Museumkwartier",2,765,365,400,95,115,130,230,200,370,310,60,30,"470","150","145","475","50","60","100","85","5","4","5","4",375,170,100,110,2,7464,349,1828,30,70,89,11,55,45,2,44,0,99,1,"3100","2690","4140","3730",".",".","2300","3760","1410","1210","1910","1800",".",".","1100","1670",".","40","60","0","10","20",".",".",".",66,58,42,600,".",".",31.4,43.1,".",28.1,46.8,5.8,4.6,5.2,7,1080.3,"0","0","10","190",15,7.3,20,25,"310","0","5","20","15","80","120","45","25","290","215","75",0.8,"2838","10",0.3,0.5,0.3,0.2,40.3,11,10,1,1071,1,1,6934,37.908496732026144,38.56209150326798,2.6143790849673203,12.418300653594772,26.143790849673206,0,0,0,0,0,0,0,0,0,0,0,0,0,0,0,0,0,0,0,0,0,0,0,0,0]
["BU0363KD07","0363KD07","Hondecoeterbuurt","Amsterdam","Buurt","BU0363KD07","Museumkwartier",2,2060,1000,1060,300,225,670,495,365,1265,610,115,80,"1080","460","520","1085","120","170","340","350","20","10","15","7",1115,555,300,255,1.9,16566,1085,1094,1,99,90,10,38,62,6,55,1,98,2,"2390","2380","2830",".",".",".","2010","3000","1010","1000","1420",".",".",".","890","1190",".","130","90","10","30","80",100,240,1220,75,71,29,1600,".",".",27.4,44.3,".",32.7,35.5,4.9,6,7.3,8.4,124.3,"10","20","20","340",30,6,85,40,"575","0","20","50","50","90","215","65","85","630","440","185",0.6,"5048","30",0.4,0.6,0.2,0.3,39.1,13,12,0,1071,1,1,7175,47.33009708737864,47.57281553398058,3.8834951456310676,14.563106796116504,17.718446601941746,0,0,0,0,0,0,0,0,0,0,0,0,0,0,0,0,0,0,0,0,0,0,0,0,0]
["BU0363KD08","0363KD08","Johannes Vermeerbuurt","Amsterdam","Buurt","BU0363KD08","Museumkwartier",2,1495,745,750,190,150,495,400,270,865,500,80,50,"740","395","365","740","80","130","310","235","20","13","10","9",810,410,230,180,1.8,9689,804,1267,3,97,87,13,48,52,3,49,1,89,11,"2690","2640","4290",".",".",".","2340","3050","1090","1060","2100",".",".",".","980","1200",".","80","70","0","20","50",90,250,830,74,69,31,1200,".",".",26.7,47.9,".",28.5,39.3,5.7,5.9,6.6,8.6,321.5,"10","10","20","240",30,9.4,60,41,"545","0","10","50","45","100","180","55","110","460","345","115",0.6,"2964","20",0.4,0.4,0.7,0.9,37.1,16,15,1,1071,1,1,8922,50.50167224080268,50.50167224080268,3.3444816053511706,12.709030100334449,18.06020066889632,0,0,0,0,0,0,0,0,0,0,0,0,0,0,0,0,0,0,0,0,0,0,0,0,0]
["BU0363KD09","0363KD09","Duivelseiland","Amsterdam","Buurt","BU0363KD09","Museumkwartier",2,1380,660,720,125,135,695,300,130,1005,285,75,15,"655","365","360","655","60","125","300","235","15","11","10","7",840,480,235,125,1.6,23617,879,643,0,100,90,10,32,67,11,56,1,100,0,"1750","1750",".",".",".",".","1540","2220","660","660",".",".",".",".","640","730",".","50","30","10","20","70",100,190,920,79,79,21,1100,".",".",27.7,42.5,".",42.1,25.3,8.4,9.7,11.5,13,31.7,"30","40","20","110",20,10.1,45,32,"405","0","20","45","25","30","145","85","55","315","255","60",0.4,"5391","25",0.3,0.3,0.5,0.8,39.5,6,6,0,1071,1,1,9066,52.53623188405797,52.53623188405797,5.072463768115942,9.057971014492754,9.420289855072465,0,0,0,0,0,0,0,0,0,0,0,0,0,0,0,0,0,0,0,0,0,0,0,0,0]
["BU0363KD10","0363KD10","Harmoniehofbuurt","Amsterdam","Buurt","BU0363KD10","Museumkwartier",2,1335,620,715,90,90,205,290,660,555,500,165,120,"960","160","210","955","100","115","60","95","5","2","15","9",865,535,230,100,1.5,13581,883,686,1,99,97,3,0,100,0,100,0,100,0,"1630","1620",".",".","2870",".","1630",".","920","910",".",".","2260",".","920",".",".","50","50","10","10","30",60,200,600,65,68,32,1200,".",".",28.8,26.6,".",45.4,12.4,4.8,5.5,7.9,9.4,71.9,"20","30","10","630",25,15.5,130,99,"280","0","10","40","20","15","85","45","65","465","390","75",0.5,"4731","25",0.3,0.4,0.4,0.6,39.4,11,10,2,1071,1,1,8200,28.46441947565543,28.08988764044944,2.247191011235955,6.741573033707865,49.43820224719101,0,0,0,0,0,0,0,0,0,0,0,0,0,0,0,0,0,0,0,0,0,0,0,0,0]
["BU0363KE01","0363KE01","Frans Halsbuurt","Amsterdam","Buurt","BU0363KE01","Oude Pijp",2,2580,1275,1305,185,325,1230,580,260,1930,450,165,35,"1160","695","725","1160","140","230","560","490","25","10","10","5",1720,1110,390,220,1.5,23369,1719,586,1,99,91,9,28,72,23,49,0,98,2,"1660","1650","3000",".",".",".","1540","1950","650","640","1640",".",".",".","620","720",".","90","60","20","60","160",360,560,1410,77,78,22,2200,".",49.7,32.9,33.4,".",51.1,18.7,10.5,12.1,14.4,16.3,23.2,"60","60","30","220",40,10.4,90,35,"700","0","25","115","85","50","230","65","130","485","395","90",0.3,"4402","65",0.5,0.4,0.7,1.2,35.2,12,11,1,1072,1,1,9960,55.03875968992248,55.03875968992248,6.2015503875969,7.170542635658915,10.077519379844961,0,0,0,0,0,0,0,0,0,0,0,0,0,0,0,0,0,0,0,0,0,0,0,0,0]
["BU0363KE02","0363KE02","Gerard Doubuurt","Amsterdam","Buurt","BU0363KE02","Oude Pijp",2,2035,1050,990,145,240,980,430,240,1495,360,155,30,"865","455","720","865","75","240","380","480","20","10","10","5",1375,895,325,155,1.5,20579,1345,559,0,100,91,9,23,76,36,40,1,97,3,"1660","1660","1970",".",".",".","1580","1930","620","610","790",".",".",".","610","640",".","60","50","20","60","110",230,630,940,72,79,21,1800,".",".",38.2,29.5,".",54.6,14.9,11.2,13.5,18.5,21.5,11.7,"90","80","10","210",30,10.4,110,53,"475","0","15","100","50","35","140","50","85","295","235","60",0.2,"2969","35",0.6,0.2,0.5,0.9,36.9,11,10,1,1073,4,1,10461,57.49385749385749,57.49385749385749,5.405405405405405,7.125307125307126,11.793611793611793,0,0,0,0,0,0,0,0,0,0,0,0,0,0,0,0,0,0,0,0,0,0,0,0,0]
["BU0363KE03","0363KE03","Hercules Seghersbuurt","Amsterdam","Buurt","BU0363KE03","Oude Pijp",2,2535,1245,1295,170,320,1260,505,270,1965,365,175,30,"1090","585","865","1090","125","305","455","555","15","6","10","4",1720,1130,405,185,1.5,31725,1686,496,0,100,92,8,17,83,36,46,0,97,3,"1540","1530","3760",".",".",".","1450","1950","560","560","1370",".",".",".","560","580",".","70","60","30","70","190",550,490,1250,74,83,17,2200,".",".",37.2,27.4,".",55.7,11.8,10.3,12.9,16.1,18.7,9.1,"110","100","30","240",30,8.6,140,55,"575","0","25","110","75","25","155","80","110","405","335","75",0.2,"5094","55",0.7,0.3,0.6,1,35.5,8,8,0,1072,1,1,10280,57.001972386587774,57.001972386587774,7.495069033530571,6.70611439842209,10.650887573964498,0,0,0,0,0,0,0,0,0,0,0,0,0,0,0,0,0,0,0,0,0,0,0,0,0]
["BU0363KE04","0363KE04","Sarphatiparkbuurt","Amsterdam","Buurt","BU0363KE04","Oude Pijp",2,5090,2515,2575,320,770,2495,1005,500,3960,765,305,60,"2370","1235","1490","2370","230","505","1005","980","50","9","15","3",3445,2225,865,350,1.5,22438,3342,528,0,100,92,8,24,76,20,57,0,98,2,"1630","1620","3060",".",".",".","1510","2000","620","620","1190",".",".",".","590","720",".","140","100","30","160","460",700,1110,2860,76,79,21,4400,49.6,44.4,35,29.7,37.7,52.9,14.7,9,10.8,14.2,16.3,11.5,"130","120","60","450",60,7.9,225,44,"1470","0","60","375","145","80","380","165","270","795","650","150",0.2,"3513","95",0.7,0.5,0.4,0.9,34.1,23,23,0,1073,4,1,11206,53.43811394891945,53.43811394891945,9.037328094302556,6.286836935166994,9.823182711198427,0,0,0,0,0,0,0,0,0,0,0,0,0,0,0,0,0,0,0,0,0,0,0,0,0]
["BU0363KE05","0363KE05","Hemonybuurt","Amsterdam","Buurt","BU0363KE05","Oude Pijp",2,2625,1345,1275,260,315,1235,590,225,1955,505,135,25,"1245","640","730","1245","135","265","510","470","20","8","10","3",1650,1000,405,240,1.6,22415,1538,657,1,99,91,9,30,70,20,50,1,99,1,"1840","1820","3540",".",".",".","1580","2430","710","690","1540",".",".",".","650","840",".","110","80","10","70","170",310,430,1560,77,76,24,2200,".",51.3,29.9,37.5,".",46.4,22.2,8.4,9.3,11.2,13.2,22.9,"60","60","20","200",30,6.9,65,25,"675","0","35","110","50","70","220","80","115","540","415","130",0.3,"4633","55",0.7,0.3,0.4,0.5,36.3,14,12,2,1074,1,1,10979,52.57142857142857,52.57142857142857,6.476190476190475,9.904761904761905,8.571428571428571,0,0,0,0,0,0,0,0,0,0,0,0,0,0,0,0,0,0,0,0,0,0,0,0,0]
["BU0363KF01","0363KF01","Cornelis Troostbuurt","Amsterdam","Buurt","BU0363KF01","Nieuwe Pijp",2,3610,1710,1900,305,395,1725,740,445,2655,635,240,75,"1670","880","1060","1675","180","360","700","705","45","12","25","7",2320,1425,600,295,1.5,24632,2199,533,0,100,92,8,30,70,22,48,0,98,2,"1610","1610",".",".",".",".","1510","1840","640","640",".",".",".",".","630","660",".","120","90","20","60","200",280,650,2200,76,81,19,3100,52.6,46.5,32.8,33.7,".",49.6,18.6,10.3,12.2,14.7,17.5,19.8,"90","100","40","370",55,9.9,210,58,"745","0","25","125","85","40","230","130","110","675","540","140",0.3,"4618","70",0.5,0.3,0.2,0.8,35.9,16,15,1,1072,1,1,9684,53.601108033241,53.73961218836565,5.540166204986149,8.448753462603879,12.326869806094184,0,0,0,0,0,0,0,0,0,0,0,0,0,0,0,0,0,0,0,0,0,0,0,0,0]
["BU0363KF02","0363KF02","Lizzy Ansinghbuurt","Amsterdam","Buurt","BU0363KF02","Nieuwe Pijp",2,2385,1170,1220,185,240,1030,560,375,1730,395,190,70,"1035","495","855","1035","120","295","380","555","20","9","35","16",1450,880,340,230,1.6,19289,1421,526,0,100,94,6,24,76,36,40,0,100,0,"1640","1640","1810",".",".",".","1580","1840","660","660","560",".",".",".","660","670",".","80","50","30","50","130",480,440,1120,73,79,21,2000,".",".",36.9,29.8,".",49.6,16.5,10,12.8,16.7,19.6,18,"100","100","30","340",30,8.7,215,89,"570","0","30","95","55","25","175","85","110","410","325","80",0.3,"3297","35",0.3,0.3,0.3,0.6,34.2,13,12,0,1072,1,1,10548,56.60377358490566,56.60377358490566,5.450733752620545,7.756813417190776,15.723270440251572,0,0,0,0,0,0,0,0,0,0,0,0,0,0,0,0,0,0,0,0,0,0,0,0,0]
["BU0363KF03","0363KF03","Van der Helstpleinbuurt","Amsterdam","Buurt","BU0363KF03","Nieuwe Pijp",2,3920,1905,2015,335,395,1985,830,370,2935,675,260,50,"1835","905","1170","1840","185","375","720","800","40","10","15","4",2535,1560,630,350,1.5,28755,2517,540,0,100,92,8,26,74,28,46,0,88,12,"1660","1660","2430",".",".",".","1560","1960","600","600","990",".",".",".","570","680",".","140","110","30","80","200",740,780,1910,78,81,19,3400,54.3,47.9,31.6,34.1,".",48.5,19.2,9.9,11.4,14,15.8,17.6,"130","130","50","320",60,10.7,180,45,"865","0","50","110","80","40","275","160","150","1165","805","360",0.5,"8558","80",0.3,0.4,0.3,0.4,31.2,14,14,0,1073,1,1,11882,53.06122448979592,53.18877551020408,5.1020408163265305,8.545918367346939,9.438775510204081,0,0,0,0,0,0,0,0,0,0,0,0,0,0,0,0,0,0,0,0,0,0,0,0,0]
["BU0363KF04","0363KF04","Willibrordusbuurt","Amsterdam","Buurt","BU0363KF04","Nieuwe Pijp",2,2650,1225,1425,185,345,1120,565,440,1850,470,240,95,"1245","520","885","1250","100","310","415","580","25","9","25","9",1815,1210,395,205,1.5,24764,1823,506,1,99,91,9,23,76,35,41,1,90,10,"1620","1620","2550",".",".",".","1500","2030","630","630","930",".",".",".","610","680",".","80","60","20","80","180",280,840,1140,72,80,20,2300,".",44.6,40.9,27.2,".",58.6,15,11.2,15.5,20.5,24.6,10.1,"130","110","30","400",30,7.3,275,103,"565","0","25","85","55","40","170","85","105","505","405","100",0.3,"4725","55",0.5,0.3,0.3,0.6,34.2,12,11,2,1074,1,1,11609,52.83018867924528,53.0188679245283,6.7924528301886795,6.981132075471698,16.60377358490566,0,0,0,0,0,0,0,0,0,0,0,0,0,0,0,0,0,0,0,0,0,0,0,0,0]
["BU0363KG01","0363KG01","BurgemeesterTellegenbuurt-West","Amsterdam","Buurt","BU0363KG01","Zuid Pijp",2,2155,1005,1150,240,205,720,560,430,1395,420,275,60,"970","300","885","965","90","350","210","535","15","6","10","6",1315,795,250,265,1.6,22036,1317,500,0,100,96,4,13,87,78,10,0,100,0,"1510","1510",".",".",".",".","1470","1780","710","710",".",".",".",".","700","720",".","130","60","30","50","50",390,590,800,64,80,20,1900,".",".",46.5,18.4,".",61.7,9.9,12.4,18.1,25.5,30.2,6.6,"150","120","30","380",55,13.9,240,111,"350","0","25","35","45","10","115","55","75","410","345","65",0.3,"4192","40",0.4,0.5,0.5,0.7,30.6,10,10,0,1073,1,1,11158,55.22041763341067,54.988399071925755,2.320185614849188,11.1368909512761,19.953596287703014,0,0,0,0,0,0,0,0,0,0,0,0,0,0,0,0,0,0,0,0,0,0,0,0,0]
["BU0363KG02","0363KG02","Burgemeester Tellegenbuurt-Oost","Amsterdam","Buurt","BU0363KG02","Zuid Pijp",2,2700,1260,1435,255,300,955,730,460,1795,535,300,70,"1215","365","1115","1215","105","425","265","695","20","6","25","10",1620,920,385,325,1.6,23019,1625,485,0,100,95,5,14,86,65,21,0,95,5,"1540","1540",".",".",".",".","1510","1790","680","680",".",".",".",".","680","680",".","120","100","40","60","100",450,620,1240,65,80,20,2300,".",34,45,20.9,".",58.1,10.9,13.7,18.2,23.5,27.7,8.8,"190","160","40","410",65,14.4,290,107,"445","0","25","70","45","10","125","75","95","540","445","95",0.3,"4621","50",0.6,0.4,0.2,0.8,29.2,12,12,0,1073,1,1,11191,55.00000000000001,55.00000000000001,3.7037037037037033,9.444444444444445,17.037037037037038,0,0,0,0,0,0,0,0,0,0,0,0,0,0,0,0,0,0,0,0,0,0,0,0,0]
["BU0363KG03","0363KG03","Diamantbuurt","Amsterdam","Buurt","BU0363KG03","Zuid Pijp",2,3065,1485,1580,350,365,1030,790,525,2045,645,300,80,"1230","420","1415","1230","135","545","285","870","30","10","25","8",1790,1045,345,400,1.7,22230,1684,520,4,96,96,4,16,84,65,19,0,100,0,"1530","1500","2230","1930",".",".","1470","1860","740","730","850","800",".",".","730","770",".","190","130","50","70","110",620,800,1050,63,79,21,2600,36.9,31.1,49,17.8,".",61.3,11.2,15.4,19.9,27.1,31.2,5.7,"230","160","30","450",80,12.9,310,101,"550","0","40","70","75","25","150","105","85","605","490","115",0.3,"4375","65",0.7,0.6,0.2,0.9,31.2,17,14,3,1074,1,1,10257,59.8694942903752,59.8694942903752,3.588907014681892,11.419249592169658,17.128874388254488,0,0,0,0,0,0,0,0,0,0,0,0,0,0,0,0,0,0,0,0,0,0,0,0,0]
["BU0363KH01","0363KH01","Bertelmanpleinbuurt","Amsterdam","Buurt","BU0363KH01","Stadionbuurt",2,1030,485,550,90,105,340,275,225,660,185,155,30,"480","135","420","480","45","175","90","245","5","6","10","10",655,415,125,115,1.6,19011,649,510,0,100,97,3,5,94,91,4,0,100,0,"1400","1390",".",".",".",".","1380","1730","680","680",".",".",".",".","670","740",".","60","50","30","20","20",180,260,420,63,82,18,900,".",".",45.4,16.9,".",60.8,7.2,11.3,16.6,22.7,26.8,6.1,"70","80","20","200",20,11.6,100,96,"150","0","10","15","15","0","55","30","25","260","225","35",0.4,"4785","20",0.6,0.2,0.2,0.3,31.2,6,5,1,1075,1,1,7438,53.398058252427184,53.398058252427184,1.9417475728155338,8.737864077669903,21.844660194174757,0,0,0,0,0,0,0,0,0,0,0,0,0,0,0,0,0,0,0,0,0,0,0,0,0]
["BU0363KH02","0363KH02","Olympisch Stadion e.o.","Amsterdam","Buurt","BU0363KH02","Stadionbuurt",2,2365,1115,1255,440,180,860,530,365,1395,705,180,85,"945","605","820","945","115","280","490","540","30","14","15","5",1190,515,285,390,2,11308,1200,729,0,100,94,6,9,91,26,65,0,11,89,"2040","2040",".",".",".",".","2030","2190","90","90",".",".",".",".","70","310","87,9","200","110","20","20","50",190,570,960,73,78,22,1800,".",".",29.9,44.1,".",35,32.5,7.3,8.7,12.4,14.3,36.1,"40","60","30","330",70,12.2,205,88,"590","0","20","75","60","65","230","80","60","585","425","155",0.5,"2785","45",1,0.4,0.1,0.8,22.1,23,21,2,1076,1,1,5281,60.04228329809725,60.04228329809725,2.1141649048625792,18.6046511627907,15.433403805496829,0,0,0,0,0,0,0,0,0,0,0,0,0,0,0,0,0,0,0,0,0,0,0,0,0]
["BU0363KH03","0363KH03","Marathonbuurt-West","Amsterdam","Buurt","BU0363KH03","Stadionbuurt",2,2370,1105,1260,235,225,825,655,430,1570,420,315,65,"1005","335","1030","1010","110","415","220","610","30","12","15","6",1525,995,245,285,1.6,20068,1524,434,0,100,97,3,15,85,76,9,0,100,0,"1390","1390",".",".",".",".","1390","1400","650","640",".",".",".",".","660","540",".","110","100","40","40","60",450,810,720,61,81,19,2100,".",".",47.9,18.1,".",63.2,8.7,14.2,19.8,28.1,32.6,6.2,"180","190","30","380",50,12.3,295,124,"365","0","15","50","35","25","75","95","70","545","460","85",0.4,"4632","45",0.4,0.2,0.3,0.3,30.1,12,12,0,1076,1,1,5365,57.383966244725734,57.59493670886076,2.5316455696202533,9.915611814345992,18.143459915611814,0,0,0,0,0,0,0,0,0,0,0,0,0,0,0,0,0,0,0,0,0,0,0,0,0]
["BU0363KH04","0363KH04","Marathonbuurt-Oost","Amsterdam","Buurt","BU0363KH04","Stadionbuurt",2,1460,680,780,155,155,435,420,295,940,285,185,40,"750","195","510","750","60","215","135","295","15","8","10","6",890,530,165,195,1.6,9768,876,559,1,99,97,3,12,88,78,10,0,100,0,"1530","1510","4260",".",".",".","1520","1590","950","940","2030",".",".",".","990","660",".","90","70","30","30","40",390,310,500,65,80,20,1200,".",".",43.2,23.5,".",56.1,12.2,10.8,16.3,21.1,24.6,11.3,"100","80","20","260",40,14.8,160,111,"290","0","10","35","30","10","55","100","45","380","325","55",0.4,"2546","30",0.4,0.3,0.2,0.3,30.6,16,15,1,1076,1,1,6924,48.63013698630137,48.63013698630137,2.73972602739726,10.616438356164384,20.205479452054796,0,0,0,0,0,0,0,0,0,0,0,0,0,0,0,0,0,0,0,0,0,0,0,0,0]
["BU0363KH05","0363KH05","Van Tuyllbuurt","Amsterdam","Buurt","BU0363KH05","Stadionbuurt",2,4155,1945,2210,515,415,1885,830,510,2845,925,285,95,"2255","840","1055","2255","220","400","625","650","45","11","15","4",2405,1220,700,480,1.7,20827,2334,593,1,99,95,5,26,73,17,57,0,100,0,"1800","1790","3190","3410",".",".","1680","2150","780","780","1600","1730",".",".","750","880",".","230","140","20","80","180",380,740,2360,78,80,20,3500,60.2,50.8,27.2,38.7,".",41.2,24.7,5.6,7.9,10.3,11.6,30.5,"70","90","40","450",100,12.9,195,47,"815","0","35","105","85","55","270","145","125","1110","925","185",0.5,"5554","70",0.6,0.2,0.3,0.3,27.6,21,20,1,1076,1,1,4706,45.7280385078219,45.7280385078219,4.332129963898916,12.394705174488568,12.274368231046932,0,0,0,0,0,0,0,0,0,0,0,0,0,0,0,0,0,0,0,0,0,0,0,0,0]
["BU0363KH06","0363KH06","IJsbaanpad e.o.","Amsterdam","Buurt","BU0363KH06","Stadionbuurt",2,385,195,190,70,55,60,145,60,220,125,30,5,"290","50","40","295","30","20","25","25","5","5","5","3",160,50,40,75,2.3,1697,3,".",".",".",".",".",".",".",".",".",".",".",".",".",".",".",".",".",".",".",".",".",".",".",".",".",".",".",".",".","30","50","0","10","10",".",".",".",78,72,28,300,".",".",31.8,38.1,".",23.8,46.3,3.3,3.9,4.6,4.6,391.6,"0","10","0","50",10,9.4,10,21,"230","0","25","15","15","30","60","55","25","145","95","50",0.9,"645","20",1.5,1.2,0.6,1,13.2,30,23,7,1076,1,2,2113,23.376623376623375,24.675324675324674,2.5974025974025974,18.181818181818183,15.584415584415584,0,0,0,0,0,0,0,0,0,0,0,0,0,0,0,0,0,0,0,0,0,0,0,0,0]
["BU0363KJ01","0363KJ01","Hiltonbuurt","Amsterdam","Buurt","BU0363KJ01","Apollobuurt",2,75,40,40,15,15,5,35,10,40,35,10,0,"50","15","15","50","5","5","5","10","0","0","0","0",30,5,5,15,2.6,806,32,".",88,13,81,19,56,44,0,44,0,97,3,"4380",".",".",".","4860","4320","3960","4670","2110",".",".",".","2130","2300","1840","2310",".","0","10","0","0","0",".",".",".",".",".",".",0,".",".",".",".",".",".",".",".",".",".",".",".","0","0","0","10",".",".",".",".","110","0","5","5","0","45","40","10","5","70","45","25",".",".","5",0.9,0.7,0.5,0.7,31.8,11,10,2,1077,1,1,6096,33.33333333333333,33.33333333333333,0,20,13.333333333333334,0,0,0,0,0,0,0,0,0,0,0,0,0,0,0,0,0,0,0,0,0,0,0,0,0]
["BU0363KJ02","0363KJ02","Minervabuurt-Noord","Amsterdam","Buurt","BU0363KJ02","Apollobuurt",2,1450,710,745,290,170,305,435,255,755,565,95,35,"750","350","350","750","100","130","250","220","10","8","10","8",630,220,145,255,2.3,10075,620,1343,8,92,91,9,61,39,0,39,0,100,0,"3280","3220","3740",".",".",".","2770","3600","1460","1430","1700",".",".",".","1360","1520",".","120","120","10","30","30",100,140,820,67,66,34,1000,".",".",27.7,50.4,".",22.1,53.5,6.5,5.8,6.7,7.2,1023.1,"0","10","10","210",20,5,40,29,"510","0","25","45","25","155","185","50","25","520","365","150",0.8,"3594","20",0.6,0.6,0.3,0.5,34.9,14,14,0,1077,1,1,6049,48.275862068965516,48.275862068965516,2.0689655172413794,20,17.586206896551722,0,0,0,0,0,0,0,0,0,0,0,0,0,0,0,0,0,0,0,0,0,0,0,0,0]
["BU0363KJ03","0363KJ03","Minervabuurt-Midden","Amsterdam","Buurt","BU0363KJ03","Apollobuurt",2,2510,1180,1330,470,290,650,650,450,1325,905,175,105,"1185","695","630","1185","185","230","510","400","20","10","10","5",1140,450,275,415,2.2,16677,1118,1185,7,93,92,8,57,43,0,43,0,100,0,"2920","2810","4320",".",".",".","2570","3180","1320","1280","1940",".",".",".","1170","1430",".","180","180","10","30","80",130,350,1330,70,70,30,1800,".",".",29.1,50.6,".",24,49.5,6.6,5.7,6.4,7,717.1,"10","20","20","400",60,8.3,75,29,"555","0","15","55","40","100","210","70","60","860","645","215",0.8,"5712","20",0.5,0.6,0.3,0.5,33.5,15,15,0,1077,1,1,5821,52.788844621513945,52.788844621513945,3.187250996015936,18.725099601593627,17.928286852589643,0,0,0,0,0,0,0,0,0,0,0,0,0,0,0,0,0,0,0,0,0,0,0,0,0]
["BU0363KJ04","0363KJ04","Minervabuurt-Zuid","Amsterdam","Buurt","BU0363KJ04","Apollobuurt",2,2620,1250,1370,450,250,785,655,485,1460,880,185,100,"1305","645","670","1305","160","240","480","435","30","13","10","4",1320,595,325,400,2,16984,1265,984,4,96,93,7,47,53,0,53,0,100,0,"2690","2640","3920","3900",".",".","2530","2880","1120","1090","1700","2020",".",".","1070","1180","15,4","190","150","10","20","80",490,490,950,74,71,29,2000,".",62.7,26.6,47.8,".",28.8,40.2,6.6,6.5,7.2,8.1,340.7,"10","20","20","440",65,10.4,85,33,"615","0","20","50","40","95","255","90","65","950","750","200",0.7,"6147","30",0.3,0.5,0.6,0.7,33.2,16,15,1,1077,1,1,5239,50.19083969465649,50.19083969465649,3.0534351145038165,17.17557251908397,18.51145038167939,0,0,0,0,0,0,0,0,0,0,0,0,0,0,0,0,0,0,0,0,0,0,0,0,0]
["BU0363KJ05","0363KJ05","Beethovenbuurt","Amsterdam","Buurt","BU0363KJ05","Apollobuurt",2,1365,635,735,235,195,325,370,230,735,485,105,40,"700","345","320","700","70","105","270","215","5","5","15","9",650,290,145,220,2.1,9362,568,1504,32,68,92,8,50,50,11,39,0,100,0,"3110","2550","4310","3980","4210",".","2410","3830","1300","1000","1870","2020","2030",".","1000","1600",".","90","100","0","20","40",80,170,660,68,65,35,1000,".",".",34.2,43.3,".",34.9,42.6,10.5,11.2,12.6,14.1,205,"0","10","10","210",20,5.4,75,54,"385","0","15","60","20","85","115","60","35","460","320","145",0.7,"3166","15",0.4,0.3,0.4,0.4,35.7,15,15,1,1077,1,1,6424,48.717948717948715,48.717948717948715,2.93040293040293,17.216117216117215,16.84981684981685,0,0,0,0,0,0,0,0,0,0,0,0,0,0,0,0,0,0,0,0,0,0,0,0,0]
["BU0363KJ06","0363KJ06","Diepenbrockbuurt","Amsterdam","Buurt","BU0363KJ06","Apollobuurt",2,800,380,410,170,120,135,240,135,420,320,30,25,"455","185","155","455","65","80","120","75","0","4","5","5",315,105,75,135,2.5,4136,329,2250,62,38,88,12,68,32,0,32,0,99,1,"3990","2420","4630","4990","5390","4820","2650","4590","1740","1170","1890","2170","2240","2170","1270","1950",".","70","70","0","10","30",60,110,380,68,55,45,600,".",".",34.1,47,".",21.1,55.8,9.6,7.8,8.5,9.9,3044.3,"0","10","10","130",25,9.5,20,28,"260","0","5","15","10","60","90","50","35","395","280","115",1.3,"2052","5",0.3,0.4,0.4,0.7,34.5,22,19,3,1077,1,1,5530,43.125,43.125,3.75,21.25,16.875,0,0,0,0,0,0,0,0,0,0,0,0,0,0,0,0,0,0,0,0,0,0,0,0,0]
["BU0363KK01","0363KK01","Wielingenbuurt","Amsterdam","Buurt","BU0363KK01","Scheldebuurt",2,2900,1345,1555,370,310,1155,620,445,1930,715,190,70,"1750","580","570","1750","185","260","390","310","40","12","15","4",1560,695,500,365,1.9,20762,1483,773,3,97,94,6,32,68,12,56,0,100,0,"2180","2130","3350","5040","3630",".","1970","2630","910","880","1810","2190","2160",".","820","1090",".","160","140","10","70","110",160,490,1750,79,76,24,2400,".",54.7,27.5,42.1,".",34.6,32,5,6,8,9.4,64.5,"30","40","40","400",55,9.8,110,39,"650","0","20","85","65","50","235","105","90","760","605","155",0.5,"5456","50",0.3,0.4,0.5,0.7,32.7,15,14,1,1078,1,1,7655,39.6551724137931,39.6551724137931,3.793103448275862,12.758620689655173,15.344827586206897,0,0,0,0,0,0,0,0,0,0,0,0,0,0,0,0,0,0,0,0,0,0,0,0,0]
["BU0363KK02","0363KK02","Scheldebuurt-West","Amsterdam","Buurt","BU0363KK02","Scheldebuurt",2,4305,1995,2305,555,505,1740,865,640,2900,955,320,130,"2505","815","980","2505","250","430","570","550","55","13","25","6",2410,1220,655,535,1.8,17107,2285,679,0,100,93,7,29,71,18,53,0,100,0,"2020","2020","3110",".",".",".","1870","2390","850","850","1790",".",".",".","810","950",".","250","170","30","110","210",330,950,2250,78,78,22,3600,57.7,48.8,29.7,37.1,".",40.9,27.3,5.3,7.2,9.5,11.4,38.5,"50","80","50","570",80,8.6,225,52,"870","0","30","145","75","50","260","165","150","1025","800","225",0.4,"4076","100",0.4,0.3,0.3,0.4,31.2,26,25,0,1078,3,1,7292,41.81184668989547,41.81184668989547,4.878048780487805,12.89198606271777,14.866434378629501,0,0,0,0,0,0,0,0,0,0,0,0,0,0,0,0,0,0,0,0,0,0,0,0,0]
["BU0363KK03","0363KK03","Scheldebuurt-Midden","Amsterdam","Buurt","BU0363KK03","Scheldebuurt",2,3150,1425,1725,430,335,1345,595,450,2120,750,200,80,"1880","605","675","1880","170","280","430","390","50","16","15","4",1695,800,500,395,1.9,19686,1574,712,0,100,94,6,36,64,10,54,0,100,0,"2090","2090",".",".",".",".","1880","2460","870","870",".",".",".",".","840","930",".","190","130","20","50","150",340,420,1760,79,81,19,2600,64.3,54.2,27.2,40.6,".",38.5,31.3,4.3,5.7,7.9,9.5,56.1,"30","60","30","390",60,9.1,150,48,"595","0","15","80","50","40","190","115","100","805","645","160",0.5,"5018","95",0.3,0.4,0.2,0.5,31.6,16,16,0,1078,3,1,8591,40.317460317460316,40.317460317460316,4.761904761904762,13.65079365079365,14.285714285714285,0,0,0,0,0,0,0,0,0,0,0,0,0,0,0,0,0,0,0,0,0,0,0,0,0]
["BU0363KK04","0363KK04","Scheldebuurt-Oost","Amsterdam","Buurt","BU0363KK04","Scheldebuurt",2,2390,1085,1305,295,305,1055,455,285,1710,485,160,40,"1395","465","525","1395","150","230","320","290","35","13","10","4",1335,655,390,290,1.8,17024,1194,648,0,100,93,7,33,67,13,53,0,100,0,"2020","2020",".",".",".",".","1880","2300","850","850",".",".",".",".","810","920",".","130","100","20","60","120",120,400,1470,80,80,20,2000,".",".",27.6,38,".",38.6,25.6,4.9,6,7.6,9.4,34.8,"30","50","20","260",50,10.3,85,35,"485","0","15","60","45","45","155","95","65","555","455","100",0.4,"3948","40",0.2,0.4,0.2,0.3,29.9,14,14,0,1079,3,1,8226,41.63179916317992,41.63179916317992,5.02092050209205,12.343096234309623,11.92468619246862,0,0,0,0,0,0,0,0,0,0,0,0,0,0,0,0,0,0,0,0,0,0,0,0,0]
["BU0363KK05","0363KK05","Veluwebuurt","Amsterdam","Buurt","BU0363KK05","Scheldebuurt",2,1510,730,775,185,75,520,355,370,945,270,185,105,"935","180","390","935","90","185","95","210","10","9","60","40",885,580,145,160,1.6,11523,928,504,9,91,93,7,9,91,38,53,0,85,15,"2170","2110","2620","3280",".",".","2110","2710","630","570","1200","1520",".",".","570","1230","8,8","80","60","10","20","30",210,200,620,70,78,22,1200,".",".",35.5,28.9,".",55.5,15.5,10.2,14.1,18.1,22.1,14.3,"30","70","30","350",35,14.6,235,154,"255","0","5","25","25","5","90","55","45","415","350","65",0.5,"3163","25",0.8,0.8,0.3,0.7,18.2,13,13,0,1079,1,1,5172,38.079470198675494,38.079470198675494,1.9867549668874174,12.251655629139073,24.503311258278146,0,0,0,0,0,0,0,0,0,0,0,0,0,0,0,0,0,0,0,0,0,0,0,0,0]
["BU0363KK06","0363KK06","Kop Zuidas","Amsterdam","Buurt","BU0363KK06","Scheldebuurt",2,745,365,380,100,30,435,90,85,470,205,40,30,"320","190","235","320","35","95","155","135","15","21","15","21",370,155,140,75,1.9,4492,426,638,0,100,92,8,25,75,4,70,0,0,100,"2090","2030",".",".",".","4960","1660","3250","440","390",".",".",".","2970","420","480",".","40","20","10","20","30",".",".",".",81,85,15,600,".",".",10.9,63.8,".",16.5,42.3,2.8,3,3,3.3,51.3,"50","10","10","80",15,13.2,30,43,"135","0","5","15","20","15","40","25","15","170","130","40",0.5,"1025","10",0.9,0.6,0.5,1,18.1,17,17,0,1079,1,1,3888,57.04697986577181,57.04697986577181,4.026845637583892,13.422818791946309,11.409395973154362,0,0,0,0,0,0,0,0,0,0,0,0,0,0,0,0,0,0,0,0,0,0,0,0,0]
["BU0363KL01","0363KL01","IJselbuurt-West","Amsterdam","Buurt","BU0363KL01","IJselbuurt",2,2340,1135,1205,195,240,1010,535,360,1670,405,220,50,"1285","385","675","1285","130","275","250","395","20","9","20","9",1535,960,365,210,1.5,18949,1476,502,0,100,94,6,16,84,42,42,0,100,0,"1590","1590",".",".",".",".","1540","1870","670","670",".",".",".",".","660","720",".","80","60","10","60","120",360,650,1020,72,81,19,2100,".",".",40.2,26.5,".",56.8,13.1,10.9,15,19.7,23.2,8.8,"120","90","20","320",35,10.8,180,77,"465","0","30","70","40","25","135","70","100","565","490","75",0.4,"4561","35",0.5,0.6,0.2,0.7,31.6,13,12,1,1078,1,1,9983,45.085470085470085,45.085470085470085,5.128205128205128,8.333333333333332,15.384615384615385,0,0,0,0,0,0,0,0,0,0,0,0,0,0,0,0,0,0,0,0,0,0,0,0,0]
["BU0363KL02","0363KL02","IJselbuurt-Oost","Amsterdam","Buurt","BU0363KL02","IJselbuurt",2,2885,1365,1520,310,385,1250,565,380,2045,535,240,70,"1535","450","900","1535","120","405","330","500","30","10","20","7",1720,940,455,325,1.7,21760,1548,533,0,100,95,5,17,83,44,39,0,89,11,"1730","1730",".",".",".",".","1670","2070","730","730",".",".",".",".","710","790",".","140","90","40","80","160",460,620,1360,75,82,18,2500,".",39.3,35,26.7,".",52,16,8,10.6,14.6,17.1,9,"110","80","30","320",55,10.6,170,59,"525","0","35","70","60","20","160","90","90","610","500","110",0.4,"4614","70",0.5,0.5,0.6,0.7,28.9,16,13,3,1078,1,1,9349,46.79376083188908,46.79376083188908,5.545927209705372,10.74523396880416,13.171577123050259,0,0,0,0,0,0,0,0,0,0,0,0,0,0,0,0,0,0,0,0,0,0,0,0,0]
["BU0363KM01","0363KM01","Kromme Mijdrechtbuurt","Amsterdam","Buurt","BU0363KM01","Rijnbuurt",2,2410,1135,1280,190,270,1025,555,370,1730,370,245,65,"1300","395","720","1300","110","295","280","425","15","8","20","7",1595,1015,350,230,1.5,14441,1473,497,0,100,94,6,17,83,48,35,0,97,3,"1550","1550",".",".",".",".","1490","1870","670","670",".",".",".",".","660","710",".","80","50","20","60","120",300,520,1210,71,83,17,2100,".",".",38.1,24.9,".",57.6,12.8,11.4,13.9,18.3,21.6,8.3,"130","110","30","310",30,7.9,195,81,"490","0","25","75","50","20","165","90","60","505","405","100",0.3,"3033","50",0.2,0.3,0.3,0.4,27.1,18,17,2,1079,1,1,7623,46.058091286307054,46.058091286307054,4.979253112033195,7.883817427385892,15.352697095435685,0,0,0,0,0,0,0,0,0,0,0,0,0,0,0,0,0,0,0,0,0,0,0,0,0]
["BU0363KM02","0363KM02","Rijnbuurt-West","Amsterdam","Buurt","BU0363KM02","Rijnbuurt",2,1660,805,860,195,140,495,470,365,1070,290,250,60,"740","220","700","740","75","285","145","420","15","7","15","9",1065,715,150,205,1.6,20931,1073,462,0,100,97,3,11,89,83,6,0,96,4,"1340","1340",".",".",".",".","1310","1630","640","640",".",".",".",".","660","480",".","110","70","30","30","30",370,380,540,57,82,18,1400,".",".",51.1,15.1,".",69.4,6.6,16.2,22.2,29.6,35.7,4.9,"170","110","20","330",60,18.7,240,145,"200","0","15","20","20","5","55","50","30","350","300","50",0.3,"4383","30",0.3,0.5,0.3,0.3,22.2,8,8,0,1079,1,1,5272,55.42168674698795,55.42168674698795,1.8072289156626504,11.74698795180723,21.987951807228914,0,0,0,0,0,0,0,0,0,0,0,0,0,0,0,0,0,0,0,0,0,0,0,0,0]
["BU0363KM03","0363KM03","Rijnbuurt-Midden","Amsterdam","Buurt","BU0363KM03","Rijnbuurt",2,2190,1015,1170,225,225,1060,395,285,1620,365,145,55,"1360","340","490","1360","110","220","230","270","30","14","10","4",1305,680,420,215,1.7,8443,1252,540,2,98,94,6,21,79,13,66,0,100,0,"1720","1680",".",".","4430","4330","1600","2140","740","720",".",".","1950","1840","710","850",".","110","70","20","50","110",150,340,1350,79,81,19,1900,".",".",30.1,34.1,".",45.5,20.2,7.3,8.9,11.8,14.3,18.3,"50","40","20","260",30,8.5,120,55,"460","0","20","70","45","35","145","55","95","570","470","100",0.4,"2194","65",0.5,0.5,0.2,0.4,21.1,29,26,3,1079,1,1,5347,37.89954337899543,37.89954337899543,5.0228310502283104,10.273972602739725,13.013698630136986,0,0,0,0,0,0,0,0,0,0,0,0,0,0,0,0,0,0,0,0,0,0,0,0,0]
["BU0363KM04","0363KM04","Rijnbuurt-Oost","Amsterdam","Buurt","BU0363KM04","Rijnbuurt",2,2685,1225,1455,245,370,1200,540,320,1965,445,210,65,"1660","435","590","1660","125","255","310","335","45","16","20","8",1645,910,475,255,1.6,14025,1524,525,0,100,94,6,30,70,18,52,0,99,1,"1720","1720",".",".",".",".","1610","1970","710","710",".",".",".",".","700","740",".","100","60","20","90","170",180,530,1620,80,83,17,2400,".",47.3,30.4,33.6,".",45.3,21.2,6,7.9,11.1,13.5,23.2,"50","70","30","280",35,7.4,140,52,"465","0","15","60","45","30","160","85","75","655","550","105",0.4,"3434","65",0.4,0.4,0.3,0.6,21.5,23,19,4,1079,1,1,5774,38.17504655493482,38.17504655493482,6.33147113594041,9.124767225325884,11.91806331471136,0,0,0,0,0,0,0,0,0,0,0,0,0,0,0,0,0,0,0,0,0,0,0,0,0]
["BU0363KM05","0363KM05","Zorgvlied","Amsterdam","Buurt","BU0363KM05","Rijnbuurt",2,45,25,20,5,5,10,15,10,25,10,5,0,"35","5","5","35","5","0","5","5","0","0","0","0",25,15,5,5,1.8,167,15,".",".",".",".",".",".",".",".",".",".",".",".","5000",".",".",".",".","5240",".","5430","3540",".",".",".",".","4010",".","3530",".","10","0","0","0","10",".",".",".",".",".",".",0,".",".",".",".",".",".",".",".",".",".",".",".",".",".",".",".",".",".",".",".","10",".",".",".",".",".",".",".",".","25","15","10",".",".","5",1.5,1.7,1,1.4,8,32,27,5,1079,1,1,2858,22.22222222222222,22.22222222222222,22.22222222222222,11.11111111111111,22.22222222222222,0,0,0,0,0,0,0,0,0,0,0,0,0,0,0,0,0,0,0,0,0,0,0,0,0]
["BU0363KN01","0363KN01","Prinses Irenebuurt","Amsterdam","Buurt","BU0363KN01","Prinses Irenebuurt e.o.",2,1400,665,730,240,155,340,350,315,740,525,75,55,"690","340","370","695","105","120","230","255","10","5","10","9",675,290,185,195,2.1,5730,696,1082,33,67,90,10,75,25,0,25,1,99,1,"2890","2390","3520","4060","4240","5550","2610","3000","1160","880","1450","1780","2170","2780","890","1250","12,1","110","100","0","10","40",140,140,700,70,69,31,1100,".",".",26.4,48,".",20.4,43.5,3.2,3.2,3.8,4.5,861.9,"0","10","10","280",40,10.9,45,33,"315","0","15","25","15","60","125","45","30","585","410","175",0.9,"2397","20",0.6,0.7,0.4,0.8,29.1,27,24,2,1077,3,1,4570,50.357142857142854,50.71428571428571,2.857142857142857,17.142857142857142,22.5,0,0,0,0,0,0,0,0,0,0,0,0,0,0,0,0,0,0,0,0,0,0,0,0,0]
["BU0363KN02","0363KN02","Beatrixpark","Amsterdam","Buurt","BU0363KN02","Prinses Irenebuurt e.o.",2,0,0,0,0,0,0,0,0,0,0,0,0,"0","0","0","0","0","0","0","0","0","0","0","0",0,0,0,0,".",".",0,".",".",".",".",".",".",".",".",".",".",".",".",".",".",".",".",".",".",".",".",".",".",".",".",".",".",".",".",".","0","0","0","0","0",".",".",".",".",".",".",0,".",".",".",".",".",".",".",".",".",".",".",".",".",".",".",".",".",".",".",".","0",".",".",".",".",".",".",".",".","0","0","0",".",".","0",".",".",".",".",".",17,14,3,1077,6,1,5904,"Geen inwoners","Geen inwoners","Geen inwoners","Geen inwoners","Geen inwoners",0,0,0,0,0,0,0,0,0,0,0,0,0,0,0,0,0,0,0,0,0,0,0,0,0]
["BU0363KP01","0363KP01","Zuidas-Noord","Amsterdam","Buurt","BU0363KP01","Zuidas",2,545,290,250,65,35,360,60,25,375,155,15,0,"175","130","240","175","20","25","110","210","10","22","0","0",355,220,85,45,1.5,685,177,844,1,99,95,5,29,71,0,71,0,1,99,"2050","2030",".",".",".",".","1930","2340",".","0",".",".",".",".",".","0","98,9","20","10","0","0","10",".",".",".",69,91,9,400,".",".",17.2,51.5,".",36,34.9,1.3,1.3,2.1,2.1,9.8,"0","0","10","20",10,13.3,".",".","1065","0","40","95","110","430","310","50","30","205","135","70",0.6,"257","10",0.9,0.9,0.1,0.5,22.3,83,79,3,1077,3,1,3869,67.88990825688074,67.88990825688074,1.834862385321101,11.926605504587156,4.587155963302752,0,0,0,0,0,0,0,0,0,0,0,0,0,0,0,0,0,0,0,0,0,0,0,0,0]
["BU0363KP02","0363KP02","RAI","Amsterdam","Buurt","BU0363KP02","Zuidas",2,0,0,5,0,0,0,0,0,5,0,0,0,"0","0","0","0","0","0","0","0","0","0","0","0",0,0,0,0,1,".",0,".",".",".",".",".",".",".",".",".",".",".",".","1670","1670",".",".",".",".","1670",".","770","770",".",".",".",".","770",".",".","0","0","0","0","0",".",".",".",".",".",".",0,".",".",".",".",".",".",".",".",".",".",".",".",".",".",".",".",".",".",".",".","20",".",".",".",".",".",".",".",".","10","5","10",".",".","0",".",".",".",".",".",37,36,1,1078,2,1,5124,"Geen inwoners","Geen inwoners","Geen inwoners","Geen inwoners","Geen inwoners",0,0,0,0,0,0,0,0,0,0,0,0,0,0,0,0,0,0,0,0,0,0,0,0,0]
["BU0363KP03","0363KP03","VU-kwartier","Amsterdam","Buurt","BU0363KP03","Zuidas",2,180,100,75,35,10,100,25,10,135,40,0,0,"30","55","90","35","0","15","50","80","5","6","0","0",125,100,10,10,1.4,389,37,604,16,84,95,5,49,51,5,46,0,100,0,"3430",".","3510",".",".",".",".","3820","1960",".","2000",".",".",".",".","1930",".","10","0","0","0","0",".",".",".",67,".",".",100,".",".",21.2,45.8,".",49,15.4,".",".",".",".",2.7,"0","0","0","10",".",".",".",".","220","0","10","20","15","25","95","25","25","35","20","15",0.3,"73","0",0.5,0.7,0.7,1.2,18.6,46,46,0,1081,2,1,2808,80.55555555555556,83.33333333333334,0,19.444444444444446,5.555555555555555,0,0,0,0,0,0,0,0,0,0,0,0,0,0,0,0,0,0,0,0,0,0,0,0,0]
["BU0363KP04","0363KP04","Zuidas-Zuid","Amsterdam","Buurt","BU0363KP04","Zuidas",2,2725,1460,1265,340,180,1615,460,125,1765,815,125,25,"765","695","1265","765","110","300","585","965","30","12","5","1",1610,850,465,290,1.7,12572,1581,779,0,100,85,15,24,75,11,64,1,0,100,"2410","2400","5100",".",".",".","2300","2760","0","0",".",".",".",".","0","0","77,0","140","60","10","20","60",290,340,1640,78,84,16,2100,".",76.3,16,57.7,".",27.3,36,4.5,4.2,4.7,4.9,27.5,"10","20","30","110",30,6.3,25,9,"1025","0","40","135","105","295","320","60","65","2155","615","1540",1.3,"9942","45",0.2,0.2,0.1,1,21.5,22,22,0,1082,1,1,3842,71.92660550458716,71.92660550458716,2.2018348623853212,12.477064220183486,4.587155963302752,0,0,0,0,0,0,0,0,0,0,0,0,0,0,0,0,0,0,0,0,0,0,0,0,0]
["BU0363KP05","0363KP05","Vivaldi","Amsterdam","Buurt","BU0363KP05","Zuidas",2,1775,835,940,130,560,845,195,45,1530,210,35,5,"370","810","590","370","50","160","765","430","15","8","0","0",1435,1215,105,110,1.2,6126,1082,306,0,100,89,11,6,94,0,94,0,0,100,"1510","1510",".",".",".",".","1460","2350","0","0",".",".",".",".","0","0","100","40","50","0","100","470",".",".",".",66,88,12,1400,".",".",55.3,18.4,".",80.4,7.9,23.3,18,20.2,24.2,0.1,"0","10","10","10",10,2.4,".",".","505","0","20","70","75","105","185","25","30","1175","435","740",0.8,"4055","30",1,0.9,0.4,0.4,21.9,29,29,0,1083,1,1,3696,79.15492957746478,79.15492957746478,26.478873239436616,7.323943661971831,2.535211267605634,0,0,0,0,0,0,0,0,0,0,0,0,0,0,0,0,0,0,0,0,0,0,0,0,0]
["BU0363KQ01","0363KQ01","Amsterdamse Bos","Amsterdam","Buurt","BU0363KQ01","Buitenveldert-West",2,65,40,30,5,5,10,20,20,35,25,10,0,"45","15","10","45","0","5","10","0","0","0","0","15",40,20,10,10,1.8,86,23,".",78,22,43,57,43,57,0,57,0,78,22,"3120",".",".",".",".","3200","2930","3290","1080",".",".",".",".","1190","1260","930",".","10","0","0","0","0",".",".",".",".",".",".",100,".",".",".",".",".",".",".",".",".",".",".",".","0","0","0","20",".",".",".",".","55","0","10","5","0","5","5","15","10","50","35","15",".",".","5",1.6,2,1.9,2.3,4.8,132,77,55,1081,1,4,877,30.76923076923077,30.76923076923077,0,7.6923076923076925,30.76923076923077,0,0,0,0,0,0,0,0,0,0,0,0,0,0,0,0,0,0,0,0,0,0,0,0,0]
["BU0363KQ02","0363KQ02","Zuiderhof","Amsterdam","Buurt","BU0363KQ02","Buitenveldert-West",2,35,25,5,5,10,15,0,0,30,5,0,0,"0","15","10","5","0","0","20","10","0","32","0","0",25,25,0,5,1.1,163,3,".",".",".",".",".",".",".",".",".",".",".",".",".",".",".",".",".",".",".",".",".",".",".",".",".",".",".",".",".","0","0","0","0","0",".",".",".",".",".",".",0,".",".",".",".",".",".",".",".",".",".",".",".",".",".",".",".",".",".",".",".","265","0","5","10","5","125","105","5","10","60","35","20",".",".","0",0.4,0.9,0.6,0.8,22.1,21,19,2,1081,1,2,1635,85.71428571428571,100,0,14.285714285714285,0,0,0,0,0,0,0,0,0,0,0,0,0,0,0,0,0,0,0,0,0,0,0,0,0,0]
["BU0363KQ03","0363KQ03","Buitenveldert-West-Midden","Amsterdam","Buurt","BU0363KQ03","Buitenveldert-West",2,1030,500,530,145,120,175,275,305,480,380,85,85,"480","250","295","485","55","100","195","195","5","3","15","11",540,275,120,145,1.9,4266,510,937,33,67,94,6,52,48,30,18,0,62,38,"2590","1950","3420","3550",".","5590","1770","3360","980","620","1430","1570",".","2580","640","1300",".","70","60","0","20","30",190,160,350,68,71,29,800,".",".",34,36.2,".",38.6,32.1,5.8,6.2,9.1,11.3,269.3,"10","20","10","270",30,12.5,105,103,"225","0","25","20","15","50","60","40","20","445","335","110",0.8,"1850","25",0.7,0.8,0.6,1.1,16,27,24,3,1081,1,1,2804,52.9126213592233,53.398058252427184,2.912621359223301,14.077669902912621,29.61165048543689,0,0,0,0,0,0,0,0,0,0,0,0,0,0,0,0,0,0,0,0,0,0,0,0,0]
["BU0363KQ04","0363KQ04","Gelderlandpleinbuurt","Amsterdam","Buurt","BU0363KQ04","Buitenveldert-West",2,4715,2205,2505,520,540,1690,885,1085,2700,1305,395,310,"1740","1105","1860","1745","235","505","875","1360","50","10","50","11",2890,1695,685,510,1.6,10353,2649,486,1,99,94,6,34,66,28,38,0,93,7,"1890","1880","3510",".",".",".","1750","2160","750","750","1200",".",".",".","740","770","3,8","250","120","30","70","230",490,940,2180,68,86,14,3800,54.1,45.9,33.9,31,45.6,45,18.9,6.1,7.9,11.2,13.9,39.8,"90","130","30","980",80,9.3,510,108,"710","0","45","165","60","50","170","120","95","1295","1060","235",0.4,"2841","70",0.4,0.4,0.5,0.5,19.1,46,46,1,1082,1,1,4420,62.990455991516434,63.0965005302227,4.878048780487805,11.028632025450689,23.01166489925769,0,0,0,0,0,0,0,0,0,0,0,0,0,0,0,0,0,0,0,0,0,0,0,0,0]
["BU0363KQ05","0363KQ05","Buitenveldert-Zuidwest","Amsterdam","Buurt","BU0363KQ05","Buitenveldert-West",3,4250,1990,2260,590,375,1180,925,1180,2190,1270,480,315,"1970","900","1380","1970","265","435","630","950","30","8","70","16",2405,1415,490,500,1.7,6078,2579,558,23,77,87,13,34,66,25,41,0,85,15,"2060","1610","3400","3510","3120","4270","1580","2890","510","270","1270","1470","1500","2400","310","910","44,2","290","190","20","50","120",580,790,1840,69,77,23,3400,56.3,46,35.6,33,".",49.9,22.4,7.1,11.1,15.2,18.3,41.8,"70","80","40","1090",80,9.4,520,122,"1020","0","50","150","95","115","295","205","110","1405","1110","300",0.6,"2012","75",0.5,0.4,0.3,1,14.3,75,70,5,1081,1,1,2948,53.64705882352941,53.64705882352941,2.823529411764706,13.882352941176471,27.764705882352942,0,0,0,0,0,0,0,0,0,0,0,0,0,0,0,0,0,0,0,0,0,0,0,0,0]
["BU0363KQ06","0363KQ06","Buitenveldert-Zuid-Midden","Amsterdam","Buurt","BU0363KQ06","Buitenveldert-West",2,3945,1860,2090,595,520,1525,820,490,2490,1070,275,110,"1415","905","1630","1415","205","495","700","1135","30","8","15","5",2165,1160,475,525,1.8,7866,2060,502,11,89,92,8,44,55,18,38,0,99,1,"2480","2350","3250","3490","6360","4660","2430","2540","630","550","1200","1570","1590","1820","640","620","33,1","290","210","40","90","190",440,1370,1340,73,85,15,3100,53.1,42.7,33.3,32.7,".",39.8,19.4,5.8,6.5,8.9,10.7,46,"80","90","50","420",95,10,200,50,"535","0","30","75","60","30","145","125","75","1035","835","200",0.5,"2060","65",0.4,0.5,0.3,0.5,13.6,54,50,4,1082,1,1,4394,64.1318124207858,64.1318124207858,4.816223067173637,15.082382762991129,12.420785804816223,0,0,0,0,0,0,0,0,0,0,0,0,0,0,0,0,0,0,0,0,0,0,0,0,0]
["BU0363KR01","0363KR01","De Klenckebuurt","Amsterdam","Buurt","BU0363KR01","Buitenveldert-Oost",2,795,380,410,90,25,270,130,275,375,265,90,65,"370","130","290","365","40","75","90","220","5","11","45","56",395,205,115,75,1.7,5987,406,590,0,100,94,6,34,66,9,57,0,88,12,"1770","1770",".",".",".",".","1620","2050","590","590",".",".",".",".","620","540","12,3","40","10","0","10","10",".",".",".",72,85,15,500,".",".",21.5,46,".",30,24.4,3.9,3.7,4.7,6.5,79.1,"10","20","10","280",10,8.3,130,164,"175","0","5","15","20","40","65","25","15","240","205","35",0.6,"1807","5",0.9,0.6,0.5,0.5,18.1,14,13,1,1083,5,1,3851,54.088050314465406,53.459119496855344,1.257861635220126,11.320754716981133,34.59119496855346,0,0,0,0,0,0,0,0,0,0,0,0,0,0,0,0,0,0,0,0,0,0,0,0,0]
["BU0363KR02","0363KR02","Buitenveldert-Oost-Midden","Amsterdam","Buurt","BU0363KR02","Buitenveldert-Oost",2,3435,1640,1795,470,290,1170,665,840,1910,980,360,190,"1300","560","1575","1300","150","495","410","1080","25","6","40","13",1985,1075,455,450,1.7,11916,1939,441,0,100,96,4,24,76,46,29,0,100,0,"1670","1670",".",".",".",".","1560","1990","550","550",".",".",".",".","600","410","16,3","240","130","40","40","80",470,650,1300,64,84,16,2800,44.9,37,40.1,26.6,".",50.9,14.9,8.9,12.8,16.9,20.2,20.6,"210","110","30","750",105,15.5,455,133,"450","0","30","60","60","40","140","90","35","1000","840","165",0.5,"3473","50",0.8,0.3,0.5,0.6,17.6,30,29,1,1083,2,1,3497,62.154294032023294,62.154294032023294,2.3289665211062593,13.682678311499272,24.45414847161572,0,0,0,0,0,0,0,0,0,0,0,0,0,0,0,0,0,0,0,0,0,0,0,0,0]
["BU0363KR03","0363KR03","Buitenveldert-Zuidoost","Amsterdam","Buurt","BU0363KR03","Buitenveldert-Oost",2,4065,1940,2125,495,510,1370,800,885,2370,1165,295,245,"1505","890","1675","1500","215","420","675","1260","25","6","85","21",2280,1380,460,445,1.7,6688,2206,523,15,85,94,6,39,61,15,46,0,96,4,"2210","1910","3570","3580","3180","5340","1770","2900","700","550","1370","1630","1590","2270","590","890","17,2","240","170","20","90","280",410,1030,1560,70,81,19,3000,56.2,45.8,34.7,32.4,".",47.6,20.5,7.3,7.8,9.9,11.6,39.8,"80","80","30","690",70,8.5,410,101,"655","0","20","80","60","90","215","120","70","1210","945","265",0.5,"1990","70",1.1,0.3,0.3,0.3,10.6,64,61,4,1083,2,1,3276,63.09963099630996,62.97662976629766,6.888068880688807,12.177121771217712,21.771217712177123,0,0,0,0,0,0,0,0,0,0,0,0,0,0,0,0,0,0,0,0,0,0,0,0,0]
["BU0363KR04","0363KR04","Amstelpark","Amsterdam","Buurt","BU0363KR04","Buitenveldert-Oost",3,15,5,5,0,5,5,0,0,10,0,0,0,"5","0","5","5","0","5","0","5","0","0","0","0",5,0,0,5,2.2,26,6,".",".",".",".",".",".",".",".",".",".",".",".","5320",".",".",".",".","5320",".",".","1780",".",".",".",".","1780",".",".",".","0","0","0","0","0",".",".",".",".",".",".",0,".",".",".",".",".",".",".",".",".",".",".",".",".",".",".",".",".",".",".",".","15",".",".",".",".",".",".",".",".","10","5","5",".",".","0",2.6,1.8,1.5,1.5,5.2,62,51,11,1083,1,2,2008,66.66666666666666,66.66666666666666,0,0,0,0,0,0,0,0,0,0,0,0,0,0,0,0,0,0,0,0,0,0,0,0,0,0,0,0]
["BU0363MA01","0363MA01","Java-eiland","Amsterdam","Buurt","BU0363MA01","Oostelijk Havengebied",2,3315,1630,1680,345,355,955,1130,525,2055,920,260,80,"1875","690","745","1880","155","325","535","420","25","8","15","4",1865,945,495,430,1.8,19608,1572,683,4,96,97,3,32,68,20,48,0,85,15,"1880","1830","3050","2580",".",".","1740","2170","50","50","40","50",".",".","60","30","98,3","130","180","30","40","70",220,1030,1400,76,75,25,2900,56.7,49.3,29.7,37.9,".",38.1,27.6,10.4,9,10.8,12.7,53.4,"30","80","50","470",60,9.6,120,37,"690","0","15","55","95","50","255","105","120","910","695","215",0.5,"5386","70",0.7,1.2,0.3,0.5,11.5,71,17,54,1019,1,1,3323,43.288084464555055,43.43891402714932,2.1116138763197587,10.407239819004525,15.837104072398189,0,0,0,0,0,0,0,0,0,0,0,0,0,0,0,0,0,0,0,0,0,0,0,0,0]
["BU0363MA02","0363MA02","KNSM-eiland","Amsterdam","Buurt","BU0363MA02","Oostelijk Havengebied",3,2315,1190,1125,210,170,580,865,485,1330,690,230,65,"1330","360","630","1330","105","300","255","325","15","6","10","3",1360,700,385,275,1.7,19086,1324,581,0,100,96,4,48,52,45,7,0,97,3,"1790","1790",".",".",".",".","1650","1930","590","590",".",".",".",".","580","600","3,5","100","80","20","40","40",250,500,1220,72,72,28,2000,".",".",29.8,34.7,".",34.5,23.1,6.8,7.6,10.5,12.4,209.8,"50","100","20","440",35,9.5,130,56,"695","0","30","65","75","30","225","95","170","755","595","160",0.6,"6227","90",0.7,1.2,0.6,1.3,7.5,86,12,74,1019,1,1,2824,42.54859611231102,42.54859611231102,1.7278617710583155,9.071274298056156,20.950323974082075,0,0,0,0,0,0,0,0,0,0,0,0,0,0,0,0,0,0,0,0,0,0,0,0,0]
["BU0363MA03","0363MA03","Oostelijke Handelskade","Amsterdam","Buurt","BU0363MA03","Oostelijk Havengebied",2,1445,755,690,185,105,650,380,120,925,395,115,15,"580","305","560","585","75","250","230","305","15","10","0","3",765,310,270,180,1.9,6328,752,683,0,100,93,7,25,75,45,30,0,0,100,"2640","2640",".",".",".",".","2700","2480","810","810",".",".",".",".","790","870","3,1","80","60","20","20","20",190,250,810,78,78,22,1200,".",".",23.9,47.1,".",26.2,34.3,6,6.8,7.9,9.2,33.1,"30","40","20","120",30,10.4,50,36,"670","0","25","65","105","60","240","60","115","445","345","100",0.6,"1946","40",1.2,1.1,0.6,0.6,14.4,36,23,13,1019,1,1,3782,59.515570934256054,59.86159169550172,1.384083044982699,12.802768166089965,8.304498269896193,0,0,0,0,0,0,0,0,0,0,0,0,0,0,0,0,0,0,0,0,0,0,0,0,0]
["BU0363MA04","0363MA04","Rietlanden","Amsterdam","Buurt","BU0363MA04","Oostelijk Havengebied",2,2425,1220,1200,285,240,880,705,305,1540,640,185,55,"1135","400","885","1135","105","385","300","500","20","9","10","5",1265,545,390,330,1.9,9077,1221,629,5,95,96,4,41,59,34,25,0,19,81,"2060","1990","3270",".",".",".","1890","2310","250","260","0",".",".",".","280","200","53,8","140","90","40","60","70",280,510,1250,75,78,22,2000,".",".",30.2,38.1,".",33,31.1,5.7,7.1,9.6,11.6,59.6,"50","70","40","270",50,10.4,145,59,"570","0","15","65","75","30","195","90","95","595","455","140",0.5,"2232","80",0.5,0.5,0.3,0.5,16.9,34,27,8,1019,1,1,5172,53.1958762886598,53.1958762886598,2.88659793814433,11.752577319587628,12.577319587628866,0,0,0,0,0,0,0,0,0,0,0,0,0,0,0,0,0,0,0,0,0,0,0,0,0]
["BU0363MA05","0363MA05","Sporenburg","Amsterdam","Buurt","BU0363MA05","Oostelijk Havengebied",2,2725,1350,1375,420,370,655,1070,210,1720,825,155,20,"1760","375","590","1760","150","320","225","270","25","9","5","3",1170,370,325,480,2.3,17203,1112,705,35,65,96,4,49,51,34,18,0,47,53,"2170","2020","2450","2180",".",".","1760","2570","0","0","0","0",".",".","0","0","94,5","210","250","30","70","80",270,580,1400,80,74,26,2200,".",47.4,30.3,41.8,".",23.7,43,4.4,4.6,5.5,6.4,333.7,"30","90","40","160",80,11.1,80,29,"600","0","20","30","85","50","225","100","90","770","565","200",0.7,"4852","85",0.5,0.4,0.3,0.3,12.4,36,16,21,1019,1,1,4147,35.41284403669725,35.41284403669725,2.9357798165137616,15.412844036697248,7.706422018348624,0,0,0,0,0,0,0,0,0,0,0,0,0,0,0,0,0,0,0,0,0,0,0,0,0]
["BU0363MA06","0363MA06","Borneo","Amsterdam","Buurt","BU0363MA06","Oostelijk Havengebied",2,2775,1380,1395,495,335,765,950,225,1815,750,185,25,"1710","365","705","1710","140","355","225","350","25","9","5","3",1230,405,305,520,2.3,23403,1105,784,17,83,99,1,37,63,25,37,0,60,40,"2290","2250","2440","4050",".",".","2010","2760","60","70","0","0",".",".","90","0","90,0","200","270","30","50","60",240,540,1440,78,69,31,2200,".",45.4,33.7,37.9,".",28.2,36.2,6.1,7.1,8.8,10.8,107.2,"50","60","30","190",90,11.4,85,30,"655","0","25","35","80","40","255","90","125","760","590","170",0.6,"6418","95",0.9,1,0.5,0.5,13.6,27,12,15,1019,1,1,4249,38.37837837837838,38.37837837837838,2.1621621621621623,17.83783783783784,8.108108108108109,0,0,0,0,0,0,0,0,0,0,0,0,0,0,0,0,0,0,0,0,0,0,0,0,0]
["BU0363MA07","0363MA07","Entrepot-Noordwest","Amsterdam","Buurt","BU0363MA07","Oostelijk Havengebied",2,1425,705,720,170,145,445,440,225,870,360,165,40,"560","235","625","560","70","240","170","385","15","8","15","9",810,450,150,210,1.8,13414,758,509,0,100,97,3,33,67,58,8,0,89,11,"1930","1930",".",".",".",".","1880","2020","490","490",".",".",".",".","560","360","25,7","80","40","30","30","20",260,320,570,68,80,20,1200,".",".",38,26.1,".",47.5,17.1,9.7,12,16.2,19.9,18,"70","60","20","190",35,13,110,78,"230","0","15","20","40","5","80","40","30","390","330","65",0.5,"3681","35",0.5,0.8,0.4,0.9,20.7,13,11,2,1019,1,1,6881,60.70175438596491,60.70175438596491,1.4035087719298245,11.929824561403509,15.789473684210526,0,0,0,0,0,0,0,0,0,0,0,0,0,0,0,0,0,0,0,0,0,0,0,0,0]
["BU0363MA08","0363MA08","Bedrijvengebied Veelaan","Amsterdam","Buurt","BU0363MA08","Oostelijk Havengebied",2,40,20,25,5,0,5,15,10,20,15,0,0,"35","5","5","35","0","0","0","0","0","0","0","0",25,15,10,5,1.6,938,18,".",".",".",".",".",".",".",".",".",".",".",".","1780","1540",".",".",".",".","1680",".","1180","1130",".",".",".",".","1280",".",".","0","0","0","0","0",".",".",".",".",".",".",0,".",".",".",".",".",".",".",".",".",".",".",".",".",".",".",".",".",".",".",".","155","0","15","50","25","10","25","20","15","40","20","20",".",".","5",0.6,0.8,0.4,1,23.5,5,4,1,1019,1,1,8123,12.5,12.5,0,12.5,25,0,0,0,0,0,0,0,0,0,0,0,0,0,0,0,0,0,0,0,0,0,0,0,0,0]
["BU0363MA09","0363MA09","Architectenbuurt","Amsterdam","Buurt","BU0363MA09","Oostelijk Havengebied",2,1705,850,860,155,135,550,560,305,1090,410,175,35,"830","300","575","830","75","220","225","365","5","5","10","5",1025,550,285,190,1.7,16986,1004,491,2,98,97,3,55,45,34,11,0,100,0,"1670","1650","1810","3270","2580",".","1580","1750","610","600","730","1090","1090",".","640","590",".","70","50","20","40","50",360,310,820,71,78,22,1500,".",".",32.2,30.2,".",38.7,18,7.6,9.9,12.6,15.1,172.9,"70","70","20","280",25,9.8,120,69,"295","0","10","15","60","5","100","45","55","490","395","95",0.5,"4856","40",1.3,1.3,0.4,1.4,14.4,14,10,4,1019,1,1,6626,51.31964809384164,51.31964809384164,2.932551319648094,9.090909090909092,17.888563049853374,0,0,0,0,0,0,0,0,0,0,0,0,0,0,0,0,0,0,0,0,0,0,0,0,0]
["BU0363MA10","0363MA10","Cruquiusbuurt","Amsterdam","Buurt","BU0363MA10","Oostelijk Havengebied",2,2160,1110,1050,235,170,1355,335,70,1615,465,85,5,"1125","500","540","1120","140","230","365","310","40","19","0","1",1225,575,440,210,1.8,12375,1070,560,0,100,93,7,29,71,8,63,0,1,99,"2480","2480",".",".",".",".","2330","2840","30","30",".",".",".",".","30",".","17,4","90","50","10","40","60",70,290,1640,88,83,17,1900,".",".",14.7,51.5,".",26.3,33.9,1.8,1.7,2.2,3.2,23.1,"20","20","40","60",20,6.7,10,6,"565","0","40","80","70","55","195","60","70","520","355","165",0.4,"2986","65",1.6,1.6,0.3,1.7,11.7,31,17,14,1019,1,1,3302,48.148148148148145,47.91666666666667,2.7777777777777777,10.87962962962963,3.2407407407407405,0,0,0,0,0,0,0,0,0,0,0,0,0,0,0,0,0,0,0,0,0,0,0,0,0]
["BU0363MA11","0363MA11","Bedrijvengebied Zeeburgerkade","Amsterdam","Buurt","BU0363MA11","Oostelijk Havengebied",2,240,120,120,30,45,100,40,30,180,60,5,5,"125","75","40","120","5","10","70","30","0","4","0","8",155,105,30,20,1.6,4762,23,".",9,91,39,61,13,87,4,83,0,91,9,"2860","3010",".",".",".",".","2680",".","1210","1150",".",".",".",".","1160",".",".","20","10","0","10","10",".",".",".",81,81,19,200,".",".",27.7,24.6,".",55.6,11.8,6,5.3,6,7.5,6.5,"0","0","0","20",".",".",".",".","175","0","15","15","30","20","55","15","25","80","55","25",0.5,"1574","10",0.7,0.7,0.3,0.8,22.2,10,5,5,1019,1,1,7322,50,47.91666666666667,4.166666666666666,12.5,12.5,0,0,0,0,0,0,0,0,0,0,0,0,0,0,0,0,0,0,0,0,0,0,0,0,0]
["BU0363MB01","0363MB01","Weesperzijde-Noord","Amsterdam","Buurt","BU0363MB01","Weesperzijde",2,1955,975,985,190,235,945,420,170,1470,375,90,25,"1080","410","470","1075","105","170","305","300","30","15","5","4",1180,665,335,180,1.7,16874,1128,634,1,99,94,6,43,57,21,36,0,90,10,"1890","1870","3730",".",".",".","1620","2260","710","710","1410",".",".",".","630","830",".","80","80","10","80","130",140,330,1230,82,78,22,1700,".",".",28.5,41.3,".",39.8,27.7,6.4,6.9,8.7,10.2,65.4,"20","30","30","140",25,7.9,55,27,"495","0","15","60","55","30","200","45","85","380","275","100",0.3,"3270","40",0.6,0.3,0.3,0.6,37.7,14,12,3,1091,1,1,10163,45.012787723785166,44.75703324808184,6.649616368286446,9.718670076726342,8.695652173913043,0,0,0,0,0,0,0,0,0,0,0,0,0,0,0,0,0,0,0,0,0,0,0,0,0]
["BU0363MB02","0363MB02","Weesperzijde-Midden/Zuid","Amsterdam","Buurt","BU0363MB02","Weesperzijde",2,3275,1635,1640,360,320,1530,675,390,2320,695,205,55,"1705","625","940","1705","155","375","470","570","45","14","15","4",1925,1060,530,340,1.7,17738,1825,617,1,99,93,7,35,65,23,41,1,91,9,"1820","1810","2450","3600",".",".","1620","2180","670","660","1100","1170",".",".","610","770",".","170","110","30","70","120",380,490,1920,78,76,24,2800,58.9,50.5,29.8,40.6,".",39.4,25.5,6.4,8.6,11.3,13.1,39.7,"60","80","40","370",60,10.6,135,41,"860","0","25","85","130","55","260","125","185","750","600","155",0.4,"4075","85",0.8,0.7,0.5,0.5,29.9,24,18,5,1091,1,1,9529,47.93893129770993,47.93893129770993,3.6641221374045805,10.992366412213741,11.908396946564885,0,0,0,0,0,0,0,0,0,0,0,0,0,0,0,0,0,0,0,0,0,0,0,0,0]
["BU0363MB03","0363MB03","Parooldriehoek","Amsterdam","Buurt","BU0363MB03","Weesperzijde",2,665,310,350,50,420,135,55,5,585,45,30,0,"70","245","345","70","10","80","240","265","5","9","0","0",550,490,10,50,1.2,9575,120,443,0,100,98,3,0,100,100,0,0,100,0,"1180","1180",".",".",".",".","1180",".","520","520",".",".",".",".","520",".",".","30","10","10","30","150",".",".",".",28,85,15,300,".",".",63.7,7.5,".",77.1,3.3,15.8,15.8,21.1,23.3,0.1,"30","20","0","10",10,2.2,15,21,"75","0","5","5","20","0","20","15","10","55","40","15",0.1,"779","10",0.5,0.5,0.7,0.9,32.4,7,7,0,1091,1,1,9478,89.47368421052632,89.47368421052632,22.55639097744361,7.518796992481203,0.7518796992481203,0,0,0,0,0,0,0,0,0,0,0,0,0,0,0,0,0,0,0,0,0,0,0,0,0]
["BU0363MC01","0363MC01","Oosterparkbuurt-Noordwest","Amsterdam","Buurt","BU0363MC01","Oosterparkbuurt",2,3780,1850,1930,335,410,1725,840,475,2725,670,305,80,"1555","690","1540","1555","160","590","530","950","40","10","30","7",2425,1565,495,370,1.6,17764,2281,502,0,100,96,4,23,77,59,18,0,87,13,"1500","1500",".",".",".",".","1430","1740","580","580",".",".",".",".","570","600",".","150","100","50","180","200",610,890,1850,73,81,19,3300,43.6,38.5,40.3,24.6,".",57.8,13.1,10.4,14.2,17.8,20.7,9,"150","170","60","420",50,8.2,265,70,"805","0","40","95","95","20","205","160","190","650","530","120",0.3,"3058","80",0.3,0.4,0.3,0.6,35.2,22,21,1,1091,1,1,8390,58.86243386243386,58.86243386243386,5.291005291005291,8.862433862433862,12.566137566137566,0,0,0,0,0,0,0,0,0,0,0,0,0,0,0,0,0,0,0,0,0,0,0,0,0]
["BU0363MC02","0363MC02","Oosterpark","Amsterdam","Buurt","BU0363MC02","Oosterparkbuurt",2,130,65,70,5,15,65,35,15,115,5,10,0,"65","25","40","65","10","15","20","30","0","15","0","8",120,110,5,10,1.1,575,96,299,0,100,98,2,0,100,98,2,0,100,0,"1310","1310",".",".",".",".","1310",".","570","570",".",".",".",".","570",".",".","0","0","0","0","10",".",".",".",".",".",".",100,".",".",51.3,14.5,".",80.6,2.8,".",".",".",".",1.8,"20","10","0","10",".",".",10,92,"100","0","0","5","5","10","45","15","20","15","10","5",0.1,"70","5",0.4,0.4,0.1,0.7,35,25,23,2,1092,1,1,8173,50,50,7.6923076923076925,3.8461538461538463,11.538461538461538,0,0,0,0,0,0,0,0,0,0,0,0,0,0,0,0,0,0,0,0,0,0,0,0,0]
["BU0363MC03","0363MC03","Oosterparkbuurt-Zuidwest","Amsterdam","Buurt","BU0363MC03","Oosterparkbuurt",2,3070,1550,1525,390,320,1215,720,420,2100,600,310,55,"1010","415","1640","1010","115","655","300","985","40","12","25","7",1805,1075,370,365,1.7,25185,1799,511,0,100,96,4,21,79,66,13,0,94,6,"1560","1560",".",".","1830",".","1510","1730","620","620",".",".","420",".","620","620",".","210","120","60","60","100",690,740,1120,64,80,20,2500,42.6,35.9,46,22.8,".",57.5,14.1,14.4,19.1,25.8,29.3,6.7,"240","160","30","360",65,10.6,300,97,"510","0","20","100","80","10","125","70","105","545","415","130",0.3,"4455","55",0.3,0.3,0.3,0.6,33.6,12,12,0,1091,1,1,8949,67.10097719869707,67.10097719869707,3.257328990228013,12.703583061889251,13.680781758957655,0,0,0,0,0,0,0,0,0,0,0,0,0,0,0,0,0,0,0,0,0,0,0,0,0]
["BU0363MC04","0363MC04","Oosterparkbuurt-Zuidoost","Amsterdam","Buurt","BU0363MC04","Oosterparkbuurt",2,3700,1820,1885,445,390,1465,910,495,2510,810,275,110,"1730","705","1270","1735","205","520","495","750","50","13","25","7",2090,1125,540,425,1.7,23498,2059,584,3,97,92,8,32,68,41,27,0,99,1,"1710","1680","3150",".","1330",".","1550","2040","680","660","1600",".","590",".","650","730",".","220","130","50","80","160",420,650,2010,72,78,22,3000,49.3,41.8,36.7,30.3,".",47.4,20.1,10.1,13.3,16.6,19.2,25.7,"130","130","40","440",85,11.9,295,80,"750","0","35","75","105","30","200","160","145","750","565","190",0.4,"4771","70",0.5,0.4,0.4,0.3,31,16,16,0,1092,1,1,8768,53.10810810810811,53.24324324324324,4.324324324324325,12.027027027027028,13.378378378378377,0,0,0,0,0,0,0,0,0,0,0,0,0,0,0,0,0,0,0,0,0,0,0,0,0]
["BU0363MD01","0363MD01","Transvaalbuurt-West","Amsterdam","Buurt","BU0363MD01","Transvaalbuurt",2,3970,1935,2035,440,450,1535,980,560,2625,850,390,110,"1485","510","1975","1490","135","740","375","1235","40","11","20","5",2295,1305,520,470,1.7,22656,2156,486,2,98,97,3,26,74,60,14,0,98,2,"1570","1550","2360","2680",".",".","1530","1690","680","670","1080","1220",".",".","690","650",".","210","140","90","90","190",890,840,1650,68,82,18,3400,38.8,33.2,45.2,21,".",56,13.4,12.1,17,23.1,26.3,7.3,"240","200","50","500",80,10.6,415,105,"590","0","30","60","85","15","170","120","110","725","605","120",0.3,"4131","55",0.8,0.4,0.3,0.3,30.6,18,18,0,1091,1,1,8272,62.468513853904284,62.59445843828715,4.785894206549118,11.083123425692696,14.105793450881613,0,0,0,0,0,0,0,0,0,0,0,0,0,0,0,0,0,0,0,0,0,0,0,0,0]
["BU0363MD02","0363MD02","Transvaalbuurt-Oost","Amsterdam","Buurt","BU0363MD02","Transvaalbuurt",2,4905,2375,2535,635,640,1995,1085,555,3365,1045,375,120,"1895","745","2260","1895","205","975","540","1285","60","13","10","3",2665,1430,590,650,1.8,25280,2594,547,2,98,93,7,23,77,56,21,1,94,6,"1650","1630","2650","2780",".",".","1570","1920","680","670","1120","1600",".",".","680","660",".","300","230","80","130","210",870,1130,1990,69,81,19,4000,41,34.3,44.5,22.9,35.7,52.8,15.6,12.2,16.1,20.8,24,7.4,"260","180","60","490",135,12.6,375,77,"865","0","55","125","105","30","235","140","165","920","730","195",0.3,"4752","70",0.6,0.3,0.5,0.5,29.4,20,19,1,1092,1,1,7854,61.36595310907238,61.36595310907238,4.281345565749235,12.945973496432211,11.314984709480122,0,0,0,0,0,0,0,0,0,0,0,0,0,0,0,0,0,0,0,0,0,0,0,0,0]
["BU0363ME01","0363ME01","Dapperbuurt-Noord","Amsterdam","Buurt","BU0363ME01","Dapperbuurt",2,4250,2015,2235,425,475,1720,940,690,2880,840,390,145,"1675","650","1930","1675","160","735","490","1200","35","8","55","13",2510,1495,555,455,1.7,21560,2417,491,0,100,96,4,25,75,59,16,0,93,7,"1540","1540","2040",".",".",".","1480","1710","600","600","870",".",".",".","600","590",".","210","150","70","110","220",740,860,1950,68,82,18,3500,40.1,34.5,44.5,22.1,".",56.2,13.6,11.3,15.4,21,24.5,9,"210","200","40","610",95,13.2,465,109,"760","0","30","140","80","15","205","115","170","720","600","125",0.3,"3660","55",0.3,0.4,0.4,0.6,28.6,21,20,1,1093,1,1,8740,60.588235294117645,60.588235294117645,5.176470588235294,10,16.235294117647058,0,0,0,0,0,0,0,0,0,0,0,0,0,0,0,0,0,0,0,0,0,0,0,0,0]
["BU0363ME02","0363ME02","Dapperbuurt-Zuid","Amsterdam","Buurt","BU0363ME02","Dapperbuurt",2,3740,1850,1885,340,480,1505,935,485,2570,760,330,80,"1535","535","1675","1530","140","605","390","1070","35","10","15","4",2295,1425,475,385,1.6,21490,2120,500,1,99,97,3,22,78,56,22,0,96,4,"1550","1540","2790",".",".",".","1470","1820","630","630","1070",".",".",".","630","630",".","170","130","80","120","180",720,910,1580,69,79,21,3200,40.7,35.8,43.3,21.5,".",58.7,13,13,16.1,21.8,24.9,5.4,"230","180","50","430",50,7.9,310,82,"780","0","35","120","95","25","205","135","170","620","495","120",0.3,"3551","65",0.3,0.3,0.2,0.3,28.7,17,17,0,1093,1,1,8946,59.09090909090909,58.9572192513369,4.81283422459893,9.090909090909092,12.967914438502673,0,0,0,0,0,0,0,0,0,0,0,0,0,0,0,0,0,0,0,0,0,0,0,0,0]
["BU0363ME03","0363ME03","Oostpoort","Amsterdam","Buurt","BU0363ME03","Dapperbuurt",2,2005,985,1020,335,180,645,495,350,1205,530,190,80,"1025","270","710","1020","110","295","165","415","25","11","20","10",995,485,225,285,1.9,9006,1005,640,14,86,94,6,37,63,48,16,0,26,74,"1850","1670","3010","2890",".",".","1600","2280","530","500","710","820",".",".","490","610",".","180","110","30","30","50",430,360,820,70,80,20,1500,".",".",36.2,35.5,".",43.3,26.5,8.7,13,16.8,20.2,37.8,"80","90","20","310",65,14.1,215,107,"385","0","10","80","30","25","115","65","60","460","345","115",0.5,"2067","25",0.4,0.3,0.3,0.3,24.8,23,22,1,1093,1,1,8746,49.12718204488778,48.87780548628429,2.493765586034913,16.708229426433917,17.45635910224439,0,0,0,0,0,0,0,0,0,0,0,0,0,0,0,0,0,0,0,0,0,0,0,0,0]
["BU0363MF01","0363MF01","Timorpleinbuurt-Noord","Amsterdam","Buurt","BU0363MF01","Indische Buurt-West",2,3920,1980,1935,440,455,1850,870,305,2865,700,290,65,"1645","735","1535","1645","185","590","555","950","40","10","5","2",2380,1405,550,430,1.6,23735,2323,495,1,99,95,5,33,67,44,23,0,80,20,"1590","1590","2680",".",".",".","1500","1780","570","570","790",".",".",".","570","580",".","240","120","60","70","170",620,700,1980,74,79,21,3300,45.5,38.8,36.2,28,".",50.8,15.4,11.4,13.1,17.6,20.2,11.8,"190","180","50","270",75,10.3,270,69,"900","0","40","125","115","35","280","140","165","705","580","125",0.3,"4276","70",0.5,0.3,0.3,0.4,25.8,18,17,1,1094,1,1,8386,58.03571428571429,58.03571428571429,4.336734693877551,11.224489795918368,7.780612244897959,0,0,0,0,0,0,0,0,0,0,0,0,0,0,0,0,0,0,0,0,0,0,0,0,0]
["BU0363MF02","0363MF02","Timorpleinbuurt-Zuid","Amsterdam","Buurt","BU0363MF02","Indische Buurt-West",2,4490,2165,2325,465,660,2000,960,415,3280,835,305,70,"1740","735","2015","1740","150","775","585","1240","55","12","20","4",2625,1475,660,490,1.7,30859,2421,481,1,99,96,4,28,71,47,24,0,96,4,"1510","1510","1800",".",".",".","1500","1540","630","630","1080",".",".",".","660","560",".","220","150","90","180","290",930,1000,1970,71,81,19,3800,40.9,35.3,42.9,23.9,34.6,52.7,13.5,12.3,15.2,18.9,22.7,7.9,"250","150","60","360",80,8.8,305,68,"855","0","45","115","100","30","245","105","210","785","640","150",0.3,"5406","100",0.3,0.3,0.3,0.6,24.3,15,15,0,1094,1,1,8434,61.24721603563474,61.24721603563474,6.45879732739421,10.356347438752785,9.242761692650333,0,0,0,0,0,0,0,0,0,0,0,0,0,0,0,0,0,0,0,0,0,0,0,0,0]
["BU0363MF03","0363MF03","Ambonpleinbuurt","Amsterdam","Buurt","BU0363MF03","Indische Buurt-West",2,3860,1855,2005,495,485,1385,905,585,2390,975,385,110,"970","420","2470","970","105","1025","315","1445","45","12","10","3",2010,1020,420,570,1.9,24449,1947,445,0,100,96,4,20,80,73,7,0,92,8,"1630","1630",".",".",".",".","1630","1660","680","680",".",".",".",".","720","550",".","240","180","130","90","100",1200,840,1130,61,82,18,3200,34.5,28.8,51,15.7,".",55.7,11.6,14.4,20.2,26.2,30.5,4.3,"290","230","40","530",80,9,450,117,"515","0","30","65","85","10","115","100","110","710","555","160",0.4,"4505","65",0.2,0.4,0.2,0.6,22.4,16,16,0,1094,1,1,8035,74.87046632124353,74.87046632124353,2.5906735751295336,12.823834196891193,15.155440414507773,0,0,0,0,0,0,0,0,0,0,0,0,0,0,0,0,0,0,0,0,0,0,0,0,0]
["BU0363MG01","0363MG01","Makassarpleinbuurt","Amsterdam","Buurt","BU0363MG01","Indische Buurt-Oost",2,5610,2805,2805,670,650,1915,1375,1005,3495,1280,615,220,"1830","645","3130","1830","175","1225","465","1915","50","8","80","14",3125,1805,610,710,1.7,21866,2992,459,1,99,96,4,19,81,68,13,0,93,7,"1610","1610","2450",".",".",".","1590","1690","610","610","1190",".",".",".","620","570",".","330","270","140","130","140",1370,1430,1790,62,81,19,4600,34.3,29.2,51.5,16.2,31,60.8,10.5,14.3,20.9,27.6,31.4,4.6,"480","260","70","920",135,11.5,755,134,"825","0","60","90","120","10","230","145","160","1065","835","235",0.3,"4159","95",0.4,0.5,0.3,0.3,21,27,26,1,1095,1,1,6814,67.37967914438502,67.37967914438502,2.4955436720142603,11.942959001782532,17.914438502673796,0,0,0,0,0,0,0,0,0,0,0,0,0,0,0,0,0,0,0,0,0,0,0,0,0]
["BU0363MG02","0363MG02","Zeeburgerdijk-Oost","Amsterdam","Buurt","BU0363MG02","Indische Buurt-Oost",2,430,205,225,50,45,120,145,70,255,130,30,15,"220","65","145","225","15","60","45","85","5","12","0","0",215,85,65,60,2,5007,197,652,0,100,97,3,56,44,36,9,0,3,97,"2040","2040",".",".",".",".","1850","2190","580","580",".",".",".",".","570","580",".","20","30","10","10","0",".",".",".",74,81,19,400,".",".",32,34.8,".",29.2,30.1,6.3,6.3,7.3,9.3,289.6,"10","20","10","60",".",".",15,37,"80","0","5","10","5","5","30","20","10","125","90","35",0.6,"1455","15",0.7,1.1,0.4,0.7,16.6,13,9,4,1095,1,1,4016,47.674418604651166,48.837209302325576,0,11.627906976744185,16.27906976744186,0,0,0,0,0,0,0,0,0,0,0,0,0,0,0,0,0,0,0,0,0,0,0,0,0]
["BU0363MG03","0363MG03","Sumatraplantsoenbuurt","Amsterdam","Buurt","BU0363MG03","Indische Buurt-Oost",2,3755,1850,1905,535,460,1395,915,445,2375,965,310,100,"1165","450","2140","1165","120","955","335","1185","35","10","25","6",1920,935,455,530,2,27146,1851,500,0,100,97,3,24,76,65,11,0,85,15,"1710","1710","2080",".",".",".","1660","1860","600","600","800",".",".",".","630","510",".","250","190","100","90","110",900,780,1390,65,82,18,3000,37.2,30.4,46.6,20.3,".",50.7,14.1,12.5,16.3,21.2,25,5.9,"250","190","50","400",85,9.9,350,94,"500","0","25","50","100","5","145","95","80","755","595","160",0.4,"5458","70",0.5,0.3,0.2,0.3,20.7,14,14,0,1095,1,1,6601,68.97470039946738,68.97470039946738,2.929427430093209,14.247669773635153,11.8508655126498,0,0,0,0,0,0,0,0,0,0,0,0,0,0,0,0,0,0,0,0,0,0,0,0,0]
["BU0363MG04","0363MG04","Flevopark","Amsterdam","Buurt","BU0363MG04","Indische Buurt-Oost",2,20,10,10,0,5,5,5,0,10,0,0,0,"10","0","5","15","0","0","5","5","0","0","0","0",10,10,5,0,1.5,37,5,".",".",".",".",".",".",".",".",".",".",".",".",".",".",".",".",".",".",".",".",".",".",".",".",".",".",".",".",".","0","0","0","0","0",".",".",".",".",".",".",0,".",".",".",".",".",".",".",".",".",".",".",".",".",".",".",".",".",".",".",".","10",".",".",".",".",".",".",".",".","10","5","0",".",".","0",1.3,1.2,1.1,1.3,14.7,76,46,30,1095,1,1,3363,25,50,0,0,0,0,0,0,0,0,0,0,0,0,0,0,0,0,0,0,0,0,0,0,0,0,0,0,0,0]
["BU0363MH01","0363MH01","Sluisbuurt","Amsterdam","Buurt","BU0363MH01","Zeeburgereiland/Bovendiep",3,15,5,10,5,0,5,5,5,10,10,0,0,"15","0","0","15","0","0","0","0","0","0","0","0",10,0,5,0,2.3,50,5,".",".",".",".",".",".",".",".",".",".",".",".","2880",".",".",".",".",".",".",".","690",".",".",".",".",".",".",".",".","0","0","0","0","0",".",".",".",".",".",".",0,".",".",".",".",".",".",".",".",".",".",".",".",".",".",".",".",".",".",".",".","5",".",".",".",".",".",".",".",".","5","0","5",".",".","0",1.5,1.4,1.7,1.7,2.9,56,36,20,1095,1,3,1454,0,0,0,33.33333333333333,33.33333333333333,0,0,0,0,0,0,0,0,0,0,0,0,0,0,0,0,0,0,0,0,0,0,0,0,0]
["BU0363MH02","0363MH02","Sportheldenbuurt","Amsterdam","Buurt","BU0363MH02","Zeeburgereiland/Bovendiep",2,4595,2345,2255,775,630,2285,700,215,3355,955,260,25,"1795","940","1865","1795","180","800","760","1065","80","17","5","1",2565,1365,610,595,1.8,15810,2521,465,4,96,96,4,26,74,22,52,0,0,100,"1750","1670","3550","3020",".",".","1550","2300","0","0","30","0",".",".","0","0","87,1","420","150","50","180","250",650,1000,2120,75,81,19,3500,53.2,42.3,31.4,36.8,".",42,21.1,7.1,7,10.4,12.9,7.7,"130","120","50","190",115,9.9,140,31,"740","0","25","75","85","40","225","135","150","955","730","225",0.4,"3281","95",0.5,0.4,0.4,0.4,5.6,29,29,0,1095,1,3,1355,60.93579978237214,60.93579978237214,5.44069640914037,16.866158868335145,4.6789989118607185,0,0,0,0,0,0,0,0,0,0,0,0,0,0,0,0,0,0,0,0,0,0,0,0,0]
["BU0363MH03","0363MH03","Oostpunt Zeeburgereiland","Amsterdam","Buurt","BU0363MH03","Zeeburgereiland/Bovendiep",3,45,25,20,5,0,5,20,5,30,10,5,0,"30","10","5","30","0","0","5","5","0","23","0","0",25,15,5,5,1.7,165,0,".",".",".",".",".",".",".",".",".",".",".",".",".",".",".",".",".",".",".",".",".",".",".",".",".",".",".",".",".","0","0","0","0","0",".",".",".",".",".",".",0,".",".",".",".",".",".",".",".",".",".",".",".",".",".",".",".",".",".",".",".","15",".",".",".",".",".",".",".",".","0","0","0",".",".","0",1.7,1.6,1.1,1.1,3,26,26,0,1095,1,3,1051,33.33333333333333,33.33333333333333,0,11.11111111111111,11.11111111111111,0,0,0,0,0,0,0,0,0,0,0,0,0,0,0,0,0,0,0,0,0,0,0,0,0]
["BU0363MH04","0363MH04","Baaibuurt-West","Amsterdam","Buurt","BU0363MH04","Zeeburgereiland/Bovendiep",2,265,130,140,15,130,95,20,5,255,10,5,0,"150","90","25","150","25","10","65","10","0","4","0","0",205,165,30,10,1.3,1585,86,".",3,97,88,12,1,99,36,63,0,0,100,"2220","2130",".",".",".",".","2200",".","660","630",".",".",".",".","660",".",".","10","0","0","60","80",".",".",".",71,74,26,200,".",".",80.2,4,".",92.2,1.6,".",".",".",".",-0.1,"0","0","0","10",".",".",".",".","90","0","10","10","10","0","15","10","30","80","60","20",0.4,"475","20",0.9,0.8,1.1,1.1,8.8,22,17,5,1095,1,2,2135,43.39622641509434,43.39622641509434,30.18867924528302,5.660377358490567,1.8867924528301887,0,0,0,0,0,0,0,0,0,0,0,0,0,0,0,0,0,0,0,0,0,0,0,0,0]
["BU0363MH05","0363MH05","Baaibuurt-Oost","Amsterdam","Buurt","BU0363MH05","Zeeburgereiland/Bovendiep",3,685,350,335,5,495,180,5,0,665,15,0,0,"220","110","355","220","15","105","90","250","5","3","0","0",650,620,25,5,1,2927,703,75,0,100,92,8,0,100,100,0,0,0,100,"1210","1200",".",".",".",".","1210",".","220","220",".",".",".",".","220",".",".","0","0","40","120","280",".",".",".",54,89,11,600,".",".",79,0.9,".",98.4,0.4,33.5,25.3,34.6,39.4,-0.9,"100","0","0","0",".",".",".",".","65","0","5","15","10","0","15","10","15","50","45","5",0.1,"219","10",0.8,0.8,1.1,1.1,8,23,23,0,1095,1,2,1512,67.88321167883211,67.88321167883211,40.87591240875913,0.7299270072992701,0,0,0,0,0,0,0,0,0,0,0,0,0,0,0,0,0,0,0,0,0,0,0,0,0,0]
["BU0363MH06","0363MH06","Bovendiep/Diemerpark","Amsterdam","Buurt","BU0363MH06","Zeeburgereiland/Bovendiep",3,65,45,25,10,10,15,25,15,35,20,5,0,"55","10","0","55","5","5","5","0","0","0","0","15",30,15,5,15,2.2,56,16,".",".",".",".",".",".",".",".",".",".",".",".","3490",".",".",".",".","3370",".","3790","1180",".",".",".",".","1070",".","1010",".","0","10","0","0","0",".",".",".",".",".",".",100,".",".",".",".",".",".",".",".",".",".",".",".","0","0","0","10",".",".",".",".","30","0","5","5","0","5","5","0","10","45","25","15",".",".","5",2.2,2.2,2,2.2,5,190,120,70,1095,3,3,1279,15.384615384615385,15.384615384615385,0,15.384615384615385,23.076923076923077,0,0,0,0,0,0,0,0,0,0,0,0,0,0,0,0,0,0,0,0,0,0,0,0,0]
["BU0363MJ01","0363MJ01","Steigereiland-Zuid","Amsterdam","Buurt","BU0363MJ01","IJburg-West",2,2625,1340,1280,545,490,555,895,135,1695,735,160,30,"1305","300","1020","1305","120","535","175","480","15","6","5","3",955,280,130,555,2.7,11482,957,674,47,53,91,9,56,44,36,8,0,0,100,"2990","2270","3580","3730","4130","4010","2230","3490","0","0","0","0","0","0","0","0","83,9","260","290","80","90","90",500,610,940,75,76,24,1900,".",41.3,41.2,34.4,".",29.1,39.9,5.9,6.6,10.1,11.4,356.1,"70","100","30","120",110,11.2,160,61,"620","0","35","50","90","60","220","105","60","740","510","230",0.8,"3249","65",0.3,1.1,0.2,0.5,10,23,23,0,1086,1,3,1322,50.28571428571429,50.28571428571429,3.428571428571429,20.761904761904763,5.142857142857142,0,0,0,0,0,0,0,0,0,0,0,0,0,0,0,0,0,0,0,0,0,0,0,0,0]
["BU0363MJ02","0363MJ02","Steigereiland-Noord","Amsterdam","Buurt","BU0363MJ02","IJburg-West",3,2200,1105,1090,395,260,980,495,80,1515,510,160,15,"880","435","880","880","85","400","350","485","35","15","0","2",1115,510,280,325,2,14733,1117,474,22,78,94,6,30,70,16,55,0,0,100,"2300","2070","3070","2530","2840","3760","2070","2880","80","0","40","360","590","1040","30","210","50,4","170","160","40","50","50",260,460,1160,80,79,21,1700,".",".",25.8,40.4,".",31.8,25.5,4.3,5,7.3,8.1,12.2,"50","60","30","70",55,9.9,70,31,"385","0","25","30","50","25","125","65","65","600","415","185",0.5,"4020","60",0.6,1.1,0.2,0.4,10,21,15,6,1086,1,3,1165,60,60,2.272727272727273,17.954545454545453,3.6363636363636362,0,0,0,0,0,0,0,0,0,0,0,0,0,0,0,0,0,0,0,0,0,0,0,0,0]
["BU0363MJ03","0363MJ03","Rieteilanden-West","Amsterdam","Buurt","BU0363MJ03","IJburg-West",2,2750,1390,1355,510,530,515,1005,185,1640,930,155,30,"1570","370","805","1570","140","445","230","365","20","6","10","3",990,200,220,575,2.8,10096,965,913,56,44,97,3,66,34,13,21,0,0,100,"3270","2750","3350","3410","4780","5230","2580","3640","0","0","0","0","0","0","0","0","90,3","230","340","50","70","80",330,510,1330,79,73,27,2100,".",51.9,35.4,42.1,".",15.1,54.2,4.3,3.7,4.4,5.5,603.7,"20","50","30","160",115,11.4,45,17,"575","0","20","40","60","60","235","110","55","930","660","270",0.9,"3411","75",0.7,0.6,0.3,0.3,9.4,30,27,3,1087,1,2,2065,42.90909090909091,42.90909090909091,2.909090909090909,18.545454545454547,6.7272727272727275,0,0,0,0,0,0,0,0,0,0,0,0,0,0,0,0,0,0,0,0,0,0,0,0,0]
["BU0363MJ04","0363MJ04","Joris Ivenspleinbuurt","Amsterdam","Buurt","BU0363MJ04","IJburg-West",3,2840,1440,1400,470,385,1095,655,230,1805,755,240,45,"990","505","1350","990","140","600","365","750","45","15","10","4",1430,685,295,450,2,17319,1384,486,14,86,97,3,29,71,40,31,0,0,100,"2180","2060","3140","2650","2240",".","2060","2480","0","0","0","0","0",".","0","0","95,8","260","170","80","60","70",440,840,1060,73,82,18,2200,".",40.4,34.6,33,".",38.1,23.9,5.7,7.2,10.7,13,18.4,"140","90","40","210",110,14.1,185,65,"515","0","30","80","70","10","140","120","60","745","545","200",0.5,"4545","70",0.7,0.3,0.2,0.2,10,17,16,1,1087,1,2,1865,65.14084507042254,65.14084507042254,2.464788732394366,16.549295774647888,8.098591549295776,0,0,0,0,0,0,0,0,0,0,0,0,0,0,0,0,0,0,0,0,0,0,0,0,0]
["BU0363MJ05","0363MJ05","Ed Pelsterparkbuurt","Amsterdam","Buurt","BU0363MJ05","IJburg-West",2,5900,2885,3015,1235,915,1850,1575,320,3710,1725,410,55,"2165","910","2820","2170","265","1435","645","1385","65","11","15","2",2440,800,455,1185,2.4,18961,2324,573,18,82,97,3,45,55,35,20,0,0,100,"2470","2270","3200","3230",".","4310","2210","2770","0","0","0","0",".","0","0","0","97,2","600","530","180","170","130",960,1380,2220,74,81,19,4500,49.8,38,38.3,32.9,".",30.8,31.6,6.6,7.9,10.7,13.2,43.4,"160","210","70","270",240,12,315,53,"940","0","50","90","160","50","280","190","125","1485","1095","390",0.6,"4771","115",0.6,0.6,0.2,0.3,9.3,35,31,4,1087,1,2,2052,63.22033898305085,63.305084745762706,2.2033898305084745,20.93220338983051,5.423728813559322,0,0,0,0,0,0,0,0,0,0,0,0,0,0,0,0,0,0,0,0,0,0,0,0,0]
["BU0363MK01","0363MK01","Buiteneiland","Amsterdam","Buurt","BU0363MK01","IJburg-Oost",3,0,0,0,0,0,0,0,0,0,0,0,0,"0","0","0","0","0","0","0","0","0","0","0","0",0,0,0,0,".",".",0,".",".",".",".",".",".",".",".",".",".",".",".",".",".",".",".",".",".",".",".",".",".",".",".",".",".",".",".",".","0","0","0","0","0",".",".",".",".",".",".",0,".",".",".",".",".",".",".",".",".",".",".",".",".",".",".",".",".",".",".",".","0",".",".",".",".",".",".",".",".","0","0","0",".",".","0",".",".",".",".",".",4,4,0,".",".",".",".","Geen inwoners","Geen inwoners","Geen inwoners","Geen inwoners","Geen inwoners",0,0,0,0,0,0,0,0,0,0,0,0,0,0,0,0,0,0,0,0,0,0,0,0,0]
["BU0363MK02","0363MK02","Pampusbuurt-West","Amsterdam","Buurt","BU0363MK02","IJburg-Oost",3,0,0,0,0,0,0,0,0,0,0,0,0,"0","0","0","0","0","0","0","0","0","0","0","0",0,0,0,0,".",".",0,".",".",".",".",".",".",".",".",".",".",".",".",".",".",".",".",".",".",".",".",".",".",".",".",".",".",".",".",".","0","0","0","0","0",".",".",".",".",".",".",0,".",".",".",".",".",".",".",".",".",".",".",".",".",".",".",".",".",".",".",".","0",".",".",".",".",".",".",".",".","0","0","0",".",".","0",".",".",".",".",".",2,2,0,".",".",".",".","Geen inwoners","Geen inwoners","Geen inwoners","Geen inwoners","Geen inwoners",0,0,0,0,0,0,0,0,0,0,0,0,0,0,0,0,0,0,0,0,0,0,0,0,0]
["BU0363MK03","0363MK03","Pampusbuurt-Oost","Amsterdam","Buurt","BU0363MK03","IJburg-Oost",3,0,0,0,0,0,0,0,0,0,0,0,0,"0","0","0","0","0","0","0","0","0","0","0","0",0,0,0,0,".",".",0,".",".",".",".",".",".",".",".",".",".",".",".",".",".",".",".",".",".",".",".",".",".",".",".",".",".",".",".",".","0","0","0","0","0",".",".",".",".",".",".",0,".",".",".",".",".",".",".",".",".",".",".",".",".",".",".",".",".",".",".",".","0",".",".",".",".",".",".",".",".","0","0","0",".",".","0",".",".",".",".",".",0,0,0,".",".",".",".","Geen inwoners","Geen inwoners","Geen inwoners","Geen inwoners","Geen inwoners",0,0,0,0,0,0,0,0,0,0,0,0,0,0,0,0,0,0,0,0,0,0,0,0,0]
["BU0363MK04","0363MK04","Centrumeiland","Amsterdam","Buurt","BU0363MK04","IJburg-Oost",2,620,300,320,170,75,215,145,20,410,170,45,5,"270","75","275","275","30","175","45","100","20","35","0","2",260,85,35,140,2.4,2276,352,579,10,90,64,36,63,37,16,21,0,0,100,"2050","1790","4040","4060",".","4710","1530","2360","10",".",".",".",".","0","0","20","7,1","100","70","10","30","20",".",".",".",82,77,23,400,".",".",33.6,41.8,".",31.6,32.8,4.9,8.5,12.1,14.2,293.7,"20","20","20","30",25,11.3,25,39,"90","0","5","5","10","10","40","10","15","165","115","50",0.6,"600","20",0.9,0.8,0.6,0.8,7.3,27,27,0,1087,1,3,1084,55.64516129032258,56.451612903225815,3.225806451612903,27.419354838709676,3.225806451612903,0,0,0,0,0,0,0,0,0,0,0,0,0,0,0,0,0,0,0,0,0,0,0,0,0]
["BU0363MK05","0363MK05","Muidenbuurt-West","Amsterdam","Buurt","BU0363MK05","IJburg-Oost",3,0,0,0,0,0,0,0,0,0,0,0,0,"0","0","0","0","0","0","0","0","0","0","0","0",0,0,0,0,".",".",0,".",".",".",".",".",".",".",".",".",".",".",".",".",".",".",".",".",".",".",".",".",".",".",".",".",".",".",".",".","0","0","0","0","0",".",".",".",".",".",".",0,".",".",".",".",".",".",".",".",".",".",".",".",".",".",".",".",".",".",".",".","0",".",".",".",".",".",".",".",".","0","0","0",".",".","0",".",".",".",".",".",6,6,0,".",".",".",".","Geen inwoners","Geen inwoners","Geen inwoners","Geen inwoners","Geen inwoners",0,0,0,0,0,0,0,0,0,0,0,0,0,0,0,0,0,0,0,0,0,0,0,0,0]
["BU0363ML01","0363ML01","Havenkwartier IJburg","Amsterdam","Buurt","BU0363ML01","IJburg-Zuid",2,1830,850,985,370,225,705,380,150,1190,435,180,35,"525","270","1040","525","65","530","205","505","20","11","5","3",860,370,160,330,2.1,15982,822,477,10,90,97,3,23,77,44,33,0,0,100,"2040","1940","3110","2780",".",".","2030","2100","0","0","0","0",".",".","0","0","99,1","190","120","60","50","30",370,570,760,73,84,16,1400,".",".",42.9,25,".",39.6,16.7,7.2,11.4,13.8,17.2,10.6,"80","80","20","140",55,10.3,120,67,"360","0","25","45","60","35","95","55","40","550","410","140",0.6,"4801","35",0.4,0.4,0.2,0.3,9,14,11,2,1087,1,2,1973,71.31147540983606,71.31147540983606,1.639344262295082,20.21857923497268,8.19672131147541,0,0,0,0,0,0,0,0,0,0,0,0,0,0,0,0,0,0,0,0,0,0,0,0,0]
["BU0363ML02","0363ML02","Theo van Goghparkbuurt","Amsterdam","Buurt","BU0363ML02","IJburg-Zuid",2,6055,3000,3055,1625,875,1650,1685,215,3875,1745,380,50,"2645","950","2455","2645","345","1365","605","1095","65","11","10","1",2250,665,330,1260,2.7,13633,2186,670,33,67,98,2,50,50,39,11,0,0,100,"2640","2240","3350","3560","4330",".","2160","3120","0","0","0","0","0",".","0","0","95,2","850","710","130","200","110",890,1290,2270,75,78,22,4200,56.6,39.8,36,38.4,".",27.7,41,7.1,8.2,10.8,12.6,145.8,"140","250","70","190",300,12.6,305,50,"930","0","45","75","140","60","315","180","120","1590","1100","490",0.7,"3578","130",0.6,0.6,0.2,0.3,8.2,49,44,4,1087,1,2,1528,56.31709331131296,56.31709331131296,1.8166804293971925,26.837324525185796,3.5507844756399667,0,0,0,0,0,0,0,0,0,0,0,0,0,0,0,0,0,0,0,0,0,0,0,0,0]
["BU0363ML03","0363ML03","Rieteiland-Oost","Amsterdam","Buurt","BU0363ML03","IJburg-Zuid",2,330,150,170,95,55,35,140,0,205,110,10,0,"235","45","50","230","30","25","15","25","0","6","0","0",95,5,15,70,3.5,3147,90,1679,100,0,98,2,98,2,0,2,0,0,100,"5660",".",".",".",".","5660",".","5680","0",".",".",".",".","0",".","0","63,3","50","60","0","10","10",".",".",".",79,61,39,200,".",".",32,57.7,".",".",".",".",".",".",".",".","0","0","0","0",15,11.6,".",".","80","0","0","0","10","15","35","10","5","125","70","55",1.3,"1207","10",1.3,1.3,0.7,0.9,7.4,10,10,0,1087,1,3,1434,30.303030303030305,28.78787878787879,3.0303030303030303,28.78787878787879,0,0,0,0,0,0,0,0,0,0,0,0,0,0,0,0,0,0,0,0,0,0,0,0,0,0]
["BU0363MM01","0363MM01","Van der Kunbuurt","Amsterdam","Buurt","BU0363MM01","Frankendael",2,625,315,310,110,85,230,130,75,420,130,55,10,"150","80","390","150","30","160","50","230","5","6","5","3",325,180,50,95,1.9,8489,272,421,0,100,96,4,0,100,100,0,0,100,0,"1520","1520",".",".",".",".","1520",".","710","710",".",".",".",".","710",".",".","50","20","20","20","30",".",".",".",63,88,12,500,".",".",51.1,12.9,".",58.1,6.2,12.2,17.7,21.8,27.2,1.5,"50","30","10","60",20,13.7,50,82,"155","0","10","25","25","15","50","15","15","3585","85","3500",".",".","10",0.6,0.9,0.8,1,26.8,9,7,2,1097,1,1,6834,76,76,4.8,17.599999999999998,12,0,0,0,0,0,0,0,0,0,0,0,0,0,0,0,0,0,0,0,0,0,0,0,0,0]
["BU0363MM02","0363MM02","De Eenhoorn","Amsterdam","Buurt","BU0363MM02","Frankendael",2,3295,1750,1550,230,795,1740,430,100,2830,250,205,15,"1070","640","1590","1075","90","525","545","1065","60","18","10","3",2075,1660,285,130,1.3,18799,1698,359,1,99,96,4,1,99,49,50,0,43,57,"1390","1390","2530",".",".",".","1390","2900","310","310","1050",".",".",".","310","910","10,7","120","50","50","150","610",680,1360,1260,68,90,10,2200,".",".",43.2,22.9,".",71.9,9.4,8.5,8.3,13.1,15.8,1.1,"80","210","80","100",40,5.2,175,53,"410","0","25","45","65","35","115","60","60","2480","1180","1300",1.2,"14129","45",0.6,0.4,0.6,0.9,28.8,18,18,0,1097,1,1,7001,67.37481031866464,67.52655538694992,18.512898330804248,6.980273141122914,3.0349013657056148,0,0,0,0,0,0,0,0,0,0,0,0,0,0,0,0,0,0,0,0,0,0,0,0,0]
["BU0363MM03","0363MM03","Don Bosco","Amsterdam","Buurt","BU0363MM03","Frankendael",2,2155,1075,1085,345,245,730,525,310,1435,555,115,55,"1275","370","515","1275","120","210","250","300","30","13","15","6",1065,475,265,325,2,13739,1016,668,14,86,94,6,44,56,29,28,0,98,2,"2000","1940","2140","2620","4200",".","1740","2340","800","800","840","850",".",".","770","850",".","170","110","30","50","100",200,520,1000,75,77,23,1700,".",".",33.5,33.2,".",39,28.9,5.4,6.5,9.2,11.3,73.7,"40","50","20","280",55,10.6,95,45,"445","0","20","40","35","25","145","85","100","620","455","165",0.6,"3952","40",0.4,0.4,0.3,0.8,25.9,16,16,1,1097,1,1,7354,40.835266821345705,40.835266821345705,4.640371229698376,16.009280742459396,14.385150812064964,0,0,0,0,0,0,0,0,0,0,0,0,0,0,0,0,0,0,0,0,0,0,0,0,0]
["BU0363MM04","0363MM04","Julianapark","Amsterdam","Buurt","BU0363MM04","Frankendael",2,1050,530,515,105,55,580,170,140,755,215,65,20,"545","245","260","540","55","100","190","160","15","15","5","3",635,345,200,90,1.6,5681,610,565,17,83,98,2,13,87,18,69,0,69,31,"1680","1580","2100","2480",".",".","1660","1810","600","550","820","1010",".",".","610","560",".","50","30","10","10","20",60,170,970,83,87,13,900,".",".",16.4,48.3,".",24.2,23.8,3,4.8,6.5,7,32,"10","20","20","120",20,16.3,35,35,"225","0","10","35","40","20","70","25","25","255","200","55",0.4,"1392","25",0.7,1.1,0.5,1.3,22.4,19,18,1,1097,1,1,5482,48.57142857142857,48.095238095238095,1.9047619047619049,10,13.333333333333334,0,0,0,0,0,0,0,0,0,0,0,0,0,0,0,0,0,0,0,0,0,0,0,0,0]
["BU0363MM05","0363MM05","Frankendael","Amsterdam","Buurt","BU0363MM05","Frankendael",2,15,5,10,5,0,5,5,0,15,5,0,0,"15","0","0","15","0","5","0","0","0","63","0","63",5,5,0,0,1.8,65,8,".",".",".",".",".",".",".",".",".",".",".",".","1980","1860",".",".",".",".","1940","2060","840","790",".",".",".",".","740","1110",".","0","0","0","0","0",".",".",".",".",".",".",0,".",".",".",".",".",".",".",".",".",".",".",".",".",".",".",".",".",".",".",".","15",".",".",".",".",".",".",".",".","15","10","5",".",".","0",0.4,0.3,0.2,0.5,26.1,29,25,5,1097,1,1,6107,0,0,0,33.33333333333333,0,0,0,0,0,0,0,0,0,0,0,0,0,0,0,0,0,0,0,0,0,0,0,0,0,0]
["BU0363MM06","0363MM06","Tuindorp Amstelstation","Amsterdam","Buurt","BU0363MM06","Frankendael",2,830,355,480,135,80,175,235,205,485,170,135,45,"375","60","400","375","25","185","35","215","10","12","15","16",485,265,75,140,1.7,7706,486,379,12,88,97,3,0,100,100,0,0,100,0,"1530","1550","1380","1360",".",".","1530",".","790","800","700","730",".",".","790",".",".","70","40","20","20","0",230,200,170,51,84,16,700,".",".",59.6,5.5,".",76.7,4.6,14.6,25.2,33.1,39.7,2.8,"90","70","10","180",35,18.3,145,175,"90","0","10","15","15","0","15","25","10","205","175","35",0.4,"1913","15",0.1,1.3,0.5,1.6,17.8,11,11,0,1097,1,1,5013,54.81927710843374,54.81927710843374,0,16.265060240963855,24.69879518072289,0,0,0,0,0,0,0,0,0,0,0,0,0,0,0,0,0,0,0,0,0,0,0,0,0]
["BU0363MM07","0363MM07","De Wetbuurt","Amsterdam","Buurt","BU0363MM07","Frankendael",2,1820,880,940,285,190,390,540,415,1070,495,165,95,"1160","210","450","1155","95","200","120","255","20","11","25","13",875,415,195,270,2,6630,883,566,43,57,96,4,37,63,50,13,0,100,0,"1880","1580","2240","2150",".",".","1600","2330","810","690","910","1070",".",".","780","860",".","110","140","20","50","70",240,410,690,69,80,20,1400,".",".",39.2,27,".",46.6,23.1,7.2,10.4,14.8,18.4,38.2,"60","70","20","300",60,13.5,215,117,"250","0","25","10","25","10","80","65","35","490","400","90",0.6,"1776","70",0.4,1.2,0.3,1.5,19,29,27,1,1097,1,1,3619,36.53846153846153,36.26373626373626,3.8461538461538463,15.659340659340659,22.802197802197803,0,0,0,0,0,0,0,0,0,0,0,0,0,0,0,0,0,0,0,0,0,0,0,0,0]
["BU0363MM08","0363MM08","Tuindorp Frankendael","Amsterdam","Buurt","BU0363MM08","Frankendael",2,2770,1405,1370,400,185,915,705,570,1670,650,330,120,"1455","360","950","1460","110","415","250","540","25","9","55","19",1600,1015,265,320,1.7,7687,1610,500,17,83,96,4,15,85,58,27,0,75,25,"1560","1320","2520","2800","3230","4450","1350","2850","640","570","880","1050","1410","1590","570","1080",".","200","120","40","40","30",420,600,1050,67,77,23,2200,".",38.6,37.7,23.1,".",62.3,15.6,11.7,14,19.3,22.1,8,"140","160","40","520",55,10.5,400,145,"440","0","40","35","50","25","135","90","65","720","580","140",0.4,"1994","65",0.5,0.7,0.2,0.4,23,36,36,0,1097,1,1,3662,47.292418772563174,47.47292418772563,1.083032490974729,14.440433212996389,20.577617328519857,0,0,0,0,0,0,0,0,0,0,0,0,0,0,0,0,0,0,0,0,0,0,0,0,0]
["BU0363MN01","0363MN01","Linnaeusparkbuurt","Amsterdam","Buurt","BU0363MN01","Middenmeer",2,2650,1295,1355,430,300,890,650,380,1745,700,165,40,"1725","435","490","1725","150","230","285","255","30","11","10","3",1325,605,345,380,2,15421,1284,824,6,94,92,8,45,55,19,37,0,100,0,"2160","2110","3110","2610",".",".","1770","2650","900","870","1440","1550",".",".","780","1060",".","210","170","20","60","100",240,420,1400,78,72,28,2100,".",51,28.8,39.9,".",34.2,33.6,5,5.2,7.2,9.4,93.4,"30","50","20","350",60,9.2,105,40,"705","0","30","95","65","65","235","115","100","750","565","185",0.6,"4360","75",0.3,0.4,0.2,0.3,25.1,18,17,1,1098,1,1,7042,34.90566037735849,34.90566037735849,3.7735849056603774,16.22641509433962,14.339622641509434,0,0,0,0,0,0,0,0,0,0,0,0,0,0,0,0,0,0,0,0,0,0,0,0,0]
["BU0363MN02","0363MN02","Middenmeer-Noord","Amsterdam","Buurt","BU0363MN02","Middenmeer",2,2860,1340,1515,530,350,805,760,420,1730,905,150,70,"1960","395","515","1955","145","250","245","260","30","12","10","4",1300,485,330,490,2.2,15416,1202,826,5,95,95,5,45,55,21,34,0,100,0,"2220","2180","3150",".",".",".","1960","2540","970","950","1460",".",".",".","910","1040",".","240","210","20","60","100",260,480,1440,78,75,25,2300,".",46.6,30.7,37.3,".",33.7,35.6,3.6,5,7.5,9.1,84.5,"30","50","20","360",70,8.7,125,44,"605","0","25","40","70","45","210","120","95","785","620","165",0.6,"4224","60",0.2,0.5,0.3,0.2,24.1,19,19,0,1098,1,1,7083,31.643356643356647,31.46853146853147,3.4965034965034967,18.53146853146853,14.685314685314685,0,0,0,0,0,0,0,0,0,0,0,0,0,0,0,0,0,0,0,0,0,0,0,0,0]
["BU0363MN03","0363MN03","Middenmeer-Zuid","Amsterdam","Buurt","BU0363MN03","Middenmeer",2,5070,2440,2625,920,660,1660,1215,610,3305,1320,310,130,"3280","835","955","3280","325","500","510","460","75","14","25","5",2435,1005,630,805,2.1,12799,2314,660,4,96,95,5,47,53,9,44,0,100,0,"2140","2110","2830",".",".",".","1990","2310","810","800","1170",".",".",".","740","890","4,6","460","330","40","110","250",420,840,2640,80,78,22,4000,53,42.1,30.6,36.1,".",36.1,29.8,5,5.1,7.4,9.3,106,"40","90","50","530",165,11.6,225,45,"990","0","50","100","105","45","335","190","160","1395","1110","285",0.6,"3526","90",0.4,0.4,0.3,0.6,20.9,40,40,0,1098,1,1,4362,35.30571992110454,35.30571992110454,4.930966469428008,18.14595660749507,12.03155818540434,0,0,0,0,0,0,0,0,0,0,0,0,0,0,0,0,0,0,0,0,0,0,0,0,0]
["BU0363MN04","0363MN04","Science Park-Noord","Amsterdam","Buurt","BU0363MN04","Middenmeer",2,2670,1180,1490,135,1285,920,265,65,2310,290,60,10,"860","960","845","865","105","205","855","640","15","6","0","0",1985,1495,365,120,1.3,6520,1847,330,0,100,95,5,14,86,73,13,0,0,100,"1670","1670",".",".",".",".","1560","2320","440","430",".",".",".",".","390","700",".","60","50","20","60","1150",110,1010,1420,58,87,13,1900,".",".",49.7,25.4,".",68,13.4,4.9,3.9,5.3,7.1,1.7,"0","20","20","60",20,1.6,15,6,"315","0","10","45","55","10","105","45","45","310","235","75",0.2,"763","45",1.1,0.3,0.6,1.2,16,42,41,1,1098,1,1,4402,67.60299625468164,67.79026217228464,43.07116104868914,5.056179775280898,2.4344569288389515,0,0,0,0,0,0,0,0,0,0,0,0,0,0,0,0,0,0,0,0,0,0,0,0,0]
["BU0363MN05","0363MN05","Science Park-Zuid","Amsterdam","Buurt","BU0363MN05","Middenmeer",2,310,180,120,20,110,160,10,5,280,15,5,0,"80","30","195","80","15","40","15","155","5","10","0","3",275,250,10,20,1.1,436,243,147,1,99,98,2,0,100,99,1,0,1,99,"1280","1270",".",".",".",".","1280",".","380","370",".",".",".",".","380",".",".","10","0","10","20","50",".",".",".",70,90,10,300,".",".",64.1,3.3,".",93.9,1.1,18.4,19.5,27.6,33.9,0,"60","0","10","10",".",".",".",".","150","0","10","20","45","10","45","10","15","55","40","15",0.2,"77","0",2,1.3,1.7,2.1,8.3,85,70,14,1098,1,3,1112,74.19354838709677,74.19354838709677,16.129032258064516,6.451612903225806,1.6129032258064515,0,0,0,0,0,0,0,0,0,0,0,0,0,0,0,0,0,0,0,0,0,0,0,0,0]
["BU0363MN06","0363MN06","Sportpark Middenmeer-Zuid","Amsterdam","Buurt","BU0363MN06","Middenmeer",2,310,135,170,35,15,50,60,145,130,95,35,50,"220","50","35","225","30","10","25","25","5","13","5","19",185,105,55,30,1.7,1462,189,651,2,98,96,4,56,44,40,4,0,100,0,"1820","1800",".",".",".",".","1540","2040","700","670",".",".",".",".","640","750",".","10","10","0","0","0",".",".",".",62,".",".",300,".",".",31.3,29.4,".",42.2,20,5,8.3,12.8,12.8,392,"0","10","0","130",".",".",65,216,"50","0","5","5","0","5","10","15","5","115","95","20",0.6,"539","5",0.7,0.4,0.6,0.8,19.3,21,21,0,1098,1,1,3226,27.419354838709676,29.03225806451613,0,11.29032258064516,46.774193548387096,0,0,0,0,0,0,0,0,0,0,0,0,0,0,0,0,0,0,0,0,0,0,0,0,0]
["BU0363MN07","0363MN07","Sportpark Middenmeer-Noord","Amsterdam","Buurt","BU0363MN07","Middenmeer",2,275,180,90,10,110,150,0,0,250,15,0,0,"40","10","215","40","5","75","10","145","0","7","0","0",245,230,15,5,1.1,1137,251,93,0,100,98,2,0,100,100,0,0,0,100,"1280","1280",".",".",".",".","1280",".","340","340",".",".",".",".","340",".",".","0","0","20","20","10",".",".",".",74,84,16,300,".",".",64.6,1.2,".",95.9,0.4,21.3,23.4,29.3,31.4,0,"20","0","0","0",".",".",".",".","50","0","5","10","10","0","15","10","10","25","15","5",0.1,"97","5",1.5,0.7,1.2,1.6,10.1,25,24,1,1098,1,2,2130,85.45454545454545,85.45454545454545,3.6363636363636362,3.6363636363636362,0,0,0,0,0,0,0,0,0,0,0,0,0,0,0,0,0,0,0,0,0,0,0,0,0,0]
["BU0363MN08","0363MN08","Park de Meer","Amsterdam","Buurt","BU0363MN08","Middenmeer",2,1565,740,825,200,175,330,545,315,825,560,125,50,"895","185","490","895","70","220","110","275","5","4","10","7",735,275,220,235,2.1,6058,700,709,30,70,98,2,64,36,27,9,0,0,100,"2340","2140","2690","2920",".","3590","2210","2420",".","0","0","0",".",".",".","0","96,0","100","90","30","40","40",260,350,660,69,79,21,1300,".",".",32.9,33.3,".",29.1,33.1,4.5,5.6,9.2,11,423.7,"40","80","20","280",45,13.5,165,106,"220","0","10","20","25","20","80","45","25","480","375","105",0.7,"1853","35",0.8,1.3,0.8,1.4,14.4,26,26,1,1098,1,1,2886,42.81150159744409,42.81150159744409,2.5559105431309903,12.779552715654951,20.12779552715655,0,0,0,0,0,0,0,0,0,0,0,0,0,0,0,0,0,0,0,0,0,0,0,0,0]
["BU0363MN09","0363MN09","Sportpark Voorland","Amsterdam","Buurt","BU0363MN09","Middenmeer",2,0,0,0,0,0,0,0,0,0,0,0,0,"0","0","0","0","0","0","0","0","0","0","0","0",0,0,0,0,".",".",0,".",".",".",".",".",".",".",".",".",".",".",".",".",".",".",".",".",".",".",".",".",".",".",".",".",".",".",".",".","0","0","0","0","0",".",".",".",".",".",".",0,".",".",".",".",".",".",".",".",".",".",".",".",".",".",".",".",".",".",".",".","5",".",".",".",".",".",".",".",".","0","0","0",".",".","0",".",".",".",".",".",27,27,0,1098,1,2,2310,"Geen inwoners","Geen inwoners","Geen inwoners","Geen inwoners","Geen inwoners",0,0,0,0,0,0,0,0,0,0,0,0,0,0,0,0,0,0,0,0,0,0,0,0,0]
["BU0363MP01","0363MP01","Drieburg","Amsterdam","Buurt","BU0363MP01","Betondorp",2,0,0,0,0,0,0,0,0,0,0,0,0,"0","0","0","0","0","0","0","0","0","0","0","0",0,0,0,0,".",".",0,".",".",".",".",".",".",".",".",".",".",".",".",".",".",".",".",".",".",".",".",".",".",".",".",".",".",".",".",".","0","0","0","0","0",".",".",".",".",".",".",0,".",".",".",".",".",".",".",".",".",".",".",".",".",".",".",".",".",".",".",".","10",".",".",".",".",".",".",".",".","0","0","0",".",".","0",".",".",".",".",".",28,27,1,1097,1,1,2523,"Geen inwoners","Geen inwoners","Geen inwoners","Geen inwoners","Geen inwoners",0,0,0,0,0,0,0,0,0,0,0,0,0,0,0,0,0,0,0,0,0,0,0,0,0]
["BU0363MP02","0363MP02","Nieuwe Oosterbegraafplaats","Amsterdam","Buurt","BU0363MP02","Betondorp",2,5,5,5,0,0,0,5,0,0,5,5,0,"0","0","5","5","0","0","0","0","0","0","0","0",0,5,0,0,2,".",3,".",".",".",".",".",".",".",".",".",".",".",".","2530","2510",".",".",".",".","2510",".","1410","1270",".",".",".",".","1270",".",".","0","0","0","0","0",".",".",".",".",".",".",0,".",".",".",".",".",".",".",".",".",".",".",".",".",".",".",".",".",".",".",".","0",".",".",".",".",".",".",".",".","5","5","0",".",".","0",".",".",".",".",".",39,38,1,1097,2,1,2860,0,100,0,0,0,0,0,0,0,0,0,0,0,0,0,0,0,0,0,0,0,0,0,0,0,0,0,0,0,0]
["BU0363MP03","0363MP03","Betondorp","Amsterdam","Buurt","BU0363MP03","Betondorp",2,3075,1440,1635,395,260,840,860,715,1815,710,410,140,"1800","310","960","1805","135","430","180","525","35","10","40","14",1860,1095,350,415,1.7,7018,1954,452,31,69,91,9,18,82,78,4,0,100,0,"1530","1440","1730","1700","1810",".","1480","1740","700","680","720","820","890",".","700","720",".","190","110","50","60","70",".",".",".",63,82,18,2600,34.5,29.6,48.2,15.3,".",63,8,12.1,16.9,23.8,29.4,8.9,"190","180","40","620",80,13.9,450,146,"380","0","30","50","50","10","95","80","70","920","800","120",0.5,"2101","90",0.3,1.4,0.3,1.4,15.8,46,44,2,1097,1,1,2604,41.300813008130085,41.46341463414634,2.2764227642276422,12.845528455284553,23.2520325203252,0,0,0,0,0,0,0,0,0,0,0,0,0,0,0,0,0,0,0,0,0,0,0,0,0]
["BU0363MQ01","0363MQ01","De Omval","Amsterdam","Buurt","BU0363MQ01","Omval/Overamstel",2,720,385,330,55,45,330,155,135,430,210,50,25,"265","230","220","265","35","50","195","170","5","6","10","11",430,210,165,60,1.7,6245,412,708,0,100,92,8,46,54,0,54,0,94,6,"1990","1990",".",".",".",".","2030","1950","60","60",".",".",".",".","50","80","87,6","20","10","0","10","20",".",".",".",77,80,20,600,".",".",17.8,55.9,".",20.2,38.8,2.5,2.3,2.3,2.3,214,"0","10","10","120",10,10,25,32,"225","0","5","15","35","45","90","20","10","210","155","55",0.5,"1833","20",0.7,1,0.9,1.1,25.9,15,12,3,1096,1,1,6582,63.19444444444444,63.19444444444444,2.7777777777777777,7.638888888888889,18.75,0,0,0,0,0,0,0,0,0,0,0,0,0,0,0,0,0,0,0,0,0,0,0,0,0]
["BU0363MQ02","0363MQ02","Overamstel","Amsterdam","Buurt","BU0363MQ02","Omval/Overamstel",2,50,30,20,5,5,20,25,0,35,10,0,0,"35","0","5","35","5","0","0","0","0","0","0","0",10,0,5,5,2.6,43,6,".",".",".",".",".",".",".",".",".",".",".",".",".",".",".",".",".",".",".",".",".",".",".",".",".",".",".",".",".","0","0","0","0","0",".",".",".",".",".",".",0,".",".",".",".",".",".",".",".",".",".",".",".",".",".",".",".",".",".",20,400,"10",".",".",".",".",".",".",".",".","0","0","0",".",".","0",3.4,3.2,3.1,3.4,0,119,111,9,1096,1,5,384,30,30,0,10,0,0,0,0,0,0,0,0,0,0,0,0,0,0,0,0,0,0,0,0,0,0,0,0,0,0]
["BU0363MQ03","0363MQ03","Amstelglorie","Amsterdam","Buurt","BU0363MQ03","Omval/Overamstel",2,75,45,35,10,10,15,30,15,55,20,0,5,"50","20","5","55","5","0","15","5","5","13","0","26",35,15,10,10,2.1,171,1,".",".",".",".",".",".",".",".",".",".",".",".","4840",".",".",".",".","5310",".",".","1260",".",".",".",".","1110",".",".",".","0","10","0","0","0",".",".",".",".",".",".",100,".",".",".",".",".",".",".",".",".",".",".",".","0","0","0","10",".",".",".",".","20",".",".",".",".",".",".",".",".","50","30","20",".",".","5",2.1,2,1.7,2.1,5.5,51,45,6,1096,1,2,1838,26.666666666666668,33.33333333333333,0,13.333333333333334,20,0,0,0,0,0,0,0,0,0,0,0,0,0,0,0,0,0,0,0,0,0,0,0,0,0]
["BU0363MQ04","0363MQ04","Amstelkwartier-West","Amsterdam","Buurt","BU0363MQ04","Omval/Overamstel",2,900,460,440,25,225,605,20,25,835,55,10,0,"345","255","300","350","30","95","225","205","5","3","0","0",725,590,110,20,1.2,4274,711,265,0,100,96,4,0,100,0,100,0,27,73,"1290","1290",".",".",".",".","1290",".","310","310",".",".",".",".","310",".",".","10","0","0","70","200",".",".",".",70,89,11,800,".",".",38.9,27.7,".",68,11.5,9.3,7.6,10.5,12.4,0.1,"10","10","10","20",".",".",".",".","190","0","5","15","25","15","80","20","25","95","75","15",0.1,"442","20",1.3,1.2,0.9,1.2,12.4,26,21,4,1096,1,3,1125,61.111111111111114,61.66666666666667,22.22222222222222,2.7777777777777777,2.7777777777777777,0,0,0,0,0,0,0,0,0,0,0,0,0,0,0,0,0,0,0,0,0,0,0,0,0]
["BU0363MQ05","0363MQ05","Amstelkwartier-Noord","Amsterdam","Buurt","BU0363MQ05","Omval/Overamstel",2,2775,1405,1370,300,335,1675,370,95,2200,465,100,10,"1505","590","680","1505","135","275","455","405","35","12","5","1",1810,1195,380,235,1.5,9857,1813,518,0,100,95,5,24,76,6,70,0,0,100,"1560","1540","5480",".",".",".","1260","2490",".",".","0",".",".",".",".","0","95,6","170","60","10","80","240",240,390,1880,86,84,16,2400,".",58.7,21.8,44.4,".",44.8,22.9,5,4.7,6.2,7.7,12.9,"30","30","30","80",40,9,30,11,"500","0","20","60","55","35","175","85","65","815","415","400",0.5,"2892","55",1.8,1.9,0.3,0.3,15.1,37,28,9,1096,1,1,3145,45.765765765765764,45.765765765765764,8.64864864864865,10.81081081081081,3.423423423423423,0,0,0,0,0,0,0,0,0,0,0,0,0,0,0,0,0,0,0,0,0,0,0,0,0]
["BU0363MQ06","0363MQ06","Amstelkwartier-Zuid","Amsterdam","Buurt","BU0363MQ06","Omval/Overamstel",3,75,45,30,0,10,40,10,5,55,15,0,0,"20","15","35","20","0","0","15","35","0","14","0","14",65,55,5,5,1.2,316,3,".",".",".",".",".",".",".",".",".",".",".",".",".",".",".",".",".",".",".",".",".",".",".",".",".",".",".",".",".","0","0","0","0","0",".",".",".",".",".",".",100,".",".",".",".",".",".",".",".",".",".",".",".","0","0","0","10",".",".",".",".","160","0","15","30","35","15","45","5","15","65","50","15",1.1,"290","10",2.2,2.1,1,1,8.9,24,23,2,1096,1,2,1577,73.33333333333333,73.33333333333333,0,0,6.666666666666667,0,0,0,0,0,0,0,0,0,0,0,0,0,0,0,0,0,0,0,0,0,0,0,0,0]
["BU0363MQ07","0363MQ07","Weespertrekvaart","Amsterdam","Buurt","BU0363MQ07","Omval/Overamstel",2,970,520,445,80,120,615,120,25,785,150,30,5,"475","210","285","480","55","125","150","160","20","21","0","1",550,340,140,75,1.6,2122,414,646,5,95,95,5,23,77,0,77,0,9,91,"2010","1810",".",".",".","5770","1390","4080","90","70",".",".",".","340","80","100",".","30","20","10","80","280",".",".",".",80,84,16,700,".",".",21.2,47.3,".",38.1,27.9,4,3.6,4,4.5,8.1,"0","50","10","20",10,6.5,10,11,"455","0","25","70","85","65","125","25","55","260","170","90",0.5,"571","35",2.3,2.1,2.2,2.2,3.3,48,46,3,1096,1,1,2860,50.51546391752577,51.03092783505154,28.865979381443296,8.24742268041237,2.5773195876288657,0,0,0,0,0,0,0,0,0,0,0,0,0,0,0,0,0,0,0,0,0,0,0,0,0]
["BU0363NA01","0363NA01","Noorder IJplas","Amsterdam","Buurt","BU0363NA01","Oostzanerwerf",2,140,75,65,15,20,10,55,45,65,60,15,5,"120","5","20","120","5","10","5","10","0","7","0","14",70,20,25,20,2.1,187,3,".",".",".",".",".",".",".",".",".",".",".",".",".",".",".",".",".",".",".",".",".",".",".",".",".",".",".",".",".","0","10","0","0","0",".",".",".",".",".",".",100,".",".",41.2,23.7,".",".",".",".",".",".",".",".","0","10","0","40",".",".",10,64,"30","0","5","0","5","0","10","0","5","75","60","15",1.1,"101","20",2.4,2.3,2.1,2.1,6.7,147,76,70,1037,1,5,321,14.285714285714285,14.285714285714285,0,10.714285714285714,32.142857142857146,0,0,0,0,0,0,0,0,0,0,0,0,0,0,0,0,0,0,0,0,0,0,0,0,0]
["BU0363NA02","0363NA02","Melkweg/Oostzanerwerf","Amsterdam","Buurt","BU0363NA02","Oostzanerwerf",3,80,45,35,5,10,15,40,15,45,25,5,5,"70","10","5","65","5","5","5","0","0","37","0","12",35,10,10,15,2.1,137,2,".",".",".",".",".",".",".",".",".",".",".",".",".",".",".",".",".",".",".",".",".",".",".",".",".",".",".",".",".","20","20","0","0","0",".",".",".",77,66,34,100,".",".",".",".",".",".",".",".",".",".",".",".","0","0","0","20",".",".",".",".","60","0","10","15","0","5","10","5","20","50","25","20",".",".","15",1.3,2,0.5,1.2,4.8,61,60,2,1035,1,4,992,18.75,12.5,0,6.25,18.75,0,0,0,0,0,0,0,0,0,0,0,0,0,0,0,0,0,0,0,0,0,0,0,0,0]
["BU0363NA03","0363NA03","Walvisbuurt","Amsterdam","Buurt","BU0363NA03","Oostzanerwerf",3,1360,675,685,240,155,350,430,185,720,510,85,45,"730","165","465","725","70","245","95","220","15","11","5","3",585,180,160,245,2.3,5624,548,505,88,12,97,3,70,30,24,6,0,95,5,"2660","2350","2620","2890","2750","3190","2380","2780","850","840","770","930","1390","1270","810","870",".","120","80","40","30","20",300,440,330,74,82,18,1100,".",".",33,23.4,".",28.9,26,3.6,5,5.9,7.6,262,"20","70","10","160",40,10.8,65,48,"170","0","35","25","30","5","25","25","25","605","480","125",1,"2492","75",0.9,0.9,0.6,0.6,7.9,26,24,2,1035,1,2,1780,46.69117647058824,46.32352941176471,1.4705882352941175,17.647058823529413,13.602941176470587,0,0,0,0,0,0,0,0,0,0,0,0,0,0,0,0,0,0,0,0,0,0,0,0,0]
["BU0363NA04","0363NA04","Twiske-West","Amsterdam","Buurt","BU0363NA04","Oostzanerwerf",2,2535,1245,1295,460,310,575,815,380,1375,930,165,70,"1640","270","630","1640","120","335","150","295","15","6","10","4",1040,270,300,465,2.4,6954,981,554,77,23,98,2,66,34,30,4,0,94,6,"2710","2320","2660","2900","3270","3550","2390","2870","880","770","830","1020","1050","1240","890","870",".","250","160","60","70","30",460,710,790,74,78,22,2000,".",34.3,35.4,25.4,".",28.1,33.3,5,5,6.8,9.7,317.4,"50","100","10","330",65,9.5,130,52,"370","0","50","45","45","15","95","60","55","1010","815","195",1,"2768","140",0.8,0.4,0.6,0.6,12.4,42,36,5,1035,1,2,1926,35.30571992110454,35.30571992110454,1.183431952662722,18.14595660749507,14.990138067061142,0,0,0,0,0,0,0,0,0,0,0,0,0,0,0,0,0,0,0,0,0,0,0,0,0]
["BU0363NA05","0363NA05","Oostzanerdijk","Amsterdam","Buurt","BU0363NA05","Oostzanerwerf",3,350,165,185,70,30,100,100,50,215,100,15,20,"255","50","40","255","20","25","30","15","0","6","0","6",155,55,40,65,2.2,3749,141,578,83,17,94,6,72,28,15,13,0,87,13,"2690","2260","2570","3220","2820","2540","2140","2910","950","860","970","880","860","1300","860","980",".","40","10","10","10","0",".",".",".",76,71,29,300,".",".",29.6,34.8,".",31.4,34.6,6.8,7.4,9.5,9.5,303.6,"0","10","0","40",10,8.8,10,34,"65","0","5","10","5","5","20","5","15","145","130","15",0.9,"1582","20",0.5,0.5,0.3,0.3,9.1,10,9,0,1033,5,2,2478,27.142857142857142,27.142857142857142,0,20,14.285714285714285,0,0,0,0,0,0,0,0,0,0,0,0,0,0,0,0,0,0,0,0,0,0,0,0,0]
["BU0363NA06","0363NA06","Circus/Kermisbuurt","Amsterdam","Buurt","BU0363NA06","Oostzanerwerf",2,1335,685,650,190,125,445,395,180,735,450,110,40,"730","180","425","730","50","205","125","225","20","15","5","4",690,325,150,215,1.9,8388,643,406,35,65,98,2,55,45,37,8,0,92,8,"2050","1780","2580","2410",".",".","1990","2100","610","550","700","770",".",".","650","580",".","90","60","30","20","20",280,440,370,72,85,15,1100,".",".",36.8,19.2,".",41.2,14.2,7.7,8.9,11.7,13.1,111.3,"40","80","10","160",20,6.8,90,66,"150","0","25","15","20","5","40","25","20","505","415","90",0.7,"3188","45",1.3,0.9,1,1,5.1,16,16,0,1033,1,2,1932,45.31835205992509,45.31835205992509,1.4981273408239701,14.232209737827715,13.48314606741573,0,0,0,0,0,0,0,0,0,0,0,0,0,0,0,0,0,0,0,0,0,0,0,0,0]
["BU0363NA07","0363NA07","Molenwijk","Amsterdam","Buurt","BU0363NA07","Oostzanerwerf",2,3065,1460,1605,605,440,790,685,545,1755,765,385,160,"1045","340","1685","1045","95","745","235","935","25","8","35","11",1495,750,240,510,2.1,10106,1416,323,0,100,96,4,15,85,80,5,0,100,0,"1860","1860",".",".",".",".","1840","1990","800","800",".",".",".",".","800","780","5,6","300","240","130","70","60",900,900,400,58,83,17,2300,".",21.1,56,7.5,".",60.5,5,13.1,16.7,24.6,29.3,4.5,"260","160","30","470",120,12.4,425,138,"280","0","45","45","65","5","45","55","20","775","630","145",0.5,"2552","35",0.8,0.7,0.7,0.7,8,30,30,0,1035,1,2,2347,65.90538336052202,65.90538336052202,1.957585644371941,19.73898858075041,17.781402936378466,0,0,0,0,0,0,0,0,0,0,0,0,0,0,0,0,0,0,0,0,0,0,0,0,0]
["BU0363NB01","0363NB01","Cornelis Douwesterrein-West","Amsterdam","Buurt","BU0363NB01","Noordelijke IJ-oevers-West",3,0,0,0,0,0,0,0,0,0,0,0,0,"0","0","0","0","0","0","0","0","0","0","0","0",0,0,0,0,".",".",0,".",".",".",".",".",".",".",".",".",".",".",".",".",".",".",".",".",".",".",".",".",".",".",".",".",".",".",".",".","0","0","0","0","0",".",".",".",".",".",".",0,".",".",".",".",".",".",".",".",".",".",".",".",".",".",".",".",".",".",".",".","130","0","35","25","10","35","25","0","0","80","60","20",".",".","5",".",".",".",".",".",59,44,15,1033,1,4,733,"Geen inwoners","Geen inwoners","Geen inwoners","Geen inwoners","Geen inwoners",0,0,0,0,0,0,0,0,0,0,0,0,0,0,0,0,0,0,0,0,0,0,0,0,0]
["BU0363NB02","0363NB02","Cornelis Douwesterrein-Oost","Amsterdam","Buurt","BU0363NB02","Noordelijke IJ-oevers-West",3,0,0,0,0,0,0,0,0,0,0,0,0,"0","0","0","0","0","0","0","0","0","0","0","0",0,0,0,0,1,".",0,".",".",".",".",".",".",".",".",".",".",".",".",".",".",".",".",".",".",".",".",".",".",".",".",".",".",".",".",".","0","0","0","0","0",".",".",".",".",".",".",0,".",".",".",".",".",".",".",".",".",".",".",".",".",".",".",".",".",".",".",".","305","0","60","70","30","45","65","20","20","275","140","135",".",".","5",".",".",".",".",".",80,48,32,1033,1,2,2295,"Geen inwoners","Geen inwoners","Geen inwoners","Geen inwoners","Geen inwoners",0,0,0,0,0,0,0,0,0,0,0,0,0,0,0,0,0,0,0,0,0,0,0,0,0]
["BU0363NB03","0363NB03","NDSM terrein","Amsterdam","Buurt","BU0363NB03","Noordelijke IJ-oevers-West",2,3280,1680,1595,115,640,2325,175,25,2940,265,75,5,"1400","755","1125","1400","130","585","625","540","40","12","5","1",2515,1845,560,110,1.3,8771,2548,330,0,100,89,11,3,97,12,85,0,0,100,"1360","1360",".",".",".",".","1340","2050","0","0",".",".",".",".",".",".","99,8","30","20","30","210","450",80,1170,2340,82,86,14,3000,45,42.4,30.9,28,".",58,8.2,8.9,7.4,9.2,10.7,0.1,"40","30","60","20",10,2.4,25,7,"1140","0","60","165","190","45","350","115","215","740","575","165",0.3,"1984","105",0.8,0.5,1,1.4,10.8,79,37,42,1033,1,2,2136,57.3170731707317,57.3170731707317,13.719512195121952,3.50609756097561,0.7621951219512195,0,0,0,0,0,0,0,0,0,0,0,0,0,0,0,0,0,0,0,0,0,0,0,0,0]
["BU0363NB04","0363NB04","Buiksloterham-Zuid","Amsterdam","Buurt","BU0363NB04","Noordelijke IJ-oevers-West",2,1375,740,640,220,95,750,245,70,1000,250,115,5,"625","265","490","625","70","235","190","255","25","18","5","1",790,435,185,165,1.8,3799,649,508,11,89,96,4,27,73,47,26,0,1,99,"1700","1550","2920","3030",".",".","1500","2240","100","100",".","0",".",".","130","10","76,7","150","60","10","30","30",".",".",".",77,78,22,1100,".",".",30.4,36.2,".",45.8,21.3,12.6,14.1,19.3,21.6,7.4,"80","70","30","60",15,5.9,75,56,"615","0","45","65","95","55","200","75","85","475","315","160",0.6,"1313","40",0.4,1,0.5,0.7,13.7,66,36,30,1031,1,1,2554,54.54545454545454,54.54545454545454,2.181818181818182,16,5.090909090909091,0,0,0,0,0,0,0,0,0,0,0,0,0,0,0,0,0,0,0,0,0,0,0,0,0]
["BU0363NB05","0363NB05","Buiksloterham-Noord","Amsterdam","Buurt","BU0363NB05","Noordelijke IJ-oevers-West",3,1405,740,665,315,115,555,355,65,965,365,65,5,"855","240","310","855","75","175","165","130","25","15","5","1",660,285,145,230,2.1,3623,613,608,13,87,90,10,66,33,18,15,0,10,90,"2290","2040","3940","4120",".",".","1540","2640","10","10","0","0",".",".","30",".","56,0","180","80","20","20","20",100,170,920,84,68,32,1000,".",".",24.9,43.6,".",31.9,39.5,7.2,5.9,7.2,7.9,358.4,"10","20","20","50",50,12.6,30,23,"600","0","45","75","50","40","220","65","105","435","295","140",0.7,"1126","45",0.9,1.2,0.7,0.7,19.3,49,39,11,1032,1,1,2685,39.14590747330961,39.14590747330961,1.4234875444839856,22.419928825622776,4.6263345195729535,0,0,0,0,0,0,0,0,0,0,0,0,0,0,0,0,0,0,0,0,0,0,0,0,0]
["BU0363NB06","0363NB06","Klaprozenbuurt","Amsterdam","Buurt","BU0363NB06","Noordelijke IJ-oevers-West",3,130,65,60,15,15,40,35,20,70,40,10,5,"85","20","20","80","5","10","15","10","0","8","0","0",70,25,25,20,1.9,686,17,".",".",".",".",".",".",".",".",".",".",".",".","2520","2520",".",".",".",".","2360",".","1170","1170",".",".",".",".","1050",".",".","10","0","0","0","10",".",".",".",".",".",".",100,".",".",35.2,22.9,".",".",".",".",".",".",".",".","0","0","0","20",".",".",".",".","140","0","10","55","15","10","30","5","10","75","60","20",1.1,"419","5",1.3,1.3,0.8,1.2,20.5,20,18,2,1032,2,1,2566,38.46153846153847,34.61538461538461,7.6923076923076925,11.538461538461538,15.384615384615385,0,0,0,0,0,0,0,0,0,0,0,0,0,0,0,0,0,0,0,0,0,0,0,0,0]
["BU0363NB07","0363NB07","Overhoeks","Amsterdam","Buurt","BU0363NB07","Noordelijke IJ-oevers-West",2,3225,1775,1450,255,330,1690,620,335,2180,830,165,50,"1485","790","950","1480","125","345","665","600","45","15","15","4",2000,1080,670,255,1.6,10663,1925,575,0,100,94,6,30,70,27,43,0,0,100,"1920","1920",".",".",".",".","1750","2320","0","0",".",".",".",".","0","0","46,8","70","70","10","30","240",230,730,1920,76,81,19,2700,66.8,59.4,21.8,47.5,".",32.2,34.5,5.3,5.3,6.8,8,26.4,"50","70","50","290",35,6.8,115,36,"700","0","20","65","100","65","260","85","100","775","560","215",0.4,"2556","90",0.6,0.3,0.6,1,8.8,51,30,21,1031,1,1,4049,54.10852713178295,53.95348837209303,7.441860465116279,7.906976744186046,10.387596899224807,0,0,0,0,0,0,0,0,0,0,0,0,0,0,0,0,0,0,0,0,0,0,0,0,0]
["BU0363NC01","0363NC01","Tuindorp Oostzaan-West","Amsterdam","Buurt","BU0363NC01","Tuindorp Oostzaan",2,1135,525,610,175,95,220,265,385,530,345,130,130,"750","100","285","750","45","120","55","165","10","5","45","39",550,260,135,155,1.9,6589,550,405,71,29,97,3,24,76,69,7,0,100,0,"2020","1760","2170","1880",".",".","1910","2360","700","530","750","860",".",".","690","760",".","100","60","20","20","10",280,310,160,62,80,20,900,".",".",46.4,12.3,".",54,8.8,7.8,14.2,18.8,22,13,"40","50","0","360",45,17.3,235,208,"125","0","30","15","20","5","20","15","20","410","355","55",0.8,"2388","30",0.9,1.8,0.6,0.9,5.9,18,17,1,1033,1,3,1456,33.92070484581498,33.92070484581498,0.881057268722467,15.418502202643172,33.92070484581498,0,0,0,0,0,0,0,0,0,0,0,0,0,0,0,0,0,0,0,0,0,0,0,0,0]
["BU0363NC02","0363NC02","Tuindorp Oostzaan-Oost","Amsterdam","Buurt","BU0363NC02","Tuindorp Oostzaan",2,4180,1920,2260,700,400,1090,1170,815,2275,1280,395,225,"2785","410","985","2785","190","495","225","490","55","13","40","9",2050,845,450,755,2,8264,1998,418,95,5,98,2,31,69,66,3,0,100,0,"2020","1980","2000","2030","2040","3300","1920","2250","850","940","810","890","950","1630","840","860",".","340","210","80","60","40",1170,1070,840,66,81,19,3400,33.6,27.3,47,14.5,".",50.7,12.1,9.1,11.6,17.1,21.2,12.6,"210","260","40","720",150,14.7,485,116,"535","0","85","65","60","5","105","110","100","1500","1280","220",0.7,"2971","160",0.4,1.1,0.3,0.4,6.9,53,51,2,1033,1,1,2644,33.37320574162679,33.37320574162679,0.9569377990430622,16.74641148325359,19.497607655502392,0,0,0,0,0,0,0,0,0,0,0,0,0,0,0,0,0,0,0,0,0,0,0,0,0]
["BU0363NC03","0363NC03","Terrasdorp","Amsterdam","Buurt","BU0363NC03","Tuindorp Oostzaan",2,4045,2030,2010,560,370,1250,1095,770,2325,1090,465,165,"1965","430","1640","1970","150","735","285","905","50","13","45","10",2180,1125,480,570,1.8,6197,2121,386,44,56,97,3,22,78,71,7,0,92,8,"1780","1520","2080","2090","1610","2860","1680","2090","610","570","630","790","640",".","620","570",".","300","160","90","60","50",980,950,1210,62,81,19,3300,32.8,27.3,47.4,13.4,".",59.5,8.9,11.3,15.5,21.8,26.6,7.4,"260","320","40","660",110,13.5,535,133,"525","0","45","60","90","15","120","85","110","1310","1105","205",0.6,"2011","120",0.5,0.9,0.6,0.9,9.4,69,65,4,1033,1,1,2770,51.29789864029666,51.42150803461063,1.2360939431396787,13.8442521631644,19.03584672435105,0,0,0,0,0,0,0,0,0,0,0,0,0,0,0,0,0,0,0,0,0,0,0,0,0]
["BU0363NC04","0363NC04","De Bongerd","Amsterdam","Buurt","BU0363NC04","Tuindorp Oostzaan",2,2690,1325,1365,815,325,865,590,90,1735,810,125,20,"1365","245","1085","1360","125","670","115","410","50","19","0","1",920,205,130,585,2.9,10384,840,687,78,22,97,3,63,37,32,5,0,0,100,"2520","1830","2680","2650","3670",".","2290","2660","250","200","280","0","910",".","220","270","59,3","470","230","80","60","30",350,470,1060,81,81,19,1800,".",32.3,31.8,31.7,".",23.2,41.9,4.6,4.8,7.3,8.9,380.2,"60","70","20","80",95,8.5,70,26,"340","0","25","30","55","10","100","70","50","830","625","205",0.9,"3209","75",1,0.3,0.2,0.3,7.6,30,26,4,1036,1,1,2780,49.44237918215613,49.25650557620818,1.1152416356877324,30.297397769516728,3.3457249070631967,0,0,0,0,0,0,0,0,0,0,0,0,0,0,0,0,0,0,0,0,0,0,0,0,0]
["BU0363ND01","0363ND01","Twiske-Oost","Amsterdam","Buurt","BU0363ND01","Kadoelen",2,1090,530,565,170,125,230,315,240,530,435,80,50,"675","80","340","670","40","175","45","160","15","12","5","2",455,130,120,205,2.4,5960,444,484,78,22,98,2,55,45,44,1,0,100,0,"2400","1770","2570","2640",".",".","1890","2820","720","610","730","840",".",".","650","780",".","80","70","50","20","20",260,390,190,67,84,16,900,".",".",41,18.4,".",36,23.6,3.2,3.6,7,9.9,168.7,"20","50","10","220",30,10.8,95,86,"95","0","25","10","10","0","20","15","10","445","365","80",1,"2429","40",1.1,0.6,0.7,0.7,13.7,19,18,1,1035,1,2,1646,38.53211009174312,38.07339449541284,1.834862385321101,15.59633027522936,22.018348623853214,0,0,0,0,0,0,0,0,0,0,0,0,0,0,0,0,0,0,0,0,0,0,0,0,0]
["BU0363ND02","0363ND02","Kadoelen","Amsterdam","Buurt","BU0363ND02","Kadoelen",2,2475,1175,1300,610,250,605,695,320,1475,800,135,60,"1765","235","475","1765","110","285","125","190","30","11","5","4",950,225,235,495,2.6,2125,903,709,89,11,97,3,71,29,24,5,0,77,23,"2880","2160","2480","2800","3330","3600","2180","3160","980","830","810","970","1080","1240","860","1020",".","360","190","40","40","30",360,510,880,75,72,28,1800,".",".",35,33.9,".",24.8,40.1,5,5.6,7.1,8.6,467,"40","70","30","290",105,12.7,120,48,"480","0","40","40","40","40","165","65","85","925","690","235",1,"795","125",1.1,1.1,0.6,0.6,13,131,116,14,1035,1,2,1977,28.68686868686869,28.68686868686869,1.2121212121212122,24.646464646464647,12.929292929292929,0,0,0,0,0,0,0,0,0,0,0,0,0,0,0,0,0,0,0,0,0,0,0,0,0]
["BU0363NE01","0363NE01","Banne-Noordwest","Amsterdam","Buurt","BU0363NE01","Banne Buiksloot",2,2650,1290,1360,480,410,790,625,345,1535,745,270,95,"640","325","1690","635","90","795","230","900","35","12","20","8",1270,655,180,435,2.1,8688,1121,353,7,93,98,2,20,80,73,7,0,100,0,"1900","1940","1290","1490",".",".","1830","2170","670","670","600","740",".",".","670","670",".","260","190","110","60","60",880,770,340,62,82,18,2000,".",21.8,53.9,7.6,".",60.7,7.9,12.9,16.8,23,27.9,3.7,"190","150","20","290",100,12.6,300,112,"275","0","35","35","60","5","40","55","40","735","565","170",0.6,"2410","35",0.6,0.7,0.2,0.3,12.8,34,31,4,1034,1,2,2117,76.0377358490566,75.84905660377359,2.2641509433962264,18.11320754716981,13.018867924528301,0,0,0,0,0,0,0,0,0,0,0,0,0,0,0,0,0,0,0,0,0,0,0,0,0]
["BU0363NE02","0363NE02","Banne-Noordoost","Amsterdam","Buurt","BU0363NE02","Banne Buiksloot",2,3555,1740,1815,665,520,950,875,550,1985,1140,305,135,"1165","395","2000","1165","145","980","250","1020","35","10","20","6",1540,575,345,620,2.3,8830,1467,395,16,84,98,2,31,69,64,6,0,100,0,"2050","1970","2330","2630",".","5360","1950","2280","820","790","850","1030",".","2830","820","810",".","340","260","140","100","50",1020,1060,580,62,81,19,2800,30.3,23.7,52.5,11.4,".",48.2,11.8,10.4,13.2,18.8,22.7,8.2,"240","180","30","490",100,9.4,330,93,"350","0","50","40","60","5","80","75","45","1045","815","235",0.7,"2598","60",0.7,1.1,0.5,0.5,12.4,46,40,5,1034,1,2,2239,67.22925457102671,67.22925457102671,1.4064697609001406,18.70604781997187,15.471167369901547,0,0,0,0,0,0,0,0,0,0,0,0,0,0,0,0,0,0,0,0,0,0,0,0,0]
["BU0363NE03","0363NE03","Banne-Zuidwest","Amsterdam","Buurt","BU0363NE03","Banne Buiksloot",2,3795,1740,2060,730,610,925,845,685,2175,1045,375,215,"1110","395","2290","1115","130","1080","265","1205","30","9","85","22",1570,655,270,650,2.3,11301,1401,405,16,84,98,2,25,75,68,7,0,70,30,"2110","1970","2780","2830","3160",".","2000","2410","670","720","410","330","0",".","720","540","20,6","410","280","130","110","100",1050,790,830,62,83,17,2700,29.7,22.8,54.4,10.8,".",52.7,12.3,11.6,15.5,21.8,25.8,5.5,"240","180","30","620",125,10.2,520,137,"350","0","45","45","80","10","70","60","40","850","650","200",0.5,"2523","50",0.7,0.6,0.4,0.9,18.2,37,34,4,1034,1,1,3056,70.61923583662714,70.7509881422925,2.635046113306983,19.235836627140976,18.050065876152832,0,0,0,0,0,0,0,0,0,0,0,0,0,0,0,0,0,0,0,0,0,0,0,0,0]
["BU0363NE04","0363NE04","Banne-Zuidoost","Amsterdam","Buurt","BU0363NE04","Banne Buiksloot",2,4165,2110,2050,780,355,1355,985,685,2425,1235,365,140,"1740","410","2005","1745","115","970","300","1040","65","16","30","7",2075,1005,450,620,2,8302,2013,425,22,78,95,5,33,67,53,14,0,61,39,"1900","1650","2710","2980",".",".","1740","2250","270","250","310","470",".",".","230","370","54,7","410","210","80","70","60",990,1020,1080,68,81,19,3200,39.5,31,39.5,21.4,".",50.2,15.2,9,12.3,16.9,20.1,13.9,"180","210","50","620",145,13.8,440,106,"555","0","50","70","75","15","145","110","90","1350","1065","285",0.7,"2694","95",0.9,0.8,0.3,0.7,18,53,50,2,1034,1,1,3165,58.103241296518604,58.22328931572629,1.440576230492197,18.72749099639856,16.44657863145258,0,0,0,0,0,0,0,0,0,0,0,0,0,0,0,0,0,0,0,0,0,0,0,0,0]
["BU0363NE05","0363NE05","Buiksloterbreek","Amsterdam","Buurt","BU0363NE05","Banne Buiksloot",2,310,145,160,50,30,65,90,75,150,130,20,10,"230","55","30","230","25","15","30","15","0","10","5","13",130,30,45,45,2.4,3985,118,733,90,10,95,5,95,5,0,5,0,100,0,"2730","2530","2690","2400",".","5070","2190","2760","850","860","780","820",".","1430","760","850",".","30","20","0","0","0",".",".",".",76,70,30,300,".",".",25.9,37.3,".",15.5,47.3,4,4,4,4.8,684.2,"0","0","0","70",10,11.8,10,29,"55","0","5","5","5","0","20","15","10","140","110","30",1.1,"1774","15",1.5,1.4,0.8,1.3,20.9,10,8,2,1034,1,1,3279,25.806451612903224,25.806451612903224,0,16.129032258064516,24.193548387096776,0,0,0,0,0,0,0,0,0,0,0,0,0,0,0,0,0,0,0,0,0,0,0,0,0]
["BU0363NE06","0363NE06","Marjoleinterrein","Amsterdam","Buurt","BU0363NE06","Banne Buiksloot",2,325,160,165,65,50,105,85,20,215,90,20,5,"125","50","150","125","15","70","35","80","5","15","0","0",145,75,30,45,2.2,9971,148,506,43,57,92,8,49,51,39,12,0,68,32,"2210","1380","2840","3440","2890","3740","2280","2160","460","550","210","480","0","1190","440","480","27,7","30","30","10","10","10",".",".",".",73,78,22,300,".",".",38.9,26.2,".",41.3,24.5,6.7,9,10.4,12.7,114.4,"20","10","0","20",".",".",15,46,"40","0","5","5","5","0","10","5","10","95","75","20",0.6,"2845","5",1.7,1.6,1,1.3,19.6,3,3,0,1034,1,1,3145,61.53846153846154,61.53846153846154,3.076923076923077,20,6.153846153846154,0,0,0,0,0,0,0,0,0,0,0,0,0,0,0,0,0,0,0,0,0,0,0,0,0]
["BU0363NF01","0363NF01","Buiksloterdijk-West","Amsterdam","Buurt","BU0363NF01","Nieuwendammerdijk/Buiksloterdijk",2,175,85,90,45,20,25,45,30,115,50,5,5,"135","20","15","140","10","5","10","5","5","6","0","0",65,20,15,30,2.6,7662,60,885,83,17,98,2,92,8,0,8,0,80,20,"3240","3000",".","3430","2950","3510",".","3260","1350","1320",".","1630","1070","1450",".","1320",".","30","10","0","0","0",".",".",".",".",".",".",100,".",".",26.2,40.5,".",".",".",".",".",".",".",".","0","0","0","30",".",".",".",".","50","0","5","5","0","5","20","5","10","55","40","15",0.8,"2391","0",1.4,1.5,1,1.2,21.1,3,2,0,1034,1,1,3388,20,22.857142857142858,0,25.71428571428571,17.142857142857142,0,0,0,0,0,0,0,0,0,0,0,0,0,0,0,0,0,0,0,0,0,0,0,0,0]
["BU0363NF02","0363NF02","Buiksloterdijk-Oost","Amsterdam","Buurt","BU0363NF02","Nieuwendammerdijk/Buiksloterdijk",2,135,65,65,25,10,30,35,35,70,55,0,5,"105","15","15","105","10","10","5","10","0","8","0","0",50,10,20,25,2.5,5315,54,1083,89,11,96,4,94,6,0,6,0,94,6,"3260","2430","3270","3790","2420","3640",".","3200","1360","1450","1210","1380","1090","1510",".","1410",".","20","0","0","0","0",".",".",".",".",".",".",100,".",".",20.8,46.5,".",".",".",".",".",".",".",".","0","0","0","40",".",".",".",".","40","0","0","5","0","5","10","5","10","60","40","20",1.1,"2353","5",1.2,1.3,0.8,0.9,21.5,3,2,0,1025,1,1,3428,22.22222222222222,22.22222222222222,0,18.51851851851852,25.925925925925924,0,0,0,0,0,0,0,0,0,0,0,0,0,0,0,0,0,0,0,0,0,0,0,0,0]
["BU0363NF03","0363NF03","Nieuwendammerdijk-West","Amsterdam","Buurt","BU0363NF03","Nieuwendammerdijk/Buiksloterdijk",2,1040,510,530,215,130,195,325,170,630,335,40,30,"790","135","115","790","65","75","65","40","10","12","0","2",410,105,115,185,2.5,10387,398,880,85,15,94,6,91,9,0,9,0,96,4,"2860","2660","2310","3060","3060","3610","2280","2910","1190","1080","960","1330","1160","1630","960","1210",".","100","100","10","30","30",70,140,540,78,65,35,800,".",".",31.2,40.4,".",16.8,46.9,4,2.5,3.2,3.5,804.5,"0","10","10","150",20,5.7,30,27,"265","0","10","20","25","30","90","50","40","395","295","100",1,"3953","50",1.2,1.2,0.5,0.9,14.8,12,10,2,1025,1,1,2592,24.03846153846154,24.03846153846154,2.8846153846153846,20.673076923076923,16.346153846153847,0,0,0,0,0,0,0,0,0,0,0,0,0,0,0,0,0,0,0,0,0,0,0,0,0]
["BU0363NF04","0363NF04","Nieuwendammerdijk-Oost","Amsterdam","Buurt","BU0363NF04","Nieuwendammerdijk/Buiksloterdijk",2,355,185,175,90,35,85,105,45,205,125,15,5,"285","40","30","285","25","25","15","5","0","8","0","3",125,20,30,75,2.8,5196,124,932,82,18,93,7,97,3,1,2,0,87,13,"3170","2390","2790","3480","3190","3590","3740","3140","1220","1020","1230","1330","1130","1360","1150","1230",".","50","30","0","0","10",".",".",".",79,67,33,200,".",".",24.4,48.4,".",12.9,57.3,1.6,2.4,2.4,4.1,820.6,"0","0","0","40",10,8.9,".",".","90","0","10","5","10","10","25","20","15","135","95","40",1.1,"1950","15",0.7,1.2,0.2,1,13.1,8,7,1,1023,1,2,2403,19.718309859154928,19.718309859154928,2.8169014084507045,25.352112676056336,12.676056338028168,0,0,0,0,0,0,0,0,0,0,0,0,0,0,0,0,0,0,0,0,0,0,0,0,0]
["BU0363NF05","0363NF05","Nieuwendammerdijk-Zuid","Amsterdam","Buurt","BU0363NF05","Nieuwendammerdijk/Buiksloterdijk",2,0,5,5,0,0,0,0,0,0,5,0,0,"5","0","0","0","5","0","0","0","0","0","0","0",0,0,5,0,2,".",0,".",".",".",".",".",".",".",".",".",".",".",".",".",".",".",".",".",".",".",".",".",".",".",".",".",".",".",".",".","0","0","0","0","0",".",".",".",".",".",".",0,".",".",".",".",".",".",".",".",".",".",".",".",".",".",".",".",".",".",".",".","0",".",".",".",".",".",".",".",".","0","0","0",".",".","0",".",".",".",".",".",18,14,4,1023,1,2,2014,"Geen inwoners","Geen inwoners","Geen inwoners","Geen inwoners","Geen inwoners",0,0,0,0,0,0,0,0,0,0,0,0,0,0,0,0,0,0,0,0,0,0,0,0,0]
["BU0363NG01","0363NG01","Elzenhagen-Noord","Amsterdam","Buurt","BU0363NG01","Elzenhagen",2,3595,1795,1795,835,600,1255,665,240,2340,1040,160,45,"1650","450","1490","1650","165","820","290","670","45","13","10","3",1635,750,295,590,2.2,7735,1591,493,46,54,98,2,39,61,40,20,0,23,77,"1960","1130","2820","3030","3630",".","1320","2890","420","150","690","800","1110",".","230","700","41,0","480","230","70","160","240",430,780,1500,78,79,21,2600,49,36.5,35.9,33,".",42.9,29.6,5.8,5.5,8,10.2,19.7,"50","70","40","210",100,7.8,140,39,"500","0","30","70","70","20","155","85","65","900","670","230",0.5,"1936","65",1.4,1,0.5,0.5,17.2,51,46,4,1022,3,1,3044,54.1029207232267,54.1029207232267,6.675938803894297,23.226703755215578,6.675938803894297,0,0,0,0,0,0,0,0,0,0,0,0,0,0,0,0,0,0,0,0,0,0,0,0,0]
["BU0363NG02","0363NG02","Elzenhagen-Zuid","Amsterdam","Buurt","BU0363NG02","Elzenhagen",2,1540,795,745,115,350,840,165,75,1270,160,100,15,"385","135","1020","380","40","395","100","630","25","17","10","5",1235,1010,120,105,1.2,5136,1189,214,0,100,98,2,0,100,87,13,0,0,100,"1550","1490","2890","3050",".",".","1490","2920","0","0","0","0",".",".","0","0","75,7","50","30","90","120","100",330,710,450,68,87,13,1400,".",".",53.6,8.6,".",83.1,2.5,17.6,19,27.8,33.1,0,"180","100","30","70",30,10.2,155,99,"230","0","15","40","35","0","40","60","40","365","290","75",0.3,"1220","25",1.3,0.5,0.4,0.5,20.9,31,30,1,1022,4,1,3494,75.32467532467533,75,6.493506493506493,7.467532467532467,4.870129870129871,0,0,0,0,0,0,0,0,0,0,0,0,0,0,0,0,0,0,0,0,0,0,0,0,0]
["BU0363NG03","0363NG03","Nintemanterrein","Amsterdam","Buurt","BU0363NG03","Elzenhagen",2,125,70,55,40,10,25,30,30,65,60,0,0,"105","10","15","105","5","10","5","5","0","0","0","8",40,0,20,25,3.2,3322,40,858,100,0,100,0,100,0,0,0,0,100,0,"3010",".","2880",".",".","3170",".","3010","1090",".","750",".",".","1560",".","1090",".","20","20","0","0","0",".",".",".",".",".",".",100,".",".",".",".",".",".",".",".",".",".",".",".","0","0","0","30",".",".",".",".","25","0","0","0","5","5","10","5","5","40","40","5",".",".","5",0.8,0.9,0.5,0.6,23,4,4,0,1025,1,1,3479,16,16,0,32,24,0,0,0,0,0,0,0,0,0,0,0,0,0,0,0,0,0,0,0,0,0,0,0,0,0]
["BU0363NH01","0363NH01","Buikslotermeer-Noord","Amsterdam","Buurt","BU0363NH01","Buikslotermeer",2,2500,1175,1325,215,540,695,430,615,1495,600,205,200,"1275","410","805","1280","95","315","320","495","15","5","45","18",1615,1095,300,215,1.5,5360,1249,402,13,87,89,11,46,53,40,13,0,100,0,"2150","2040","2760","3140","3870",".","2240","2060","740","680","990","1390","2100",".","710","770","22,3","100","60","50","170","270",430,880,570,67,82,18,2100,".",".",48.2,15.1,".",61.7,8.7,7.5,10.1,13.3,16.4,13.5,"40","60","10","550",35,5.6,360,145,"325","0","35","40","45","5","70","55","70","665","565","100",0.4,"1431","55",0.6,0.5,0.3,0.4,16.2,47,47,0,1025,1,1,2714,48.8,49,10.8,8.6,24.6,0,0,0,0,0,0,0,0,0,0,0,0,0,0,0,0,0,0,0,0,0,0,0,0,0]
["BU0363NH02","0363NH02","De Kleine Wereld","Amsterdam","Buurt","BU0363NH02","Buikslotermeer",2,2600,1220,1375,445,400,610,615,520,1440,725,300,140,"630","190","1775","635","50","810","145","970","25","10","25","9",1220,545,245,430,2.1,11486,1151,341,0,100,97,3,11,89,85,5,0,100,0,"1750","1750",".",".",".",".","1740","1770","750","750",".",".",".",".","770","580",".","240","180","140","70","40",730,860,330,56,82,18,2000,".",21.2,56.1,6.6,".",58.9,5.5,12.1,17.6,23.5,28.7,2.8,"210","120","20","480",90,11.6,380,145,"240","0","35","30","40","5","55","55","25","670","560","110",0.5,"2952","45",0.4,0.4,0.2,0.2,16.6,24,23,1,1025,1,1,3396,75.57692307692308,75.76923076923077,1.5384615384615385,17.115384615384617,20,0,0,0,0,0,0,0,0,0,0,0,0,0,0,0,0,0,0,0,0,0,0,0,0,0]
["BU0363NH03","0363NH03","Loenermark","Amsterdam","Buurt","BU0363NH03","Buikslotermeer",2,1920,980,935,160,235,800,315,410,1165,440,205,115,"720","355","840","720","60","315","295","530","20","13","45","22",1150,685,300,165,1.6,12072,1037,331,4,96,97,3,28,72,37,35,0,79,21,"1620","1600","2040","2190",".",".","1580","1720","250","240","630","860",".",".","230","320","34,9","80","50","20","70","100",270,580,950,74,86,14,1600,".",".",37,19.4,".",55.1,9.4,7.1,10,14,16.7,10.4,"60","70","20","370",30,10.1,255,134,"260","0","20","20","55","5","75","45","40","445","375","70",0.4,"2799","50",0.3,0.5,0.7,0.6,19.9,17,16,1,1025,1,1,3483,62.5,62.5,5.208333333333334,8.333333333333332,21.354166666666664,0,0,0,0,0,0,0,0,0,0,0,0,0,0,0,0,0,0,0,0,0,0,0,0,0]
["BU0363NH04","0363NH04","Buikslotermeerplein","Amsterdam","Buurt","BU0363NH04","Buikslotermeer",2,1365,640,725,170,120,385,270,430,710,320,185,150,"525","175","665","525","40","280","130","390","10","9","45","34",785,525,135,130,1.6,6027,791,409,0,100,98,2,17,83,65,18,0,46,54,"1680","1680",".",".",".",".","1640","1870","480","480",".",".",".",".","460","550","24,8","100","50","30","30","20",260,310,330,62,82,18,1000,".",".",50.2,15,".",66.6,6,10.3,17.2,22.9,28.8,5,"70","70","10","410",25,10.6,345,254,"320","0","15","120","30","20","45","35","55","420","335","85",0.5,"1852","15",0.5,0.4,0.4,0.7,17.5,23,23,1,1025,1,1,3673,61.53846153846154,61.53846153846154,1.465201465201465,12.454212454212454,31.5018315018315,0,0,0,0,0,0,0,0,0,0,0,0,0,0,0,0,0,0,0,0,0,0,0,0,0]
["BU0363NH05","0363NH05","Plan van Gool","Amsterdam","Buurt","BU0363NH05","Buikslotermeer",2,3165,1535,1630,535,490,970,760,415,1945,815,320,90,"885","375","1910","880","110","875","270","1040","35","11","15","5",1535,745,295,495,2.1,11315,1403,392,0,100,98,2,28,72,63,9,0,100,0,"1810","1810",".",".",".",".","1830","1740","250","250",".",".",".",".","100","620","68,2","280","190","110","90","90",690,880,850,67,80,20,2500,".",25.5,51.8,13.8,".",51,9.3,12,14,18.8,23.7,6.3,"250","100","30","380",100,10.8,280,88,"420","0","40","45","85","5","95","65","85","840","695","145",0.5,"3000","35",0.8,0.4,0.2,0.5,17.1,28,28,0,1025,1,1,3611,72.1958925750395,72.03791469194313,2.843601895734597,16.903633491311215,13.112164296998422,0,0,0,0,0,0,0,0,0,0,0,0,0,0,0,0,0,0,0,0,0,0,0,0,0]
["BU0363NH06","0363NH06","Rode Kruisbuurt","Amsterdam","Buurt","BU0363NH06","Buikslotermeer",2,235,120,120,30,15,45,60,85,115,95,10,20,"155","30","45","160","15","15","15","30","5","17","5","26",90,30,30,30,2.2,1551,90,731,98,2,94,6,96,4,0,4,0,99,1,"2510",".","2280","2570",".",".",".","2460","1050",".","1010","860",".",".",".","1030",".","20","10","0","0","0",".",".",".",".",".",".",200,".",".",22.8,30.9,".",".",".",".",".",".",".",".","0","20","0","80",15,33.3,45,191,"45","0","0","5","5","0","5","15","15","85","75","15",1,"574","5",0.7,1,0.1,0.2,20.2,16,15,0,1025,1,1,3159,31.914893617021278,34.04255319148936,0,12.76595744680851,36.17021276595745,0,0,0,0,0,0,0,0,0,0,0,0,0,0,0,0,0,0,0,0,0,0,0,0,0]
["BU0363NJ01","0363NJ01","Markengouw-Noord","Amsterdam","Buurt","BU0363NJ01","Waterlandpleinbuurt",2,600,305,295,50,80,220,120,135,360,155,45,40,"285","105","215","285","10","85","90","130","10","13","0","2",375,215,105,55,1.6,5322,353,326,0,100,92,8,46,54,0,54,0,100,0,"2400","2410",".",".",".",".","2410","2400","720","720",".",".",".",".","680","770",".","20","10","10","30","30",".",".",".",77,87,13,500,".",".",35.7,17.1,".",47.1,9.5,4.5,4.2,5.1,6.6,193.9,"0","20","10","130",10,9.6,50,80,"75","0","10","15","5","0","15","15","10","190","165","25",0.5,"1680","15",0.9,0.4,0.3,0.6,12.8,12,11,1,1024,1,1,3093,52.5,52.5,5,8.333333333333332,22.5,0,0,0,0,0,0,0,0,0,0,0,0,0,0,0,0,0,0,0,0,0,0,0,0,0]
["BU0363NJ02","0363NJ02","Markengouw-Midden","Amsterdam","Buurt","BU0363NJ02","Waterlandpleinbuurt",2,4080,1995,2085,1040,640,1250,865,285,2540,1170,305,70,"945","255","2875","945","110","1660","150","1220","60","15","5","2",1560,555,235,765,2.6,10517,1437,461,40,60,99,1,21,79,72,7,0,44,56,"2100","1690","2660","2960",".",".","2000","2490","400","390","440","350",".",".","400","430","49,6","550","360","180","130","50",1110,1130,750,67,79,21,2900,32.8,23.8,48,15,".",43.4,15.6,10.3,11.5,16,18.6,3.9,"230","210","50","240",170,10.9,250,61,"475","0","55","70","110","10","100","95","40","1155","880","275",0.7,"2978","55",0.6,0.6,0.2,0.2,10.2,41,39,2,1024,1,1,2502,76.83823529411765,76.83823529411765,1.2254901960784315,25.49019607843137,6.985294117647059,0,0,0,0,0,0,0,0,0,0,0,0,0,0,0,0,0,0,0,0,0,0,0,0,0]
["BU0363NJ03","0363NJ03","Markengouw-Zuid","Amsterdam","Buurt","BU0363NJ03","Waterlandpleinbuurt",2,2315,1160,1155,670,325,665,495,155,1470,640,170,35,"540","200","1570","545","75","760","125","810","35","16","5","3",830,265,130,435,2.6,10855,823,400,17,83,97,3,28,72,56,16,0,83,17,"2110","1970","2490","2860",".","4340","1970","2480","550","530","630","650",".","750","540","570","25,9","390","200","90","60","50",640,530,400,66,79,21,1500,".",".",47.4,14,".",46.5,15.7,11.8,12.6,17.5,21.3,4.9,"130","80","20","140",95,10.3,145,63,"245","0","35","25","50","10","65","45","20","600","465","130",0.7,"2810","25",0.5,0.7,0.4,0.4,8.9,23,21,1,1024,1,2,1776,76.45788336933045,76.67386609071274,2.159827213822894,28.94168466522678,6.695464362850973,0,0,0,0,0,0,0,0,0,0,0,0,0,0,0,0,0,0,0,0,0,0,0,0,0]
["BU0363NJ04","0363NJ04","Werengouw-Noord","Amsterdam","Buurt","BU0363NJ04","Waterlandpleinbuurt",2,460,230,230,35,35,145,100,145,235,150,45,30,"235","110","115","235","30","50","80","60","5","11","5","13",285,155,85,40,1.6,3192,259,401,1,99,93,7,72,28,9,19,0,100,0,"2580","2600",".",".",".",".","2920","2440","950","950",".",".",".",".","910","960",".","20","10","0","10","10",".",".",".",75,78,22,400,".",".",32.4,27.2,".",36.1,14.8,5.8,7,7,8.6,279.6,"10","10","0","130",".",".",55,115,"60","0","5","5","5","5","15","10","15","180","150","30",0.6,"1266","10",0.7,0.5,0.4,0.7,13.6,16,14,2,1024,1,1,3523,48.91304347826087,48.91304347826087,2.1739130434782608,7.608695652173914,31.521739130434785,0,0,0,0,0,0,0,0,0,0,0,0,0,0,0,0,0,0,0,0,0,0,0,0,0]
["BU0363NJ05","0363NJ05","Werengouw-Midden","Amsterdam","Buurt","BU0363NJ05","Waterlandpleinbuurt",2,4905,2415,2490,795,620,1620,1210,665,2880,1275,560,180,"1470","640","2795","1470","160","1250","480","1550","55","11","30","6",2580,1335,505,745,1.9,13529,2370,357,1,99,97,3,26,74,49,25,0,82,18,"1930","1890","2360","3190","4450",".","1920","1940","590","580","340","760","1700",".","580","620","19,6","430","250","130","130","100",1250,1390,1240,67,83,17,3900,32.3,25.8,48.3,12.8,30,56.7,7.6,11.2,13.9,19,23.3,6,"280","240","50","590",155,12.3,515,105,"635","0","65","90","120","5","125","120","110","1405","1140","265",0.5,"3882","90",0.4,0.3,0.3,0.4,12.4,38,36,1,1024,1,1,3054,70.03058103975535,70.03058103975535,2.038735983690112,16.207951070336392,13.557594291539246,0,0,0,0,0,0,0,0,0,0,0,0,0,0,0,0,0,0,0,0,0,0,0,0,0]
["BU0363NJ06","0363NJ06","Werengouw-Zuid","Amsterdam","Buurt","BU0363NJ06","Waterlandpleinbuurt",2,1575,735,845,375,235,340,430,210,880,510,145,45,"500","165","915","500","70","470","95","445","15","8","5","4",610,180,110,320,2.6,8515,594,473,31,69,96,4,40,60,57,4,0,100,0,"2290","1900","2720","3110","2780","5060","1920","2840","990","870","1090","1040","1020","2030","910","1100",".","220","130","60","40","30",420,360,360,61,76,24,1100,".",".",49.5,15.7,".",44.2,20.4,12.7,14.4,19.6,22.9,14.8,"110","70","10","190",70,12.7,130,82,"195","0","25","15","35","10","55","30","15","460","345","110",0.8,"2473","35",0.3,0.4,0.4,0.4,9.7,22,19,4,1024,1,2,2200,68.25396825396825,68.25396825396825,1.9047619047619049,23.809523809523807,13.333333333333334,0,0,0,0,0,0,0,0,0,0,0,0,0,0,0,0,0,0,0,0,0,0,0,0,0]
["BU0363NK01","0363NK01","Bloemenbuurt-Noord","Amsterdam","Buurt","BU0363NK01","Volewijck",2,2435,1200,1235,400,195,750,665,420,1390,680,245,115,"1385","265","780","1385","95","315","170","465","35","15","15","8",1255,560,295,400,1.9,7029,1221,410,53,47,97,3,27,73,67,5,0,100,0,"1950","1760","2140","2070","1950",".","1940","1960","810","770","830","870","940",".","850","720",".","220","100","50","30","20",800,560,520,64,80,20,2000,".",".",44.8,15.8,".",54.3,11.5,9.3,12.8,18.3,23.4,8.8,"170","160","30","380",85,15.7,280,116,"330","0","40","30","45","5","95","45","70","775","660","120",0.6,"2242","75",1.1,1,0.6,0.7,21,36,35,2,1032,1,1,3280,43.121149897330596,43.121149897330596,0.8213552361396305,16.427104722792606,17.248459958932237,0,0,0,0,0,0,0,0,0,0,0,0,0,0,0,0,0,0,0,0,0,0,0,0,0]
["BU0363NK02","0363NK02","Bloemenbuurt-Zuid","Amsterdam","Buurt","BU0363NK02","Volewijck",2,2350,1155,1195,415,240,695,625,370,1430,560,255,100,"1075","230","1045","1070","90","450","140","600","30","14","25","10",1195,585,200,405,2,6560,1191,430,17,83,96,4,8,92,82,10,0,100,0,"1820","1740","2090","2580","2400",".","1800","2020","790","760","900","1110","1260",".","790","820",".","230","120","60","40","40",590,560,620,60,78,22,1800,".",".",54.1,11.7,".",64.2,9.6,14.3,19,27.6,33.5,4,"180","160","30","320",85,14.5,340,144,"390","0","35","45","50","10","90","65","90","660","545","115",0.6,"1845","40",0.7,0.5,0.4,0.4,18.7,37,36,1,1032,1,1,3325,54.46808510638298,54.25531914893617,1.702127659574468,17.659574468085108,15.74468085106383,0,0,0,0,0,0,0,0,0,0,0,0,0,0,0,0,0,0,0,0,0,0,0,0,0]
["BU0363NK03","0363NK03","Van der Pekbuurt","Amsterdam","Buurt","BU0363NK03","Volewijck",2,4585,2245,2340,710,530,1575,1300,470,3050,925,495,120,"1765","535","2290","1765","185","1000","350","1290","70","15","30","7",2500,1355,410,735,1.8,9339,2472,369,14,86,91,9,11,89,81,8,0,98,2,"1600","1550","1860","1730","2010","3380","1570","1810","610","580","770","830","1040","1240","610","670","13,0","360","240","130","130","90",1240,1260,1240,64,76,24,3700,31.3,25.4,52.9,10.9,".",63.5,7.5,17,21.2,27.9,32.4,3.1,"380","290","60","400",170,15.2,445,97,"940","0","85","140","120","20","215","145","215","1155","945","210",0.5,"2349","85",0.3,0.4,0.3,0.6,14,58,49,9,1031,1,1,3475,61.50490730643402,61.50490730643402,1.9629225736095965,15.485278080697928,10.25081788440567,0,0,0,0,0,0,0,0,0,0,0,0,0,0,0,0,0,0,0,0,0,0,0,0,0]
["BU0363NL01","0363NL01","Vogelbuurt-Noord","Amsterdam","Buurt","BU0363NL01","IJplein/Vogelbuurt",2,1100,535,560,175,100,410,280,140,740,230,105,25,"550","145","400","550","55","175","90","225","10","13","5","2",610,330,110,170,1.8,3808,661,385,38,62,85,15,19,81,75,6,0,100,0,"1460","1440","1440","1500","2190",".","1460","1500","760","760","730","860","710",".","780","690",".","100","40","20","20","20",".",".",".",68,76,24,900,".",".",48.3,14.8,".",58.5,8.9,13.5,16.2,21.9,26.4,7.5,"60","60","10","110",25,9.6,105,94,"215","0","30","30","20","5","55","25","50","290","250","40",0.5,"1014","45",1,0.6,0.4,0.4,15.2,32,29,3,1022,1,1,2747,50,50,1.8181818181818181,15.909090909090908,12.727272727272727,0,0,0,0,0,0,0,0,0,0,0,0,0,0,0,0,0,0,0,0,0,0,0,0,0]
["BU0363NL02","0363NL02","Vliegenbos","Amsterdam","Buurt","BU0363NL02","IJplein/Vogelbuurt",2,170,90,80,25,25,35,65,15,100,50,15,5,"120","25","25","120","10","15","15","5","5","6","0","0",70,25,10,35,2.5,452,75,775,17,83,69,31,59,41,0,41,0,28,72,"3170","3250","2700",".",".",".","3170","3170","820","800","840",".",".",".","680","920",".","20","10","0","10","10",".",".",".",84,".",".",100,".",".",37.3,32.8,".",".",".",".",".",".",".",".","0","0","0","10",".",".",".",".","105","0","10","10","15","15","35","10","15","80","55","25",1.2,"211","15",1.9,1.6,0.9,1.5,9.2,40,37,2,1022,1,2,2241,29.411764705882355,29.411764705882355,5.88235294117647,14.705882352941178,8.823529411764707,0,0,0,0,0,0,0,0,0,0,0,0,0,0,0,0,0,0,0,0,0,0,0,0,0]
["BU0363NL03","0363NL03","Vogelbuurt-Zuid","Amsterdam","Buurt","BU0363NL03","IJplein/Vogelbuurt",2,4205,2055,2150,615,555,1450,1075,510,2735,910,450,110,"1550","540","2110","1550","150","880","390","1235","50","12","20","5",2190,1125,445,620,1.9,13106,2036,425,3,97,97,3,19,81,70,11,0,94,6,"1720","1700","2170","2030",".","3740","1690","1840","800","790","1000","1270",".","2550","810","750",".","290","210","130","110","100",940,1030,1420,64,78,22,3400,32.1,26.3,51.1,12.7,".",58.7,10.5,13.9,18.4,25.1,28.7,3.6,"330","260","50","420",125,12.2,475,113,"700","0","55","65","115","15","175","115","165","1045","840","205",0.5,"3259","70",0.5,0.3,0.5,0.3,12.4,34,32,2,1021,1,1,3203,63.13912009512486,63.13912009512486,2.3781212841854935,14.625445897740786,12.128418549346016,0,0,0,0,0,0,0,0,0,0,0,0,0,0,0,0,0,0,0,0,0,0,0,0,0]
["BU0363NL04","0363NL04","IJplein e.o.","Amsterdam","Buurt","BU0363NL04","IJplein/Vogelbuurt",2,2475,1300,1175,300,230,825,700,405,1565,550,275,80,"910","300","1260","915","90","555","210","705","25","9","30","12",1460,875,290,290,1.7,12227,1426,417,0,100,96,4,19,81,73,8,0,100,0,"1510","1510",".",".",".",".","1510","1510","550","550",".",".",".",".","560","530",".","160","120","50","50","40",540,800,700,63,80,20,2100,".",".",48.1,14.5,".",61.5,7.6,15.5,19.7,25.6,29.3,6.7,"230","170","30","340",65,13.5,285,116,"340","0","20","50","50","5","85","60","70","690","580","110",0.5,"3406","45",0.3,0.4,0.6,0.5,11.7,40,20,20,1021,1,1,3088,63.030303030303024,63.23232323232323,1.6161616161616161,12.121212121212121,16.363636363636363,0,0,0,0,0,0,0,0,0,0,0,0,0,0,0,0,0,0,0,0,0,0,0,0,0]
["BU0363NM01","0363NM01","Blauwe Zand","Amsterdam","Buurt","BU0363NM01","Tuindorp Buiksloot",2,1910,915,995,315,185,535,510,365,1070,545,175,125,"1180","190","545","1180","85","270","105","265","20","9","20","10",945,410,190,345,2,11324,912,422,77,23,97,3,19,81,80,1,0,100,0,"2060","1840","2100","2050","2570",".","2040","2160","830","660","830","940","1120",".","850","740",".","190","90","50","30","10",450,430,550,64,84,16,1500,".",".",47.7,12.5,".",55.4,12.4,9.7,13.6,20.8,25.2,6.1,"130","130","10","310",65,14.3,240,125,"200","0","45","25","25","5","50","20","35","635","550","90",0.7,"3779","80",0.8,1.1,0.5,0.5,19.2,17,17,0,1025,1,1,2908,38.21989528795812,38.21989528795812,0.5235602094240838,16.49214659685864,19.10994764397906,0,0,0,0,0,0,0,0,0,0,0,0,0,0,0,0,0,0,0,0,0,0,0,0,0]
["BU0363NN01","0363NN01","Tuindorp Nieuwendam-West","Amsterdam","Buurt","BU0363NN01","Tuindorp Nieuwendam",2,1050,485,565,150,80,240,280,300,485,380,110,85,"680","130","240","680","65","125","70","115","5","7","10","11",540,225,160,155,1.9,9414,538,407,78,22,96,4,24,76,74,2,0,100,0,"1840","1320","2020","1850",".",".","1830","1840","780","640","780","900",".",".","790","750",".","100","40","30","20","10",260,250,220,63,75,25,900,".",".",46.4,15.3,".",56.1,10.8,6.2,10.2,14.9,19.1,18.7,"40","50","10","270",15,7.4,145,140,"160","0","20","15","10","5","45","30","35","365","315","55",0.7,"3291","35",0.6,1.2,0.4,0.8,15.5,12,11,1,1023,1,1,3458,35.23809523809524,35.23809523809524,0.9523809523809524,14.285714285714285,28.57142857142857,0,0,0,0,0,0,0,0,0,0,0,0,0,0,0,0,0,0,0,0,0,0,0,0,0]
["BU0363NN02","0363NN02","Tuindorp Nieuwendam-Oost","Amsterdam","Buurt","BU0363NN02","Tuindorp Nieuwendam",2,2415,1100,1320,405,210,560,740,505,1330,655,320,115,"1745","210","465","1740","95","210","115","255","15","6","25","10",1275,605,270,400,1.9,7600,1303,440,95,5,96,4,19,81,80,2,0,100,0,"1740","1490","1710","1830","1750",".","1670","2060","820","940","770","870","920",".","820","820",".","210","110","40","30","30",570,540,660,63,76,24,2000,".",".",46.9,14.5,".",59.5,10.3,9.5,13.8,19.5,24,11.6,"160","160","30","440",75,13.1,295,123,"370","0","35","50","50","10","85","75","70","835","730","105",0.7,"2622","95",0.4,0.8,0.2,0.7,12.5,35,32,3,1023,1,1,2773,27.95031055900621,27.74327122153209,1.2422360248447204,16.77018633540373,20.910973084886127,0,0,0,0,0,0,0,0,0,0,0,0,0,0,0,0,0,0,0,0,0,0,0,0,0]
["BU0363NP01","0363NP01","Hamerstraatkwartier-West","Amsterdam","Buurt","BU0363NP01","Noordelijke IJ-oevers-Oost",2,365,200,165,20,90,170,70,15,305,40,10,5,"70","205","95","65","15","10","195","85","0","8","0","5",275,205,45,20,1.3,1149,187,333,5,95,83,17,9,91,0,91,0,36,64,"1610","1530","3000",".",".",".","1530","2380","680","660","1070",".",".",".","680","780",".","10","10","0","0","50",".",".",".",71,85,15,300,".",".",46.6,17.2,".",73.1,8.2,24,20.6,23,25.5,0.7,"0","0","0","10",".",".",".",".","460","0","35","95","65","35","130","30","65","210","135","75",0.8,"658","10",0.6,0.1,0.3,0.5,12.2,50,32,18,1021,1,1,2802,82.1917808219178,80.82191780821918,13.698630136986301,5.47945205479452,4.10958904109589,0,0,0,0,0,0,0,0,0,0,0,0,0,0,0,0,0,0,0,0,0,0,0,0,0]
["BU0363NP02","0363NP02","Hamerstraatkwartier-Oost","Amsterdam","Buurt","BU0363NP02","Noordelijke IJ-oevers-Oost",2,10,5,5,0,0,0,5,0,5,0,5,0,"5","0","5","5","0","5","5","0","0","0","0","0",5,5,5,0,1.3,".",1,".",".",".",".",".",".",".",".",".",".",".",".",".",".",".",".",".",".",".",".",".",".",".",".",".",".",".",".",".","0","0","0","0","0",".",".",".",".",".",".",0,".",".",".",".",".",".",".",".",".",".",".",".",".",".",".",".",".",".",".",".","220","0","20","40","20","10","60","15","55","45","30","10",".",".","0",".",".",".",".",".",39,27,12,1022,1,2,2282,50,50,0,0,0,0,0,0,0,0,0,0,0,0,0,0,0,0,0,0,0,0,0,0,0,0,0,0,0,0]
["BU0363NP03","0363NP03","Bedrijventerrein Nieuwendammerdijk","Amsterdam","Buurt","BU0363NP03","Noordelijke IJ-oevers-Oost",2,25,10,15,5,0,5,5,0,15,5,0,0,"15","5","5","15","0","5","5","0","0","0","0","0",15,10,0,5,1.8,260,5,".",".",".",".",".",".",".",".",".",".",".",".","3050",".",".",".",".",".",".",".","1220",".",".",".",".",".",".",".",".","0","0","0","0","0",".",".",".",".",".",".",0,".",".",".",".",".",".",".",".",".",".",".",".",".",".",".",".",".",".",".",".","95","0","15","15","5","20","20","5","10","35","25","10",".",".","0",1.1,1.4,0.8,1.3,8.6,22,10,12,1023,1,2,1523,40,40,0,20,0,0,0,0,0,0,0,0,0,0,0,0,0,0,0,0,0,0,0,0,0,0,0,0,0,0]
["BU0363NQ01","0363NQ01","Noorderstrook-West","Amsterdam","Buurt","BU0363NQ01","Waterland",2,70,45,25,5,0,35,30,5,55,10,0,0,"30","30","15","25","5","5","20","10","0","0","0","0",60,55,5,0,1.1,74,1,".",".",".",".",".",".",".",".",".",".",".",".",".",".",".",".",".",".",".",".",".",".",".",".",".",".",".",".",".","0","0","0","0","0",".",".",".",".",".",".",100,".",".",".",".",".",".",".",".",".",".",".",".","10","0","0","10",".",".",".",".","40","0","5","5","5","0","5","0","15","40","20","15",0.6,"40","10",3.2,2.7,1.8,2.6,1.9,102,94,8,1027,1,4,963,64.28571428571429,57.14285714285714,0,7.142857142857142,7.142857142857142,0,0,0,0,0,0,0,0,0,0,0,0,0,0,0,0,0,0,0,0,0,0,0,0,0]
["BU0363NQ02","0363NQ02","Noorderstrook-Oost","Amsterdam","Buurt","BU0363NQ02","Waterland",2,5,0,0,0,0,0,0,0,0,0,0,0,"5","0","0","5","0","0","0","0","0","0","0","0",0,0,0,0,2,".",1,".",".",".",".",".",".",".",".",".",".",".",".",".",".",".",".",".",".",".",".",".",".",".",".",".",".",".",".",".","0","0","0","0","0",".",".",".",".",".",".",0,".",".",".",".",".",".",".",".",".",".",".",".",".",".",".",".",".",".",".",".","15",".",".",".",".",".",".",".",".","10","5","5",".",".","0",".",".",".",".",".",48,45,3,1027,1,2,1855,0,0,0,0,0,0,0,0,0,0,0,0,0,0,0,0,0,0,0,0,0,0,0,0,0,0,0,0,0,0]
["BU0363NQ03","0363NQ03","Zunderdorp","Amsterdam","Buurt","BU0363NQ03","Waterland",2,480,250,230,70,55,100,150,110,250,180,25,20,"415","25","40","415","15","30","15","20","5","8","5","12",200,65,60,80,2.3,57,215,902,73,27,92,8,70,30,11,20,0,68,32,"3100","2230","2300","2460","3030","4090","2270","3440","1080","920","990","880","1030","1280","790","1200",".","40","30","10","10","10",100,100,150,76,60,40,400,".",".",36.9,26.7,".",31.2,35.1,7.1,8.6,10.7,11.7,729.9,"0","20","10","100",10,9,40,85,"130","15","15","10","10","10","35","15","15","240","185","50",1.2,"28","20",2.5,2.2,1.1,2.1,3.9,886,843,44,1027,1,5,79,13.541666666666666,13.541666666666666,2.083333333333333,14.583333333333334,22.916666666666664,0,0,0,0,0,0,0,0,0,0,0,0,0,0,0,0,0,0,0,0,0,0,0,0,0]
["BU0363NQ04","0363NQ04","Schellingwoude-West","Amsterdam","Buurt","BU0363NQ04","Waterland",2,65,35,30,10,5,5,35,15,35,20,10,0,"50","5","10","50","5","10","5","5","0","0","0","0",30,5,20,5,2.1,453,30,835,100,0,90,10,77,23,0,23,0,73,27,"2580",".","1940","1830",".","4790","1760","2830","890",".","800","1090",".","950","750","940",".","10","0","0","0","0",".",".",".",".",".",".",100,".",".",".",".",".",".",".",".",".",".",".",".","0","0","0","10",".",".",".",".","20",".",".",".",".",".",".",".",".","65","50","15",".",".","5",0.3,0.7,1.7,2.1,5.4,25,15,10,1023,1,4,978,23.076923076923077,23.076923076923077,0,15.384615384615385,23.076923076923077,0,0,0,0,0,0,0,0,0,0,0,0,0,0,0,0,0,0,0,0,0,0,0,0,0]
["BU0363NQ05","0363NQ05","Schellingwoude-Oost","Amsterdam","Buurt","BU0363NQ05","Waterland",2,630,315,315,130,75,125,195,110,365,215,35,15,"495","70","65","495","40","40","35","25","5","5","0","3",255,60,75,110,2.5,955,189,991,97,3,97,3,87,13,5,8,0,80,20,"3170","1870","3270","3310","2920","3640","2330","3290","1140","670","1170","1110","970","1490","980","1170",".","70","60","0","0","10",80,90,270,79,64,36,500,".",".",36.5,39,".",22.7,44.6,4,4.8,5.2,5.6,619.4,"0","10","10","100",20,9.5,20,30,"150","0","15","15","15","5","45","20","30","260","180","80",1,"395","25",0.5,0.6,1.6,2,6.9,68,66,2,1023,1,3,1114,21.428571428571427,21.428571428571427,1.5873015873015872,20.634920634920633,17.46031746031746,0,0,0,0,0,0,0,0,0,0,0,0,0,0,0,0,0,0,0,0,0,0,0,0,0]
["BU0363NQ06","0363NQ06","Schellingwoude-Noord","Amsterdam","Buurt","BU0363NQ06","Waterland",2,5,5,5,0,0,0,0,5,0,0,0,0,"0","0","0","5","0","0","0","0","0","0","0","0",0,0,5,0,2.5,".",2,".",".",".",".",".",".",".",".",".",".",".",".",".",".",".",".",".",".",".",".",".",".",".",".",".",".",".",".",".","0","0","0","0","0",".",".",".",".",".",".",0,".",".",".",".",".",".",".",".",".",".",".",".",".",".",".",".",".",".",".",".","0",".",".",".",".",".",".",".",".","0","0","0",".",".","0",".",".",".",".",".",37,36,1,1026,3,5,392,0,100,0,0,100,0,0,0,0,0,0,0,0,0,0,0,0,0,0,0,0,0,0,0,0,0,0,0,0,0]
["BU0363NQ07","0363NQ07","Zwarte Gouw","Amsterdam","Buurt","BU0363NQ07","Waterland",2,25,15,10,0,5,10,5,0,15,5,0,0,"15","0","0","20","0","0","0","0","0","0","0","0",0,5,0,0,2.8,14,18,".",".",".",".",".",".",".",".",".",".",".",".","2340","1730",".",".",".","3680","1730","3680","650","670",".",".",".",".","670",".",".","0","0","0","0","0",".",".",".",".",".",".",0,".",".",".",".",".",".",".",".",".",".",".",".",".",".",".",".",".",".",10,440,"5",".",".",".",".",".",".",".",".","10","10","0",".",".","0",1.9,1.7,1,1.4,4.3,160,155,5,1026,2,5,40,20,40,0,0,0,0,0,0,0,0,0,0,0,0,0,0,0,0,0,0,0,0,0,0,0,0,0,0,0,0]
["BU0363NQ08","0363NQ08","Holysloot","Amsterdam","Buurt","BU0363NQ08","Waterland",2,285,150,135,50,40,45,95,60,135,115,20,15,"250","15","20","245","10","20","10","5","0","3","0","10",105,30,25,50,2.6,37,143,882,90,10,79,21,73,27,0,27,0,58,42,"3400","3410",".",".","2930","3450","3110","3470","1110","910",".",".","990","1160","1020","1140",".","20","20","10","0","0",".",".",".",74,45,55,200,".",".",34.4,27.5,".",19.8,39.6,2.9,3.9,3.9,3.9,1007.1,"0","10","0","60",".",".",20,77,"80","15","5","5","10","5","15","5","15","160","110","45",1.5,"20","15",5.7,5.8,3.8,3.2,0.3,928,783,145,1028,1,5,30,14.035087719298245,12.280701754385964,0,17.543859649122805,21.052631578947366,0,0,0,0,0,0,0,0,0,0,0,0,0,0,0,0,0,0,0,0,0,0,0,0,0]
["BU0363NQ09","0363NQ09","Ransdorp","Amsterdam","Buurt","BU0363NQ09","Waterland",2,320,150,165,55,30,50,105,80,160,130,15,15,"285","15","25","285","10","10","10","10","0","3","0","3",135,45,50,45,2.4,182,140,923,81,19,90,10,86,14,0,14,0,85,15,"3360","2130","3330",".","3020","3800","2730","3480","1150","820","970",".","1450","1170","1140","1150",".","30","30","0","0","10",".",".",".",72,65,35,300,".",".",34.3,33.9,".",20.5,40.9,3.8,4.6,6.1,6.9,866.4,"0","10","0","80",10,10.2,15,44,"80","5","5","5","5","10","20","15","10","195","145","50",1.4,"111","35",3,2.8,0.8,0.3,1,227,177,51,1028,1,5,53,10.9375,10.9375,3.125,17.1875,25,0,0,0,0,0,0,0,0,0,0,0,0,0,0,0,0,0,0,0,0,0,0,0,0,0]
["BU0363NQ10","0363NQ10","Durgerdam","Amsterdam","Buurt","BU0363NQ10","Waterland",3,525,275,255,100,65,75,180,95,280,205,20,20,"425","50","45","430","30","25","20","20","5","10","5","13",205,50,60,90,2.5,206,186,972,89,11,91,9,88,12,0,12,0,82,18,"3600","2910",".","3310","3270","3810","2720","3700","1310","1000",".","820","1420","1360","1100","1330",".","50","60","0","10","20",60,90,220,78,63,37,400,".",".",35,34.6,".",20.6,42.6,2.5,2,2,3,899,"0","10","10","90",25,15.8,25,48,"115","0","10","15","15","10","35","15","15","250","180","70",1.2,"98","25",2.7,2.2,2.6,2.5,1.2,293,255,38,1026,1,5,130,18.095238095238095,19.047619047619047,3.8095238095238098,19.047619047619047,18.095238095238095,0,0,0,0,0,0,0,0,0,0,0,0,0,0,0,0,0,0,0,0,0,0,0,0,0]
["BU0363SA01","0363SA01","Landelijk gebied Driemond","Amsterdam","Buurt","BU0363SA01","Driemond",3,150,85,70,40,25,25,50,10,80,65,5,0,"125","15","10","130","10","5","5","5","0","0","0","0",50,5,10,30,3.3,97,46,1025,98,2,91,9,91,9,0,9,0,39,61,"4030",".",".",".",".","4170","2950","4160","860",".",".",".",".","810","1810","750",".","30","20","0","0","0",".",".",".",".",".",".",100,".",".",37.1,35.3,".",".",".",".",".",".",".",".","0","0","0","10",10,14.3,".",".","45","0","10","5","5","5","10","5","5","70","50","20",".",".","5",3,3.4,0.8,0.9,2.6,182,156,25,1109,2,4,587,13.333333333333334,16.666666666666664,0,26.666666666666668,6.666666666666667,0,0,0,0,0,0,0,0,0,0,0,0,0,0,0,0,0,0,0,0,0,0,0,0,0]
["BU0363SA02","0363SA02","Dorp Driemond","Amsterdam","Buurt","BU0363SA02","Driemond",3,1540,735,800,295,165,360,445,270,790,575,110,60,"1140","115","280","1140","60","160","60","125","15","8","10","5",660,185,190,280,2.3,4485,656,444,81,19,96,4,58,42,38,4,0,94,6,"2510","2060","2460","2770","2690","3490","2080","2820","900","660","840","990","1190","1670","840","940",".","160","100","40","30","20",290,520,350,75,82,18,1200,".",".",36.3,23,".",31.1,25,4.5,5.6,7.5,9.5,186.8,"20","40","10","240",65,15.6,85,54,"210","5","35","30","15","15","50","40","20","735","620","115",1.1,"2148","85",2.5,2.9,0.3,0.3,4.5,41,34,7,1109,1,5,437,25.97402597402597,25.97402597402597,1.2987012987012987,19.155844155844157,17.532467532467532,0,0,0,0,0,0,0,0,0,0,0,0,0,0,0,0,0,0,0,0,0,0,0,0,0]
["BU0363SB01","0363SB01","Weespersluis-Noord","Amsterdam","Buurt","BU0363SB01","Bloemendalerpolder",3,5,5,0,0,5,0,5,0,0,5,0,0,"10","0","0","5","0","0","0","0","0","0","0","0",0,0,0,5,3,".",2,".",".",".",".",".",".",".",".",".",".",".",".",".",".",".",".",".",".",".",".",".",".",".",".",".",".",".",".",".","0","0","0","0","0",".",".",".",".",".",".",0,".",".",".",".",".",".",".",".",".",".",".",".",".",".",".",".",".",".",".",".","0",".",".",".",".",".",".",".",".","5","0","0",".",".","0",".",".",".",".",".",124,124,0,1384,6,5,97,0,-100,0,0,0,0,0,0,0,0,0,0,0,0,0,0,0,0,0,0,0,0,0,0,0,0,0,0,0,0]
["BU0363SB02","0363SB02","Waterrijk","Amsterdam","Buurt","BU0363SB02","Bloemendalerpolder",3,105,50,50,35,0,55,10,0,65,40,5,0,"75","10","20","75","5","15","5","5","10","98","0","0",30,0,10,25,3.2,114,57,1070,96,4,53,47,93,7,0,7,0,0,100,"5650",".","4860","4870","5050","7720",".","5530","0",".","0","0","0","0",".","0",".","70","10","0","0","0",".",".",".",90,81,19,100,".",".",".",".",".",".",".",".",".",".",".",".","0","0","10","10",".",".",".",".","10",".",".",".",".",".",".",".",".","35","25","10",".",".","0",1.4,2.6,1.3,2,5.7,89,89,0,1384,1,5,299,28.57142857142857,28.57142857142857,0,33.33333333333333,0,0,0,0,0,0,0,0,0,0,0,0,0,0,0,0,0,0,0,0,0,0,0,0,0,0]
["BU0363SB03","0363SB03","Lanenrijk","Amsterdam","Buurt","BU0363SB03","Bloemendalerpolder",3,2135,1060,1080,825,60,995,230,40,1405,695,35,5,"1650","175","310","1650","95","215","80","95","75","36","0","0",695,95,120,475,3.1,3400,692,751,86,14,94,6,98,2,0,2,0,0,100,"3490","2300","3270","3780","4140","5650","3320","3490","460","20","460","480","730","890","410","470",".","530","70","10","20","10",50,200,1410,93,86,14,1300,".",".",8,65.6,".",5.7,74.2,0.4,0.4,0.6,0.7,478.7,"0","20","40","40",55,6.1,".",".","205","0","5","10","20","25","75","45","15","665","500","165",1,"1059","55",1.3,2.2,0.5,2,4.7,63,63,0,1384,1,3,1451,22.716627634660423,22.716627634660423,0.468384074941452,38.64168618266979,1.873536299765808,0,0,0,0,0,0,0,0,0,0,0,0,0,0,0,0,0,0,0,0,0,0,0,0,0]
["BU0363SB04","0363SB04","Vechtrijk","Amsterdam","Buurt","BU0363SB04","Bloemendalerpolder",3,305,170,135,105,10,145,35,10,205,95,5,0,"245","20","40","250","10","25","5","10","30","99","0","0",95,5,15,70,3.2,541,109,789,94,6,73,27,94,6,0,6,0,11,89,"4410","4030","3850","4990","4980","4520","3700","4450","170","900",".",".","190","560","880","130",".","80","20","0","10","0",".",".",".",91,84,16,200,".",".",12.4,59.8,".",".",".",".",".",".",".",".","0","10","10","10",10,6.7,".",".","35","0","0","5","0","0","15","5","5","105","80","25",1.1,"187","5",1.4,2.7,1.4,2.2,4.9,60,56,4,1384,2,4,712,18.0327868852459,19.672131147540984,0,34.42622950819672,3.278688524590164,0,0,0,0,0,0,0,0,0,0,0,0,0,0,0,0,0,0,0,0,0,0,0,0,0]
["BU0363SB05","0363SB05","Leeuwenveld","Amsterdam","Buurt","BU0363SB05","Bloemendalerpolder",3,1565,760,810,450,145,420,425,120,860,635,50,25,"1080","165","325","1080","75","190","90","135","15","11","0","1",525,80,115,335,3,5789,518,700,85,15,98,2,92,8,2,6,0,33,67,"3160","2740","3350","2900","3270",".","2440","3220","710","530","700","840","920",".","510","730",".","240","150","20","30","30",100,250,760,84,84,16,1100,".",".",22.2,51.1,".",7.5,64.6,0.8,0.6,0.6,0.8,581.3,"0","20","10","110",45,7.9,15,10,"225","0","5","25","30","15","85","40","20","575","435","140",1.1,"2126","35",0.7,1.8,0.7,1.8,5.1,27,27,0,1382,3,2,1894,30.990415335463258,30.990415335463258,1.9169329073482428,28.753993610223645,7.667731629392971,0,0,0,0,0,0,0,0,0,0,0,0,0,0,0,0,0,0,0,0,0,0,0,0,0]
["BU0363SB06","0363SB06","Bedrijventerrein Nijverheidslaan","Amsterdam","Buurt","BU0363SB06","Bloemendalerpolder",2,35,25,10,5,5,5,15,5,15,15,5,0,"25","5","0","25","5","0","5","5","0","0","0","0",15,5,0,5,2.1,197,12,".",".",".",".",".",".",".",".",".",".",".",".","3310",".",".",".",".",".",".","3020","1070",".",".",".",".",".",".","940",".","0","0","0","0","0",".",".",".",".",".",".",0,".",".",".",".",".",".",".",".",".",".",".",".",".",".",".",".",".",".",".",".","75","0","10","15","10","10","15","15","5","50","30","25",".",".","5",0.2,1.6,1,1.5,5.4,21,17,4,1382,1,3,1397,28.57142857142857,28.57142857142857,0,14.285714285714285,14.285714285714285,0,0,0,0,0,0,0,0,0,0,0,0,0,0,0,0,0,0,0,0,0,0,0,0,0]
["BU0363SC01","0363SC01","Bedrijventerrein-Noord Weesp","Amsterdam","Buurt","BU0363SC01","Weesp-Noordwest",2,125,70,55,10,5,55,40,15,70,40,15,5,"85","20","20","90","5","5","10","10","0","0","0","0",75,30,25,15,1.8,154,75,362,3,97,89,11,37,63,0,63,0,100,0,"1800","1700",".",".",".",".","1680","2000","580","540",".",".",".",".","580","580",".","0","0","0","0","0",".",".",".",".",".",".",100,".",".",18.5,41.7,".",".",".",".",".",".",".",".","0","0","0","10",".",".",".",".","480","0","95","155","40","40","85","25","40","350","185","165",".",".","25",1.1,0.8,0.2,1.1,7.9,90,82,8,1382,1,3,1111,28.000000000000004,32,0,8,12,0,0,0,0,0,0,0,0,0,0,0,0,0,0,0,0,0,0,0,0,0,0,0,0,0]
["BU0363SC02","0363SC02","Hogewey-Noord","Amsterdam","Buurt","BU0363SC02","Weesp-Noordwest",2,1150,580,575,255,90,365,200,245,600,365,90,90,"740","130","285","735","40","145","90","140","10","11","65","58",415,155,85,180,2.3,6528,424,425,31,69,95,5,68,32,0,32,0,62,38,"2820","2890","2770","2310",".",".","3230","2630","790","830","680","730",".",".","900","740",".","160","50","20","10","20",100,260,370,82,84,16,700,".",".",25.9,30.2,".",28.1,26.2,3.6,4.1,5.2,5.4,221.7,"10","10","10","220",35,10.8,50,44,"120","0","25","15","15","5","30","15","20","335","270","65",0.8,"1913","20",0.5,1,0.5,0.4,6,18,18,0,1382,1,2,1932,36.08695652173913,35.65217391304348,1.7391304347826086,22.17391304347826,21.304347826086957,0,0,0,0,0,0,0,0,0,0,0,0,0,0,0,0,0,0,0,0,0,0,0,0,0]
["BU0363SC03","0363SC03","Hogewey-Midden","Amsterdam","Buurt","BU0363SC03","Weesp-Noordwest",2,1820,855,970,290,175,455,490,410,870,635,185,135,"1035","160","625","1030","55","300","110","330","20","10","15","9",910,400,230,275,2,8490,902,343,51,49,97,3,43,57,48,9,0,97,3,"2210","2330","2050","2210","2250",".","2000","2490","860","840","850","990","750",".","830","910",".","190","90","40","30","30",360,510,420,71,85,15,1500,".",".",39.2,16.2,".",44.8,12.8,5.1,6.6,9.6,12.6,45.1,"40","80","30","370",50,11.5,190,104,"170","0","20","25","25","10","40","25","20","690","570","120",0.8,"3210","30",0.5,0.4,0.4,0.5,6.2,21,21,0,1382,1,2,2071,43.40659340659341,43.13186813186813,1.6483516483516485,15.934065934065933,22.52747252747253,0,0,0,0,0,0,0,0,0,0,0,0,0,0,0,0,0,0,0,0,0,0,0,0,0]
["BU0363SC04","0363SC04","Hogewey-Zuid","Amsterdam","Buurt","BU0363SC04","Weesp-Noordwest",2,1910,905,1005,270,215,315,540,565,855,730,185,145,"960","140","805","960","65","400","75","405","15","7","20","10",910,375,265,270,2.1,10423,904,431,22,78,98,2,35,65,64,2,0,86,14,"2140","1910","2850","3170","2600","3550","1840","2700","800","730","980","1160","1170","1670","770","870",".","140","110","60","60","20",490,480,360,60,80,20,1600,".",".",44.3,15.8,".",48.3,17.4,7.7,11.3,15.3,19,34.3,"90","90","20","520",30,6.6,220,116,"175","0","25","20","20","15","50","35","10","765","625","140",0.8,"4180","40",0.7,0.3,0.5,0.6,6.7,28,18,10,1382,1,2,2166,49.73821989528796,49.73821989528796,1.0471204188481675,14.136125654450263,29.581151832460733,0,0,0,0,0,0,0,0,0,0,0,0,0,0,0,0,0,0,0,0,0,0,0,0,0]
["BU0363SC05","0363SC05","Weesp Dichtersbuurt","Amsterdam","Buurt","BU0363SC05","Weesp-Noordwest",2,1830,930,905,215,155,785,480,195,1145,470,170,50,"1010","280","545","1010","70","200","215","340","15","9","10","5",1100,620,265,215,1.7,7313,1107,323,11,89,95,5,47,52,34,19,0,95,5,"1780","1700","2360","2430",".",".","1660","1910","690","650","890","1150",".",".","680","700",".","120","40","30","40","40",310,600,650,77,86,14,1600,".",".",31.6,21.8,".",44.1,10.7,6.7,7.3,10.8,13,50.8,"60","90","20","170",25,8.1,105,56,"245","0","30","30","35","10","60","45","30","650","545","105",0.6,"2591","50",0.6,0.8,0.4,0.6,6,26,25,1,1382,1,2,2267,44.80874316939891,44.80874316939891,2.185792349726776,11.748633879781421,10.655737704918032,0,0,0,0,0,0,0,0,0,0,0,0,0,0,0,0,0,0,0,0,0,0,0,0,0]
["BU0363SC06","0363SC06","Weesp Schildersbuurt","Amsterdam","Buurt","BU0363SC06","Weesp-Noordwest",2,1090,520,565,205,120,310,290,165,605,330,110,40,"530","75","485","530","30","225","50","260","15","10","5","6",525,235,120,165,2.1,9234,500,349,41,59,99,1,16,84,82,2,0,90,10,"1940","1610","2200","2830","2830",".","1830","2470","730","650","790","940","1100",".","670","1020",".","110","50","40","20","0",330,280,180,65,84,16,900,".",".",48.4,14.5,".",57,12.1,12,13.3,19.5,23.7,7.6,"80","60","10","150",30,9.6,90,84,"100","0","20","15","10","0","20","25","10","360","295","65",0.7,"3070","15",0.5,0.6,0.2,0.4,6,12,12,0,1382,1,1,2518,51.37614678899083,51.37614678899083,0,18.807339449541285,15.137614678899084,0,0,0,0,0,0,0,0,0,0,0,0,0,0,0,0,0,0,0,0,0,0,0,0,0]
["BU0363SD01","0363SD01","Herensingelkwartier","Amsterdam","Buurt","BU0363SD01","Weesp Binnenstad/Zuid",2,1025,485,535,155,110,300,290,165,585,325,90,30,"710","140","175","715","40","75","100","105","15","13","0","1",545,265,135,140,1.9,11436,519,471,48,52,93,7,63,37,24,13,0,90,10,"2080","1730","2310","2610","3180","4420","1610","2390","800","660","900","1050","910","1750","660","890",".","80","50","20","20","20",200,210,380,74,82,18,800,".",".",31.6,30.3,".",39.7,24.8,6.2,6.4,8.3,10.2,244.4,"10","30","10","160",20,8.1,40,40,"165","0","15","20","10","15","50","35","20","385","315","70",0.7,"4273","30",0.7,0.5,0.2,0.4,6.1,10,9,1,1382,1,1,2595,30.24390243902439,30.73170731707317,1.951219512195122,15.121951219512194,16.097560975609756,0,0,0,0,0,0,0,0,0,0,0,0,0,0,0,0,0,0,0,0,0,0,0,0,0]
["BU0363SD02","0363SD02","Bedrijventerrein Van Houten","Amsterdam","Buurt","BU0363SD02","Weesp Binnenstad/Zuid",2,535,240,295,135,60,135,130,70,325,185,15,10,"250","215","70","255","20","25","195","45","10","17","5","9",235,95,50,100,2.3,1043,118,715,97,3,97,3,92,8,2,6,0,100,0,"3270",".","3030","3700","3060","4060","2580","3320","1200",".","1030","1330","1180","2010","1270","1200",".","70","70","0","10","0",50,80,320,66,83,17,400,".",".",41.3,29.1,".",51.1,27.7,24.7,18.5,21.1,21.6,5.5,"0","10","0","60",10,6.3,".",".","100","0","15","15","10","10","30","15","5","185","120","65",0.8,"361","20",0.7,0.7,0.8,0.8,7.6,53,51,2,1381,1,2,1950,52.336448598130836,53.271028037383175,0,25.233644859813083,13.084112149532709,0,0,0,0,0,0,0,0,0,0,0,0,0,0,0,0,0,0,0,0,0,0,0,0,0]
["BU0363SD03","0363SD03","Weesp Centrum","Amsterdam","Buurt","BU0363SD03","Weesp Binnenstad/Zuid",2,2185,1080,1100,265,195,550,675,490,1115,735,225,105,"1615","250","315","1620","90","140","155","175","25","12","25","11",1190,580,345,270,1.8,6743,1211,513,58,42,94,6,56,44,23,21,0,94,6,"2160","1890","2300","2330","2280","4780","1670","2540","920","800","960","1110","990","1370","790","1020",".","140","110","30","40","30",320,460,880,75,74,26,1900,".",".",33.7,29.6,".",39.7,23.4,4.7,5.7,8.6,11.4,245.7,"40","80","30","440",40,9.7,165,76,"555","0","40","125","35","45","150","65","90","880","705","175",0.7,"2718","85",0.5,0.5,0.4,0.4,7.5,42,32,10,1381,1,2,2208,25.85812356979405,26.08695652173913,1.3729977116704806,12.128146453089245,22.42562929061785,0,0,0,0,0,0,0,0,0,0,0,0,0,0,0,0,0,0,0,0,0,0,0,0,0]
["BU0363SD04","0363SD04","Weesp-Zuid I","Amsterdam","Buurt","BU0363SD04","Weesp Binnenstad/Zuid",2,570,220,350,50,45,70,110,295,195,165,55,150,"460","40","65","465","20","30","20","35","0","2","40","67",320,200,55,60,1.6,6004,368,".",42,58,95,5,20,80,51,29,0,97,3,"1710","1380","1680","1800","3010","4140","1450","2930","730","550","730","990","1330","1680","640","1150",".","30","20","10","10","10",60,130,120,59,80,20,500,".",".",50.2,14.1,".",67.9,10.4,4.9,10.8,15.7,24.5,26.8,"20","20","0","280",10,9.4,170,298,"50","0","5","5","5","5","5","20","5","175","155","20",0.5,"1846","20",0.2,0.5,0.4,0.3,8,10,9,0,1381,1,2,2248,18.421052631578945,19.298245614035086,1.7543859649122806,8.771929824561402,51.75438596491229,0,0,0,0,0,0,0,0,0,0,0,0,0,0,0,0,0,0,0,0,0,0,0,0,0]
["BU0363SD05","0363SD05","Weesp-Zuid II","Amsterdam","Buurt","BU0363SD05","Weesp Binnenstad/Zuid",2,645,305,340,95,65,130,195,165,310,250,55,35,"465","40","140","465","25","80","15","65","5","12","0","6",310,110,100,95,2.1,5239,314,480,84,16,99,1,33,67,65,2,0,98,2,"2340","2240","1790","2230","2950","3440","1960","3020","900","580","800","930","1140","1230","780","1110",".","50","40","20","20","10",140,210,130,64,79,21,500,".",".",43.5,17.9,".",47.3,20.4,7.9,7.6,11.6,15.6,30.2,"20","40","10","150",15,10.6,70,107,"85","0","15","5","5","5","20","25","10","325","265","60",1,"2619","20",0.9,1.1,1.1,0.9,6.1,15,12,3,1381,1,3,1412,27.906976744186046,27.906976744186046,1.550387596899225,14.728682170542637,25.581395348837212,0,0,0,0,0,0,0,0,0,0,0,0,0,0,0,0,0,0,0,0,0,0,0,0,0]
["BU0363SD06","0363SD06","De Klomp","Amsterdam","Buurt","BU0363SD06","Weesp Binnenstad/Zuid",2,660,330,335,130,65,130,170,165,275,320,30,30,"535","60","70","530","35","35","25","35","0","3","10","15",255,50,95,110,2.6,6987,254,591,100,0,98,2,87,13,12,1,0,99,1,"2450",".","2360","2500","3050",".","2090","2510","930",".","890","1000","1100",".","940","930",".","80","40","10","10","10",90,100,250,75,83,17,500,".",".",31.2,34,".",12.2,42.9,1.2,1.6,2,2,524.3,"10","10","0","150",25,13.4,25,41,"70","0","10","5","5","5","20","15","10","285","235","45",1.1,"2996","55",1.2,1.4,1.4,1.2,6,10,9,1,1381,1,4,853,19.696969696969695,18.939393939393938,1.5151515151515151,19.696969696969695,25,0,0,0,0,0,0,0,0,0,0,0,0,0,0,0,0,0,0,0,0,0,0,0,0,0]
["BU0363SE01","0363SE01","Aetsveldsepolder","Amsterdam","Buurt","BU0363SE01","Aetsveld/Oostelijke Vechtoever",2,470,230,240,50,65,40,210,105,190,240,25,15,"410","30","30","405","15","20","15","10","5","2","5","4",195,45,75,70,2.4,93,119,775,90,10,95,5,89,11,0,11,0,85,15,"4010","4170","2870","3100","3990","4510","4000","4020","1320","1160","860","1040","1280","1570","1400","1310",".","20","40","10","20","10",50,170,140,72,60,40,400,".",".",32.4,31.2,".",18.6,51.5,4.2,3.6,4.7,4.7,711.2,"0","10","0","100",10,11.5,20,40,"140","15","15","15","5","20","40","15","15","315","245","65",1.6,"61","25",2.5,2.6,2.5,2.5,3.3,551,511,40,1381,3,5,261,13.829787234042554,12.76595744680851,2.127659574468085,10.638297872340425,22.340425531914892,0,0,0,0,0,0,0,0,0,0,0,0,0,0,0,0,0,0,0,0,0,0,0,0,0]
["BU0363SE02","0363SE02","Aetsveld-Zuid","Amsterdam","Buurt","BU0363SE02","Aetsveld/Oostelijke Vechtoever",2,1750,880,865,245,195,415,480,410,790,765,130,60,"1400","135","205","1400","65","110","75","95","15","10","10","6",800,260,275,260,2.2,7260,797,428,64,36,98,2,68,32,18,14,0,100,0,"2290","1790","2560","2670",".",".","1810","2530","720","580","770","900",".",".","620","770",".","140","90","40","50","20",300,620,440,74,85,15,1500,".",".",30.3,23.7,".",28.3,25.4,1.9,2.5,5,6.7,263.5,"20","60","20","360",35,9,95,55,"160","0","35","15","20","5","30","35","15","800","670","130",1,"3327","70",0.5,0.4,0.4,0.5,7.4,25,24,1,1383,1,3,1062,20,20,1.1428571428571428,14.000000000000002,23.42857142857143,0,0,0,0,0,0,0,0,0,0,0,0,0,0,0,0,0,0,0,0,0,0,0,0,0]
["BU0363SE03","0363SE03","Aetsveld-Noord","Amsterdam","Buurt","BU0363SE03","Aetsveld/Oostelijke Vechtoever",2,1620,790,830,250,160,340,475,395,665,775,110,70,"1260","150","210","1260","70","105","80","105","15","9","5","4",715,210,245,265,2.3,6642,702,450,83,17,99,1,68,32,30,3,0,100,0,"2320","1650","2500","2330",".",".","1850","2550","810","680","800","980",".",".","740","840",".","140","70","40","40","10",270,510,430,70,88,12,1300,".",".",34.1,22.2,".",28.2,26.2,3.6,3.9,6.7,8.8,330.6,"20","60","20","360",40,10,70,44,"130","0","20","10","15","5","25","30","25","730","615","115",1,"2983","55",0.6,0.6,0.5,0.7,7.7,24,24,0,1383,1,3,1427,22.22222222222222,22.22222222222222,0.6172839506172839,15.432098765432098,24.382716049382715,0,0,0,0,0,0,0,0,0,0,0,0,0,0,0,0,0,0,0,0,0,0,0,0,0]
["BU0363SE04","0363SE04","Oostelijke Vechtoever","Amsterdam","Buurt","BU0363SE04","Aetsveld/Oostelijke Vechtoever",2,545,285,255,75,65,80,180,145,230,245,45,25,"465","40","45","460","20","25","15","20","5","4","0","4",230,70,80,80,2.4,53,139,818,85,15,94,6,86,14,0,14,0,89,11,"4060","3460",".",".","3890","4290","3370","4160","1150","1320",".",".","1050","1190","1120","1150",".","30","50","20","10","10",40,160,200,74,49,51,500,".",".",39.1,31.1,".",26,42.3,3.2,2.7,4.5,5.5,635.1,"0","10","0","130",10,8.3,15,31,"170","25","25","15","15","20","35","15","15","295","220","70",1.3,"28","30",2.8,3,2.7,2.7,2.6,1095,1036,59,1382,5,4,557,15.59633027522936,14.678899082568808,1.834862385321101,13.761467889908257,26.605504587155966,0,0,0,0,0,0,0,0,0,0,0,0,0,0,0,0,0,0,0,0,0,0,0,0,0]
["BU0363TA01","0363TA01","Hoofdcentrum-Zuidoost","Amsterdam","Buurt","BU0363TA01","Amstel III/Bullewijk",2,15,10,5,0,5,10,5,0,10,5,0,0,"0","5","5","0","0","0","5","10","0","0","0","0",15,10,0,0,1.2,47,0,".",".",".",".",".",".",".",".",".",".",".",".",".",".",".",".",".",".",".",".",".",".",".",".",".",".",".",".",".","0","0","0","0","0",".",".",".",".",".",".",0,".",".",".",".",".",".",".",".",".",".",".",".",".",".",".",".",".",".",".",".","210","0","5","80","25","35","45","5","15","60","25","40",".",".","0",2.1,1.8,1.2,2.4,4,34,34,0,1101,1,2,1775,100,100,0,0,0,0,0,0,0,0,0,0,0,0,0,0,0,0,0,0,0,0,0,0,0,0,0,0,0,0]
["BU0363TA02","0363TA02","Amstel III deel C/D-Noord","Amsterdam","Buurt","BU0363TA02","Amstel III/Bullewijk",2,20,15,5,0,5,10,5,0,15,5,5,0,"0","10","5","0","0","0","10","5","0","0","0","0",20,15,5,0,1.2,22,0,".",".",".",".",".",".",".",".",".",".",".",".",".",".",".",".",".",".",".",".",".",".",".",".",".",".",".",".",".","0","0","0","0","0",".",".",".",".",".",".",0,".",".",".",".",".",".",".",".",".",".",".",".",".",".",".",".",".",".",".",".","455","0","40","135","70","60","105","15","20","1310","720","590",".",".","10",1.6,1.6,0.9,2.4,4.8,99,94,5,1101,1,4,706,100,100,0,0,0,0,0,0,0,0,0,0,0,0,0,0,0,0,0,0,0,0,0,0,0,0,0,0,0,0]
["BU0363TA03","0363TA03","Amstel III deel A/B-Noord","Amsterdam","Buurt","BU0363TA03","Amstel III/Bullewijk",2,865,480,380,105,140,550,55,5,680,165,20,5,"135","120","610","135","15","135","100","480","15","19","0","0",395,265,100,30,1.4,1099,274,343,0,100,99,1,0,100,0,100,0,0,100,"1560","1560",".",".",".",".","1560",".","0","0",".",".",".",".","0",".","100","30","20","0","20","20",".",".",".",87,90,10,500,".",".",16.9,20.3,".",51.6,3.5,2.1,1.5,1.8,2.1,0.1,"0","0","10","0",".",".",".",".","1085","0","65","175","175","290","280","65","40","700","230","470",1.8,"889","20",0.5,1.2,0.8,1.2,10.8,80,79,1,1101,1,2,2242,84.39306358381504,84.39306358381504,2.312138728323699,12.138728323699421,0.5780346820809248,0,0,0,0,0,0,0,0,0,0,0,0,0,0,0,0,0,0,0,0,0,0,0,0,0]
["BU0363TA04","0363TA04","Amstel III deel C/D-Zuid","Amsterdam","Buurt","BU0363TA04","Amstel III/Bullewijk",2,0,0,0,0,0,0,0,5,0,0,0,0,"0","0","0","0","0","0","0","0","0","0","0","0",5,0,0,0,1,".",2,".",".",".",".",".",".",".",".",".",".",".",".",".",".",".",".",".",".",".",".",".",".",".",".",".",".",".",".",".","0","0","0","0","0",".",".",".",".",".",".",0,".",".",".",".",".",".",".",".",".",".",".",".",".",".",".",".",".",".",".",".","75","0","10","40","10","5","10","5","5","580","390","190",".",".","5",".",".",".",".",".",36,35,1,1105,1,4,675,"Geen inwoners","Geen inwoners","Geen inwoners","Geen inwoners","Geen inwoners",0,0,0,0,0,0,0,0,0,0,0,0,0,0,0,0,0,0,0,0,0,0,0,0,0]
["BU0363TA05","0363TA05","Amstel III deel A/B-Zuid","Amsterdam","Buurt","BU0363TA05","Amstel III/Bullewijk",2,2505,1185,1325,45,1015,1405,50,0,2300,190,15,0,"455","680","1370","455","40","445","640","925","15","6","0","0",2065,1660,360,40,1.2,7072,2077,187,0,100,95,5,0,100,0,100,0,2,98,"1430","1430",".",".",".",".","1430",".","90","90",".",".",".",".","90",".","81,5","20","0","10","230","670",".",".",".",75,91,9,2200,".",".",42.9,15.7,".",74.4,2.6,4.3,3.2,4.6,6.6,0,"30","10","20","0",".",".",10,4,"495","0","25","75","75","45","150","75","50","540","420","120",0.3,"1523","20",0.4,0.6,0.5,1.4,6,38,35,2,1105,1,1,2513,81.83632734530939,81.83632734530939,26.746506986027946,1.7964071856287425,0,0,0,0,0,0,0,0,0,0,0,0,0,0,0,0,0,0,0,0,0,0,0,0,0,0]
["BU0363TA06","0363TA06","AMC","Amsterdam","Buurt","BU0363TA06","Amstel III/Bullewijk",2,30,25,0,0,0,15,15,0,20,0,0,0,"5","5","20","5","0","5","5","15","0","0","0","0",30,30,0,0,1,35,1,".",".",".",".",".",".",".",".",".",".",".",".",".",".",".",".",".",".",".",".",".",".",".",".",".",".",".",".",".","0","0","0","0","0",".",".",".",".",".",".",0,".",".",".",".",".",".",".",".",".",".",".",".",".",".",".",".",".",".",10,367,"45","0","5","5","0","0","10","15","10","5","0","5",".",".","0",1.5,1.7,1.3,1.8,8.4,80,77,3,1105,1,2,1765,83.33333333333334,83.33333333333334,0,0,0,0,0,0,0,0,0,0,0,0,0,0,0,0,0,0,0,0,0,0,0,0,0,0,0,0]
["BU0363TA07","0363TA07","Hoge Dijk","Amsterdam","Buurt","BU0363TA07","Amstel III/Bullewijk",2,110,70,40,5,35,45,15,10,95,10,5,0,"60","15","30","60","5","20","5","10","0","0","0","0",80,75,5,5,1.2,74,8,".",".",".",".",".",".",".",".",".",".",".",".","4820",".",".",".",".","4330",".","5250","930",".",".",".",".","1080",".","800",".","0","0","10","10","10",".",".",".",".",".",".",100,".",".",".",".",".",".",".",".",".",".",".",".","0","0","0","10",15,59.3,".",".","50","0","5","10","5","0","5","5","15","40","25","15",0.5,"29","0",1.5,1.5,1.3,1.9,5,161,146,15,1105,1,5,431,45.45454545454545,45.45454545454545,9.090909090909092,4.545454545454546,9.090909090909092,0,0,0,0,0,0,0,0,0,0,0,0,0,0,0,0,0,0,0,0,0,0,0,0,0]
["BU0363TB01","0363TB01","Venserpolder-West","Amsterdam","Buurt","BU0363TB01","Venserpolder",2,5100,2670,2425,660,655,1680,1345,760,3515,720,740,120,"825","575","3700","825","95","1220","480","2475","55","10","60","12",2990,1835,460,690,1.7,10237,2817,283,0,100,95,5,21,79,67,12,0,90,10,"1640","1630","2630",".",".",".","1620","1710","670","660","640",".",".",".","720","460","10,0","320","220","160","100","150",1390,1420,1380,64,88,12,4000,31.6,26.3,47.9,10.8,28.3,64.6,4.8,14.4,19.7,24.7,27.6,2.7,"350","230","70","660",135,12,655,128,"540","0","50","80","105","10","120","95","75","1155","975","185",0.4,"2322","70",0.6,0.7,0.3,0.8,9.1,50,50,0,1102,1,1,3027,83.82352941176471,83.82352941176471,2.941176470588235,12.941176470588237,14.901960784313726,0,0,0,0,0,0,0,0,0,0,0,0,0,0,0,0,0,0,0,0,0,0,0,0,0]
["BU0363TB02","0363TB02","Venserpolder-Oost","Amsterdam","Buurt","BU0363TB02","Venserpolder",2,3415,1770,1645,425,485,1245,910,350,2340,575,445,55,"560","450","2405","560","65","815","385","1590","30","9","5","2",2025,1250,315,460,1.7,10603,1734,319,6,94,97,3,33,66,51,15,0,96,4,"1750","1680","2690","2790",".",".","1710","1830","680","670","750","700",".",".","730","580",".","220","140","110","80","140",740,1280,880,66,87,13,2800,32.5,27.2,45.8,11.9,".",61.5,6.6,13.9,16.8,20.8,24.1,4.3,"230","150","40","310",85,11.2,310,91,"380","0","40","45","65","10","95","70","55","790","640","150",0.4,"2454","35",0.5,0.5,0.5,0.5,12.7,32,32,0,1102,1,1,3542,83.601756954612,83.601756954612,4.099560761346998,12.445095168374817,10.248901903367496,0,0,0,0,0,0,0,0,0,0,0,0,0,0,0,0,0,0,0,0,0,0,0,0,0]
["BU0363TC01","0363TC01","D-buurt","Amsterdam","Buurt","BU0363TC01","Amsterdamse Poort e.o.",2,1940,950,990,110,1140,545,105,40,1815,75,50,5,"420","430","1095","415","40","385","390","710","20","10","5","3",1620,1430,90,90,1.2,7277,1681,58,0,100,94,6,1,99,24,75,0,24,76,"1210","1210",".",".",".",".","1200","1880","10","10",".",".",".",".","10","0","99,0","50","40","120","340","750",".",".",".",64,91,9,1600,".",".",74.7,3.1,".",93,0.8,12,11.9,19.7,25.7,-2.2,"60","20","10","30",25,3,60,31,"205","0","10","50","30","0","30","60","25","175","155","20",0.1,"652","10",0.3,1.1,0.5,0.5,11.2,28,27,1,1102,1,1,4386,78.6082474226804,78.35051546391753,38.659793814432994,5.670103092783505,2.0618556701030926,0,0,0,0,0,0,0,0,0,0,0,0,0,0,0,0,0,0,0,0,0,0,0,0,0]
["BU0363TC02","0363TC02","F-buurt","Amsterdam","Buurt","BU0363TC02","Amsterdamse Poort e.o.",2,4360,2195,2165,670,780,1635,1025,250,3130,835,350,45,"675","425","3265","675","75","1445","350","1815","50","12","10","2",2255,1280,285,685,1.9,19680,1933,327,24,76,96,4,27,73,30,43,0,23,77,"2100","1720","3300","3190",".",".","1830","2830","130","150","110",".",".",".","100","250","80,6","350","280","180","150","120",1200,1430,1020,74,86,14,3500,36.6,30,39.7,16.7,".",53.3,13.2,8.1,8.9,11,12.7,3,"160","160","60","220",125,9.7,250,57,"655","0","35","85","100","15","175","155","90","1145","900","245",0.5,"5159","65",0.4,0.5,0.4,0.5,16.8,23,22,1,1102,1,1,4387,84.51834862385321,84.51834862385321,2.7522935779816518,15.36697247706422,5.73394495412844,0,0,0,0,0,0,0,0,0,0,0,0,0,0,0,0,0,0,0,0,0,0,0,0,0]
["BU0363TC03","0363TC03","Amsterdamse Poort","Amsterdam","Buurt","BU0363TC03","Amsterdamse Poort e.o.",2,1300,645,655,140,270,320,380,195,950,120,200,30,"115","155","1030","120","10","270","140","760","15","10","10","10",815,615,75,130,1.4,3063,680,276,0,100,96,4,0,100,100,0,0,65,35,"1850","1850",".",".",".",".","1850",".","570","570",".",".",".",".","570",".","17,2","80","60","50","30","100",".",".",".",59,92,8,800,".",".",56.8,6.1,".",78.2,2.2,20.4,28.2,37.4,41.8,0.8,"120","100","30","170",40,11.6,230,178,"330","0","20","150","15","25","40","40","40","150","120","30",0.2,"357","0",0.7,0.3,0.8,1,16.3,43,43,1,1102,1,1,3417,90.76923076923077,91.15384615384615,7.6923076923076925,10.76923076923077,15,0,0,0,0,0,0,0,0,0,0,0,0,0,0,0,0,0,0,0,0,0,0,0,0,0]
["BU0363TC04","0363TC04","Vogeltjeswei","Amsterdam","Buurt","BU0363TC04","Amsterdamse Poort e.o.",2,660,330,330,85,85,165,190,130,390,175,75,15,"90","40","530","90","10","190","30","340","5","5","0","6",285,100,55,130,2.3,9515,247,444,74,26,99,1,57,43,35,7,0,100,0,"2830","2410","2950","3140",".",".","2690","2930","0","0","0","0",".",".","0","0","90,3","40","40","20","20","20",180,220,150,63,87,13,500,".",".",39.7,15.8,".",40.3,27,8,13.7,15.2,17.1,118.3,"20","40","10","110",20,13.1,75,114,"85","0","5","10","20","0","15","20","15","210","180","30",0.7,"3066","15",0.2,0.7,0.6,0.6,18,7,7,0,1102,1,1,4781,86.36363636363636,86.36363636363636,3.0303030303030303,12.878787878787879,19.696969696969695,0,0,0,0,0,0,0,0,0,0,0,0,0,0,0,0,0,0,0,0,0,0,0,0,0]
["BU0363TC05","0363TC05","Nelson Mandelapark","Amsterdam","Buurt","BU0363TC05","Amsterdamse Poort e.o.",2,0,0,0,0,0,0,0,0,0,0,0,0,"0","0","0","0","0","0","0","0","0","0","0","0",0,0,0,0,".",".",0,".",".",".",".",".",".",".",".",".",".",".",".",".",".",".",".",".",".",".",".",".",".",".",".",".",".",".",".",".","0","0","0","0","0",".",".",".",".",".",".",0,".",".",".",".",".",".",".",".",".",".",".",".",".",".",".",".",".",".",".",".","5",".",".",".",".",".",".",".",".","0","0","0",".",".","0",".",".",".",".",".",51,47,4,1102,2,1,3012,"Geen inwoners","Geen inwoners","Geen inwoners","Geen inwoners","Geen inwoners",0,0,0,0,0,0,0,0,0,0,0,0,0,0,0,0,0,0,0,0,0,0,0,0,0]
["BU0363TD01","0363TD01","Hoptille","Amsterdam","Buurt","BU0363TD01","H-buurt",2,1945,945,1000,255,475,790,340,90,1570,190,165,20,"235","345","1370","235","25","465","320","895","15","8","5","2",1260,885,145,225,1.5,9553,1220,232,8,92,95,5,6,94,35,59,0,100,0,"1510","1450","2390","1790",".",".","1510","1530","470","410","1110","1070",".",".","430","1000","42,5","130","90","80","120","320",420,740,530,60,89,11,1500,".",".",58.6,6.1,".",78,2.4,16.9,19.4,24.5,28.7,0.3,"140","60","20","80",75,12.1,100,52,"205","0","15","30","30","5","50","50","20","245","205","40",0.2,"1194","20",0.8,0.8,0.3,1,11.9,20,20,0,1102,1,2,2491,87.91773778920309,87.91773778920309,16.452442159383033,13.110539845758353,4.627249357326478,0,0,0,0,0,0,0,0,0,0,0,0,0,0,0,0,0,0,0,0,0,0,0,0,0]
["BU0363TD02","0363TD02","Rechte H-buurt","Amsterdam","Buurt","BU0363TD02","H-buurt",2,3030,1480,1550,500,520,810,870,330,2095,460,440,45,"300","295","2435","300","35","825","260","1610","35","12","15","4",1585,895,200,490,1.9,15444,1275,289,0,100,96,4,18,82,70,12,0,100,0,"2060","2060",".",".",".",".","2070","2050","70","70",".",".",".",".","70","40","99,8","260","210","150","80","90",1110,720,630,61,90,10,2400,".",21.6,57,6,".",66.1,5.9,16.6,22.5,27.8,31.1,1.3,"310","150","30","270",125,13.7,290,96,"265","0","35","25","30","0","60","65","45","550","475","75",0.3,"2803","15",0.8,0.9,0.6,0.7,16.2,20,20,0,1102,1,1,3211,90.0990099009901,90.0990099009901,2.9702970297029703,16.5016501650165,10.891089108910892,0,0,0,0,0,0,0,0,0,0,0,0,0,0,0,0,0,0,0,0,0,0,0,0,0]
["BU0363TD03","0363TD03","Hakfort/Huigenbos","Amsterdam","Buurt","BU0363TD03","H-buurt",2,2420,1170,1250,445,415,740,635,180,1780,320,290,30,"320","155","1945","315","45","785","110","1165","30","13","10","5",1230,650,180,400,2,9088,1122,283,0,100,96,4,0,100,100,0,0,100,0,"1780","1780",".",".",".",".","1780",".","1170","1170",".",".",".",".","1170",".",".","230","170","150","110","50",".",".",".",63,85,15,1900,".",".",59.1,5.2,".",66.7,5,17.4,22,28.5,33.3,0.2,"250","90","30","150",100,13.4,210,86,"310","0","25","45","40","0","60","65","75","475","400","75",0.4,"1792","25",0.4,1.3,0.6,0.6,11.5,29,27,3,1102,1,1,2786,86.98347107438018,86.77685950413223,2.066115702479339,18.388429752066116,7.43801652892562,0,0,0,0,0,0,0,0,0,0,0,0,0,0,0,0,0,0,0,0,0,0,0,0,0]
["BU0363TD04","0363TD04","Huntum","Amsterdam","Buurt","BU0363TD04","H-buurt",2,195,100,100,30,35,25,50,55,95,80,10,5,"95","20","90","95","5","35","15","55","5","15","0","20",95,30,30,35,2.1,1766,82,574,98,2,93,7,87,13,7,6,0,100,0,"2920",".","2930","2460","3530",".","2790","2940","1250",".","1200","1240","1470",".","950","1290",".","10","0","10","10","10",".",".",".",".",".",".",200,".",".",34,31.4,".",".",".",".",".",".",".",".","0","0","0","50",10,15.3,15,72,"40","0","0","0","5","5","10","10","5","70","55","15",0.8,"646","10",0.4,1.3,0.2,0.2,12.5,12,11,1,1102,1,1,2869,51.28205128205128,51.28205128205128,5.128205128205128,15.384615384615385,28.205128205128204,0,0,0,0,0,0,0,0,0,0,0,0,0,0,0,0,0,0,0,0,0,0,0,0,0]
["BU0363TE01","0363TE01","E-buurt","Amsterdam","Buurt","BU0363TE01","Ganzenhoef e.o.",2,2250,1090,1160,500,530,650,515,55,1595,505,135,15,"490","265","1495","495","70","805","190","685","20","8","5","2",920,400,95,425,2.4,7342,657,509,83,17,96,4,49,51,32,18,0,13,87,"2800","1620","2960","3060","3260","4090","2470","3130","0","30","0","0","0","0","10","0","89,3","250","200","90","140","120",420,820,540,74,86,14,1600,".",".",42.2,22.7,".",42.1,30,6.3,6.3,7.6,9.1,9.2,"60","50","20","60",85,9.5,60,27,"360","0","20","50","50","25","90","95","30","670","510","160",0.7,"2186","25",1.2,1.3,0.4,0.4,17.8,32,31,1,1103,1,1,4356,78,78.22222222222223,5.333333333333334,22.22222222222222,2.4444444444444446,0,0,0,0,0,0,0,0,0,0,0,0,0,0,0,0,0,0,0,0,0,0,0,0,0]
["BU0363TE02","0363TE02","G-buurt-West","Amsterdam","Buurt","BU0363TE02","Ganzenhoef e.o.",2,3700,1920,1780,470,510,1215,1030,475,2395,800,440,60,"510","375","2805","515","50","990","325","1825","45","13","10","3",1945,1015,335,600,1.9,9140,1482,404,35,65,98,2,36,64,28,36,0,71,29,"2540","2350","2880","2930",".",".","2460","2690","0","0","0","0",".",".","0",".","92,8","250","140","110","120","110",940,1320,860,68,83,17,3000,35.3,29.4,41.7,15.9,".",51.4,12.5,8.5,11.1,14,16.1,4,"130","150","50","420",95,11,270,72,"685","0","70","90","90","15","160","175","85","1115","910","205",0.6,"2758","55",0.3,0.6,0.5,1.1,15.6,43,40,2,1103,1,1,4043,86.08108108108108,86.21621621621621,2.9729729729729732,12.702702702702704,12.837837837837837,0,0,0,0,0,0,0,0,0,0,0,0,0,0,0,0,0,0,0,0,0,0,0,0,0]
["BU0363TE03","0363TE03","G-buurt-Noord","Amsterdam","Buurt","BU0363TE03","Ganzenhoef e.o.",2,1765,945,825,310,235,480,585,155,1305,160,290,15,"160","55","1550","160","10","560","50","985","15","8","10","5",1015,650,85,285,1.7,23760,952,220,0,100,98,2,0,100,100,0,0,100,0,"1790","1790",".",".",".",".","1790",".","50","50",".",".",".",".","50",".","100","150","110","110","50","10",".",".",".",61,89,11,1400,".",".",59.1,3.6,".",72.5,3,21.9,27,33.8,37.9,0.6,"230","80","20","120",65,13.5,175,99,"190","0","20","25","25","0","35","55","25","320","265","60",0.3,"4330","15",0.4,0.3,0.4,1.1,17.6,8,7,1,1103,1,1,4013,90.93484419263456,90.93484419263456,0.56657223796034,17.56373937677054,8.78186968838527,0,0,0,0,0,0,0,0,0,0,0,0,0,0,0,0,0,0,0,0,0,0,0,0,0]
["BU0363TF01","0363TF01","G-buurt-Oost","Amsterdam","Buurt","BU0363TF01","Geerdinkhof/Kantershof",2,3155,1700,1455,245,405,790,690,1020,1705,910,365,175,"1415","520","1220","1410","115","395","405","825","20","6","30","9",1995,1250,475,275,1.6,3723,1730,363,31,69,95,5,64,36,20,16,0,99,1,"2040","1730","2690","2880","2770","3270","1730","2230","680","460","1180","1280","1230","560","290","910","43,5","110","90","40","110","170",520,820,1070,66,84,16,2800,39.7,35.6,38,19.7,".",51.3,12.9,6.3,10.4,13.2,15.8,141.4,"40","70","30","940",45,8.4,390,124,"405","0","40","40","50","10","115","75","75","1075","875","200",0.5,"1268","75",0.9,1.2,0.2,0.4,12.2,97,85,12,1103,1,1,2647,55.30903328050714,55.150554675118855,5.388272583201268,7.765451664025356,32.32963549920761,0,0,0,0,0,0,0,0,0,0,0,0,0,0,0,0,0,0,0,0,0,0,0,0,0]
["BU0363TF02","0363TF02","Grunder/Koningshoef","Amsterdam","Buurt","BU0363TF02","Geerdinkhof/Kantershof",2,1750,850,905,315,290,535,465,155,1140,425,175,15,"215","170","1365","220","45","570","125","790","20","11","10","5",775,340,120,320,2.2,14565,638,428,62,38,97,3,50,50,43,7,0,0,100,"2480","1830","2820","3040",".","4510","2370","2590","850","670","930","1160",".","990","880","810",".","160","120","70","60","40",450,530,430,72,84,16,1400,".",".",40.7,18.4,".",40.4,19.5,6.3,9.1,10.1,12.8,15.7,"40","80","20","130",35,6.3,125,73,"235","0","15","30","35","5","60","60","30","545","445","105",0.7,"4542","25",0.4,0.9,0.4,0.4,13.3,13,12,1,1103,4,1,3443,87.42857142857143,87.71428571428571,2.2857142857142856,18,8.857142857142856,0,0,0,0,0,0,0,0,0,0,0,0,0,0,0,0,0,0,0,0,0,0,0,0,0]
["BU0363TF03","0363TF03","Kantershof","Amsterdam","Buurt","BU0363TF03","Geerdinkhof/Kantershof",2,2250,1190,1065,320,260,540,610,515,1265,530,380,80,"605","255","1395","605","70","480","185","915","15","8","25","11",1235,730,185,325,1.8,4596,1055,339,62,38,96,4,52,48,37,10,0,92,8,"2180","1380","2560","2890",".",".","1630","2650","570","60","870","990",".",".","270","860","34,8","150","110","50","60","40",630,600,510,62,86,14,1800,".",".",45.1,12.6,".",57.1,11.9,11.8,21.1,24.4,27,9.4,"90","100","20","450",45,8.8,280,124,"240","0","40","35","25","5","55","55","20","720","600","120",0.6,"1465","50",0.3,1.3,0.3,0.3,9,60,49,11,1104,1,2,2127,73.11111111111111,73.11111111111111,1.7777777777777777,14.222222222222221,22.88888888888889,0,0,0,0,0,0,0,0,0,0,0,0,0,0,0,0,0,0,0,0,0,0,0,0,0]
["BU0363TG01","0363TG01","Bijlmermuseum-Noord","Amsterdam","Buurt","BU0363TG01","Bijlmermuseum",2,2310,1100,1205,360,335,495,635,485,1480,360,415,65,"260","145","1905","260","30","545","115","1360","15","6","25","10",1305,760,155,385,1.8,16292,1089,295,0,100,97,3,8,92,86,6,0,63,37,"1950","1950",".",".",".",".","1960","1830","70","70",".",".",".",".","70","20","100","200","140","100","50","40",".",".",".",55,90,10,1900,".",".",59.1,4.3,".",71.8,3.4,15,26.9,34.2,38,1.2,"210","100","30","430",75,11.9,345,149,"240","0","25","30","25","5","50","75","30","375","315","60",0.3,"2660","15",0.4,0.6,0.3,0.9,14.7,17,14,2,1103,1,1,3910,88.74458874458875,88.74458874458875,1.7316017316017316,15.584415584415584,20.995670995670995,0,0,0,0,0,0,0,0,0,0,0,0,0,0,0,0,0,0,0,0,0,0,0,0,0]
["BU0363TG02","0363TG02","Bijlmermuseum-Zuid","Amsterdam","Buurt","BU0363TG02","Bijlmermuseum",2,3115,1540,1570,550,500,1015,745,300,2235,405,440,30,"455","430","2220","460","55","765","375","1460","35","11","10","4",1700,965,250,480,1.8,12952,1361,302,0,100,95,5,24,76,55,20,0,100,0,"2140","2140",".",".",".",".","2190","1990","50","50",".",".",".",".","60","20","99,9","280","180","130","100","120",950,770,790,66,87,13,2500,".",23.5,52.6,8.9,".",63.6,6.3,13.2,18.3,23.4,26.7,1.6,"240","110","30","250",105,11.4,240,77,"380","0","45","40","45","5","85","85","75","570","465","105",0.3,"2381","30",0.3,0.4,0.2,1,11.5,26,24,2,1104,1,1,3927,85.23274478330659,85.39325842696628,3.8523274478330656,17.656500802568218,9.630818619582666,0,0,0,0,0,0,0,0,0,0,0,0,0,0,0,0,0,0,0,0,0,0,0,0,0]
["BU0363TG03","0363TG03","De Kameleon e.o.","Amsterdam","Buurt","BU0363TG03","Bijlmermuseum",2,2365,1175,1185,420,415,765,570,190,1715,320,305,25,"365","175","1825","360","45","730","135","1095","30","12","10","3",1315,800,160,355,1.8,14751,1160,228,1,99,96,4,0,100,62,38,0,52,48,"1820","1810","2550",".",".",".","1820",".","400","410","0",".",".",".","400",".","48,2","190","130","130","90","70",900,770,280,64,86,14,1800,".",".",51.8,7.5,".",69,4.1,14.9,20.2,24.8,28.2,0.3,"190","120","30","160",80,11.1,205,87,"345","0","20","75","55","0","50","85","55","470","370","100",0.4,"2944","20",0.3,0.3,0.3,0.8,12.5,16,16,0,1104,1,1,3191,84.77801268498943,84.56659619450318,2.9598308668076108,17.758985200845668,8.0338266384778,0,0,0,0,0,0,0,0,0,0,0,0,0,0,0,0,0,0,0,0,0,0,0,0,0]
["BU0363TH01","0363TH01","Gooise Kant","Amsterdam","Buurt","BU0363TH01","K-buurt",2,745,370,375,215,100,295,125,10,520,185,35,5,"160","55","530","155","15","315","35","215","20","26","0","1",285,75,45,170,2.6,5350,235,536,100,0,97,3,66,34,17,17,0,0,100,"2860",".","2730","3220",".",".","3080","2750","0",".","0","0",".",".","0","0","85,5","110","50","30","20","20",".",".",".",85,85,15,500,".",".",29.6,29.8,".",23.1,35.1,2.8,2.8,3.6,4,190.9,"0","20","10","10",20,6.4,15,19,"95","0","5","15","15","0","25","25","10","265","200","65",0.9,"1913","15",0.4,1.2,1,1,16.3,15,14,2,1104,1,1,3573,79.19463087248322,78.52348993288591,2.684563758389262,28.859060402684566,1.342281879194631,0,0,0,0,0,0,0,0,0,0,0,0,0,0,0,0,0,0,0,0,0,0,0,0,0]
["BU0363TH02","0363TH02","Kortvoort","Amsterdam","Buurt","BU0363TH02","K-buurt",2,2855,1435,1425,430,325,805,750,540,1870,410,475,100,"550","190","2120","545","50","750","140","1370","30","10","55","19",1710,1085,185,430,1.7,13551,1502,277,13,87,95,5,15,85,82,4,0,92,8,"1720","1590","2670","2630",".",".","1710","1810","820","870","490","290",".",".","870","500","8,1","240","120","120","70","30",910,980,330,61,88,12,2300,".",24.4,51.9,8.3,".",68.1,4.3,16.8,23.5,29.5,33.9,2.1,"200","160","40","490",85,12.9,510,179,"285","0","30","35","45","5","55","90","30","670","565","105",0.4,"3168","25",0.3,1,0.6,0.8,15,22,21,1,1104,1,1,3813,80.9106830122592,80.73555166374781,1.0507880910683012,15.061295971978982,18.914185639229423,0,0,0,0,0,0,0,0,0,0,0,0,0,0,0,0,0,0,0,0,0,0,0,0,0]
["BU0363TH03","0363TH03","Kelbergen","Amsterdam","Buurt","BU0363TH03","K-buurt",2,1010,490,520,190,145,235,280,160,635,230,115,30,"235","80","695","235","30","290","50","410","5","7","5","5",455,200,70,190,2.2,4761,381,338,100,0,99,1,19,81,79,2,0,100,0,"2400",".","2380","2440",".",".","2340","2650","1000",".","940","1200",".",".","1000","1040",".","110","70","30","30","10",".",".",".",62,85,15,800,".",".",52.3,8.9,".",54.1,11,12.2,13.4,17.8,21,3.7,"70","50","10","150",55,17.8,115,116,"115","0","10","15","15","0","20","40","15","290","260","30",0.6,"1369","20",0.9,0.8,0.4,1,11.1,22,21,1,1104,1,1,2900,76.73267326732673,76.73267326732673,0.9900990099009901,18.81188118811881,15.841584158415841,0,0,0,0,0,0,0,0,0,0,0,0,0,0,0,0,0,0,0,0,0,0,0,0,0]
["BU0363TH04","0363TH04","K-buurt-Zuidwest","Amsterdam","Buurt","BU0363TH04","K-buurt",2,1405,680,725,240,270,360,405,130,905,340,125,35,"190","85","1125","195","30","495","55","625","15","9","10","5",610,245,90,275,2.3,8463,503,413,73,27,97,3,55,45,38,7,0,0,100,"2740","1840","3080","3080",".",".","2620","2840","300","0","420","420",".",".","370","250","64,4","130","110","70","50","40",380,520,250,69,85,15,1100,".",".",45.8,16.4,".",43.1,20.9,9.1,13.8,15.8,17.1,20.5,"50","40","10","110",70,14.7,100,71,"160","0","10","20","25","5","35","40","15","430","340","90",0.7,"2604","30",0.5,0.6,0.5,1.2,10.3,17,17,0,1104,1,1,3048,86.12099644128114,86.47686832740213,2.8469750889679712,17.08185053380783,9.252669039145907,0,0,0,0,0,0,0,0,0,0,0,0,0,0,0,0,0,0,0,0,0,0,0,0,0]
["BU0363TH05","0363TH05","K-buurt-Zuidoost","Amsterdam","Buurt","BU0363TH05","K-buurt",2,1420,725,690,360,215,490,305,55,945,370,95,10,"280","90","1050","280","30","530","60","520","15","11","0","1",590,240,75,270,2.4,7721,454,492,77,23,98,2,41,59,32,27,0,0,100,"2710","2050","2800","3070","3750","3940","2500","3010","0","0","0","0","0","0","0","0","89,2","200","100","60","40","30",300,390,360,76,83,17,1000,".",".",38.1,25.1,".",41,23.1,7.7,7.9,9.4,11.8,8,"40","40","20","50",50,9.3,40,28,"215","0","20","40","40","5","45","55","15","440","330","110",0.8,"2398","25",0.7,0.9,0.7,1.5,9,20,18,1,1104,1,2,2443,80.28169014084507,80.28169014084507,2.112676056338028,25.352112676056336,3.873239436619718,0,0,0,0,0,0,0,0,0,0,0,0,0,0,0,0,0,0,0,0,0,0,0,0,0]
["BU0363TJ01","0363TJ01","Holendrecht-West","Amsterdam","Buurt","BU0363TJ01","Holendrecht",2,2735,1250,1485,560,430,545,650,555,1830,305,480,115,"525","125","2090","525","50","910","70","1180","25","9","30","11",1390,775,115,495,2,7816,1383,277,0,100,93,7,0,100,100,0,0,100,0,"1860","1860",".",".",".",".","1860",".","800","800",".",".",".",".","800",".",".","320","250","180","70","30",940,920,160,55,90,10,2100,".",18.9,63.1,3.5,".",69.7,3.9,13.9,28.2,35.9,40.8,1.3,"280","140","30","510",130,14.3,540,198,"230","0","20","45","30","5","30","80","20","525","460","60",0.4,"1496","15",0.7,0.6,0.4,0.8,8.6,35,35,0,1106,1,1,2841,80.80438756855575,80.80438756855575,1.0968921389396709,20.47531992687386,20.29250457038391,0,0,0,0,0,0,0,0,0,0,0,0,0,0,0,0,0,0,0,0,0,0,0,0,0]
["BU0363TJ02","0363TJ02","Holendrecht-Oost","Amsterdam","Buurt","BU0363TJ02","Holendrecht",2,2500,1200,1300,365,260,590,565,715,1230,915,220,135,"1020","260","1220","1020","95","530","170","690","25","10","25","10",1170,440,325,405,2.1,3990,1068,418,86,14,98,2,56,44,28,17,0,100,0,"2250","1650","2340","2410",".",".","2050","2420","930","780","920","1070",".",".","910","940",".","200","110","70","50","40",420,710,700,64,84,16,2100,".",".",38,17.4,".",36,17.3,4.3,6.6,8.1,9.4,154.3,"50","90","20","650",75,12.8,255,102,"285","0","25","30","40","5","75","70","35","985","815","170",0.8,"1573","65",1.1,0.7,0.5,0.6,11.2,67,63,4,1106,1,1,2991,59.199999999999996,59.199999999999996,1.6,14.6,28.599999999999998,0,0,0,0,0,0,0,0,0,0,0,0,0,0,0,0,0,0,0,0,0,0,0,0,0]
["BU0363TJ03","0363TJ03","Holendrecht-Zuid","Amsterdam","Buurt","BU0363TJ03","Holendrecht",2,4265,1945,2325,790,640,1120,1165,550,2875,685,620,85,"665","235","3370","665","70","1345","165","2020","60","14","25","6",2060,995,265,800,2.1,11548,1846,311,3,97,96,4,12,88,84,4,0,100,0,"2030","1990","3120","2720",".",".","2000","2210","960","950","1060","1240",".",".","980","810",".","420","300","220","110","60",1320,1210,760,64,89,11,3400,28.7,22.9,53.9,6.6,".",59,7.3,12.9,17.3,23.5,27.8,2,"320","220","50","460",205,15.6,505,118,"360","0","35","40","50","0","80","120","35","960","830","130",0.5,"2602","50",0.9,0.8,0.6,0.9,9,37,37,0,1106,1,1,3084,84.40797186400938,84.40797186400938,1.406799531066823,18.522860492379838,12.895662368112543,0,0,0,0,0,0,0,0,0,0,0,0,0,0,0,0,0,0,0,0,0,0,0,0,0]
["BU0363TK01","0363TK01","L-buurt","Amsterdam","Buurt","BU0363TK01","Nellestein",2,3095,1620,1480,395,285,1030,750,635,1915,715,365,95,"1185","615","1300","1185","125","470","485","825","20","7","30","9",1850,1070,410,375,1.7,4483,1648,314,0,100,95,5,41,59,19,39,0,100,0,"1870","1870",".",".",".",".","1850","1910","890","890",".",".",".",".","930","830",".","180","120","60","50","60",".",".",".",70,84,16,2600,40.4,34.1,32.5,21.1,".",48,9.3,7.1,8.8,11.9,13.8,33.1,"50","90","30","540",75,12.6,220,70,"445","0","45","55","55","10","125","95","60","990","835","155",0.5,"1435","60",0.9,1.7,0.8,0.8,13.6,76,69,7,1108,1,2,2106,61.7124394184168,61.7124394184168,1.938610662358643,12.762520193861066,20.516962843295637,0,0,0,0,0,0,0,0,0,0,0,0,0,0,0,0,0,0,0,0,0,0,0,0,0]
["BU0363TK02","0363TK02","Gaasperpark","Amsterdam","Buurt","BU0363TK02","Nellestein",3,15,5,10,0,0,0,5,5,10,0,0,0,"10","0","5","5","0","0","0","0","0","0","0","0",5,5,0,0,1.8,16,2,".",".",".",".",".",".",".",".",".",".",".",".",".",".",".",".",".",".",".",".",".",".",".",".",".",".",".",".",".","0","0","0","0","0",".",".",".",".",".",".",0,".",".",".",".",".",".",".",".",".",".",".",".",".",".",".",".",".",".",".",".","20",".",".",".",".",".",".",".",".","5","5","0",".",".","0",1.3,1.5,1.3,1.3,8.9,79,68,11,1108,1,3,1101,66.66666666666666,33.33333333333333,0,0,33.33333333333333,0,0,0,0,0,0,0,0,0,0,0,0,0,0,0,0,0,0,0,0,0,0,0,0,0]
["BU0363TK03","0363TK03","Gaasperplas","Amsterdam","Buurt","BU0363TK03","Nellestein",3,5,5,0,0,5,0,5,0,5,0,0,5,"5","0","0","5","0","5","0","0","0","0","0","0",5,0,0,0,2.3,".",4,".",".",".",".",".",".",".",".",".",".",".",".",".",".",".",".",".",".",".",".",".",".",".",".",".",".",".",".",".","0","0","0","0","0",".",".",".",".",".",".",0,".",".",".",".",".",".",".",".",".",".",".",".",".",".",".",".",".",".",".",".","5",".",".",".",".",".",".",".",".","0","0","0",".",".","0",".",".",".",".",".",119,66,53,1108,1,4,589,0,0,0,0,0,0,0,0,0,0,0,0,0,0,0,0,0,0,0,0,0,0,0,0,0,0,0,0,0,0]
["BU0363TL01","0363TL01","Reigersbos 1","Amsterdam","Buurt","BU0363TL01","Reigersbos",2,2055,1055,1000,285,260,660,610,245,1410,385,225,35,"455","225","1370","455","35","540","190","835","20","8","20","9",1090,615,175,300,1.8,8611,953,319,6,94,95,5,33,67,56,11,0,98,2,"1920","1860","2710","2920",".",".","1880","2000","860","850","950","1100",".",".","900","770",".","140","100","70","40","40",550,730,410,67,87,13,1600,".",".",43.6,12.5,".",54.4,8.2,11.2,13.6,19.2,22.2,5.1,"120","160","20","200",70,14.8,235,115,"275","0","30","45","35","5","45","70","45","525","445","80",0.5,"2199","30",1.5,1,1.1,1.3,13.4,25,24,1,1106,1,1,3099,77.85888077858881,77.85888077858881,1.9464720194647203,13.86861313868613,11.922141119221411,0,0,0,0,0,0,0,0,0,0,0,0,0,0,0,0,0,0,0,0,0,0,0,0,0]
["BU0363TL02","0363TL02","Reigersbos 2","Amsterdam","Buurt","BU0363TL02","Reigersbos",2,1530,770,765,170,215,450,400,295,1010,250,200,65,"380","150","1000","380","35","305","115","695","10","8","15","10",945,625,130,185,1.6,8331,855,274,4,96,95,5,36,64,52,12,0,100,0,"1760","1750","1990",".",".",".","1750","1770","770","770","930",".",".",".","840","660",".","90","50","50","40","40",410,470,400,64,87,13,1200,".",".",46.4,10.3,".",62.9,4.2,10,15,19.2,23.7,6,"70","100","20","250",40,11.6,235,152,"210","0","15","45","30","5","40","45","25","375","325","50",0.4,"2032","15",0.8,1,0.5,0.6,9.6,19,18,1,1107,1,1,2990,75.16339869281046,75.16339869281046,2.6143790849673203,11.11111111111111,19.28104575163399,0,0,0,0,0,0,0,0,0,0,0,0,0,0,0,0,0,0,0,0,0,0,0,0,0]
["BU0363TL03","0363TL03","Reigersbos 3","Amsterdam","Buurt","BU0363TL03","Reigersbos",2,2440,1190,1250,345,300,675,645,470,1500,565,295,80,"605","195","1640","605","45","635","155","1000","20","7","20","7",1305,700,205,405,1.9,9932,1144,330,33,67,98,2,31,69,64,5,0,100,0,"1920","1660","2420","2630",".",".","1750","2320","780","740","830","1050",".",".","780","780",".","180","110","80","80","50",680,860,400,65,85,15,2000,".",".",44.3,10.8,".",57,9.1,9.9,14.5,19.4,22.3,6,"100","100","20","430",80,14,265,109,"270","0","35","35","40","5","50","75","30","735","610","125",0.6,"2995","30",0.9,0.8,0.8,0.9,10.2,25,25,1,1107,1,1,2522,75.20491803278688,75.20491803278688,2.0491803278688523,14.139344262295081,19.262295081967213,0,0,0,0,0,0,0,0,0,0,0,0,0,0,0,0,0,0,0,0,0,0,0,0,0]
["BU0363TL04","0363TL04","Reigersbos 4","Amsterdam","Buurt","BU0363TL04","Reigersbos",2,2520,1250,1270,425,260,670,620,550,1425,775,230,90,"940","220","1355","940","90","605","130","755","25","10","15","5",1205,535,265,405,2.1,4328,1090,393,76,24,96,4,38,62,45,17,0,100,0,"2100","1560","2210","2480",".",".","1890","2440","850","700","860","1030",".",".","830","880",".","220","150","60","70","30",510,740,680,63,83,17,2000,".",".",38.9,16.5,".",43.8,14.6,7.6,10.1,12.9,15,21.6,"70","120","30","500",75,12.3,255,100,"275","0","30","35","40","0","65","65","30","855","715","140",0.7,"1468","30",0.8,1,0.7,0.8,9.9,63,58,5,1107,1,2,2145,62.698412698412696,62.698412698412696,1.1904761904761905,16.865079365079367,21.825396825396826,0,0,0,0,0,0,0,0,0,0,0,0,0,0,0,0,0,0,0,0,0,0,0,0,0]
["BU0363TM01","0363TM01","Gein 1","Amsterdam","Buurt","BU0363TM01","Gein",2,3005,1465,1545,470,405,875,770,490,2040,445,435,90,"725","305","1970","725","70","750","240","1225","25","9","35","12",1645,965,220,455,1.8,9850,1584,281,0,100,95,5,21,79,65,14,0,100,0,"1760","1750","3020",".",".",".","1730","1860","770","770","1100",".",".",".","800","690",".","230","150","120","70","70",870,930,540,64,87,13,2400,".",25,49.2,9.5,".",63.5,6.3,13.6,19.3,25.5,29.4,2.6,"190","150","40","440",105,13.6,370,123,"335","0","35","45","50","0","55","110","35","695","570","125",0.4,"2277","50",0.8,0.9,0.9,0.9,11.3,32,31,1,1106,1,2,2460,75.87354409317804,75.87354409317804,2.329450915141431,15.640599001663894,16.306156405990016,0,0,0,0,0,0,0,0,0,0,0,0,0,0,0,0,0,0,0,0,0,0,0,0,0]
["BU0363TM02","0363TM02","Gein 2","Amsterdam","Buurt","BU0363TM02","Gein",2,1655,795,855,275,225,525,450,175,1130,260,230,25,"285","130","1240","290","35","475","95","770","20","10","5","3",870,475,105,295,1.9,9459,746,297,0,100,98,2,23,77,64,14,0,100,0,"1930","1930",".",".",".",".","1890","2070","840","840",".",".",".",".","870","730",".","150","90","70","30","30",420,470,440,63,88,12,1300,".",".",48.4,10.3,".",60.7,6.5,11,15.1,20.7,25,2.3,"130","120","20","140",55,11.8,170,104,"175","0","25","20","25","0","35","45","20","400","335","65",0.5,"2289","15",0.8,0.9,0.8,0.7,7.6,18,17,1,1107,1,1,2585,82.4773413897281,82.77945619335347,1.812688821752266,16.61631419939577,10.574018126888216,0,0,0,0,0,0,0,0,0,0,0,0,0,0,0,0,0,0,0,0,0,0,0,0,0]
["BU0363TM03","0363TM03","Gein 3","Amsterdam","Buurt","BU0363TM03","Gein",2,3195,1640,1555,425,385,710,925,755,1460,1420,215,100,"1610","350","1245","1605","135","535","215","705","25","8","15","5",1415,440,465,515,2.3,5036,1261,431,100,0,98,2,96,4,0,4,0,100,0,"2530",".","2540","2510",".",".","2780","2520","790",".","750","900",".",".","980","780",".","230","150","70","80","70",560,1070,960,68,83,17,2700,40.2,34.2,32.4,21.7,".",21.7,26.6,2.5,1.8,2.5,3.5,333.9,"10","100","30","660",80,11.3,140,44,"365","0","40","35","40","10","100","85","55","1360","1115","250",1,"2145","90",1,1.2,0.6,0.6,7.3,65,63,1,1106,1,2,1580,49.76525821596244,49.60876369327074,2.190923317683881,13.302034428794993,23.630672926447573,0,0,0,0,0,0,0,0,0,0,0,0,0,0,0,0,0,0,0,0,0,0,0,0,0]
["BU0363TM04","0363TM04","Gein 4","Amsterdam","Buurt","BU0363TM04","Gein",2,3365,1615,1745,525,325,905,895,710,1860,970,405,125,"1215","280","1865","1215","90","800","195","1065","40","12","25","7",1645,695,360,590,2,4687,1557,348,56,44,95,5,25,75,51,24,0,100,0,"2060","1790","2250","2260",".",".","1950","2360","830","770","850","930",".",".","830","800",".","290","140","100","60","40",790,1080,770,64,84,16,2700,34.7,28.5,42.3,14.7,".",45.4,11.5,8.1,10.5,14.2,16.4,9.7,"130","170","40","630",110,13.8,330,98,"370","0","45","60","45","5","70","95","50","1130","970","160",0.7,"1578","70",0.8,1,0.7,0.7,7.9,77,72,6,1107,1,2,1871,63.893016344725105,63.893016344725105,1.188707280832095,15.601783060921248,21.099554234769688,0,0,0,0,0,0,0,0,0,0,0,0,0,0,0,0,0,0,0,0,0,0,0,0,0]

{"sheet":"Lijst gemeenten","index":6,"n_rows":348,"n_cols":3,"rows_kept":348,"hidden":true}
[]
[]
["Row Labels",null,"Wijk"]
["'s-Gravenhage",null,"Buurt"]
["'s-Hertogenbosch"]
["Aa en Hunze"]
["Aalsmeer"]
["Aalten"]
["Achtkarspelen"]
["Alblasserdam"]
["Albrandswaard"]
["Alkmaar"]
["Almelo"]
["Almere"]
["Alphen aan den Rijn"]
["Alphen-Chaam"]
["Altena"]
["Ameland"]
["Amersfoort"]
["Amstelveen"]
["Amsterdam"]
["Apeldoorn"]
["Arnhem"]
["Assen"]
["Asten"]
["Baarle-Nassau"]
["Baarn"]
["Barendrecht"]
["Barneveld"]
["Beek"]
["Beekdaelen"]
["Beesel"]
["Berg en Dal"]
["Bergeijk"]
["Bergen (L.)"]
["Bergen (NH.)"]
["Bergen op Zoom"]
["Berkelland"]
["Bernheze"]
["Best"]
["Beuningen"]
["Beverwijk"]
["Bladel"]
["Blaricum"]
["Bloemendaal"]
["Bodegraven-Reeuwijk"]
["Boekel"]
["Borger-Odoorn"]
["Borne"]
["Borsele"]
["Boxtel"]
["Breda"]
["Bronckhorst"]
["Brummen"]
["Brunssum"]
["Bunnik"]
["Bunschoten"]
["Buren"]
["Capelle aan den IJssel"]
["Castricum"]
["Coevorden"]
["Cranendonck"]
["Culemborg"]
["Dalfsen"]
["Dantumadiel"]
["De Bilt"]
["De Fryske Marren"]
["De Ronde Venen"]
["De Wolden"]
["Delft"]
["Den Helder"]
["Deurne"]
["Deventer"]
["Diemen"]
["Dijk en Waard"]
["Dinkelland"]
["Doesburg"]
["Doetinchem"]
["Dongen"]
["Dordrecht"]
["Drechterland"]
["Drimmelen"]
["Dronten"]
["Druten"]
["Duiven"]
["Echt-Susteren"]
["Edam-Volendam"]
["Ede"]
["Eemnes"]
["Eemsdelta"]
["Eersel"]
["Eijsden-Margraten"]
["Eindhoven"]
["Elburg"]
["Emmen"]
["Enkhuizen"]
["Enschede"]
["Epe"]
["Ermelo"]
["Etten-Leur"]
["Geertruidenberg"]
["Geldrop-Mierlo"]
["Gemert-Bakel"]
["Gennep"]
["Gilze en Rijen"]
["Goeree-Overflakkee"]
["Goes"]
["Goirle"]
["Gooise Meren"]
["Gorinchem"]
["Gouda"]
["Groningen"]
["Gulpen-Wittem"]
["Haaksbergen"]
["Haarlem"]
["Haarlemmermeer"]
["Halderberge"]
["Hardenberg"]
["Harderwijk"]
["Hardinxveld-Giessendam"]
["Harlingen"]
["Hattem"]
["Heemskerk"]
["Heemstede"]
["Heerde"]
["Heerenveen"]
["Heerlen"]
["Heeze-Leende"]
["Heiloo"]
["Hellendoorn"]
["Helmond"]
["Hendrik-Ido-Ambacht"]
["Hengelo"]
["Het Hogeland"]
["Heumen"]
["Heusden"]
["Hillegom"]
["Hilvarenbeek"]
["Hilversum"]
["Hoeksche Waard"]
["Hof van Twente"]
["Hollands Kroon"]
["Hoogeveen"]
["Hoorn"]
["Horst aan de Maas"]
["Houten"]
["Huizen"]
["Hulst"]
["IJsselstein"]
["Kaag en Braassem"]
["Kampen"]
["Kapelle"]
["Katwijk"]
["Kerkrade"]
["Koggenland"]
["Krimpen aan den IJssel"]
["Krimpenerwaard"]
["Laarbeek"]
["Land van Cuijk"]
["Landgraaf"]
["Landsmeer"]
["Lansingerland"]
["Laren"]
["Leeuwarden"]
["Leiden"]
["Leiderdorp"]
["Leidschendam-Voorburg"]
["Lelystad"]
["Leudal"]
["Leusden"]
["Lingewaard"]
["Lisse"]
["Lochem"]
["Loon op Zand"]
["Lopik"]
["Losser"]
["Maasdriel"]
["Maasgouw"]
["Maashorst"]
["Maassluis"]
["Maastricht"]
["Medemblik"]
["Meerssen"]
["Meierijstad"]
["Meppel"]
["Middelburg"]
["Midden-Delfland"]
["Midden-Drenthe"]
["Midden-Groningen"]
["Moerdijk"]
["Molenlanden"]
["Montferland"]
["Montfoort"]
["Mook en Middelaar"]
["Neder-Betuwe"]
["Nederland"]
["Nederweert"]
["Nieuwegein"]
["Nieuwkoop"]
["Nijkerk"]
["Nijmegen"]
["Nissewaard"]
["Noardeast-Fryslân"]
["Noord-Beveland"]
["Noordenveld"]
["Noordoostpolder"]
["Noordwijk"]
["Nuenen, Gerwen en Nederwetten"]
["Nunspeet"]
["Oegstgeest"]
["Oirschot"]
["Oisterwijk"]
["Oldambt"]
["Oldebroek"]
["Oldenzaal"]
["Olst-Wijhe"]
["Ommen"]
["Oost Gelre"]
["Oosterhout"]
["Ooststellingwerf"]
["Oostzaan"]
["Opmeer"]
["Opsterland"]
["Oss"]
["Oude IJsselstreek"]
["Ouder-Amstel"]
["Oudewater"]
["Overbetuwe"]
["Papendrecht"]
["Peel en Maas"]
["Pekela"]
["Pijnacker-Nootdorp"]
["Purmerend"]
["Putten"]
["Raalte"]
["Reimerswaal"]
["Renkum"]
["Renswoude"]
["Reusel-De Mierden"]
["Rheden"]
["Rhenen"]
["Ridderkerk"]
["Rijssen-Holten"]
["Rijswijk"]
["Roerdalen"]
["Roermond"]
["Roosendaal"]
["Rotterdam"]
["Rozendaal"]
["Rucphen"]
["Schagen"]
["Scherpenzeel"]
["Schiedam"]
["Schiermonnikoog"]
["Schouwen-Duiveland"]
["Simpelveld"]
["Sint-Michielsgestel"]
["Sittard-Geleen"]
["Sliedrecht"]
["Sluis"]
["Smallingerland"]
["Soest"]
["Someren"]
["Son en Breugel"]
["Stadskanaal"]
["Staphorst"]
["Stede Broec"]
["Steenbergen"]
["Steenwijkerland"]
["Stein"]
["Stichtse Vecht"]
["Súdwest-Fryslân"]
["Terneuzen"]
["Terschelling"]
["Texel"]
["Teylingen"]
["Tholen"]
["Tiel"]
["Tilburg"]
["Tubbergen"]
["Twenterand"]
["Tynaarlo"]
["Tytsjerksteradiel"]
["Uitgeest"]
["Uithoorn"]
["Urk"]
["Utrecht"]
["Utrechtse Heuvelrug"]
["Vaals"]
["Valkenburg aan de Geul"]
["Valkenswaard"]
["Veendam"]
["Veenendaal"]
["Veere"]
["Veldhoven"]
["Velsen"]
["Venlo"]
["Venray"]
["Vijfheerenlanden"]
["Vlaardingen"]
["Vlieland"]
["Vlissingen"]
["Voerendaal"]
["Voorne aan Zee"]
["Voorschoten"]
["Voorst"]
["Vught"]
["Waadhoeke"]
["Waalre"]
["Waalwijk"]
["Waddinxveen"]
["Wageningen"]
["Wassenaar"]
["Waterland"]
["Weert"]
["West Betuwe"]
["West Maas en Waal"]
["Westerkwartier"]
["Westerveld"]
["Westervoort"]
["Westerwolde"]
["Westland"]
["Weststellingwerf"]
["Wierden"]
["Wijchen"]
["Wijdemeren"]
["Wijk bij Duurstede"]
["Winterswijk"]
["Woensdrecht"]
["Woerden"]
["Wormerland"]
["Woudenberg"]
["Zaanstad"]
["Zaltbommel"]
["Zandvoort"]
["Zeewolde"]
["Zeist"]
["Zevenaar"]
["Zoetermeer"]
["Zoeterwoude"]
["Zuidplas"]
["Zundert"]
["Zutphen"]
["Zwartewaterland"]
["Zwijndrecht"]
["Zwolle"]
["(blank)"]
["Grand Total"]

{"sheet":"Data_2023","index":7,"n_rows":18118,"n_cols":132,"rows_kept":562,"cut":true,"hidden":true,"bounds":{"rows_first":250,"rows_last":62,"rows_between":250,"halvings":3}}
["gwb_code_10","gwb_code_8","regio","gm_naam","recs","gwb_code","Wijk bij buurt","ind_wbi","a_inw","a_man","a_vrouw","a_00_14","a_15_24","a_25_44","a_45_64","a_65_oo","a_ongeh","a_gehuwd","a_gesch","a_verwed","a_nl_all","a_eur_al","a_neu_al","a_geb_nl","a_geb_eu","a_geb_ne","a_gbl_eu","a_gbl_ne","a_geb","p_geb","a_ste","p_ste","a_hh","a_1p_hh","a_hh_z_k","a_hh_m_k","g_hhgro","bev_dich","a_woning","g_wozbag","p_1gezw","p_mgezw","p_bewndw","p_leegsw","p_koopw","p_huurw","p_wcorpw","p_ov_hw","p_e_o_w","p_bjj2k","p_bjo2k","g_ele","g_ele_ap","g_ele_tw","g_ele_hw","g_ele_2w","g_ele_vw","g_ele_hu","g_ele_ko","g_gas","g_gas_ap","g_gas_tw","g_gas_hw","g_gas_2w","g_gas_vw","g_gas_hu","g_gas_ko","p_stadsv","a_ons_po","a_ons_vovavo","a_ons_mbo","a_ons_hbo","a_ons_wo","a_opl_bvm","a_opl_hvm","a_opl_hw","p_arb_pp","p_arb_wn","p_arb_zs","a_inkont","g_ink_po","g_ink_pi","p_ink_li","p_ink_hi","g_hh_sti","p_hh_li","p_hh_hi","p_hh_lkk","p_hh_osm","p_hh_110","p_hh_120","m_hh_ver","a_soz_wb","a_soz_ao","a_soz_ww","a_soz_ow","a_jz_tn","p_jz_tn","a_wmo_t","p_wmo_t","a_bedv","a_bed_a","a_bed_bf","a_bed_gi","a_bed_hj","a_bed_kl","a_bed_mn","a_bed_oq","a_bed_ru","a_pau","a_bst_b","a_bst_nb","g_pau_hh","g_pau_km","a_m2w","g_afs_hp","g_afs_gs","g_afs_kv","g_afs_sc","g_3km_sc","a_opp_ha","a_lan_ha","a_wat_ha","pst_mvp","pst_dekp","ste_mvs","ste_oad","Percentage geboren buiten NL","Percentage herkomst niet NL","%WO student","% kinderen onder 15 jaar","% senioren"]
[{"$nulls":89},"Percentage huishoudens onder 110% WSM",{"$nulls":36},"Omgevingsadressendichtheid","Percentage geboren buiten NL","Percentage herkomst niet NL","%WO student","% kinderen onder 15 jaar","%senioren"]
["NL00","0000","Nederland","Nederland","Land","NL00",{"$f":"IF(E3=\"wijk\",C3,IF(E3=\"Buurt\",_xlfn.XLOOKUP(LEFT(B3,6),$B$3:$B$18118,$C$3:$C$18118,\"onbekend\",0,1),\"ook geen buurt\"))","v":"ook geen buurt"},".",17811291,8850309,8960982,2727377,2190344,4507646,4784757,3601167,8851656,6709548,1386843,863244,"12978154","1617454","3215683","12978154","604926","1451261","1012528","1764422","164487","9","169521","10",8270244,3266042,2358933,2645269,2.1,529,8125229,368,64,36,96,4,57,43,28,14,0,81,19,"2500","1820","2500","2660","3020","3850","1910","2930","820","580","790","920","1050","1340","660","950","6,8","1466730","956630","468600","460430","343880",3550110,5564320,4390900,71,83,17,14348700,39.7,32.7,{"v":40,"d":"40.0"},{"v":20,"d":"20.0"},38.3,{"v":40,"d":"40.0"},{"v":20,"d":"20.0"},3.8,6.5,9.7,12.2,133.3,"400280","768100","141950","3256970",485100,10.9,1247750,70,"2358605","80045","336575","393385","179900","177825","543000","390805","257070","8917105","6992290","1924815",1.1,"265","690725",1.1,{"v":1,"d":"1.0"},0.7,0.8,9.9,4154337,3364723,789614,".",".",2,2055,{"$f":"IF(OR(I3=0, ISBLANK(I3)), \"Geen inwoners\", (I3-X3)/I3*100)","v":27.135242470632814},{"$f":"IF(OR(I3=0, ISBLANK(I3)), \"Geen inwoners\", (I3-U3)/I3*100)","v":27.135242470632814},{"$f":"IF(OR(I3=0,ISBLANK(I3)),\"Geen inwoners\",(BU3/I3*100))","v":{"v":1.9306854286980095,"d":"1.9"}},{"$f":"IF(OR(I3=0,ISBLANK(I3)),\"Geen inwoners\",(L3/I3*100))","v":15.312629500017714},{"$f":"IF(OR(I3=0,ISBLANK(I3)),\"Geen inwoners\",(P3/I3*100))","v":20.218450195440635}]
["GM0014","0014","Groningen","Groningen","Gemeente","GM0014",{"$f":"IF(E4=\"wijk\",C4,IF(E4=\"Buurt\",_xlfn.XLOOKUP(LEFT(B4,6),$B$3:$B$18118,$C$3:$C$18118,\"onbekend\",0,1),\"ook geen buurt\"))","v":"ook geen buurt"},1,238147,118198,119949,28475,50903,72284,49865,36620,158148,55656,16328,8015,"170682","26168","41297","170682","6806","16621","19362","24676","1859","8","1882","8",140359,83476,30927,25956,1.7,1284,122715,295,39,61,95,5,40,60,32,28,0,81,19,"2000","1640","2230","2420","2860","3650","1710","2420","780","640","880","980","1080","1390","670","940","4,2","14940","10190","5310","15760","24550",31700,79380,87960,67,87,13,193900,35.4,30.2,46.1,16.7,{"v":31,"d":"31.0"},58.9,11.6,5.4,10.4,15.1,18.1,13.1,"9720","9210","2040","32970",5660,8.7,15790,66,"29205","220","2390","4635","2600","1870","7315","5720","4450","97655","73325","24330",0.7,"526","6380",0.9,0.8,0.6,0.8,8.9,19796,18553,1243,".",".",1,3427,{"$f":"IF(OR(I4=0, ISBLANK(I4)), \"Geen inwoners\", (I4-X4)/I4*100)","v":28.3291412446934},{"$f":"IF(OR(I4=0, ISBLANK(I4)), \"Geen inwoners\", (I4-U4)/I4*100)","v":28.3291412446934},{"$f":"IF(OR(I4=0,ISBLANK(I4)),\"Geen inwoners\",(BU4/I4*100))","v":{"v":10.308758875820397,"d":"10.3"}},{"$f":"IF(OR(I4=0,ISBLANK(I4)),\"Geen inwoners\",(L4/I4*100))","v":11.956900569816122},{"$f":"IF(OR(I4=0,ISBLANK(I4)),\"Geen inwoners\",(P4/I4*100))","v":15.377057027802154}]
["WK001400","001400","Centrum","Groningen","Wijk","WK001400","Centrum",1,23150,12045,11105,595,10145,7770,2585,2055,19730,2075,1040,310,"14815","4390","3945","14820","660","1280","3725","2665","50","2","100","4",18320,14775,2885,665,1.2,10132,13426,280,13,87,90,10,15,85,25,59,0,86,14,"1800","1710","2320","2660","3090","3030","1740","2170","750","700","1040","1190","1700","1730","720","940","3,7","290","270","330","3340","7170",1870,11170,10290,64,86,14,19700,27.9,26.2,{"v":60,"d":"60.0"},10.5,23.7,80.3,4.5,8.1,12.1,{"v":17,"d":"17.0"},20.9,{"v":0,"d":"0.0"},"770","540","180","1880",110,1.5,815,35,"4915","5","240","1255","445","295","1080","625","970","4065","3130","935",0.2,"1780","380",0.4,0.3,0.5,0.7,14.3,241,228,13,".",".",1,6647,35.98272138228942,36.00431965442765,{"v":30.971922246220302,"d":"31.0"},2.570194384449244,8.876889848812095]
["BU00140000","00140000","Binnenstad-Noord","Groningen","Buurt","BU00140000","Centrum",1,4405,2315,2090,75,2110,1465,455,300,3860,330,180,40,"2935","795","675","2935","125","210","670","465","5","1","15","3",3565,2935,535,100,1.2,11875,2436,289,12,88,88,12,12,88,19,69,0,94,6,"1920","1840","2550","2240",".",".","1880","2260","850","800","1160","1410",".",".","810","1100",".","30","40","40","680","1590",380,2290,1880,67,85,15,3900,26.1,24.7,62.5,{"v":9,"d":"9.0"},22.5,82.5,3.6,8.3,11.2,15.8,19.6,-0.7,"110","100","40","270",15,1.2,135,31,"1070","0","45","335","95","75","230","120","170","720","530","190",0.2,"1944","55",0.4,0.3,0.6,0.5,15.1,39,37,2,9712,1,1,6865,33.37116912599319,33.37116912599319,{"v":36.095346197502835,"d":"36.1"},1.70261066969353,6.81044267877412]
["BU00140001","00140001","Binnenstad-Zuid","Groningen","Buurt","BU00140001","Centrum",1,6570,3505,3060,110,3095,2200,665,500,5750,470,280,65,"4170","1245","1150","4170","170","390","1080","765","5","1","30","4",5285,4335,805,145,1.2,11919,3940,283,8,92,89,11,12,88,24,64,1,96,4,"1820","1740","2650","3080","3820","2820","1770","2280","790","740","1280","1580","2010","1380","750","1100",".","60","50","80","1070","2280",390,3430,2870,64,86,14,5600,26.3,24.9,63.5,8.9,23.4,83.5,3.6,8.7,12.8,17.7,21.5,-1.7,"230","120","50","450",30,1.3,215,33,"1790","0","60","540","140","115","320","195","415","970","720","250",0.2,"1761","110",0.3,0.3,0.6,0.8,13.7,59,55,4,9711,1,1,6586,36.5296803652968,36.5296803652968,{"v":34.70319634703196,"d":"34.7"},1.67427701674277,7.610350076103501]
["BU00140002","00140002","Binnenstad-Oost","Groningen","Buurt","BU00140002","Centrum",1,4160,2155,2005,125,1700,1510,455,370,3580,345,185,50,"2625","710","830","2625","125","245","590","585","15","3","5","2",3305,2610,560,130,1.3,15522,2703,254,13,87,93,7,11,89,32,57,0,79,21,"1680","1610","2020","2380","2200",".","1630","2020","700","650","940","1150","1260",".","690","770",".","50","40","70","600","1170",480,1850,1820,65,87,13,3600,26.5,24.9,60.9,8.6,{"v":23,"d":"23.0"},81.8,3.2,8.6,14.6,20.1,24.7,{"v":0,"d":"0.0"},"180","120","30","340",25,{"v":2,"d":"2.0"},155,38,"630","0","45","115","65","30","155","110","110","735","590","150",0.2,"2749","60",0.5,0.5,0.5,0.9,13.8,29,27,2,9711,3,1,6264,36.89903846153847,36.89903846153847,{"v":28.125,"d":"28.1"},3.0048076923076925,8.89423076923077]
["BU00140003","00140003","Binnenstad-West","Groningen","Buurt","BU00140003","Centrum",1,1700,940,765,40,705,640,150,170,1440,175,55,30,"1140","300","260","1145","60","100","240","155","5","4","10","6",1375,1100,230,45,1.2,17446,1058,278,11,89,90,10,13,87,15,71,0,96,4,"1780","1700","2150","3100",".",".","1740","2010","740","680","1140","1460",".",".","680","1090",".","20","10","30","260","460",".",".",".",67,86,14,1500,".",".",56.6,11.8,".",77.3,4.7,7.1,10.1,15.2,19.7,{"v":0,"d":"0.0"},"60","40","20","150",".",".",65,38,"310","0","15","70","35","20","80","30","55","355","290","65",0.3,"3624","35",0.6,0.2,0.6,{"v":1,"d":"1.0"},13.8,11,10,1,9718,1,1,6576,32.64705882352941,32.94117647058823,{"v":27.058823529411764,"d":"27.1"},2.3529411764705883,10]
["BU00140004","00140004","Noorderplantsoen","Groningen","Buurt","BU00140004","Centrum",1,10,5,0,0,0,5,5,0,10,5,0,0,"10","0","5","10","0","0","0","5","0","0","0","0",5,0,5,0,2.2,57,0,".",".",".",".",".",".",".",".",".",".",".",".",".",".",".",".",".",".",".",".",".",".",".",".",".",".",".",".",".","0","0","0","0","0",".",".",".",".",".",".",0,".",".",".",".",".",".",".",".",".",".",".",".",".",".",".",".",".",".",".",".","0",".",".",".",".",".",".",".",".","0","0","0",".",".","0",0.5,0.4,0.3,0.4,14.4,20,19,0,9717,2,1,6447,0,0,{"v":0,"d":"0.0"},0,0]
["BU00140005","00140005","Hortusbuurt-Ebbingekwartier","Groningen","Buurt","BU00140005","Centrum",1,5875,2945,2925,250,2235,1905,830,650,4740,700,320,115,"3790","1135","940","3795","175","335","960","615","15","3","35","7",4405,3435,720,245,1.3,13502,3213,287,21,79,92,8,24,76,30,46,0,71,29,"1790","1640","2250","2650","2690","2430","1660","2180","690","610","910","1010","1870","1660","630","860","12,6","120","90","110","720","1670",450,2790,2740,63,85,15,4800,{"v":32,"d":"32.0"},29.6,53.6,14.7,25.6,74.7,7.4,7.2,{"v":11,"d":"11.0"},15.7,19.3,1.1,"190","160","50","620",35,1.9,240,41,"990","0","50","170","100","50","265","140","210","1200","935","260",0.3,"2755","115",0.4,0.4,0.4,0.7,14.9,45,43,1,9712,2,1,6898,35.40425531914894,35.48936170212766,{"v":28.425531914893615,"d":"28.4"},4.25531914893617,11.063829787234042]
["BU00140007","00140007","UMCG","Groningen","Buurt","BU00140007","Centrum",1,0,0,0,0,0,0,0,0,0,5,0,0,"0","0","0","0","0","0","0","0","0","0","0","0",5,0,0,0,{"v":1,"d":"1.0"},".",1,".",".",".",".",".",".",".",".",".",".",".",".",".",".",".",".",".",".",".",".",".",".",".",".",".",".",".",".",".","0","0","0","0","0",".",".",".",".",".",".",0,".",".",".",".",".",".",".",".",".",".",".",".",".",".",".",".",".",".",".",".","40","0","0","15","0","0","5","15","5","0","0","0",".",".","0",".",".",".",".",".",24,24,0,9713,1,1,6600,"Geen inwoners","Geen inwoners","Geen inwoners","Geen inwoners","Geen inwoners"]
["BU00140008","00140008","Stationsgebied","Groningen","Buurt","BU00140008","Centrum",1,430,170,255,5,300,40,25,65,355,50,15,10,"145","195","85","145","10","5","185","75","0","7","5","12",390,350,30,5,1.1,3338,75,531,7,93,84,16,73,25,0,25,1,15,85,"2120","1930",".",".",".",".","3190","1820","670","610",".",".",".",".","1170","520",".","20","30","0","10","10",".",".",".",42,".",".",300,".",".",73.3,10.4,".",78.6,5.1,".",".",".",".",0.5,"0","0","0","60",".",".",".",".","90","0","20","10","15","5","20","15","10","85","70","15",0.2,"671","5",0.4,0.6,0.6,0.7,14.9,15,13,2,9726,1,1,5935,66.27906976744185,66.27906976744185,{"v":2.3255813953488373,"d":"2.3"},1.1627906976744187,15.11627906976744]
["WK001401","001401","Oud-Zuid","Groningen","Wijk","WK001401","Oud-Zuid",3,21190,10425,10765,1155,6975,7915,3020,2120,17350,2425,1065,350,"14640","3405","3140","14640","580","1135","2825","2010","145","7","95","5",15380,11020,3190,1170,1.4,5212,11684,275,16,84,96,4,30,69,24,45,0,88,12,"1740","1690","1950","2130","2420","2650","1690","1860","730","690","890","1050","1210","1470","700","800",".","510","350","330","2450","4090",1790,8530,9990,68,89,11,18100,32.7,29.9,48.7,14.7,{"v":27,"d":"27.0"},68.3,6.5,6.1,9.4,13.7,16.4,3.6,"670","670","230","1870",215,3.6,945,45,"2680","0","155","325","285","155","745","565","450","5700","4570","1130",0.4,"1402","465",0.6,0.6,0.5,0.6,12.1,424,406,18,".",".",1,4222,30.910806984426614,30.910806984426614,{"v":19.301557338367154,"d":"19.3"},5.450684285040113,10.004719207173194]
["BU00140100","00140100","De Meeuwen","Groningen","Buurt","BU00140100","Oud-Zuid",1,1770,845,925,170,525,500,305,265,1240,400,100,35,"1040","455","275","1035","40","75","420","205","20","11","10","6",1190,805,230,150,1.5,8107,567,358,39,61,96,4,55,45,15,30,0,70,30,"1910","1710","2180","2410",".",".","1570","2170","660","550","770","940",".",".","550","740",".","70","60","20","80","110",310,570,760,52,84,16,1200,".",".",35.1,26.7,".",46.5,18.8,3.4,3.8,6.7,{"v":8,"d":"8.0"},{"v":84,"d":"84.0"},"10","30","10","240",20,3.5,70,39,"185","0","15","10","15","30","60","40","15","590","445","140",0.5,"2690","25",0.6,{"v":1,"d":"1.0"},{"v":1,"d":"1.0"},{"v":1,"d":"1.0"},9.4,23,22,1,9723,1,1,4431,41.52542372881356,41.24293785310734,{"v":6.214689265536723,"d":"6.2"},9.6045197740113,14.971751412429379]
["BU00140101","00140101","Oosterpoort","Groningen","Buurt","BU00140101","Oud-Zuid",1,4925,2425,2500,230,1470,1810,845,575,4025,530,280,90,"3535","695","690","3535","130","270","570","420","35","6","30","6",3580,2555,750,270,1.4,12425,2933,277,32,68,95,5,27,73,26,47,0,96,4,"1710","1630","1810","1950","2250","2660","1650","1850","800","720","900","1060","1250","1460","760","890",".","110","80","80","570","790",420,2030,2230,68,87,13,4300,31.9,29.5,50.5,{"v":13,"d":"13.0"},27.2,70.9,6.6,5.9,11.2,16.3,19.2,3.4,"180","170","70","500",50,4.1,220,45,"715","0","45","85","75","45","190","125","150","1320","1060","260",0.4,"3327","110",0.5,0.5,0.5,0.4,{"v":11,"d":"11.0"},42,40,2,9724,1,1,4421,28.223350253807105,28.223350253807105,{"v":16.040609137055835,"d":"16.0"},4.67005076142132,11.6751269035533]
["BU00140102","00140102","Herewegbuurt","Groningen","Buurt","BU00140102","Oud-Zuid",1,1580,775,805,105,500,600,245,130,1285,200,75,15,"1115","255","210","1115","60","75","195","135","10","4","5","2",1095,745,260,90,1.4,9714,832,320,28,72,95,5,39,61,6,54,0,93,7,"1930","1890","1880","2410","3870","4090","1920","1940","880","840","920","1190","1510","1930","830","960",".","50","30","20","190","330",100,580,810,73,86,14,1400,".",".",{"v":45,"d":"45.0"},19.4,".",62.5,{"v":10,"d":"10.0"},6.4,7.9,10.6,12.1,3.5,"30","40","20","120",10,2.6,60,37,"230","0","10","25","25","10","55","70","35","445","350","95",0.4,"2746","40",0.7,0.7,0.4,0.8,12.8,16,16,0,9725,1,1,4422,29.430379746835445,29.430379746835445,{"v":20.88607594936709,"d":"20.9"},6.645569620253164,8.227848101265822]
["BU00140103","00140103","Rivierenbuurt","Groningen","Buurt","BU00140103","Oud-Zuid",1,4540,2240,2300,245,1325,1710,645,620,3610,545,260,115,"3200","650","690","3195","135","265","520","430","25","6","30","6",3350,2415,695,235,1.4,8207,2679,269,4,96,95,5,26,73,34,39,0,86,14,"1690","1670","2490","2170","2620",".","1640","1840","740","720","1130","1140","1080",".","760","680",".","110","50","80","520","770",370,1850,1960,69,89,11,4000,31.6,29.1,49.9,12.5,26.6,70.7,4.1,{"v":7,"d":"7.0"},11.8,17.2,20.6,2.9,"210","190","50","550",50,4.5,315,69,"525","0","25","65","55","25","130","135","85","1205","1000","200",0.4,"2175","100",0.3,0.4,0.4,0.4,14.5,56,55,1,9725,1,1,4301,29.625550660792953,29.515418502202646,{"v":16.96035242290749,"d":"17.0"},5.39647577092511,13.656387665198238]
["BU00140104","00140104","Grunobuurt","Groningen","Buurt","BU00140104","Oud-Zuid",1,2315,1125,1190,180,565,1015,360,190,1880,255,145,40,"1665","280","370","1665","65","180","215","190","25","12","10","5",1615,1100,330,185,1.4,10589,1368,275,2,98,96,4,29,70,37,33,0,69,31,"1640","1630","2080","2860",".",".","1620","1700","600","590","1100","1390",".",".","570","690","12,2","90","50","40","230","360",230,960,1100,71,90,10,2000,".",".",44.7,14.3,".",66.8,5.3,5.9,9.9,14.9,17.7,5.3,"130","130","30","170",40,6.9,135,59,"235","0","15","35","20","10","55","50","55","670","545","125",0.4,"3075","60",0.6,0.5,0.3,0.3,12.3,23,22,1,9727,1,1,3814,28.077753779697623,28.077753779697623,{"v":15.550755939524837,"d":"15.6"},7.775377969762419,8.207343412526997]
["BU00140105","00140105","Badstratenbuurt","Groningen","Buurt","BU00140105","Oud-Zuid",1,875,450,425,25,320,345,110,70,765,55,45,5,"630","120","125","630","30","50","90","75","5","5","5","5",695,545,120,35,1.3,14606,564,240,25,75,93,7,20,80,29,50,0,98,2,"1650","1630","1670","1880","1550","1720","1670","1580","710","650","820","1110","1030","970","680","800",".","10","10","20","130","220",110,380,400,66,88,12,800,".",".",55.6,10.6,".",77.3,3.9,5.9,11.9,{"v":18,"d":"18.0"},21.3,1.1,"40","40","10","60",".",".",35,42,"105","0","5","15","10","5","25","30","15","170","145","25",0.2,"2861","25",0.7,0.3,0.4,0.9,13.4,7,6,1,9726,1,1,5737,28.000000000000004,28.000000000000004,{"v":25.142857142857146,"d":"25.1"},2.857142857142857,8]
["BU00140106","00140106","Zeeheldenbuurt","Groningen","Buurt","BU00140106","Oud-Zuid",1,3690,1790,1900,125,1695,1410,295,165,3280,300,95,25,"2470","650","575","2465","95","160","555","415","20","5","10","2",2795,2085,575,135,1.3,11061,2043,249,4,96,96,4,27,73,16,57,0,87,13,"1820","1770","3050","2730",".",".","1780","1900","640","630","920","720",".",".","570","850",".","60","40","60","540","1130",180,1590,1900,70,91,9,3200,29.3,27.3,{"v":54,"d":"54.0"},13.5,23.6,72.4,4.9,7.6,7.5,9.8,12.2,0.8,"60","50","30","130",20,1.7,80,21,"280","0","15","35","30","5","90","55","50","785","645","140",0.3,"2345","70",{"v":1,"d":"1.0"},0.6,0.6,1.2,11.5,35,33,1,9726,1,1,4096,33.19783197831978,33.06233062330624,{"v":30.62330623306233,"d":"30.6"},3.387533875338753,4.471544715447155]
["BU00140107","00140107","Laanhuizen","Groningen","Buurt","BU00140107","Oud-Zuid",1,1235,620,615,70,395,475,200,95,1020,135,60,20,"965","135","135","965","25","60","110","70","10","9","5","2",835,540,225,70,1.5,6002,687,269,13,87,97,3,53,47,3,44,0,99,1,"1730","1650","2430","2000","2290",".","1720","1740","790","750","940","1110","1400",".","760","820",".","30","30","20","130","260",50,510,660,77,91,9,1100,".",".",40.4,18.7,".",56.6,7.8,3.1,3.1,4.3,6.4,27.5,"10","20","20","90",15,{"v":5,"d":"5.0"},30,23,"120","0","10","10","10","5","40","25","20","390","320","70",0.5,"1886","35",0.9,0.8,0.3,0.6,11.8,21,21,0,9727,1,1,3617,21.86234817813765,21.86234817813765,{"v":21.052631578947366,"d":"21.1"},5.668016194331984,7.6923076923076925]
["BU00140108","00140108","Stadspark","Groningen","Buurt","BU00140108","Oud-Zuid",1,15,10,5,0,0,5,5,0,10,0,5,0,"10","0","5","5","0","0","0","5","0","0","0","0",10,10,0,0,1.2,11,1,".",".",".",".",".",".",".",".",".",".",".",".",".",".",".",".",".",".",".",".",".",".",".",".",".",".",".",".",".","0","0","0","0","0",".",".",".",".",".",".",0,".",".",".",".",".",".",".",".",".",".",".",".",".",".",".",".",".",".",".",".","10",".",".",".",".",".",".",".",".","10","5","0",".",".","0",".",".",".",".",".",139,129,10,9727,1,2,2283,66.66666666666666,33.33333333333333,{"v":0,"d":"0.0"},0,0]
["BU00140109","00140109","Martini Trade Park","Groningen","Buurt","BU00140109","Oud-Zuid",1,5,5,5,0,0,0,0,0,0,0,0,0,"0","5","5","0","0","0","5","0","0","0","0","0",0,5,0,0,{"v":1,"d":"1.0"},".",1,".",".",".",".",".",".",".",".",".",".",".",".",".",".",".",".",".",".",".",".",".",".",".",".",".",".",".",".",".","0","0","0","0","0",".",".",".",".",".",".",0,".",".",".",".",".",".",".",".",".",".",".",".",".",".",".",".",".",".",".",".","165","0","5","15","20","15","75","25","10","65","40","25",".",".","0",".",".",".",".",".",25,25,0,9727,1,1,2831,100,100,{"v":0,"d":"0.0"},0,0]
["BU00140110","00140110","Peizerweg","Groningen","Buurt","BU00140110","Oud-Zuid",2,230,135,100,0,175,45,5,0,225,0,0,5,"20","150","65","20","0","0","150","60","0","0","0","0",225,220,5,0,{"v":1,"d":"1.0"},627,9,".",".",".",".",".",".",".",".",".",".",".",".","2750",".",".",".",".",".","2750",".","1240",".",".",".",".",".","1240",".",".","0","0","0","50","130",".",".",".",25,".",".",100,".",".",{"v":88,"d":"88.0"},3.4,".",96.5,0.9,".",".",".",".",{"v":0,"d":"0.0"},"0","0","0","0",".",".",".",".","115","0","10","40","20","5","20","10","10","55","15","40",0.2,"149","5",1.9,1.3,1.5,1.7,8.9,37,37,0,9727,5,4,945,91.30434782608695,91.30434782608695,{"v":56.52173913043478,"d":"56.5"},0,0]
["WK001402","001402","Oud-West","Groningen","Wijk","WK001402","Oud-West",1,14155,6845,7310,875,4580,4650,2415,1635,11185,1965,755,245,"10050","2040","2065","10050","400","745","1640","1315","70","5","55","4",9955,7035,2000,920,1.4,12589,7732,296,25,75,95,5,36,64,22,42,0,94,6,"1820","1710","2030","2420","2810","3990","1740","1960","870","790","1030","1250","1480","1810","790","990",".","420","350","230","1570","2930",1050,5360,6820,68,86,14,12200,33.5,30.4,49.7,16.2,27.9,67.3,8.6,5.7,9.3,13.5,{"v":16,"d":"16.0"},4.9,"450","370","110","1460",180,4.6,535,38,"1725","5","85","205","130","110","515","360","320","3730","2945","785",0.4,"3316","315",0.7,0.4,0.5,0.7,14.2,118,112,6,".",".",1,5535,29.000353232073472,29.000353232073472,{"v":20.699399505475096,"d":"20.7"},6.181561285764747,11.550688802543272]
["BU00140200","00140200","Oranjebuurt","Groningen","Buurt","BU00140200","Oud-West",1,2585,1240,1345,215,600,765,570,425,1860,445,215,65,"1940","295","355","1935","70","135","225","220","20","6","15","6",1665,1045,380,235,1.5,9872,1381,316,22,78,97,3,42,58,32,26,0,100,0,"1780","1640","2070","2550","3210",".","1590","2050","890","810","1050","1280","1720",".","810","990",".","110","100","40","210","340",230,750,1270,66,85,15,2200,".",".",43.7,20.3,".",57.6,11.9,4.5,10.6,14.4,17.3,16.2,"120","80","20","400",35,5.5,125,48,"300","0","10","25","30","25","95","60","60","810","615","195",0.5,"3096","55",{"v":1,"d":"1.0"},0.4,0.6,0.5,13.8,27,26,1,9717,1,1,5593,25.145067698259187,24.95164410058027,{"v":13.152804642166343,"d":"13.2"},8.317214700193423,16.44100580270793]
["BU00140201","00140201","Noorderplantsoenbuurt","Groningen","Buurt","BU00140201","Oud-West",1,3815,1830,1980,235,1155,1345,705,370,3130,470,180,30,"2640","665","515","2640","130","190","535","320","20","5","10","2",2675,1890,540,240,1.4,15255,2292,267,35,65,95,5,39,61,15,46,0,98,2,"1710","1650","1760","2120","2320","3270","1660","1800","820","750","910","1070","960","1560","740","930",".","110","110","50","400","660",220,1270,2140,68,86,14,3200,34.6,31.3,46.6,17.7,".",65.9,9.1,6.7,{"v":9,"d":"9.0"},13.3,15.3,9.1,"100","110","40","330",55,5.8,120,32,"470","0","30","50","35","15","145","85","100","980","790","190",0.4,"3921","105",0.9,0.4,0.8,0.7,13.7,25,25,0,9717,1,1,6381,30.799475753604195,30.799475753604195,{"v":17.300131061598954,"d":"17.3"},6.159895150720838,9.698558322411534]
["BU00140202","00140202","Schildersbuurt","Groningen","Buurt","BU00140202","Oud-West",1,5475,2625,2845,240,2320,1625,725,570,4410,745,225,85,"3885","830","750","3885","150","255","680","500","15","2","15","3",4035,3025,750,255,1.4,14995,2658,332,26,74,94,6,35,65,10,54,0,97,3,"2070","1920","2410","2760",".","2760","2040","2120","950","840","1220","1420",".","2050","870","1090",".","110","90","80","760","1650",330,2500,2440,69,87,13,4800,31.4,28.9,54.7,15.1,25.8,71.2,8.3,5.7,6.3,9.3,11.5,1.5,"100","70","40","500",50,2.8,145,26,"705","0","30","100","45","60","215","130","120","1275","990","285",0.3,"3488","110",0.5,0.5,0.3,0.8,14.5,39,36,3,9718,1,1,5682,29.041095890410958,29.041095890410958,{"v":30.136986301369863,"d":"30.1"},4.383561643835616,10.41095890410959]
["BU00140203","00140203","Kostverloren","Groningen","Buurt","BU00140203","Oud-West",1,2285,1150,1135,190,510,915,410,260,1790,305,130,60,"1585","260","440","1590","60","170","200","270","25","10","20","8",1575,1065,325,190,1.4,9227,1401,254,11,89,97,3,24,75,48,27,0,78,22,"1550","1510","1770","1720",".",".","1480","1770","770","760","800","1050",".",".","730","890","6,1","100","50","50","210","280",270,840,960,68,90,10,2000,".",".",{"v":49,"d":"49.0"},11.9,".",69.8,5.1,5.8,13.9,20.3,23.6,{"v":3,"d":"3.0"},"140","110","20","220",40,7.4,150,65,"245","0","15","25","20","10","55","85","40","665","550","120",0.4,"2686","45",0.6,0.3,0.4,0.5,14.5,26,25,2,9718,1,1,3924,30.41575492341357,30.63457330415755,{"v":12.25382932166302,"d":"12.3"},8.315098468271334,11.37855579868709]
["WK001403","001403","Oud-Noord","Groningen","Wijk","WK001403","Oud-Noord",1,18300,9110,9190,1790,4915,7240,2950,1405,14755,2140,1120,280,"11780","2135","4390","11780","475","1690","1660","2700","170","9","80","4",12410,8515,2360,1535,1.5,10301,10805,242,15,85,95,5,18,82,52,31,0,81,19,"1680","1600","2100","2060","1600","2850","1630","1900","700","680","800","950","720","980","670","840","3,4","890","520","510","1860","2780",2700,7380,6740,66,90,10,15500,29.4,25.7,{"v":55,"d":"55.0"},10.3,25.2,74.2,4.7,6.9,16.7,23.7,27.8,1.3,"1590","840","190","1190",325,6.5,1115,61,"1700","5","145","255","160","45","455","310","325","4535","3780","755",0.4,"2552","375",0.7,0.5,0.5,0.9,10.9,186,178,9,".",".",1,5250,35.62841530054644,35.62841530054644,{"v":15.191256830601093,"d":"15.2"},9.781420765027322,7.6775956284152995]
["BU00140300","00140300","De Hoogte","Groningen","Buurt","BU00140300","Oud-Noord",1,4105,2120,1980,525,710,1865,730,275,3255,495,300,55,"2410","370","1325","2410","95","555","275","770","50","13","20","5",2720,1830,455,435,1.5,7433,2599,221,22,78,97,3,8,92,74,18,0,79,21,"1570","1450","2050","1710","1620",".","1540","1860","570","510","750","920","790",".","560","700","8,5","270","150","140","230","280",930,1350,1210,63,89,11,3400,28.3,{"v":24,"d":"24.0"},54.9,6.7,25.3,76.8,2.8,{"v":8,"d":"8.0"},21.3,29.7,34.8,0.8,"560","240","50","220",120,12.3,300,73,"405","0","55","70","50","5","85","65","70","1115","935","180",0.4,"2018","80",0.9,0.6,0.7,1.1,10.7,57,55,2,9716,1,1,5264,41.29110840438489,41.29110840438489,{"v":6.82095006090134,"d":"6.8"},12.78928136419001,6.699147381242387]
["BU00140301","00140301","Indische buurt","Groningen","Buurt","BU00140301","Oud-Noord",1,8170,4155,4020,805,2000,3165,1460,740,6440,960,610,160,"5065","925","2185","5070","225","795","695","1390","70","8","40","5",5585,3870,1005,705,1.5,11800,4881,235,12,88,96,4,15,85,61,24,0,89,11,"1670","1620","2050","2210","1460",".","1630","1900","740","730","780","940","560",".","730","800",".","390","240","250","770","1090",1500,3200,2710,62,90,10,6900,{"v":28,"d":"28.0"},24.5,{"v":58,"d":"58.0"},8.6,24.5,{"v":77,"d":"77.0"},3.5,7.6,19.8,28.4,32.9,1.3,"860","470","80","620",135,6.3,635,77,"725","0","50","105","65","20","195","135","150","2000","1675","325",0.4,"2889","160",0.6,0.4,0.4,0.8,10.8,72,69,2,9715,1,1,5136,37.9436964504284,38.004895960832314,{"v":13.341493268053856,"d":"13.3"},9.8531211750306,9.057527539779683]
["BU00140302","00140302","Professorenbuurt","Groningen","Buurt","BU00140302","Oud-Noord",1,6025,2835,3190,460,2210,2210,755,390,5055,685,220,65,"4305","845","880","4305","155","340","685","540","50","8","15","2",4110,2815,900,395,1.5,11325,3325,267,13,87,93,7,29,71,21,50,0,73,27,"1770","1690","2240","2250",".","2820","1710","1910","740","720","900","1000",".","1100","680","900","4,4","230","140","120","860","1410",370,2750,2800,72,90,10,5100,31.8,28.5,{"v":51,"d":"51.0"},14.9,26.2,68.3,7.6,4.8,7.4,10.7,13.3,2.1,"170","130","60","350",70,3.7,180,30,"570","0","35","75","50","20","170","110","105","1420","1170","250",0.3,"2670","135",0.7,0.6,0.4,0.8,11.3,57,53,4,9714,1,1,5401,28.54771784232365,28.54771784232365,{"v":23.402489626556015,"d":"23.4"},7.634854771784233,6.4730290456431545]
["WK001404","001404","Oosterparkwijk","Groningen","Wijk","WK001404","Oosterparkwijk",1,12700,6225,6475,1355,2520,5260,2415,1145,9695,1800,955,250,"8635","1395","2670","8640","400","990","990","1680","110","9","60","5",8370,5480,1655,1230,1.5,8552,7752,261,21,79,96,4,24,76,48,28,0,77,23,"1640","1520","2070","2090","2170","2920","1570","1860","650","640","690","770","990","1740","640","690",".","660","350","230","910","1280",1840,4190,5170,67,89,11,10800,32.5,28.3,{"v":49,"d":"49.0"},13.1,27.7,{"v":69,"d":"69.0"},6.5,6.7,15.9,23.2,26.9,3.4,"960","730","140","960",275,{"v":9,"d":"9.0"},815,64,"1235","0","90","155","135","40","320","280","215","3495","2920","575",0.4,"2354","310",0.6,0.5,0.4,0.7,10.4,165,149,16,".",".",1,4369,31.968503937007874,32.00787401574804,{"v":10.078740157480315,"d":"10.1"},10.669291338582678,9.015748031496063]
["BU00140400","00140400","Gorechtbuurt","Groningen","Buurt","BU00140400","Oosterparkwijk",1,4655,2235,2420,325,1295,1935,670,425,3740,560,270,80,"3285","605","765","3290","150","300","455","465","30","6","15","3",3225,2195,725,310,1.4,12352,2817,262,10,90,95,5,26,74,31,44,0,87,13,"1610","1560","2060","1990",".",".","1570","1740","710","690","940","1150",".",".","670","830",".","140","90","50","490","840",510,1710,2130,69,90,10,4100,32.3,29.2,48.5,13.5,27.1,69.7,6.6,5.4,12.5,17.6,20.3,3.4,"260","200","50","370",55,{"v":5,"d":"5.0"},260,55,"450","0","25","55","45","20","120","110","75","1200","980","220",0.4,"3187","120",0.4,0.3,0.4,0.6,{"v":12,"d":"12.0"},38,38,1,9713,1,1,5413,29.32330827067669,29.430719656283564,{"v":18.045112781954884,"d":"18.0"},6.981740064446831,9.129967776584317]
["BU00140401","00140401","Vogelbuurt","Groningen","Buurt","BU00140401","Oosterparkwijk",1,2930,1435,1500,445,390,1225,610,270,2100,535,230,60,"1830","295","800","1830","100","275","195","525","35","12","20","7",1785,1110,325,355,1.6,8319,1799,263,17,83,93,7,15,85,65,20,0,47,53,"1780","1550","2830","2760",".",".","1660","2450","560","570","540","570",".",".","580","470","4,2","210","120","60","130","150",540,890,1000,65,88,12,2400,".",27.6,51.5,13.9,".",{"v":69,"d":"69.0"},8.2,9.1,20.8,{"v":31,"d":"31.0"},35.1,2.7,"250","220","30","230",95,13.8,250,85,"285","0","25","35","40","10","75","55","45","775","640","130",0.4,"2198","45",0.7,0.6,0.6,0.9,{"v":10,"d":"10.0"},37,35,2,9713,1,1,4333,37.54266211604095,37.54266211604095,{"v":5.1194539249146755,"d":"5.1"},15.187713310580206,9.215017064846416]
["BU00140402","00140402","Bloemenbuurt","Groningen","Buurt","BU00140402","Oosterparkwijk",1,2795,1375,1415,350,355,1150,680,255,2110,330,290,60,"1900","215","675","1900","75","265","140","410","30","10","15","5",1840,1175,330,335,1.5,12009,1753,251,41,59,97,3,22,78,67,12,0,97,3,"1510","1480","1510","1500","2050",".","1520","1480","700","670","710","810","940",".","720","620",".","200","80","60","130","150",590,950,820,62,88,12,2300,".",24.9,52.4,7.6,".",72.5,1.9,6.6,{"v":20,"d":"20.0"},29.1,34.4,3.1,"330","230","40","210",90,14.8,210,75,"255","0","25","30","25","0","65","60","50","800","700","100",0.4,"3432","75",0.6,0.5,0.4,0.4,9.5,23,23,0,9713,1,1,3597,32.021466905187836,32.021466905187836,{"v":5.366726296958855,"d":"5.4"},12.522361359570661,9.123434704830053]
["BU00140403","00140403","Florabuurt","Groningen","Buurt","BU00140403","Oosterparkwijk",1,1445,720,725,185,215,610,315,120,1020,275,110,35,"1095","115","240","1095","40","95","70","140","15","10","5","2",865,500,185,180,1.7,5803,824,285,31,69,98,2,50,50,28,22,0,79,21,"1800","1420","2630","2840",".",".","1570","2040","660","700","540","670",".",".","670","650",".","80","40","30","90","90",170,400,680,76,89,11,1200,".",".",37.3,21.5,".",52.9,14.1,3.1,9.1,14.8,16.7,37.8,"80","60","10","100",25,7.4,60,42,"150","0","5","15","15","5","40","40","25","495","410","85",0.6,"1978","55",1.2,{"v":1,"d":"1.0"},0.5,0.7,8.1,29,25,4,9713,1,1,2852,24.22145328719723,24.22145328719723,{"v":6.228373702422145,"d":"6.2"},12.802768166089965,8.304498269896193]
["BU00140404","00140404","Damsterbuurt","Groningen","Buurt","BU00140404","Oosterparkwijk",1,880,465,410,60,260,340,135,85,725,95,45,15,"525","160","195","525","25","55","135","140","5","5","5","7",655,510,95,55,1.3,3201,559,".",10,90,95,5,15,85,54,30,0,61,39,"1520","1460","2070","1740",".",".","1470","1840","490","430","800","1060",".",".","420","830",".","30","20","30","70","60",100,270,440,66,90,10,800,".",".",52.1,11.3,".",77.1,4.1,12.3,13.2,18.5,{"v":23,"d":"23.0"},0.2,"50","30","10","70",".",".",40,43,"95","0","10","20","5","5","20","15","20","230","190","40",0.4,"838","20",0.8,0.6,0.3,0.8,10.5,37,27,10,9713,1,1,3873,40.340909090909086,40.340909090909086,{"v":6.8181818181818175,"d":"6.8"},6.8181818181818175,9.659090909090908]
["WK001405","001405","Zuidoost","Groningen","Wijk","WK001405","Zuidoost",1,3580,1880,1700,375,465,1255,815,660,2125,1055,225,175,"2525","460","590","2525","115","170","345","425","30","8","50","14",2000,1080,570,350,1.7,380,1813,354,18,82,94,6,41,59,14,45,0,4,96,"2060","1810","2420","2600","3330","4220","1690","2570","360","240","510","830","1090","1220","280","480","23,7","190","120","50","110","160",350,870,1580,75,83,17,2900,47.8,41.6,30.2,28.7,".",38.7,17.4,6.4,6.2,7.9,{"v":9,"d":"9.0"},{"v":89,"d":"89.0"},"40","70","20","610",55,{"v":8,"d":"8.0"},205,57,"2050","5","270","495","205","225","525","185","145","3840","2230","1615",1.9,"408","145",0.8,0.9,0.8,1.4,7.6,1001,942,59,".",".",2,1782,29.46927374301676,29.46927374301676,{"v":4.4692737430167595,"d":"4.5"},10.474860335195531,18.435754189944134]
["BU00140500","00140500","De Linie","Groningen","Buurt","BU00140500","Zuidoost",1,930,485,445,175,125,315,245,75,615,250,50,10,"690","115","120","690","30","50","85","70","10","9","0","4",430,165,115,150,2.2,8612,430,411,36,64,97,3,69,31,10,20,0,5,95,"2360","2010","2310","2490","3230","3730","1840","2590","550","420","300","810","1130","1050","350","640","17,2","90","70","20","20","30",80,200,480,82,84,16,700,".",".",25.5,39.5,".",20.8,33.8,1.7,1.7,2.2,2.2,245.8,"0","20","10","60",20,6.7,15,18,"150","0","5","10","10","20","50","40","15","360","245","110",0.8,"3315","35",0.6,0.8,0.6,1.2,7.8,12,11,1,9723,1,1,3374,25.806451612903224,25.806451612903224,{"v":3.225806451612903,"d":"3.2"},18.817204301075268,8.064516129032258]
["BU00140501","00140501","Europapark","Groningen","Buurt","BU00140501","Zuidoost",1,1330,675,660,65,140,435,230,455,675,420,95,140,"1070","100","160","1070","40","70","60","95","5","4","40","31",890,545,285,65,1.5,3032,935,315,5,95,93,7,25,75,16,60,0,0,100,"1870","1770","3270","3110",".","5450","1590","2680","100","100","80","420",".",".","130","30","38,5","30","20","20","50","60",60,320,570,75,87,13,1200,".",".",26.7,27.6,".",39.2,10.6,2.9,3.2,4.7,5.8,87.5,"10","20","0","440",10,8.5,150,113,"320","0","10","25","55","55","100","40","35","610","415","200",0.7,"1395","30",0.4,0.3,0.3,1.5,8.5,48,44,4,9723,1,2,2193,19.548872180451127,19.548872180451127,{"v":4.511278195488721,"d":"4.5"},4.887218045112782,34.21052631578947]
["BU00140502","00140502","Eemskanaal","Groningen","Buurt","BU00140502","Zuidoost",1,165,85,85,30,25,70,35,10,115,40,10,0,"30","115","20","30","5","0","110","20","0","6","0","0",110,80,5,25,1.5,131,10,".",".",".",".",".",".",".",".",".",".",".",".","3110",".",".",".",".",".","3110",".","1350",".",".",".",".",".","1350",".",".","0","0","0","0","0",".",".",".",".",".",".",100,".",".",66.9,5.1,".",{"v":86,"d":"86.0"},0.9,".",".",".",".",{"v":0,"d":"0.0"},"10","0","0","0",".",".",".",".","265","0","25","75","25","35","50","20","35","210","120","90",1.9,"167","10",1.6,1.1,1.3,1.5,5.4,144,125,18,9723,1,3,1159,81.81818181818183,81.81818181818183,{"v":0,"d":"0.0"},18.181818181818183,6.0606060606060606]
["BU00140503","00140503","Kop van Oost","Groningen","Buurt","BU00140503","Zuidoost",1,710,365,345,70,105,290,165,75,470,195,40,10,"485","100","125","485","30","30","65","95","10","11","0","3",400,195,130,75,1.8,12240,398,385,23,77,95,5,46,54,18,36,0,3,97,"1860","1730","2240","2590",".",".","1700","2060","550","470","780","980",".",".","500","620",".","40","20","10","30","60",60,180,380,77,82,18,600,".",".",26.3,31.5,".",35.1,23.6,1.8,1.2,3.2,4.1,116.8,"0","20","10","60",10,7.9,10,15,"110","0","5","15","10","20","40","15","10","260","195","65",0.6,"4476","25",0.7,1.2,{"v":1,"d":"1.0"},1.2,{"v":9,"d":"9.0"},6,6,1,9723,1,1,4294,31.690140845070424,31.690140845070424,{"v":8.450704225352112,"d":"8.5"},9.859154929577464,10.56338028169014]
["BU00140504","00140504","Woonschepenhaven","Groningen","Buurt","BU00140504","Zuidoost",1,130,70,60,10,25,30,45,20,90,30,10,0,"105","20","5","110","5","5","15","0","0","8","5","8",80,45,25,10,1.7,1936,0,".",".",".",".",".",".",".",".",".",".",".",".",".",".",".",".",".",".",".",".",".",".",".",".",".",".",".",".",".","10","10","0","10","10",".",".",".",".",".",".",100,".",".",46.4,3.6,".",".",".",".",".",".",".",".","10","10","0","20",".",".",10,77,"10",".",".",".",".",".",".",".",".","50","40","10",0.6,"739","10",2.2,2.1,1.8,1.7,{"v":4,"d":"4.0"},12,7,5,9723,1,3,1060,15.384615384615385,19.230769230769234,{"v":7.6923076923076925,"d":"7.7"},7.6923076923076925,15.384615384615385]
["BU00140505","00140505","Driebond","Groningen","Buurt","BU00140505","Zuidoost",1,60,40,20,15,15,20,15,5,40,20,5,0,"10","0","50","10","0","5","0","45","5","50","0","0",10,10,5,0,1.2,66,4,".",".",".",".",".",".",".",".",".",".",".",".",".",".",".",".",".",".",".",".",".",".",".",".",".",".",".",".",".","10","0","0","0","10",".",".",".",".",".",".",0,".",".",".",".",".",".",".",".",".",".",".",".","0","0","0","0",".",".",".",".","275","0","40","105","20","15","65","20","5","1240","615","625",".",".","5",2.3,2.1,1.8,1.8,3.9,96,91,4,9723,1,5,412,83.33333333333334,83.33333333333334,{"v":16.666666666666664,"d":"16.7"},25,8.333333333333332]
["BU00140506","00140506","Eemspoort","Groningen","Buurt","BU00140506","Zuidoost",1,30,15,15,5,5,0,15,10,15,10,5,0,"25","0","5","30","0","0","0","0","0","0","0","0",10,0,5,5,2.6,29,12,".",".",".",".",".",".",".",".",".",".",".",".","3810",".",".",".",".","4240","2760","4270","1280",".",".",".",".","1330","1250","1290",".","0","0","0","0","0",".",".",".",".",".",".",0,".",".",".",".",".",".",".",".",".",".",".",".",".",".",".",".",".",".",".",".","560","0","95","155","60","50","150","25","20","625","385","240",".",".","20",{"v":3,"d":"3.0"},2.9,2.7,2.5,0.9,108,108,0,9723,1,5,282,0,16.666666666666664,{"v":0,"d":"0.0"},16.666666666666664,33.33333333333333]
["BU00140507","00140507","Euvelgunne","Groningen","Buurt","BU00140507","Zuidoost",1,55,35,20,5,5,10,20,10,35,15,5,0,"45","5","0","50","0","0","5","0","0","19","5","19",25,10,5,10,2.3,55,6,".",".",".",".",".",".",".",".",".",".",".",".","4620",".",".",".",".","4620",".","4400","1580",".",".",".",".","1580",".","1460",".","0","0","0","0","0",".",".",".",".",".",".",0,".",".",".",".",".",".",".",".",".",".",".",".",".",".",".",".",".",".",".",".","190","0","40","65","10","15","35","15","15","250","105","145",".",".","10",2.7,2.2,2.4,2.6,0.8,101,98,3,9723,1,5,307,9.090909090909092,18.181818181818183,{"v":0,"d":"0.0"},9.090909090909092,18.181818181818183]
["BU00140508","00140508","Winschoterdiep","Groningen","Buurt","BU00140508","Zuidoost",1,140,105,35,5,20,70,40,5,65,65,5,0,"35","5","95","30","5","5","5","95","0","7","0","0",30,20,5,5,1.4,106,8,".",".",".",".",".",".",".",".",".",".",".",".","4010",".",".",".",".",".","4030",".","2010",".",".",".",".",".","2400",".",".","0","0","0","0","0",".",".",".",".",".",".",0,".",".",".",".",".",".",".",".",".",".",".",".","10","0","0","0",".",".",".",".","165","0","45","50","5","10","30","5","15","230","110","120",".",".","5",1.4,1.6,1.4,2.5,4.9,141,130,11,9723,1,4,883,78.57142857142857,75,{"v":0,"d":"0.0"},3.571428571428571,3.571428571428571]
["BU00140509","00140509","Stainkoel'n","Groningen","Buurt","BU00140509","Zuidoost",1,0,0,0,0,0,0,0,0,0,0,0,0,"0","0","0","0","0","0","0","0","0","0","0","0",0,0,0,0,".",".",0,".",".",".",".",".",".",".",".",".",".",".",".",".",".",".",".",".",".",".",".",".",".",".",".",".",".",".",".",".","0","0","0","0","0",".",".",".",".",".",".",0,".",".",".",".",".",".",".",".",".",".",".",".",".",".",".",".",".",".",".",".","0",".",".",".",".",".",".",".",".","0","0","0",".",".","0",".",".",".",".",".",91,87,4,9723,1,5,137,"Geen inwoners","Geen inwoners","Geen inwoners","Geen inwoners","Geen inwoners"]
["BU00140510","00140510","Roodehaan","Groningen","Buurt","BU00140510","Zuidoost",1,25,10,10,5,0,10,5,5,15,10,0,0,"20","5","5","20","0","0","0","0","0","0","0","0",15,5,0,0,1.7,14,9,".",".",".",".",".",".",".",".",".",".",".",".",".",".",".",".",".",".",".",".",".",".",".",".",".",".",".",".",".","0","0","0","0","0",".",".",".",".",".",".",0,".",".",".",".",".",".",".",".",".",".",".",".",".",".",".",".",".",".",".",".","5",".",".",".",".",".",".",".",".","0","0","0",".",".","0",3.8,{"v":4,"d":"4.0"},3.7,{"v":4,"d":"4.0"},{"v":0,"d":"0.0"},195,191,4,9723,1,5,34,20,20,{"v":0,"d":"0.0"},20,20]
["BU00140511","00140511","Waterhuizen","Groningen","Buurt","BU00140511","Zuidoost",1,5,0,5,0,0,5,5,0,0,5,0,0,"5","0","0","5","0","0","0","0","0","","0","0",0,0,0,0,{"v":5,"d":"5.0"},".",1,".",".",".",".",".",".",".",".",".",".",".",".",".",".",".",".",".",".",".",".",".",".",".",".",".",".",".",".",".","0","0","0","0","0",".",".",".",".",".",".",0,".",".",".",".",".",".",".",".",".",".",".",".",".",".",".",".",".",".",".",".","0",".",".",".",".",".",".",".",".","5","5","0",".",".","0",".",".",".",".",".",48,45,3,9723,1,5,6,0,0,{"v":0,"d":"0.0"},0,0]
["WK001406","001406","Helpman e.o.","Groningen","Wijk","WK001406","Helpman e.o.",1,19710,9775,9940,2620,2765,6060,4520,3745,12355,5040,1495,820,"14580","2030","3100","14575","655","1360","1375","1740","155","8","210","11",10910,5980,2665,2265,1.8,4542,10429,327,32,68,94,6,54,46,21,25,0,88,12,"2050","1690","2460","2640","3220","3940","1700","2340","890","730","1060","1180","1350","1830","740","1020",".","1400","980","340","860","980",1970,4920,8440,71,85,15,15900,43.8,36.8,35.8,25.3,37.2,47.5,17.4,4.3,7.5,10.6,12.6,96.1,"590","670","150","3370",435,9.2,1195,61,"2160","5","125","240","170","155","605","555","305","7500","5875","1625",0.7,"1729","435",1.2,0.7,0.5,0.9,8.6,439,434,5,".",".",1,2958,26.052765093860984,26.027397260273972,{"v":4.972095383054286,"d":"5.0"},13.292744799594114,19.00050735667174]
["BU00140600","00140600","Sterrebosbuurt","Groningen","Buurt","BU00140600","Helpman e.o.",1,860,555,310,115,65,320,240,110,550,235,60,15,"600","70","190","600","25","80","45","110","10","10","0","3",265,65,110,90,2.3,1436,263,447,59,41,97,3,71,29,0,28,0,7,93,"3190","2540","3330","4040","4370","3310","2380","3470","310","140","260","290","700","1130","230","340",".","50","40","10","10","20",200,160,340,77,83,17,500,".",".",21.5,42.4,".",16.2,46.2,3.2,3.2,4.4,4.4,280.6,"0","50","10","100",10,6.3,10,12,"105","0","5","5","10","10","35","25","10","270","190","85",1,"455","10",1.4,1.2,0.5,1.6,9.8,62,60,2,9722,5,1,3752,30.23255813953488,30.23255813953488,{"v":2.3255813953488373,"d":"2.3"},13.372093023255813,12.790697674418606]
["BU00140601","00140601","Coendersborg","Groningen","Buurt","BU00140601","Helpman e.o.",1,3085,1440,1640,420,335,815,725,795,1715,885,255,230,"2425","260","405","2425","95","150","165","250","20","6","90","29",1550,775,400,370,1.9,4244,1701,313,37,63,93,7,58,41,13,28,0,90,10,"2040","1870","2190","2300","2880","3430","1850","2170","860","670","1080","1280","1470","1690","660","1010",".","200","170","50","110","120",200,630,1420,72,86,14,2300,".",37.7,28.7,28.9,".",37.8,20.1,2.4,{"v":3,"d":"3.0"},4.7,5.6,215.2,"20","90","20","730",75,10.8,300,97,"270","0","15","30","20","10","85","90","25","1185","950","235",0.8,"1634","65",1.5,0.5,0.6,1.1,7.7,74,73,2,9722,1,2,2225,21.39384116693679,21.39384116693679,{"v":3.889789303079417,"d":"3.9"},13.614262560777956,25.76985413290113]
["BU00140602","00140602","Klein Martijn","Groningen","Buurt","BU00140602","Helpman e.o.",1,615,305,310,65,55,50,210,235,235,315,30,40,"525","40","50","530","25","20","15","30","0","3","0","5",285,75,135,80,2.1,2323,291,560,79,21,99,1,89,11,0,11,0,100,0,"2660","1880","2400","2570","2660","3590","1570","2790","1160","810","1110","1010","1230","1490","610","1220",".","30","40","0","10","10",20,110,310,67,78,22,500,".",".",23.7,42.7,".",10.5,{"v":46,"d":"46.0"},0.7,0.7,{"v":1,"d":"1.0"},{"v":1,"d":"1.0"},613.2,"0","10","0","220",15,13.5,25,37,"75","0","0","5","5","15","25","20","10","330","245","85",1.2,"1250","15",1.8,0.7,1.1,1.5,5.2,26,26,0,9722,1,3,1496,13.821138211382115,14.634146341463413,{"v":1.6260162601626018,"d":"1.6"},10.569105691056912,38.21138211382114]
["BU00140603","00140603","Villabuurt","Groningen","Buurt","BU00140603","Helpman e.o.",1,975,470,505,170,80,125,250,350,400,465,50,60,"795","85","100","795","40","50","45","50","0","2","10","9",440,150,165,120,2.2,1502,439,724,72,28,95,5,94,6,0,6,0,97,3,"3580","2220","2960","3120","3810","4270","3020","3610","1780","890","1590","2150","2240","2120","1060","1830",".","100","80","0","10","10",80,80,440,67,64,36,800,".",".",28.9,{"v":44,"d":"44.0"},".",20.1,45.7,2.8,1.9,1.9,2.3,791.6,"0","10","10","330",30,12.7,55,54,"170","0","5","10","5","30","60","55","5","590","415","175",1.3,"907","20",1.8,1.1,0.6,1.1,7.7,65,65,0,9722,5,2,2170,18.461538461538463,18.461538461538463,{"v":1.0256410256410255,"d":"1.0"},17.435897435897434,35.8974358974359]
["BU00140604","00140604","Helpman","Groningen","Buurt","BU00140604","Helpman e.o.",1,6010,2980,3030,580,1120,2270,1255,780,4375,1020,485,130,"4525","740","750","4525","195","340","545","410","60","10","35","6",3880,2490,845,545,1.5,10245,3382,283,17,83,95,5,50,50,20,30,0,92,8,"1830","1680","2460","2740","2680","4010","1690","1970","880","800","1200","1340","1340","2380","770","970",".","290","190","110","440","560",490,1840,2990,72,85,15,5100,39.8,{"v":35,"d":"35.0"},39.5,{"v":22,"d":"22.0"},32.4,55.8,11.6,5.7,9.4,13.1,15.1,23.5,"210","240","50","680",95,6.9,320,54,"810","5","50","105","55","50","220","180","150","2120","1695","425",0.5,"3610","155",0.9,0.7,0.4,0.9,9.9,59,59,1,9722,5,1,3376,24.708818635607322,24.708818635607322,{"v":9.317803660565724,"d":"9.3"},9.650582362728786,12.9783693843594]
["BU00140605","00140605","De Wijert","Groningen","Buurt","BU00140605","Helpman e.o.",1,4735,2355,2380,590,785,1785,920,645,3385,800,380,180,"2960","575","1200","2960","155","515","420","680","35","8","45","9",2970,1875,575,520,1.6,8037,2829,230,15,85,93,7,29,71,43,28,0,89,11,"1690","1580","2310","2290","3520",".","1640","1830","740","690","940","1090","800",".","740","730",".","330","180","130","220","220",750,1520,1420,68,90,10,3900,32.7,27.7,44.6,11.7,29.8,64.2,4.4,5.9,{"v":12,"d":"12.0"},17.2,{"v":21,"d":"21.0"},{"v":10,"d":"10.0"},"330","200","50","560",110,9.6,335,70,"380","0","40","65","45","10","70","85","65","1545","1290","255",0.5,"2624","105",0.9,0.4,0.3,0.6,{"v":9,"d":"9.0"},60,59,1,9721,1,1,3542,37.48680042238649,37.48680042238649,{"v":4.646251319957761,"d":"4.6"},12.460401267159451,13.621964097148892]
["BU00140606","00140606","De Wijert-Zuid","Groningen","Buurt","BU00140606","Helpman e.o.",1,3435,1665,1770,675,315,690,920,835,1695,1325,245,170,"2755","265","415","2750","120","210","150","210","30","8","30","9",1525,545,435,545,2.2,3715,1524,438,69,31,96,4,84,16,7,9,0,83,17,"2420","1570","2580","2720","3240","3810","1560","2590","1040","740","1110","1220","1070","1540","840","1080",".","400","270","40","50","50",260,600,1440,73,84,16,2700,51.5,40.5,29.2,36.2,".",25.6,35.1,1.8,3.3,5.2,{"v":6,"d":"6.0"},{"v":351,"d":"351.0"},"20","70","20","760",95,10.1,155,45,"345","5","15","20","25","35","110","105","35","1460","1095","365",1,"1578","60",1.4,1.1,0.5,0.6,7.3,92,92,0,9721,1,2,2246,19.941775836972344,19.7962154294032,{"v":1.455604075691412,"d":"1.5"},19.65065502183406,24.308588064046578]
["WK001407","001407","Zuidwest","Groningen","Wijk","WK001407","Zuidwest",1,10735,5300,5435,1220,1340,2820,2775,2580,6245,2900,975,615,"8305","855","1570","8305","355","710","505","865","70","6","175","17",6040,3320,1500,1215,1.7,2831,6098,320,33,67,95,5,41,59,39,20,0,80,20,"1860","1520","2150","2310","2930","3590","1530","2330","770","640","870","1020","1180","1430","660","930",".","630","500","230","380","300",1410,2640,4170,68,85,15,8900,40.3,34.8,38.7,20.9,35.6,52.1,14.4,{"v":4,"d":"4.0"},8.5,{"v":13,"d":"13.0"},16.1,42.9,"390","510","90","2350",270,12.1,1090,102,"1415","0","60","130","135","110","415","370","190","4425","3555","870",0.7,"1167","260",0.8,0.8,0.6,{"v":1,"d":"1.0"},8.2,435,379,56,".",".",2,2203,22.63623660922217,22.63623660922217,{"v":2.7945971122496505,"d":"2.8"},11.36469492314858,24.033535165346994]
["BU00140700","00140700","Corpus den Hoorn","Groningen","Buurt","BU00140700","Zuidwest",1,4450,2165,2285,415,660,1530,930,910,2905,865,415,265,"3140","395","915","3145","150","375","245","540","30","8","65","15",2800,1780,600,420,1.5,4075,2820,245,17,83,93,7,29,71,53,18,0,78,22,"1630","1510","2180","2260","2700",".","1550","1840","720","680","840","1040","1070",".","690","790",".","200","150","110","220","160",660,1410,1460,67,88,12,3700,33.3,29.4,{"v":44,"d":"44.0"},12.3,29.7,64.8,5.8,4.6,10.6,16.9,21.2,13.1,"270","240","40","810",90,10.5,515,116,"485","0","20","65","40","20","110","140","95","1540","1305","235",0.5,"1408","105",0.7,0.7,0.5,0.5,9.5,114,109,4,9728,1,1,2769,29.325842696629213,29.438202247191008,{"v":3.5955056179775284,"d":"3.6"},9.325842696629213,20.44943820224719]
["BU00140701","00140701","Hoornse Meer","Groningen","Buurt","BU00140701","Zuidwest",1,4255,2090,2165,420,445,995,1160,1235,2310,1180,470,295,"3455","320","480","3455","125","235","195","245","25","5","95","23",2430,1360,610,465,1.7,4352,2507,308,35,65,96,4,40,60,36,24,0,94,6,"1740","1500","2060","2250","2580","3150","1490","2130","710","580","850","980","1150","1500","620","840",".","220","180","90","120","100",550,1000,1690,68,85,15,3500,39.6,34.8,37.3,20.9,".",50.2,12.2,3.6,7.6,11.2,14.2,57.9,"110","230","40","1140",100,13.1,510,120,"440","0","20","35","50","25","140","100","70","1765","1455","310",0.7,"1803","100",0.7,0.5,0.5,1.3,8.2,120,98,22,9728,1,2,1986,18.80141010575793,18.80141010575793,{"v":2.3501762632197414,"d":"2.4"},9.870740305522913,29.024676850763807]
["BU00140702","00140702","Hoornse Park","Groningen","Buurt","BU00140702","Zuidwest",1,740,370,370,135,55,120,210,220,345,340,35,20,"615","65","55","615","35","35","30","20","5","5","10","11",305,60,135,105,2.4,2220,297,600,89,11,99,1,86,14,0,14,0,99,1,"2960","1850","2710","2840","3020","3310","2030","3110","1320","870","1130","1220","1250","1530","960","1380",".","70","50","10","10","10",80,70,340,68,76,24,600,".",".",25.9,38.7,".",{"v":13,"d":"13.0"},43.5,{"v":1,"d":"1.0"},1.7,1.7,1.7,611.1,"0","10","0","200",10,5.4,25,36,"105","0","0","5","10","15","35","25","5","370","265","110",1.2,"1116","20",1.3,0.7,0.6,1.5,6.8,33,33,0,9728,1,4,990,16.89189189189189,16.89189189189189,{"v":1.3513513513513513,"d":"1.4"},18.243243243243242,29.72972972972973]
["BU00140703","00140703","Van Swieten","Groningen","Buurt","BU00140703","Zuidwest",1,50,50,0,0,5,25,15,0,45,0,5,0,"20","5","25","25","5","5","0","20","0","0","0","21",45,40,5,0,1.1,130,36,34,0,100,97,3,0,100,0,100,0,100,0,"1210","1220",".",".",".",".","1210",".","560","550",".",".",".",".","560",".",".","0","0","0","0","0",".",".",".",".",".",".",0,".",".",".",".",".",".",".",".",".",".",".",".",".",".",".",".",30,".",20,440,"210","0","10","15","20","25","60","65","15","160","120","40",".",".","0",0.9,0.6,0.4,0.9,7.9,37,37,0,9728,1,3,1390,50,60,{"v":0,"d":"0.0"},0,0]
["BU00140704","00140704","Piccardthof","Groningen","Buurt","BU00140704","Zuidwest",1,1205,605,605,245,165,155,440,205,620,510,45,35,"1045","65","95","1045","40","55","30","40","5","7","5","6",435,60,155,220,2.8,1355,436,706,88,12,98,2,98,1,0,1,0,3,97,"3260","2620","2410","2620","3040","4020",".","3260","1140","580","1040","1010","1190","1320",".","1140",".","140","130","20","30","20",90,160,630,77,79,21,900,".",".",28.2,45.4,".",4.4,62.1,0.9,0.7,1.4,1.4,655.3,"0","20","0","190",35,8.8,15,13,"170","0","5","15","15","25","70","35","5","580","400","180",1.3,"651","30",1.1,1.9,1.1,1.1,4.1,118,89,29,9728,1,4,542,13.278008298755188,13.278008298755188,{"v":1.6597510373443984,"d":"1.7"},20.33195020746888,17.012448132780083]
["BU00140705","00140705","Bruilweering","Groningen","Buurt","BU00140705",{"$f":"IF(E68=\"wijk\",C68,IF(E68=\"Buurt\",_xlfn.XLOOKUP(LEFT(B68,6),$B$3:$B$18118,$C$3:$C$18118,\"onbekend\",0,1),\"ook geen buurt\"))","v":"Zuidwest"},1,35,25,15,5,5,0,15,5,25,5,5,0,"25","5","5","20","5","0","0","5","0","0","0","0",20,15,0,5,1.5,268,2,".",".",".",".",".",".",".",".",".",".",".",".",".",".",".",".",".",".",".",".",".",".",".",".",".",".",".",".",".","0","0","0","0","0",".",".",".",".",".",".",0,".",".",".",".",".",".",".",".",".",".",".",".",".",".",".",".",".",".",".",".","10",".",".",".",".",".",".",".",".","15","15","0",".",".","0",2.2,2.7,1.7,2.2,{"v":3,"d":"3.0"},13,13,0,9728,4,5,345,{"$f":"IF(OR(I68=0, ISBLANK(I68)), \"Geen inwoners\", (I68-X68)/I68*100)","v":42.857142857142854},{"$f":"IF(OR(I68=0, ISBLANK(I68)), \"Geen inwoners\", (I68-U68)/I68*100)","v":28.57142857142857},{"$f":"IF(OR(I68=0,ISBLANK(I68)),\"Geen inwoners\",(BU68/I68*100))","v":{"v":0,"d":"0.0"}},{"$f":"IF(OR(I68=0,ISBLANK(I68)),\"Geen inwoners\",(L68/I68*100))","v":14.285714285714285},{"$f":"IF(OR(I68=0,ISBLANK(I68)),\"Geen inwoners\",(P68/I68*100))","v":14.285714285714285}]
["WK001408","001408","Hoogkerk e.o.","Groningen","Wijk","WK001408","Hoogkerk e.o.",3,11500,5725,5775,1995,1475,2540,3465,2025,6020,4255,725,500,"9870","435","1200","9870","245","650","185","550","110","10","90","8",4945,1525,1425,1990,2.3,888,4797,325,88,12,98,2,68,32,27,6,0,70,30,"2470","1700","2270","2500","2740","3420","2100","2640","930","620","860","990","1010","1290","830","980",".","1040","800","380","270","130",2170,3580,2760,72,87,13,9200,37.2,{"v":30,"d":"30.0"},41.9,18.7,38.3,{"v":37,"d":"37.0"},21.5,2.4,6.3,9.9,{"v":13,"d":"13.0"},168.3,"290","520","100","1810",350,10.7,755,66,"1085","10","135","180","115","80","245","195","125","5080","4080","1005",1,"392","380",1.2,1.2,0.6,{"v":1,"d":"1.0"},3.9,1370,1296,74,".",".",4,714,14.173913043478262,14.173913043478262,{"v":1.1304347826086958,"d":"1.1"},17.347826086956523,17.608695652173914]
["BU00140800","00140800","Hoogkerk Dorp","Groningen","Buurt","BU00140800","Hoogkerk e.o.",1,1765,890,880,235,225,420,510,375,930,595,145,95,"1485","75","205","1485","40","95","35","110","20","11","20","11",880,370,250,265,{"v":2,"d":"2.0"},1352,848,254,84,16,96,4,45,55,44,11,0,82,18,"2410","2050","2050","2340","2480","3070","2150","2730","1000","740","850","940","1020","1380","860","1160",".","130","80","60","40","20",460,600,270,64,84,16,1500,".",".",51.4,9.6,".",54.9,10.6,4.4,10.5,17.3,21.2,{"v":26,"d":"26.0"},"100","120","20","340",55,13.6,160,92,"205","0","35","60","10","15","35","25","25","785","675","110",0.9,"601","65",1.4,0.5,{"v":1,"d":"1.0"},0.9,6.6,139,130,8,9745,1,4,707,15.864022662889518,15.864022662889518,{"v":1.13314447592068,"d":"1.1"},13.314447592067987,21.246458923512748]
["BU00140801","00140801","Hoogkerk-Zuid","Groningen","Buurt","BU00140801","Hoogkerk e.o.",1,5190,2540,2650,860,545,1265,1365,1155,2515,1970,380,325,"4420","180","595","4420","95","325","85","270","65","12","50","10",2435,895,715,830,2.1,2365,2430,270,83,17,98,2,64,36,31,6,0,81,19,"2200","1560","2180","2430","2620","3090","1950","2340","870","570","860","1020","1020","1310","790","920",".","460","290","180","90","30",1010,1790,910,71,90,10,4200,32.6,26.8,44.3,11.8,".",43.1,10.8,2.2,5.9,9.9,{"v":14,"d":"14.0"},124.8,"130","250","40","1050",165,12.4,465,90,"315","0","55","45","30","10","50","80","45","2245","1890","355",0.9,"1022","150",0.6,0.6,0.4,0.4,3.3,250,220,30,9744,1,4,891,14.836223506743737,14.836223506743737,{"v":0.5780346820809248,"d":"0.6"},16.570327552986512,22.254335260115607]
["BU00140802","00140802","Westpoort","Groningen","Buurt","BU00140802","Hoogkerk e.o.",1,5,5,0,0,0,0,5,5,5,5,0,0,"5","0","0","5","0","0","0","0","0","0","0","",5,5,0,0,1.4,".",2,".",".",".",".",".",".",".",".",".",".",".",".",".",".",".",".",".",".",".",".",".",".",".",".",".",".",".",".",".","0","0","0","0","0",".",".",".",".",".",".",0,".",".",".",".",".",".",".",".",".",".",".",".",".",".",".",".",".",".",".",".","20",".",".",".",".",".",".",".",".","10","5","5",".",".","0",".",".",".",".",".",138,125,13,9744,1,5,73,0,0,{"v":0,"d":"0.0"},0,100]
["BU00140803","00140803","Vierverlaten","Groningen","Buurt","BU00140803","Hoogkerk e.o.",1,125,65,60,15,10,40,35,20,55,50,5,5,"110","5","10","110","0","5","5","0","0","8","0","0",65,25,20,20,{"v":2,"d":"2.0"},115,57,283,91,9,96,4,72,28,0,28,0,88,12,"3100","2190",".",".","2510","3810","2980","3140","1350","900",".",".","1070","1700","1370","1350",".","10","0","0","0","0",".",".",".",".",".",".",100,".",".",{"v":34,"d":"34.0"},{"v":16,"d":"16.0"},".",".",".",".",".",".",".",".","0","10","0","20",".",".",10,64,"15",".",".",".",".",".",".",".",".","80","65","15",1.2,"73","10",2.7,1.4,2.2,2.2,2.9,110,107,3,9744,1,5,332,12,12,{"v":0,"d":"0.0"},12,16]
["BU00140804","00140804","Zuidwending","Groningen","Buurt","BU00140804","Hoogkerk e.o.",1,40,25,15,5,5,10,15,10,15,10,5,0,"40","0","0","40","0","5","0","0","0","25","0","0",20,5,5,5,{"v":2,"d":"2.0"},26,17,".",".",".",".",".",".",".",".",".",".",".",".","3340",".",".",".",".","3400",".","3340","1450",".",".",".",".","1460",".","1320",".","0","0","0","0","0",".",".",".",".",".",".",0,".",".",".",".",".",".",".",".",".",".",".",".",".",".",".",".",".",".",".",".","20",".",".",".",".",".",".",".",".","40","25","15",".",".","5",3.1,1.8,2.6,2.6,2.4,163,155,8,9745,1,5,227,0,0,{"v":0,"d":"0.0"},12.5,25]
["BU00140805","00140805","Leegkerk","Groningen","Buurt","BU00140805","Hoogkerk e.o.",1,65,35,30,10,5,10,25,15,35,25,5,5,"70","0","0","65","0","0","0","0","0","0","0","0",25,5,10,15,2.6,21,28,428,64,36,89,11,89,11,0,11,0,68,32,"3260","2400",".",".",".","3690",".","3320","1210",".",".",".",".","1630",".","1270",".","10","0","0","0","0",".",".",".",".",".",".",100,".",".",".",".",".",".",".",".",".",".",".",".","0","0","0","20",".",".",".",".","15",".",".",".",".",".",".",".",".","25","20","5",".",".","0",2.2,2.4,1.2,1.5,3.4,322,316,6,9746,1,5,209,0,-7.6923076923076925,{"v":0,"d":"0.0"},15.384615384615385,23.076923076923077]
["BU00140806","00140806","Gravenburg","Groningen","Buurt","BU00140806","Hoogkerk e.o.",1,2165,1105,1060,455,375,405,810,125,1190,870,85,25,"1820","85","255","1820","55","150","35","110","10","6","5","2",715,70,185,460,{"v":3,"d":"3.0"},1435,704,452,100,0,99,1,91,9,9,1,0,2,98,"2980",".","2720","2750","2980","3950","2440","3030","890",".","750","840","950","1110","710","910",".","220","250","80","80","40",320,600,780,82,90,10,1700,".",".",33.2,32.3,".",{"v":10,"d":"10.0"},52.1,0.1,0.7,1.6,1.8,340.1,"10","70","20","110",75,9.6,45,22,"175","0","10","20","20","20","45","35","20","955","740","220",1.3,"634","80",1.8,2.2,0.5,{"v":1,"d":"1.0"},3.9,154,151,3,9746,1,5,477,15.935334872979215,15.935334872979215,{"v":1.8475750577367205,"d":"1.8"},21.016166281755197,5.773672055427252]
["BU00140809","00140809","Bangeweer","Groningen","Buurt","BU00140809","Hoogkerk e.o.",3,235,120,115,30,30,55,70,50,135,85,15,5,"220","10","5","220","10","5","5","5","5","4","5","13",100,20,40,35,2.4,1475,98,283,96,4,97,3,88,12,0,12,0,99,1,"2710",".",".",".","2500","3180","2570","2730","1260",".",".",".","1160","1410","1120","1280",".","20","10","10","10","0",".",".",".",71,".",".",200,".",".",41.6,18.9,".",".",".",".",".",".",".",".","0","10","0","40",".",".",15,60,"45","0","5","5","10","0","10","5","10","125","90","30",1.2,"769","20",1.7,2.2,1.3,{"v":2,"d":"2.0"},{"v":3,"d":"3.0"},16,16,0,9744,1,4,517,6.382978723404255,6.382978723404255,{"v":0,"d":"0.0"},12.76595744680851,21.27659574468085]
["BU00140810","00140810","De Buitenhof","Groningen","Buurt","BU00140810","Hoogkerk e.o.",1,1565,770,795,300,250,250,540,220,880,590,60,30,"1380","65","120","1380","40","70","30","55","10","6","5","3",555,70,180,300,2.8,4415,553,520,100,0,99,1,92,8,7,1,0,86,14,"2850",".","2440","2590","2960","3730","2130","2910","1020",".","930","1050","1110","1100","790","1030",".","160","150","30","50","40",140,330,700,77,86,14,1200,".",".",28.5,38.1,".",8.5,51.5,0.5,0.9,1.3,1.8,462.3,"0","30","20","190",35,6.6,35,21,"160","0","5","5","10","25","60","35","15","650","460","190",1.2,"1834","50",1.9,2.4,0.9,2.3,{"v":3,"d":"3.0"},37,35,1,9727,1,5,398,11.821086261980831,11.821086261980831,{"v":2.5559105431309903,"d":"2.6"},19.169329073482427,14.057507987220447]
["BU00140811","00140811","Kranenburg","Groningen","Buurt","BU00140811","Hoogkerk e.o.",1,5,10,0,0,0,0,0,0,5,0,0,0,"5","0","0","5","0","0","5","0","0","0","0","0",5,0,0,0,2.3,".",3,".",".",".",".",".",".",".",".",".",".",".",".","2510",".","2330",".",".",".",".","2430","1170",".","910",".",".",".",".","980",".","0","0","0","0","0",".",".",".",".",".",".",0,".",".",".",".",".",".",".",".",".",".",".",".",".",".",".",".",".",".",".",".","75","0","5","5","20","10","30","5","0","45","20","30",".",".","0",".",".",".",".",".",32,31,1,9727,1,5,399,0,0,{"v":0,"d":"0.0"},0,0]
["BU00140812","00140812","De Kring","Groningen","Buurt","BU00140812","Hoogkerk e.o.",1,335,165,175,80,40,90,85,45,250,55,20,15,"325","5","5","320","5","5","0","0","5","9","5","15",150,55,30,65,2.3,3632,57,260,100,0,100,0,9,91,89,2,0,18,82,"3350",".","2940","3420","4370",".","3290","3900","1000",".","940","1040","1030",".","1010","880",".","40","20","10","0","0",".",".",".",42,".",".",200,".",".",{"v":77,"d":"77.0"},{"v":3,"d":"3.0"},".",73.3,4.8,11.2,37.8,49.7,54.5,1.4,"50","40","0","40",10,10.4,20,54,"35","0","5","15","0","5","0","0","10","125","90","35",0.9,"1358","0",1.5,{"v":2,"d":"2.0"},1.1,1.8,3.2,9,9,0,9727,1,4,527,4.477611940298507,2.9850746268656714,{"v":0,"d":"0.0"},23.88059701492537,13.432835820895523]
["WK001409","001409","Nieuw-West","Groningen","Wijk","WK001409","Nieuw-West",3,19070,9500,9570,2880,3935,5400,4060,2790,11925,5060,1315,765,"12095","2330","4645","12100","520","1810","1810","2830","165","9","140","7",10055,5280,2230,2545,1.9,2330,8731,271,49,51,97,3,36,64,40,24,0,63,37,"2090","1570","2420","2500","3040","3680","1760","2660","650","420","860","970","870","1070","550","830","12,2","1450","1030","530","1100","1720",3310,6140,5990,65,88,12,14600,33.3,27.1,48.9,15.2,29.6,56.6,13.4,6.4,12.3,17.5,{"v":21,"d":"21.0"},11.8,"850","750","140","2520",485,8.2,1505,79,"1690","5","175","245","170","100","405","340","255","6310","5035","1275",0.6,"771","510",0.7,0.8,0.6,{"v":1,"d":"1.0"},8.1,896,818,78,".",".",2,2398,36.54955427372837,36.57577346617724,{"v":9.019402202412167,"d":"9.0"},15.102254850550603,14.630309386470897]
["BU00140900","00140900","Vinkhuizen-Noord","Groningen","Buurt","BU00140900","Nieuw-West",1,5945,3005,2940,700,1430,1885,1015,910,3925,1330,425,265,"3555","760","1630","3550","150","625","605","1005","35","6","40","7",3540,2135,760,645,1.7,6883,2808,231,41,59,98,2,23,77,60,17,0,94,6,"1950","1620","2390","2430","2820",".","1830","2350","800","650","980","1110","1050",".","770","910",".","360","220","170","510","700",980,2350,1520,61,90,10,4800,26.8,22.6,57.6,6.8,24.6,69.8,4.2,6.3,14.2,{"v":21,"d":"21.0"},25.9,3.3,"370","310","50","810",140,8.2,580,97,"350","0","50","40","40","10","70","70","65","1700","1485","215",0.5,"1966","115",0.8,0.7,0.6,{"v":1,"d":"1.0"},10.5,87,86,0,9743,1,1,2880,40.28595458368377,40.20185029436501,{"v":11.774600504625736,"d":"11.8"},11.774600504625736,15.306980656013458]
["BU00140901","00140901","Vinkhuizen-Zuid","Groningen","Buurt","BU00140901","Nieuw-West",1,4835,2245,2590,760,725,1025,1155,1170,2600,1335,550,350,"2940","380","1520","2945","140","660","240","860","45","10","80","17",2435,1225,510,700,1.9,4732,2323,238,45,55,96,4,23,77,69,8,0,80,20,"1920","1570","2340","2420","2940","2130","1760","2470","690","470","930","970","1100","1380","650","820","15,9","400","280","170","140","140",1370,1340,780,55,87,13,3800,27.3,22.2,59.5,7.8,".",66.2,7.5,7.9,19.7,28.5,34.2,6.1,"430","270","30","1080",155,11.7,745,154,"295","0","40","55","20","5","55","55","60","1500","1250","255",0.6,"1469","85",0.7,0.5,0.6,0.9,{"v":9,"d":"9.0"},104,102,2,9743,1,1,2753,39.0899689762151,39.193381592554296,{"v":2.8955532574974145,"d":"2.9"},15.718717683557394,24.19855222337125]
["BU00140902","00140902","Hoendiep","Groningen","Buurt","BU00140902","Nieuw-West",1,110,65,45,5,15,25,35,20,55,45,10,0,"80","5","20","85","0","10","0","15","5","9","0","18",60,30,20,10,1.8,219,41,238,90,10,88,12,85,15,0,15,0,100,0,"2260",".",".",".","2280",".","2140","2280","1180",".",".",".","1030",".","1100","1190",".","10","0","0","0","10",".",".",".",".",".",".",100,".",".",".",".",".",".",".",".",".",".",".",".","0","10","0","20",".",".",".",".","250","0","25","75","35","20","55","20","20","135","90","45",2.2,"269","55",1.5,1.4,1.7,1.8,{"v":8,"d":"8.0"},53,50,3,9743,1,2,1854,22.727272727272727,27.27272727272727,{"v":9.090909090909092,"d":"9.1"},4.545454545454546,18.181818181818183]
["BU00140903","00140903","Friesestraatweg","Groningen","Buurt","BU00140903","Nieuw-West",1,825,460,365,30,275,490,30,5,745,60,25,0,"455","180","195","450","20","70","160","125","15","18","0","1",585,375,175,35,1.4,4462,570,213,11,89,96,4,0,100,0,100,0,2,98,"1810","1570","3970",".","2170",".","1810",".","30","10","0",".","1380",".","30",".",".","20","10","20","130","210",".",".",".",79,92,8,700,".",".",{"v":35,"d":"35.0"},7.8,".",72.2,2.6,2.7,2.9,3.9,4.8,{"v":0,"d":"0.0"},"20","10","10","0",".",".",10,11,"120","0","10","10","20","10","25","30","15","230","190","45",0.4,"1250","25",1.3,{"v":1,"d":"1.0"},0.7,1.4,{"v":10,"d":"10.0"},21,19,3,9743,1,1,3774,45.45454545454545,44.84848484848485,{"v":25.454545454545453,"d":"25.5"},3.6363636363636362,0.6060606060606061]
["BU00140904","00140904","Reitdiep","Groningen","Buurt","BU00140904","Nieuw-West",1,4275,2180,2095,955,835,1290,945,240,2865,1215,150,45,"2820","600","845","2820","130","270","470","580","45","11","5","1",1910,830,385,695,2.2,5061,1914,335,55,45,97,3,55,45,2,43,0,0,100,"2340","1370","2460","2740","3370","4110","1460","3030","470","100","690","780","760","970","100","780","36,4","480","350","80","160","400",480,1040,1760,73,87,13,2900,{"v":47,"d":"47.0"},34.7,32.8,33.3,".",31.7,36.9,8.2,8.1,8.8,9.2,229.2,"10","70","30","220",130,7.6,50,12,"375","0","15","40","35","35","105","95","45","1475","1060","415",0.8,"1750","130",0.7,0.8,0.6,0.8,3.8,97,84,12,9746,1,3,1443,34.03508771929825,34.03508771929825,{"v":9.35672514619883,"d":"9.4"},22.33918128654971,5.614035087719298]
["BU00140905","00140905","Dorkwerd","Groningen","Buurt","BU00140905","Nieuw-West",1,80,45,35,15,5,20,20,20,40,30,0,0,"75","5","0","75","5","0","0","0","0","0","0","13",40,15,10,10,2.1,40,37,345,95,5,95,5,76,24,0,24,0,97,3,"3020",".",".",".","2120","3270","2670","3100","1480",".",".",".","880","1640","1770","1420",".","10","10","0","0","0",".",".",".",".",".",".",100,".",".",".",".",".",".",".",".",".",".",".",".","0","0","0","20",".",".",".",".","20",".",".",".",".",".",".",".",".","35","25","10",".",".","5",2.4,2.4,{"v":2,"d":"2.0"},2.3,1.8,203,200,3,9746,1,5,91,6.25,6.25,{"v":0,"d":"0.0"},18.75,25]
["BU00140906","00140906","De Held","Groningen","Buurt","BU00140906","Nieuw-West",1,2480,1240,1245,390,335,535,820,400,1235,1010,135,100,"2035","130","315","2035","65","170","65","145","20","7","5","2",1040,270,335,435,2.4,2751,1018,372,86,14,100,0,88,12,10,3,0,93,7,"2470","1790","2400","2560","2710","3100","1930","2550","800","520","750","860","970","1070","670","820",".","170","170","80","80","40",340,620,940,76,89,11,2000,".",".",{"v":34,"d":"34.0"},25.9,".",20.2,26.9,1.6,1.6,2.7,{"v":4,"d":"4.0"},267.6,"20","70","20","370",50,7.6,105,43,"200","0","15","20","15","10","65","50","25","1145","875","270",1.1,"1269","75",0.5,1.4,0.6,1.3,7.1,98,90,7,9745,5,3,1412,17.943548387096776,17.943548387096776,{"v":1.6129032258064515,"d":"1.6"},15.725806451612904,16.129032258064516]
["BU00140907","00140907","Westpark","Groningen","Buurt","BU00140907","Nieuw-West",1,100,60,35,5,0,55,25,10,75,10,10,5,"80","5","10","80","0","5","5","5","0","10","0","0",65,35,20,10,1.5,139,20,301,15,85,100,0,75,25,0,25,0,30,70,"3560","3700",".",".",".",".","3480","3590","520","330",".",".",".",".","1490","240",".","0","0","0","0","0",".",".",".",".",".",".",100,".",".",".",".",".",".",".",".",".",".",".",".","0","10","0","10",".",".",".",".","30","0","5","0","5","0","0","5","10","55","40","10",0.8,"76","10",1.4,1.3,1.6,1.8,7.7,82,70,12,9745,1,4,598,20,20,{"v":0,"d":"0.0"},5,10]
["BU00140908","00140908","De Suikerzijde-Noord","Groningen","Buurt","BU00140908","Nieuw-West",2,400,190,210,5,310,75,10,0,375,20,0,0,"35","260","100","35","0","5","260","100","0","3","0","0",370,360,5,10,1.1,767,0,".",".",".",".",".",".",".",".",".",".",".",".",".",".",".",".",".",".",".",".",".",".",".",".",".",".",".",".",".","10","0","0","70","210",".",".",".",23,".",".",200,".",".",84.9,6.6,".",91.6,3.9,".",".",".",".",0.1,"0","0","0","0",".",".",".",".","50","0","5","5","0","5","15","5","10","35","25","10",0.1,"65","0",{"v":1,"d":"1.0"},1.5,1.2,1.6,12.6,77,52,25,9743,1,2,2079,91.25,91.25,52.5,1.25,0]
["BU00140909","00140909","De Suikerzijde-Zuid","Groningen","Buurt","BU00140909","Nieuw-West",3,20,10,15,0,0,0,15,5,10,5,0,0,"15","0","0","20","0","0","5","0","0","0","0","0",10,10,0,5,1.7,34,0,".",".",".",".",".",".",".",".",".",".",".",".",".",".",".",".",".",".",".",".",".",".",".",".",".",".",".",".",".","0","0","0","0","0",".",".",".",".",".",".",0,".",".",".",".",".",".",".",".",".",".",".",".",".",".",".",".",".",".",".",".","5",".",".",".",".",".",".",".",".","0","0","0",".",".","0",2.6,3.1,2.2,2.9,{"v":2,"d":"2.0"},74,65,9,9744,1,5,338,0,25,{"v":0,"d":"0.0"},0,25]
["WK001410","001410","Noordwest","Groningen","Wijk","WK001410","Noordwest",1,19025,9325,9705,2100,4930,5615,3190,3190,13105,3650,1415,865,"10980","2545","5505","10975","555","1940","1995","3565","135","7","185","10",12220,8415,1985,1820,1.5,3837,10174,238,27,73,96,4,23,77,55,23,0,79,21,"1790","1580","2290","2440","2500","2770","1690","2120","590","440","960","1060","1190","1340","520","840","20,5","1170","730","530","1550","2170",3590,6650,5650,57,90,10,14900,27.8,23.7,57.6,8.8,24.8,73.1,{"v":5,"d":"5.0"},{"v":7,"d":"7.0"},16.3,23.9,28.4,3.3,"1350","880","150","2920",445,7.8,2045,107,"1310","0","105","215","140","45","325","270","210","4815","4065","750",0.4,"971","275",0.5,0.5,0.4,0.5,10.6,524,496,28,".",".",1,4461,42.31274638633377,42.286465177398156,{"v":11.40604467805519,"d":"11.4"},11.038107752956636,16.767411300919843]
["BU00141000","00141000","Selwerd","Groningen","Buurt","BU00141000","Noordwest",1,6210,3030,3180,655,1990,1630,940,990,4375,1100,425,310,"3510","860","1845","3510","160","655","695","1190","40","6","55","9",4110,2930,595,585,1.5,7529,3170,227,29,71,95,5,21,79,54,25,0,94,6,"1900","1760","2240","2310",".",".","1840","2140","560","370","970","1060",".",".","470","880","28,8","370","230","200","550","880",1020,2720,1570,54,90,10,4800,24.5,{"v":21,"d":"21.0"},63.4,5.5,22.8,77.3,{"v":3,"d":"3.0"},7.2,16.6,23.8,28.8,2.4,"460","250","40","900",160,7.7,650,105,"355","0","25","60","35","5","85","75","70","1385","1200","185",0.3,"1681","95",0.4,0.3,0.4,0.4,{"v":10,"d":"10.0"},84,82,1,9741,1,1,4249,43.47826086956522,43.47826086956522,{"v":14.170692431561996,"d":"14.2"},10.547504025764894,15.942028985507244]
["BU00141001","00141001","Paddepoel-Zuid","Groningen","Buurt","BU00141001","Noordwest",1,5255,2590,2660,790,1010,1765,975,715,3725,975,380,175,"3145","440","1665","3140","175","695","265","970","40","8","55","11",3045,1925,480,645,1.7,9637,2854,257,27,73,97,3,21,78,59,20,0,44,56,"1850","1600","2440","2710","2800","3110","1720","2290","520","410","790","830","1050","880","470","700","15,3","460","290","190","320","350",1120,1420,1700,62,92,8,4100,31.2,25.6,52.9,12.4,27.4,68.9,7.5,6.4,16.8,24.6,28.7,2.2,"510","280","40","670",160,10.9,490,93,"270","0","15","30","35","15","75","60","30","1425","1165","260",0.5,"2612","75",0.7,0.7,0.3,0.5,11.4,56,55,1,9742,1,1,5016,40.24738344433872,40.15223596574691,{"v":6.660323501427213,"d":"6.7"},15.033301617507137,13.606089438629876]
["BU00141002","00141002","Paddepoel-Noord","Groningen","Buurt","BU00141002","Noordwest",1,6060,2965,3095,480,1605,1625,990,1370,3815,1390,505,360,"3305","1065","1685","3310","160","470","910","1220","35","6","65","11",4065,2875,730,460,1.5,9177,3249,233,29,71,96,4,26,74,52,22,0,89,11,"1690","1430","2300","2390","2280","2840","1550","2090","660","450","1110","1230","1290","1490","560","930","21,2","250","160","120","540","750",1180,2130,1660,54,90,10,4700,27.4,24.1,57.1,8.5,24.4,72.2,{"v":5,"d":"5.0"},7.3,15.4,23.1,27.6,5.6,"260","270","50","1240",95,5.6,805,133,"400","0","35","100","40","10","75","80","60","1595","1350","245",0.4,"2413","80",0.4,0.5,0.4,0.5,10.2,67,66,1,9742,1,1,3981,45.37953795379538,45.46204620462046,{"v":12.376237623762377,"d":"12.4"},7.920792079207921,22.607260726072607]
["BU00141003","00141003","Zernike Campus","Groningen","Buurt","BU00141003","Noordwest",1,5,5,0,0,0,5,5,5,5,0,0,0,"5","0","0","5","0","0","0","5","0","0","0","0",10,5,0,0,1.3,".",4,".",".",".",".",".",".",".",".",".",".",".",".",".",".",".",".",".",".",".",".",".",".",".",".",".",".",".",".",".","0","0","0","10","0",".",".",".",".",".",".",0,".",".",".",".",".",".",".",".",".",".",".",".",".",".",".",".",".",".",".",".","145","0","20","15","20","10","50","20","15","25","10","10",".",".","0",".",".",".",".",".",202,187,15,9747,1,4,961,0,0,{"v":0,"d":"0.0"},0,100]
["BU00141004","00141004","Selwerderhof","Groningen","Buurt","BU00141004","Noordwest",1,10,5,5,0,0,0,0,5,0,5,0,0,"5","0","0","5","0","0","0","0","0","0","0","0",0,0,5,0,{"v":2,"d":"2.0"},".",3,".",".",".",".",".",".",".",".",".",".",".",".",".",".",".",".",".",".",".",".",".",".",".",".",".",".",".",".",".","0","0","0","0","0",".",".",".",".",".",".",0,".",".",".",".",".",".",".",".",".",".",".",".",".",".",".",".",".",".",".",".","0",".",".",".",".",".",".",".",".","5","0","0",".",".","0",".",".",".",".",".",100,90,10,9741,5,3,1472,50,50,{"v":0,"d":"0.0"},0,50]
["BU00141005","00141005","Tuinwijk","Groningen","Buurt","BU00141005","Noordwest",1,1490,730,765,180,325,600,275,110,1180,185,100,25,"1010","180","310","1005","60","125","120","185","15","10","10","5",985,680,165,135,1.5,9610,894,232,14,86,96,4,20,79,54,25,0,100,0,"1540","1480","1800","2260",".",".","1500","1680","730","690","910","1070",".",".","720","740","5,4","100","50","20","130","190",".",".",".",68,88,12,1300,".",".",52.9,11.1,".",73.1,5.1,7.7,17.2,{"v":25,"d":"25.0"},28.9,2.5,"130","80","20","90",25,6.7,95,64,"145","0","10","15","10","5","40","35","30","385","335","50",0.4,"2467","25",0.8,0.6,0.9,0.7,{"v":12,"d":"12.0"},16,16,0,9741,1,1,5776,32.5503355704698,32.21476510067114,{"v":12.751677852348994,"d":"12.8"},12.080536912751679,7.38255033557047]
["WK001411","001411","Noordoost","Groningen","Wijk","WK001411","Noordoost",1,15700,7960,7740,2540,1935,4245,4645,2335,9190,4670,1490,350,"11555","1180","2960","11560","515","1400","665","1565","145","9","65","4",7910,3525,1910,2475,{"v":2,"d":"2.0"},1495,7633,249,69,31,98,2,56,44,35,8,0,93,7,"2070","1650","2170","2240","2510","3370","1820","2260","790","630","800","920","940","1290","710","850",".","1340","970","500","420","310",2940,5090,4540,65,88,12,12700,34.4,28.1,43.2,13.9,32.6,47.4,11.7,4.7,11.5,{"v":17,"d":"17.0"},19.6,95.7,"880","890","150","2030",630,15.3,855,54,"1455","10","175","180","135","45","330","345","235","6255","5065","1185",0.8,"596","570",0.9,{"v":1,"d":"1.0"},0.4,0.8,6.1,1071,1050,22,".",".",2,1619,26.369426751592357,26.401273885350317,{"v":1.9745222929936306,"d":"2.0"},16.178343949044585,14.872611464968152]
["BU00141100","00141100","Beijum-West","Groningen","Buurt","BU00141100","Noordoost",1,5885,2995,2890,840,775,1655,1710,900,3450,1680,605,155,"4290","470","1120","4295","185","515","285","610","60","10","30","5",3130,1535,715,875,1.9,5004,2991,225,71,29,98,2,62,38,25,13,0,99,1,"1950","1590","2060","2090","2140","3690","1680","2120","810","700","800","930","830","1380","780","830",".","440","330","190","180","160",1030,1960,1810,66,89,11,4900,33.5,27.9,{"v":42,"d":"42.0"},11.9,31.8,48.2,8.5,4.3,9.6,13.9,{"v":16,"d":"16.0"},105.3,"280","310","60","770",215,14.8,355,61,"480","0","55","60","40","5","100","140","80","2300","1895","405",0.7,"1958","220",0.8,0.6,0.3,0.7,{"v":6,"d":"6.0"},120,118,2,9737,1,2,1685,27.017841971113,27.102803738317753,{"v":2.7187765505522514,"d":"2.7"},14.273576890399319,15.293118096856414]
["BU00141101","00141101","Beijum-Oost","Groningen","Buurt","BU00141101","Noordoost",1,6125,3105,3020,1100,745,1785,1705,790,3835,1515,655,125,"4205","495","1425","4205","225","650","275","775","50","8","20","3",3205,1595,610,1000,1.9,6562,3172,204,54,46,98,2,33,67,61,5,0,97,3,"2000","1680","2250","2330","2020",".","1890","2230","720","590","790","930","840",".","670","820",".","610","380","240","140","70",1430,2200,1170,58,88,12,4800,28.8,22.9,53.6,{"v":7,"d":"7.0"},27.8,{"v":62,"d":"62.0"},5.2,6.4,18.1,27.4,31.5,5.8,"580","490","60","690",305,18.1,415,68,"460","0","70","55","40","0","90","105","90","2095","1780","315",0.7,"2246","135",0.9,{"v":1,"d":"1.0"},0.3,0.4,5.8,94,93,1,9736,1,2,1521,31.346938775510203,31.346938775510203,{"v":1.1428571428571428,"d":"1.1"},17.959183673469386,12.897959183673468]
["BU00141102","00141102","De Hunze","Groningen","Buurt","BU00141102","Noordoost",1,2380,1180,1200,355,215,545,785,480,1165,1000,160,60,"1970","145","270","1965","70","160","75","115","30","11","5","3",1070,285,420,365,2.2,4887,1007,372,98,2,100,0,97,3,0,3,0,92,8,"2240","2110","2140","2130","2460","2750","1960","2250","860","780","790","870","980","1100","860","860",".","170","140","50","60","40",320,620,1000,71,89,11,2000,".",".",27.2,25.8,".",15.3,24.1,1.1,1.4,1.8,{"v":2,"d":"2.0"},291.5,"10","70","20","430",60,10.8,60,25,"210","0","15","20","20","5","65","55","30","1170","915","255",1.1,"2400","120",0.5,1.3,0.4,1.8,7.1,50,49,1,9731,1,2,1638,17.436974789915965,17.22689075630252,{"v":1.680672268907563,"d":"1.7"},14.915966386554622,20.168067226890756]
["BU00141103","00141103","Van Starkenborgh","Groningen","Buurt","BU00141103","Noordoost",1,910,465,445,195,130,185,320,75,530,340,40,5,"750","45","120","750","25","65","20","50","5","7","0","0",315,35,100,180,2.9,5745,295,497,100,0,100,0,99,1,0,1,0,0,100,"2950",".","2680","2950","3650","3530",".","2940","880",".","820","880","860","1160",".","890",".","100","110","20","30","20",100,210,390,81,82,18,700,".",".",27.2,37.8,".",6.1,57.9,1.3,0.7,{"v":1,"d":"1.0"},1.6,394.1,"0","20","0","70",40,12.5,".",".","120","0","5","5","15","10","45","20","20","365","240","125",1.2,"2305","40",1.3,1.6,0.5,1.6,6.1,18,16,3,9731,1,1,2671,17.582417582417584,17.582417582417584,{"v":2.197802197802198,"d":"2.2"},21.428571428571427,8.241758241758241]
["BU00141104","00141104","Noorderhoogebrug","Groningen","Buurt","BU00141104","Noordoost",1,270,135,130,25,45,40,95,60,140,95,20,10,"240","15","15","240","10","5","10","5","5","7","0","15",130,50,45,35,2.1,551,125,317,83,17,97,3,80,20,0,20,0,99,1,"2780","1500","2080","2540","2880","3580","2290","2920","1280","590","1050","1510","1200","1650","890","1390",".","20","10","10","10","10",50,80,90,78,68,32,200,".",".",38.4,27.2,".",33.3,27.9,8.1,8.9,8.9,8.9,265.8,"0","0","0","50",".",".",10,33,"60","0","15","5","0","5","15","10","10","200","165","35",1.6,"410","35",1.1,1.8,0.9,2.2,6.3,51,49,2,9738,1,3,1190,11.11111111111111,11.11111111111111,{"v":3.7037037037037033,"d":"3.7"},9.25925925925926,22.22222222222222]
["BU00141105","00141105","Het Witte Lam","Groningen","Buurt","BU00141105","Noordoost",1,45,30,20,5,10,10,15,5,30,15,5,0,"30","5","5","30","0","5","5","5","0","0","0","21",30,20,5,5,1.7,277,16,".",".",".",".",".",".",".",".",".",".",".",".","4740",".",".",".",".","4660",".","4820","1400",".",".",".",".","1490",".","1470",".","0","0","0","0","0",".",".",".",".",".",".",0,".",".",".",".",".",".",".",".",".",".",".",".",".",".",".",".",".",".",".",".","105","0","15","30","15","10","20","10","5","80","40","40",".",".","0",1.1,{"v":2,"d":"2.0"},0.9,2.6,6.3,17,17,0,9738,1,3,1100,33.33333333333333,33.33333333333333,{"v":0,"d":"0.0"},11.11111111111111,11.11111111111111]
["BU00141106","00141106","Koningslaagte","Groningen","Buurt","BU00141106","Noordoost",1,75,40,35,10,10,20,15,20,35,30,5,5,"70","5","0","70","5","5","0","0","0","27","0","0",30,10,15,10,2.5,11,26,510,92,8,100,0,73,27,0,27,0,88,12,"4270",".",".",".",".","4500",".","4220","1470",".",".",".",".","1510",".","1590",".","10","0","0","0","0",".",".",".",".",".",".",100,".",".",".",".",".",".",".",".",".",".",".",".","0","0","0","20",".",".",".",".","20",".",".",".",".",".",".",".",".","35","30","5",".",".","15",2.5,3.4,2.2,2.7,1.1,698,686,12,9738,1,5,210,6.666666666666667,6.666666666666667,{"v":0,"d":"0.0"},13.333333333333334,26.666666666666668]
["BU00141107","00141107","Hunzeboord","Groningen","Buurt","BU00141107","Noordoost",1,5,5,0,0,0,5,0,0,0,0,0,0,"0","5","0","0","0","0","5","0","0","0","0","0",0,0,5,0,{"v":2,"d":"2.0"},".",1,".",".",".",".",".",".",".",".",".",".",".",".",".",".",".",".",".",".",".",".",".",".",".",".",".",".",".",".",".","0","0","0","0","0",".",".",".",".",".",".",0,".",".",".",".",".",".",".",".",".",".",".",".",".",".",".",".",".",".",".",".","0",".",".",".",".",".",".",".",".","0","0","0",".",".","0",".",".",".",".",".",23,23,0,9731,1,2,1519,100,100,{"v":0,"d":"0.0"},0,0]
["WK001412","001412","Noorddijk e.o.","Groningen","Wijk","WK001412","Noorddijk e.o.",1,16095,7900,8200,2645,1735,4185,4250,3280,8540,5470,1460,635,"12340","1045","2710","12340","485","1335","560","1375","170","11","130","8",7670,2905,2240,2530,2.1,2139,7513,284,73,27,98,2,63,37,29,8,0,90,10,"2180","1800","2190","2330","2500","3250","1930","2340","810","600","800","930","950","1310","730","850",".","1390","910","480","330","190",3000,5050,4220,67,87,13,13000,35.1,28.6,40.9,15.2,34.2,39.7,13.1,3.5,8.4,12.3,14.7,137.7,"560","790","150","2940",575,14.1,1130,70,"1655","5","235","270","140","60","340","370","240","6905","5570","1335",0.9,"917","575",1.4,0.7,0.6,0.8,4.7,806,753,54,".",".",3,1435,23.33022677850264,23.33022677850264,{"v":1.1804908356632493,"d":"1.2"},16.43367505436471,20.378999689344518]
["BU00141200","00141200","Lewenborg-Noord","Groningen","Buurt","BU00141200","Noorddijk e.o.",1,3620,1715,1905,595,365,875,850,930,1900,1030,460,235,"2590","235","795","2595","120","365","110","430","30","9","60","17",1860,890,425,540,1.9,6087,1843,234,52,48,98,2,37,63,54,9,0,91,9,"2000","1680","2240","2420",".",".","1870","2220","720","570","840","950",".",".","660","840",".","320","180","120","50","40",830,1160,600,59,88,12,2900,29.2,23.8,50.5,7.3,".",57.2,4.9,5.5,15.9,22.5,26.5,14.8,"230","260","40","840",165,{"v":18,"d":"18.0"},485,133,"240","0","45","50","15","5","30","55","35","1300","1090","210",0.7,"2184","90",0.5,0.4,0.3,0.7,3.5,59,59,0,9733,1,3,1391,28.314917127071826,28.45303867403315,{"v":1.1049723756906076,"d":"1.1"},16.43646408839779,25.69060773480663]
["BU00141201","00141201","Lewenborg-Zuid","Groningen","Buurt","BU00141201","Noorddijk e.o.",1,3385,1680,1700,600,410,965,845,565,1895,1015,380,90,"2325","225","830","2325","100","385","120","445","30","9","20","6",1610,650,395,565,2.1,5620,1582,245,69,31,98,2,58,42,38,4,0,90,10,"2110","1660","2270","2370","3020",".","1940","2240","850","750","860","990","930",".","850","850",".","340","240","140","70","40",870,1110,640,65,89,11,2700,31.2,24.8,47.1,10.9,".",46.9,8.4,4.5,10.8,15.8,19.2,84.6,"190","190","30","500",155,16.5,260,77,"250","0","40","20","30","5","55","55","45","1330","1110","225",0.8,"2213","100",{"v":1,"d":"1.0"},0.7,0.6,0.6,4.2,62,60,2,9732,1,2,1504,31.314623338257014,31.314623338257014,{"v":1.1816838995568686,"d":"1.2"},17.725258493353028,16.691285081240768]
["BU00141202","00141202","Lewenborg-West","Groningen","Buurt","BU00141202","Noorddijk e.o.",1,1715,830,880,255,205,470,415,365,895,615,145,60,"1330","120","260","1325","45","135","75","125","15","8","5","5",840,320,265,250,{"v":2,"d":"2.0"},3226,818,250,70,30,98,2,81,19,0,19,0,100,0,"2230","2180","2230","2320",".",".","2140","2250","900","790","900","1110",".",".","800","930",".","140","90","50","50","40",210,660,470,69,88,12,1400,".",".",37.1,11.8,".",35.1,{"v":9,"d":"9.0"},2.5,3.3,5.8,6.6,161.4,"20","80","10","330",50,12.7,70,40,"160","0","20","15","15","0","30","50","25","750","630","120",0.9,"1416","55",1.4,0.6,0.8,0.4,4.3,55,53,2,9732,1,3,1475,22.740524781341108,22.448979591836736,{"v":2.3323615160349855,"d":"2.3"},14.868804664723031,21.282798833819243]
["BU00141203","00141203","Oosterhoogebrug","Groningen","Buurt","BU00141203","Noorddijk e.o.",1,2175,1120,1055,275,190,605,570,525,1125,785,170,100,"1765","160","255","1760","70","120","95","135","30","13","10","5",1145,480,385,280,1.9,2565,1094,318,73,27,95,5,60,40,31,9,0,79,21,"2160","2080","1900","2070","2170","3010","1880","2340","800","210","810","900","1090","1580","700","870","6,4","150","80","40","50","40",300,730,680,69,83,17,1800,".",".",37.9,18.2,".",40.2,13.9,2.9,6.6,10.4,12.4,143.3,"60","90","30","470",55,13.2,160,73,"325","0","45","75","25","15","70","60","35","1080","835","245",0.9,"1273","125",2.2,0.5,0.5,0.6,6.1,96,85,12,9731,1,3,1470,19.080459770114942,18.850574712643677,{"v":1.839080459770115,"d":"1.8"},12.643678160919542,24.137931034482758]
["BU00141204","00141204","Ulgersmaborg","Groningen","Buurt","BU00141204","Noorddijk e.o.",1,2265,1115,1155,440,245,610,600,370,1235,850,125,65,"1815","155","295","1815","70","170","85","125","40","18","10","4",960,240,315,400,2.4,2258,920,351,94,6,98,2,74,26,16,10,0,84,16,"2430","1770","2230","2500","2790","4050","2280","2470","780","750","700","800","830","1370","780","780",".","220","140","60","50","20",390,610,720,72,87,13,1800,".",".",34.9,21.8,".",24.1,21.6,3.1,4.9,6.7,7.7,243.7,"40","80","20","320",85,13.2,70,32,"360","0","55","70","25","20","75","60","50","1030","830","200",1.1,"1028","95",2.3,1.2,0.6,1.3,6.3,105,100,4,9731,1,2,1680,19.867549668874172,19.867549668874172,{"v":0.8830022075055187,"d":"0.9"},19.426048565121413,16.335540838852097]
["BU00141205","00141205","Hunzepark","Groningen","Buurt","BU00141205","Noorddijk e.o.",1,0,0,0,0,0,0,0,0,0,0,0,0,"0","0","0","0","0","0","0","0","0","0","0","0",0,0,0,0,".",".",0,".",".",".",".",".",".",".",".",".",".",".",".",".",".",".",".",".",".",".",".",".",".",".",".",".",".",".",".",".","0","0","0","0","0",".",".",".",".",".",".",0,".",".",".",".",".",".",".",".",".",".",".",".",".",".",".",".",".",".",".",".","10",".",".",".",".",".",".",".",".","45","15","30",".",".","0",".",".",".",".",".",7,7,0,9735,1,3,1170,"Geen inwoners","Geen inwoners","Geen inwoners","Geen inwoners","Geen inwoners"]
["BU00141206","00141206","Zilvermeer","Groningen","Buurt","BU00141206","Noorddijk e.o.",1,215,105,105,35,20,35,75,45,105,85,10,10,"185","0","25","185","0","10","0","10","0","14","5","19",90,15,35,35,2.5,3485,86,477,100,0,98,2,100,0,0,0,0,100,0,"2970",".","3170","3010","2500","3330",".","2970","960",".","940","1020","900","990",".","960",".","10","20","10","0","0",20,60,90,72,".",".",200,".",".",24.7,34.1,".",".",".",".",".",".",".",".","0","0","0","40",".",".",".",".","25","0","0","5","5","5","5","5","0","115","85","30",1.3,"1874","5",2.1,1.7,0.6,1.4,{"v":6,"d":"6.0"},7,6,1,9735,1,3,1374,13.953488372093023,13.953488372093023,{"v":0,"d":"0.0"},16.27906976744186,20.930232558139537]
["BU00141207","00141207","Kardinge","Groningen","Buurt","BU00141207","Noorddijk e.o.",1,0,0,0,0,0,5,0,0,5,0,0,0,"5","0","0","0","0","0","0","0","0","0","0","0",0,0,5,0,{"v":2,"d":"2.0"},".",1,".",".",".",".",".",".",".",".",".",".",".",".",".",".",".",".",".",".",".",".",".",".",".",".",".",".",".",".",".","0","0","0","0","0",".",".",".",".",".",".",0,".",".",".",".",".",".",".",".",".",".",".",".",".",".",".",".",".",".",".",".","20",".",".",".",".",".",".",".",".","0","0","0",".",".","0",".",".",".",".",".",112,98,14,9735,1,3,1241,"Geen inwoners","Geen inwoners","Geen inwoners","Geen inwoners","Geen inwoners"]
["BU00141208","00141208","Drielanden","Groningen","Buurt","BU00141208","Noorddijk e.o.",1,915,455,455,140,105,140,350,180,450,375,75,15,"780","60","75","780","35","45","30","30","10","8","0","1",395,100,140,155,2.3,3969,391,351,100,0,100,0,92,8,7,1,0,100,0,"2190",".","2050","2030","2760","3040","980","2290","730",".","660","810","850","890","480","750",".","60","60","20","30","10",100,240,400,72,89,11,800,".",".",30.8,25.6,".",16.5,28.1,1.5,2.5,3.8,4.8,291.8,"10","20","10","160",15,6.4,15,16,"75","0","5","5","10","5","25","20","10","405","300","105",1,"1746","30",{"v":1,"d":"1.0"},0.9,0.7,0.9,3.5,25,23,2,9734,1,3,1083,14.754098360655737,14.754098360655737,{"v":1.092896174863388,"d":"1.1"},15.300546448087433,19.672131147540984]
["BU00141209","00141209","Noorddijk","Groningen","Buurt","BU00141209","Noorddijk e.o.",1,95,40,50,5,10,10,25,30,35,50,5,5,"90","5","0","90","5","0","0","0","0","11","0","11",40,15,15,10,2.2,42,43,462,91,9,95,5,91,7,0,7,2,100,0,"3510",".","2020","2370","3150","4350",".","3640","1120",".","790","1000","900","1270",".","1100",".","0","0","0","0","0",".",".",".",".",".",".",100,".",".",".",".",".",".",".",".",".",".",".",".","0","0","0","30",".",".",".",".","30","5","5","5","0","0","10","5","5","60","40","20",".",".","5",1.9,1.7,1.2,1.6,3.5,224,219,6,9734,1,4,814,5.263157894736842,5.263157894736842,{"v":0,"d":"0.0"},5.263157894736842,31.57894736842105]
["BU00141210","00141210","Ruischerbrug","Groningen","Buurt","BU00141210","Noorddijk e.o.",1,470,220,250,70,40,105,130,120,200,200,30,40,"390","30","45","390","15","30","15","20","0","9","5","15",225,80,75,65,2.1,2448,222,308,92,8,98,2,74,26,21,5,0,74,26,"2380","1980","1810","2380","2330","2830","1920","2540","1000","670","850","860","1070","1150","850","1050",".","40","20","10","10","0",50,120,160,71,79,21,400,".",".",37.2,15.9,".",38.1,20.2,0.5,2.8,5.6,9.8,204.5,"0","20","10","110",10,9.1,40,89,"60","0","15","10","0","0","10","15","5","220","175","45",1,"1143","25",1.9,0.9,0.2,1.5,6.3,26,19,7,9734,1,3,1065,17.02127659574468,17.02127659574468,{"v":0,"d":"0.0"},14.893617021276595,25.53191489361702]
["BU00141211","00141211","Ruischerwaard","Groningen","Buurt","BU00141211","Noorddijk e.o.",1,1255,615,635,220,140,360,390,145,705,460,65,20,"1070","60","125","1070","30","65","25","60","15","10","10","6",510,105,180,230,2.5,5598,513,339,100,0,99,1,93,7,5,2,0,100,0,"2280",".","2220","2200","2490",".","1560","2340","770",".","730","760","880",".","620","780",".","110","70","40","30","10",170,360,460,78,89,11,1000,".",".",29.8,25.2,".",13.6,26.8,0.4,1.4,1.8,2.4,234.9,"10","50","10","130",30,9.3,30,22,"100","0","10","15","10","5","20","25","15","570","460","105",1.1,"2544","45",{"v":2,"d":"2.0"},0.4,0.8,1.2,4.7,28,22,6,9734,1,3,1214,14.741035856573706,14.741035856573706,{"v":0.796812749003984,"d":"0.8"},17.52988047808765,11.553784860557768]
["WK001413","001413","Meerdorpen","Groningen","Wijk","WK001413","Meerdorpen",1,1100,555,545,185,120,230,345,215,570,435,65,25,"965","60","80","960","25","50","30","30","10","8","5","5",455,120,150,190,2.4,168,447,401,93,7,97,3,81,19,14,5,0,86,14,"3020","1870","2220","2230","2570","3650","2110","3230","1100","890","800","840","980","1280","910","1150",".","90","70","30","20","10",170,350,290,75,78,22,900,".",".",35.5,22.9,".",28.3,29.4,2.9,4.9,6.7,8.9,279.7,"10","30","10","200",35,12.2,45,40,"155","5","20","35","10","10","25","30","20","555","395","160",1.2,"85","70",{"v":3,"d":"3.0"},3.4,0.8,0.7,1.9,696,653,42,".",".",5,140,12.727272727272727,12.272727272727273,{"v":0.9090909090909091,"d":"0.9"},16.818181818181817,19.545454545454547]
["BU00141300","00141300","Middelbert","Groningen","Buurt","BU00141300","Meerdorpen",1,110,50,55,20,10,20,30,25,60,45,0,5,"90","5","10","90","0","10","5","0","0","9","0","0",40,10,10,15,2.5,35,41,487,90,10,93,7,78,22,10,12,0,90,10,"3350",".",".",".",".","3740","1710","3790","1290",".",".",".",".","1380","860","1410",".","10","10","0","0","0",".",".",".",".",".",".",100,".",".",".",".",".",".",".",".",".",".",".",".","0","10","0","30",".",".",".",".","15",".",".",".",".",".",".",".",".","60","40","20",".",".","10",2.5,2.1,1.4,1.6,4.2,342,310,31,9723,1,5,209,18.181818181818183,18.181818181818183,{"v":0,"d":"0.0"},18.181818181818183,22.727272727272727]
["BU00141301","00141301","Engelbert","Groningen","Buurt","BU00141301","Meerdorpen",1,910,465,440,155,105,195,285,170,470,355,60,20,"800","50","60","800","20","40","25","25","5","9","5","7",385,100,125,160,2.4,277,374,390,93,7,98,2,80,20,16,5,0,85,15,"2930","2040","2220","2230","2590","3580","2170","3120","1080","960","800","840","980","1270","920","1120",".","80","60","30","20","10",160,300,230,76,78,22,700,".",".",36.7,21.5,".",28.8,28.3,2.7,4.8,6.5,8.9,274.2,"10","30","10","150",30,12.7,40,43,"130","0","15","30","10","10","20","25","20","450","325","125",1.2,"138","55",3.2,3.8,0.7,0.6,1.4,336,327,8,9723,1,5,115,12.087912087912088,12.087912087912088,{"v":1.098901098901099,"d":"1.1"},17.032967032967033,18.681318681318682]
["BU00141302","00141302","Klein Harkstede","Groningen","Buurt","BU00141302","Meerdorpen",1,80,35,45,15,5,10,30,20,35,40,0,5,"75","5","5","75","5","5","0","5","0","0","0","0",35,5,15,10,2.3,514,32,420,100,0,94,6,100,0,0,0,0,88,13,"3590",".",".",".","2230","3980",".","3590","1150",".",".",".","850","1240",".","1150",".","0","10","0","0","0",".",".",".",".",".",".",100,".",".",".",".",".",".",".",".",".",".",".",".","0","0","0","20",".",".",".",".","10",".",".",".",".",".",".",".",".","45","30","15",".",".","5",{"v":2,"d":"2.0"},1.5,0.7,1.6,5.4,19,16,3,9723,1,5,342,6.25,6.25,{"v":0,"d":"0.0"},18.75,25]
["WK001414","001414","Meerstad e.o.","Groningen","Wijk","WK001414","Meerstad e.o.",1,3805,1935,1870,1220,245,1495,680,165,2290,1365,125,25,"3265","170","370","3265","110","245","60","120","115","31","5","1",1240,120,325,790,3.1,238,1106,533,99,1,95,5,93,7,2,5,0,9,91,"4820","3300","4100","4910","5430","4970","3510","4920","210",".","40","70","80","470","470","190",".","680","280","50","70","30",380,740,1760,89,86,14,2600,53.2,35.9,19.5,38.2,".",8.4,51.9,1.8,1.3,{"v":2,"d":"2.0"},2.4,304.6,"10","60","40","160",105,7.2,25,7,"375","10","45","35","25","45","90","90","30","1645","1165","480",1.3,"103","210",{"v":2,"d":"2.0"},1.4,0.9,0.9,2.1,1776,1600,176,".",".",5,224,14.191852825229962,14.191852825229962,{"v":0.7884362680683311,"d":"0.8"},32.06307490144547,4.336399474375821]
["BU00141400","00141400","Meeroevers","Groningen","Buurt","BU00141400","Meerstad e.o.",1,1665,840,830,580,90,665,275,45,1000,600,60,5,"1425","90","150","1425","60","105","30","50","50","31","0","1",515,30,120,360,3.2,3649,485,558,100,0,98,2,94,6,0,6,0,0,100,"5220",".","4360","5160","5990","5570","4290","5280","10",".",".","0",".","40","0","10",".","340","100","20","30","10",100,280,800,90,86,14,1100,".",".",14.3,{"v":42,"d":"42.0"},".",4.7,58.1,1.2,{"v":1,"d":"1.0"},1.2,1.6,340.4,"0","20","20","40",40,6.3,".",".","175","0","20","15","5","30","50","40","15","705","490","215",1.4,"1547","55",0.8,{"v":2,"d":"2.0"},0.8,0.8,2.5,85,46,39,9613,1,5,232,14.414414414414415,14.414414414414415,{"v":0.6006006006006006,"d":"0.6"},34.83483483483483,2.7027027027027026]
["BU00141401","00141401","Harkstede GN","Groningen","Buurt","BU00141401","Meerstad e.o.",1,205,110,95,30,40,40,60,30,120,60,10,10,"180","10","15","175","5","10","5","5","0","10","5","5",95,40,15,35,2.2,27,74,393,97,3,96,4,78,22,0,22,0,92,8,"3350",".",".",".",".","3340","3720","3250","1460",".",".",".",".","1460","1770","1370",".","20","20","10","10","10",".",".",".",74,".",".",200,".",".",50.3,20.5,".",".",".",".",".",".",".",".","0","10","0","30",".",".",".",".","40","5","5","5","5","0","0","10","10","105","75","35",1.2,"14","35",1.6,2.2,1.5,1.6,3.5,813,769,44,9614,1,5,116,14.634146341463413,12.195121951219512,{"v":4.878048780487805,"d":"4.9"},14.634146341463413,14.634146341463413]
["BU00141402","00141402","Lageland GN","Groningen","Buurt","BU00141402","Meerstad e.o.",1,80,45,40,15,10,10,30,15,55,20,5,0,"75","5","5","75","0","0","5","0","0","0","0","0",30,5,10,15,2.5,14,29,376,100,0,100,0,76,24,0,24,0,93,7,"3370",".",".",".",".","3370","3130","3450","1160",".",".",".",".","1160","1060","1190",".","10","10","0","0","0",".",".",".",".",".",".",100,".",".",".",".",".",".",".",".",".",".",".",".","0","0","0","10",".",".",".",".","20",".",".",".",".",".",".",".",".","55","30","25",".",".","50",4.4,4.1,3.2,4.2,0.2,613,579,34,9622,1,5,84,6.25,6.25,{"v":0,"d":"0.0"},18.75,18.75]
["BU00141403","00141403","Groenewei","Groningen","Buurt","BU00141403","Meerstad e.o.",1,455,225,230,130,15,230,60,25,260,185,10,5,"375","25","60","375","10","30","10","30","25","53","5","2",165,15,65,90,2.7,1303,153,462,100,0,81,19,99,1,0,1,0,0,100,"4230",".","3610","4560","4780","4710",".","4230","290",".","150","290","650","370",".","290",".","60","30","0","10","0",".",".",".",89,91,9,300,".",".",15.5,33.9,".",{"v":6,"d":"6.0"},35.7,0.6,0.6,0.6,0.6,252.7,"0","10","0","30",10,8.5,".",".","25","0","0","0","5","0","10","5","0","240","175","65",1.4,"683","25",2.5,0.7,0.6,0.6,2.5,40,35,5,9613,1,5,302,17.582417582417584,17.582417582417584,{"v":0,"d":"0.0"},28.57142857142857,5.4945054945054945]
["BU00141404","00141404","Tersluis","Groningen","Buurt","BU00141404","Meerstad e.o.",1,1135,585,550,400,70,455,185,40,700,395,30,5,"995","35","105","995","25","75","15","35","30","26","0","0",345,25,80,245,3.3,2840,303,538,96,4,99,1,93,7,6,1,0,0,100,"4920","3770","4010","4680","5020","5850","2390","5140","0","0","0","0","0","0","0","0",".","210","70","20","20","10",110,200,440,90,90,10,700,".",".",17.9,40.2,".",{"v":4,"d":"4.0"},59.9,0.6,{"v":0,"d":"0.0"},0.6,0.6,277.1,"0","20","10","40",30,6.5,10,11,"75","0","10","5","5","5","20","20","5","410","315","100",1.2,"1030","35",{"v":3,"d":"3.0"},0.4,0.8,0.8,1.6,59,40,19,9613,1,5,233,12.334801762114537,12.334801762114537,{"v":0.881057268722467,"d":"0.9"},35.24229074889868,3.524229074889868]
["BU00141405","00141405","De Zeilen","Groningen","Buurt","BU00141405","Meerstad e.o.",1,260,135,130,65,25,95,70,5,150,105,5,5,"220","10","30","220","5","25","5","10","10","42","0","0",85,0,35,50,{"v":3,"d":"3.0"},328,62,730,100,0,94,6,100,0,0,0,0,2,98,"5210",".",".",".",".","5370",".","5210","580",".",".",".",".","590",".","580",".","50","40","10","10","0",".",".",".",89,83,17,200,".",".",24.5,40.8,".",".",".",".",".",".",".",".","0","10","10","10",15,14.4,".",".","30","0","5","5","0","5","10","5","5","125","80","45",1.5,"159","10",3.9,1.3,1.6,1.6,{"v":1,"d":"1.0"},107,79,28,9613,1,5,162,15.384615384615385,15.384615384615385,{"v":0,"d":"0.0"},25,1.9230769230769231]
["BU00141406","00141406","De Wierden","Groningen","Buurt","BU00141406",{"$f":"IF(E132=\"wijk\",C132,IF(E132=\"Buurt\",_xlfn.XLOOKUP(LEFT(B132,6),$B$3:$B$18118,$C$3:$C$18118,\"onbekend\",0,1),\"ook geen buurt\"))","v":"Meerstad e.o."},1,0,0,0,0,0,0,0,0,0,0,0,0,"0","0","0","0","0","0","0","0","0","0","0","0",0,0,0,0,".",".",0,".",".",".",".",".",".",".",".",".",".",".",".",".",".",".",".",".",".",".",".",".",".",".",".",".",".",".",".",".","0","0","0","0","0",".",".",".",".",".",".",0,".",".",".",".",".",".",".",".",".",".",".",".",".",".",".",".",".",".",".",".","5",".",".",".",".",".",".",".",".","0","0","0",".",".","0",".",".",".",".",".",59,52,7,9613,1,5,174,{"$f":"IF(OR(I132=0, ISBLANK(I132)), \"Geen inwoners\", (I132-X132)/I132*100)","v":"Geen inwoners"},{"$f":"IF(OR(I132=0, ISBLANK(I132)), \"Geen inwoners\", (I132-U132)/I132*100)","v":"Geen inwoners"},{"$f":"IF(OR(I132=0,ISBLANK(I132)),\"Geen inwoners\",(BU132/I132*100))","v":"Geen inwoners"},{"$f":"IF(OR(I132=0,ISBLANK(I132)),\"Geen inwoners\",(L132/I132*100))","v":"Geen inwoners"},{"$f":"IF(OR(I132=0,ISBLANK(I132)),\"Geen inwoners\",(P132/I132*100))","v":"Geen inwoners"}]
["WK001415","001415","Ten Boer e.o.","Groningen","Wijk","WK001415","Ten Boer e.o.",1,5875,2925,2950,985,660,1225,1625,1380,2600,2540,380,355,"5355","185","335","5355","115","175","70","160","35","6","95","17",2455,695,835,920,2.3,200,2509,274,88,12,95,5,75,25,19,7,0,76,24,"2560","1520","2250","2390","2470","3100","1920","2750","990","580","910","920","920","1210","790","1050",".","530","370","190","130","30",980,2050,1180,74,84,16,4700,36.2,29.5,38.5,15.7,".",30.4,{"v":19,"d":"19.0"},2.5,4.5,6.3,7.8,193.5,"80","180","40","1260",140,9.2,385,65,"620","65","100","80","35","30","105","120","85","3160","2525","635",1.3,"107","330",{"v":1,"d":"1.0"},1.5,1.5,0.6,2.9,2969,2940,30,".",".",5,447,8.851063829787234,8.851063829787234,{"v":0.5106382978723404,"d":"0.5"},16.76595744680851,23.48936170212766]
["BU00141500","00141500","Ten Boer Dorp","Groningen","Buurt","BU00141500","Ten Boer e.o.",1,4420,2180,2235,770,495,980,1125,1040,1960,1850,295,310,"3985","160","275","3985","100","135","60","140","35","8","90","21",1835,545,580,710,2.3,1965,1886,256,84,16,94,6,73,27,22,5,0,72,28,"2460","1500","2230","2400","2580","3070","1840","2650","920","580","900","920","900","1130","730","980",".","420","290","150","90","20",770,1580,790,74,89,11,3500,34.9,28.2,39.8,{"v":14,"d":"14.0"},".",32.6,16.3,2.7,4.9,6.7,8.4,164.4,"70","140","30","970",115,9.6,335,76,"330","10","50","45","20","20","65","70","45","2230","1840","395",1.2,"993","235",0.7,0.8,1.4,0.5,3.2,228,225,3,9791,1,4,559,9.841628959276019,9.841628959276019,{"v":0.4524886877828055,"d":"0.5"},17.420814479638008,23.52941176470588]
["BU00141501","00141501","Buitengebied Ten Boer-Zuid","Groningen","Buurt","BU00141501","Ten Boer e.o.",1,85,40,45,5,10,10,35,20,30,40,5,5,"80","0","5","80","0","5","0","0","0","0","0","0",40,10,20,10,2.3,18,38,396,100,0,97,3,95,5,0,5,0,95,5,"3300",".",".",".",".","3300",".","3220","1410",".",".",".",".","1410",".","1390",".","0","0","0","0","0",".",".",".",".",".",".",100,".",".",".",".",".",".",".",".",".",".",".",".","0","0","0","20",".",".",".",".","20",".",".",".",".",".",".",".",".","35","30","10",".",".","5",1.4,1.7,2.1,1.5,3.3,468,461,7,9791,1,5,159,5.88235294117647,5.88235294117647,{"v":0,"d":"0.0"},5.88235294117647,23.52941176470588]
["BU00141502","00141502","Garmerwolde","Groningen","Buurt","BU00141502","Ten Boer e.o.",1,510,260,250,60,50,90,175,135,205,250,35,25,"475","15","25","475","10","15","5","5","0","0","5","6",225,60,100,70,2.2,89,226,329,99,1,99,1,83,17,12,5,0,92,8,"2750",".","2290","2260","1950","3140","1640","2980","1170",".","1330","840","990","1230","1070","1190",".","30","20","10","10","0",50,160,180,72,74,26,400,".",".",32.3,24.3,".",25.1,26.4,1.4,3.2,{"v":5,"d":"5.0"},5.4,270.1,"0","10","10","120",10,8.7,20,39,"95","10","10","15","0","5","15","20","20","315","220","95",1.4,"55","25",0.7,3.3,2.4,0.7,1.8,586,575,11,9798,1,5,82,6.862745098039216,6.862745098039216,{"v":0,"d":"0.0"},11.76470588235294,26.47058823529412]
["BU00141503","00141503","Thesinge","Groningen","Buurt","BU00141503","Ten Boer e.o.",1,555,275,280,95,60,75,190,135,260,255,25,10,"520","10","20","520","5","10","5","10","0","0","5","7",230,50,95,85,2.4,55,229,335,100,0,97,3,85,15,10,6,0,94,6,"2860",".","3270","2250","2040","3010","2540","2920","1260",".","1050","1160","1000","1310","1140","1280",".","60","30","20","10","0",100,170,130,74,73,27,400,".",".",34.7,18.5,".",22.5,25.1,1.3,3.5,5.3,6.2,301.1,"0","20","0","110",15,10.9,15,23,"95","20","15","5","5","5","15","20","15","310","230","80",1.3,"31","40",3.1,5.3,0.6,0.6,1.8,1013,1008,5,9797,1,5,56,6.306306306306306,6.306306306306306,{"v":0,"d":"0.0"},17.117117117117118,24.324324324324326]
["BU00141504","00141504","Sint Annen","Groningen","Buurt","BU00141504","Ten Boer e.o.",1,185,95,85,30,25,35,60,40,80,90,10,5,"170","0","10","170","5","5","0","0","0","0","0","0",75,25,25,25,2.4,40,76,344,100,0,96,4,86,14,3,12,0,91,9,"2860",".",".",".",".","2920","3150","2810","1280",".",".",".",".","1290","1390","1260",".","10","20","10","10","0",".",".",".",".",".",".",200,".",".",46.5,16.1,".",".",".",".",".",".",".",".","0","10","0","40",".",".",10,43,"30","10","5","5","0","0","5","5","0","100","80","20",1.3,"22","20",3.4,3.3,3.9,3.1,0.6,461,460,1,9796,1,5,19,8.108108108108109,8.108108108108109,{"v":0,"d":"0.0"},16.216216216216218,21.62162162162162]
["BU00141505","00141505","Buitengebied Ten Boer-Noord","Groningen","Buurt","BU00141505","Ten Boer e.o.",1,80,45,35,10,15,15,30,15,35,40,5,0,"70","0","5","75","5","0","0","0","0","0","0","0",35,5,10,20,2.5,41,39,212,100,0,82,18,21,79,0,79,0,15,85,"2680",".","2190","2300",".",".","2240",".","880",".","670","760",".",".","720",".",".","0","0","0","0","0",".",".",".",".",".",".",100,".",".",".",".",".",".",".",".",".",".",".",".",".",".",".",".",".",".",".",".","5",".",".",".",".",".",".",".",".","35","30","10",".",".","5",1.2,1.1,2.3,0.9,{"v":3,"d":"3.0"},198,197,1,9791,1,5,414,6.25,12.5,{"v":0,"d":"0.0"},12.5,18.75]
["BU00141506","00141506","Bedrijventerrein Ten Boer","Groningen","Buurt","BU00141506","Ten Boer e.o.",1,45,25,20,10,0,15,15,5,25,20,0,0,"50","0","0","45","0","0","0","0","0","0","0","0",15,0,5,5,2.7,329,15,".",".",".",".",".",".",".",".",".",".",".",".","4370",".",".",".",".","4420",".","4420","1320",".",".",".",".","1310",".","1310",".","10","0","0","0","0",".",".",".",".",".",".",0,".",".",".",".",".",".",".",".",".",".",".",".",".",".",".",".",".",".",".",".","40","0","15","10","5","0","5","0","5","130","100","30",".",".","5",0.9,1.2,0.4,1.1,3.8,15,14,1,9791,1,5,364,0,-11.11111111111111,{"v":0,"d":"0.0"},22.22222222222222,11.11111111111111]
["WK001416","001416","Ten Post e.o.","Groningen","Wijk","WK001416","Ten Post e.o.",1,1330,690,640,195,180,275,445,240,635,555,95,50,"1235","30","70","1235","10","40","20","30","10","8","10","9",575,180,185,215,2.3,84,677,246,99,1,82,18,66,34,13,21,0,69,31,"2990",".","2110","2250","2480","3270","2420","3200","1100",".","440","530","920","1270","750","1220",".","110","70","60","30","10",290,540,230,74,79,21,1100,".",".",39.5,14.6,".",32.7,18.5,2.5,3.3,5.1,8.2,{"v":210,"d":"210.0"},"10","60","20","210",35,10.8,55,40,"185","40","30","30","10","10","30","20","15","805","605","205",1.4,"51","120",3.8,{"v":4,"d":"4.0"},1.6,0.8,1.3,1603,1591,12,".",".",5,82,7.142857142857142,7.142857142857142,{"v":0.7518796992481203,"d":"0.8"},14.661654135338345,18.045112781954884]
["BU00141600","00141600","Ten Post Dorp","Groningen","Buurt","BU00141600","Ten Post e.o.",1,570,285,285,95,75,135,170,90,285,215,45,20,"525","15","30","525","0","20","5","15","0","7","0","5",250,85,70,95,2.3,893,270,240,99,1,87,13,72,28,20,7,0,74,26,"3080",".","2440","2510","2890","3290","2770","3210","1050",".","340","400","850","1310","490","1280",".","50","30","30","20","10",140,210,100,78,82,18,500,".",".",40.9,14.2,".",34.8,15.6,1.2,1.2,2.8,6.9,168.9,"10","10","10","80",20,13.8,20,37,"70","5","15","10","5","5","15","10","10","310","230","80",1.2,"486","30",3.8,{"v":4,"d":"4.0"},0.4,0.4,{"v":1,"d":"1.0"},66,64,2,9792,1,5,118,7.894736842105263,7.894736842105263,{"v":1.7543859649122806,"d":"1.8"},16.666666666666664,15.789473684210526]
["BU00141601","00141601","Lellens","Groningen","Buurt","BU00141601","Ten Post e.o.",1,70,40,35,5,10,10,30,15,30,35,5,0,"70","5","0","70","0","0","0","0","0","0","0","0",30,5,15,10,2.4,23,44,274,100,0,66,34,64,36,0,36,0,68,32,"3130",".",".",".",".","3130","3120","3140","1480",".",".",".",".","1480","2340","1330",".","0","10","0","0","0",".",".",".",".",".",".",100,".",".",".",".",".",".",".",".",".",".",".",".","0","0","0","20",".",".",".",".","10",".",".",".",".",".",".",".",".","45","35","10",".",".","5",4.2,{"v":4,"d":"4.0"},2.1,2.1,1.2,305,305,0,9794,1,5,39,0,0,{"v":0,"d":"0.0"},7.142857142857142,21.428571428571427]
["BU00141602","00141602","Woltersum","Groningen","Buurt","BU00141602","Ten Post e.o.",1,350,180,165,50,50,65,130,55,170,135,25,10,"310","5","35","310","0","15","5","15","5","6","5","9",155,50,45,60,2.3,126,157,265,100,0,94,6,78,22,19,3,0,86,14,"2650",".",".","1490","2120","2960","1850","2890","1150",".",".","530","1000","1270","980","1200",".","30","20","10","10","0",70,140,60,73,79,21,300,".",".",38.9,15.4,".",36.4,18.2,2.7,{"v":6,"d":"6.0"},9.3,13.3,203.4,"10","20","10","50",".",".",20,51,"35","5","10","5","0","0","5","5","5","220","170","50",1.4,"80","45",{"v":3,"d":"3.0"},3.2,3.6,0.5,1.4,276,274,1,9795,1,5,55,11.428571428571429,11.428571428571429,{"v":0,"d":"0.0"},14.285714285714285,15.714285714285714]
["BU00141603","00141603","Winneweer","Groningen","Buurt","BU00141603","Ten Post e.o.",1,105,55,45,15,5,25,30,25,45,50,5,5,"100","5","0","95","0","0","0","0","0","10","0","0",45,10,20,15,2.2,138,54,244,100,0,81,19,87,13,0,13,0,87,13,"3570",".",".",".",".","3690",".","3610","910",".",".",".",".","930",".","900",".","10","0","0","0","0",".",".",".",".",".",".",100,".",".",".",".",".",".",".",".",".",".",".",".","0","10","0","20",".",".",".",".","20",".",".",".",".",".",".",".",".","65","45","20",".",".","15",4.9,4.9,2.3,2.3,{"v":1,"d":"1.0"},77,75,3,9793,1,5,43,9.523809523809524,4.761904761904762,{"v":0,"d":"0.0"},14.285714285714285,23.809523809523807]
["BU00141604","00141604","Wittewierum","Groningen","Buurt","BU00141604","Ten Post e.o.",1,65,35,30,5,10,10,25,15,25,30,0,10,"60","0","5","60","0","0","0","0","5","30","5","61",30,10,10,15,2.2,91,32,332,100,0,94,6,91,9,0,9,0,97,3,"3570",".",".",".",".","3570",".","3600","1350",".",".",".",".","1350",".","1320",".","0","0","0","0","0",".",".",".",".",".",".",100,".",".",".",".",".",".",".",".",".",".",".",".","0","0","0","10",".",".",".",".","20",".",".",".",".",".",".",".",".","60","45","15",".",".","10",5.2,5.5,1.7,1.7,1.6,72,72,0,9792,1,5,18,7.6923076923076925,7.6923076923076925,{"v":0,"d":"0.0"},7.6923076923076925,23.076923076923077]
["BU00141605","00141605","Buitengebied Ten Post","Groningen","Buurt","BU00141605","Ten Post e.o.",1,170,95,80,30,25,30,55,35,70,85,15,5,"160","10","5","165","5","0","5","5","5","12","0","12",70,20,25,25,2.5,22,120,200,99,1,57,43,22,78,0,78,0,21,79,"2670",".","1890","2180","2310","3530","2150","3370","950",".","630","730","820","1270","710","1270",".","20","10","10","0","0",30,80,20,".",".",".",100,".",".",38.5,11.9,".",".",".",".",".",".",".",".","0","10","0","30",".",".",".",".","20",".",".",".",".",".",".",".",".","105","80","25",1.6,"13","10",3.9,4.1,1.2,1.2,1.8,807,801,6,9792,1,5,92,2.941176470588235,5.88235294117647,{"v":0,"d":"0.0"},17.647058823529413,20.588235294117645]
["WK001417","001417","Haren-West e.o.","Groningen","Wijk","WK001417","Haren-West e.o.",1,13380,6340,7040,2485,1170,2680,3220,3820,6340,4945,1030,1060,"11120","1010","1255","11115","400","585","610","660","95","7","270","20",6050,2470,1660,1920,2.1,950,6075,472,67,33,95,5,69,31,11,20,0,83,17,"2540","1660","2250","2370","2960","3990","1630","2940","1120","680","1010","1070","1350","1790","690","1320",".","1470","950","140","200","170",1030,2060,5440,72,77,23,10100,52.5,41.2,32.1,32.5,50.6,33.5,31.5,4.1,5.3,7.5,8.9,342.6,"130","310","100","3570",375,10.8,960,72,"1855","15","105","210","100","230","515","460","225","6290","4645","1645",1,"447","395",0.9,{"v":1,"d":"1.0"},0.7,{"v":1,"d":"1.0"},6.1,1744,1409,336,".",".",3,1015,16.928251121076233,16.89088191330344,{"v":1.2705530642750373,"d":"1.3"},18.572496263079223,28.550074738415542]
["BU00141700","00141700","Haren-Centrum","Groningen","Buurt","BU00141700","Haren-West e.o.",1,1160,540,620,125,110,270,250,400,530,400,120,115,"930","95","140","925","40","55","55","85","15","11","15","14",655,355,195,110,1.7,4028,682,355,36,64,93,7,61,39,13,27,0,94,6,"2070","1720","1990","2640","2500","3750","1660","2340","1040","810","1010","1210","1410","1970","770","1210",".","60","60","20","30","30",160,270,370,68,80,20,1000,".",".",36.6,{"v":23,"d":"23.0"},".",46.2,17.2,2.8,4.9,7.6,{"v":10,"d":"10.0"},204.8,"20","60","10","390",25,11.1,115,97,"270","0","15","100","15","30","30","50","30","580","450","125",0.9,"2009","30",0.6,0.2,0.3,0.6,{"v":6,"d":"6.0"},29,29,0,9752,4,3,1349,20.25862068965517,19.82758620689655,{"v":2.586206896551724,"d":"2.6"},10.775862068965516,34.48275862068966]
["BU00141701","00141701","Haren-Zuidwest","Groningen","Buurt","BU00141701","Haren-West e.o.",1,3935,1795,2145,635,315,655,945,1385,1670,1530,330,410,"3110","420","405","3110","130","170","290","235","15","4","105","26",1920,855,540,520,{"v":2,"d":"2.0"},2803,1911,447,62,38,96,4,65,35,7,28,0,95,5,"2490","1660","2320","2490","3100","3920","1660","2930","1190","680","1160","1270","1490","2000","710","1440",".","370","280","40","40","30",270,480,1620,68,78,22,3100,50.1,40.5,33.5,29.6,".",37.3,27.1,6.3,7.4,9.7,11.2,319.6,"30","60","30","1300",100,10.7,320,82,"470","0","25","30","25","75","155","120","45","1905","1430","475",1,"1356","90",0.7,0.8,0.7,0.9,{"v":6,"d":"6.0"},141,140,1,9752,1,4,982,20.96569250317662,20.96569250317662,{"v":0.7623888182973316,"d":"0.8"},16.13722998729352,35.19695044472681]
["BU00141702","00141702","Haren-Zuidoost","Groningen","Buurt","BU00141702","Haren-West e.o.",1,3610,1745,1865,630,350,705,1000,920,1705,1375,345,180,"3080","225","310","3080","110","150","110","160","25","6","25","7",1710,705,470,540,2.1,2107,1750,437,80,20,96,4,73,27,12,15,0,96,4,"2370","1670","1890","2080","2590","3470","1540","2680","1150","730","910","990","1310","1720","740","1310",".","360","250","40","60","50",300,770,1420,72,79,21,2900,50.6,40.7,31.9,30.4,".",32.2,28.2,1.5,3.5,6.1,7.3,307.6,"50","100","30","840",100,10.9,175,48,"440","0","35","30","15","45","130","130","55","1770","1315","450",1,"1033","135",0.7,0.8,0.6,0.7,6.1,172,171,1,9751,1,3,1286,14.681440443213297,14.681440443213297,{"v":1.3850415512465373,"d":"1.4"},17.451523545706372,25.48476454293629]
["BU00141703","00141703","Haren-Noord","Groningen","Buurt","BU00141703","Haren-West e.o.",1,3910,1885,2020,985,305,960,775,885,2085,1320,185,315,"3335","235","340","3335","110","180","130","160","40","10","125","32",1440,480,320,635,2.5,1962,1428,542,68,32,94,6,70,30,15,15,0,47,53,"2780","1530","2610","2810","3350","4620","1590","3280","970","500","850","910","1280","1530","490","1170",".","620","300","30","60","40",240,450,1620,79,77,23,2600,59.2,{"v":42,"d":"42.0"},28.9,{"v":41,"d":"41.0"},".",28.2,44.6,4.8,4.7,6.9,7.7,418.4,"30","80","20","840",140,11.2,335,86,"515","5","20","30","35","60","155","125","80","1575","1135","440",1.1,"791","105",1.1,1.3,0.7,1.2,6.8,199,199,0,9751,2,4,821,14.705882352941178,14.705882352941178,{"v":1.0230179028132993,"d":"1.0"},25.191815856777495,22.634271099744247]
["BU00141704","00141704","Essen","Groningen","Buurt","BU00141704","Haren-West e.o.",1,95,50,45,15,10,10,35,25,45,35,0,0,"80","5","5","85","0","5","5","5","0","0","0","0",40,10,15,10,2.4,109,37,797,100,0,97,3,89,11,0,11,0,89,11,"3870",".",".",".","3360","4230",".","4020","1700",".",".",".","1040","2140",".","1640",".","10","10","0","0","0",".",".",".",".",".",".",100,".",".",".",".",".",".",".",".",".",".",".",".","0","0","0","30",".",".",".",".","20",".",".",".",".",".",".",".",".","40","25","15",".",".","0",1.8,1.6,1.2,{"v":2,"d":"2.0"},7.7,86,86,0,9751,1,4,551,10.526315789473683,15.789473684210526,{"v":0,"d":"0.0"},15.789473684210526,26.31578947368421]
["BU00141705","00141705","Buitengebied Haren-Noordwest","Groningen","Buurt","BU00141705","Haren-West e.o.",1,15,5,5,5,0,5,5,5,5,10,0,0,"15","0","0","10","0","0","0","0","0","0","0","0",5,0,5,5,2.6,13,5,".",".",".",".",".",".",".",".",".",".",".",".",".",".",".",".",".",".",".",".",".",".",".",".",".",".",".",".",".","0","0","0","0","0",".",".",".",".",".",".",0,".",".",".",".",".",".",".",".",".",".",".",".",".",".",".",".",".",".",".",".","0",".",".",".",".",".",".",".",".","0","0","0",".",".","0",1.6,1.3,0.4,1.6,7.7,101,98,3,9752,1,4,516,33.33333333333333,0,{"v":0,"d":"0.0"},33.33333333333333,33.33333333333333]
["BU00141706","00141706","Nesciopark","Groningen","Buurt","BU00141706","Haren-West e.o.",1,35,20,15,10,5,10,10,0,25,15,0,0,"35","0","5","35","0","0","0","0","0","0","0","0",5,0,0,10,4.5,785,6,".",".",".",".",".",".",".",".",".",".",".",".","8310",".",".",".",".","8310",".","8310",".",".",".",".",".",".",".",".",".","0","10","0","0","0",".",".",".",".",".",".",0,".",".",".",".",".",".",".",".",".",".",".",".",".",".",".",".",".",".",".",".","10",".",".",".",".",".",".",".",".","10","10","0",".",".","0",1.6,1.2,1.5,1.7,{"v":4,"d":"4.0"},5,5,0,9752,1,4,956,0,0,{"v":0,"d":"0.0"},28.57142857142857,0]
["BU00141707","00141707","Paterswoldsemeer","Groningen","Buurt","BU00141707","Haren-West e.o.",1,235,120,115,20,25,30,75,90,90,105,20,15,"215","5","15","215","5","10","5","5","0","8","0","0",110,25,55,30,2.2,124,106,672,75,25,84,16,85,15,0,15,0,76,24,"3760","2460",".",".","4120","4200","3450","3800","1160","780",".",".","1020","1360","1220","1150",".","10","10","10","0","0",".",".",".",68,".",".",200,".",".",36.5,31.8,".",16.4,37.3,4.7,5.6,5.6,6.5,554.1,"0","10","0","90",".",".",".",".","45","0","5","10","0","5","10","10","5","175","115","60",1.6,"93","15",1.8,{"v":2,"d":"2.0"},1.6,1.8,2.7,466,191,275,9752,1,5,189,8.51063829787234,8.51063829787234,{"v":0,"d":"0.0"},8.51063829787234,38.297872340425535]
["BU00141708","00141708","Buitengebied Haren-Zuidoost","Groningen","Buurt","BU00141708","Haren-West e.o.",1,380,185,195,60,45,50,130,100,180,155,30,20,"325","25","35","325","10","20","15","15","5","8","0","0",160,35,60,65,2.4,294,145,813,97,3,99,1,93,7,0,7,0,96,4,"3710",".","3130","2460","2730","4560","2580","3790","1780",".","1780","1470","1330","2080","1530","1790",".","20","30","0","10","10",".",".",".",71,63,37,300,".",".",28.1,42.7,".",11.5,51.6,3.8,3.8,3.8,4.5,674.3,"0","10","0","90",".",".",".",".","75","5","5","10","0","10","20","15","5","210","145","70",1.3,"163","15",2.2,2.9,1.5,1.5,2.9,130,130,0,9751,5,5,145,14.473684210526317,14.473684210526317,{"v":2.631578947368421,"d":"2.6"},15.789473684210526,26.31578947368421]
["BU00141709","00141709","Wolddeelen","Groningen","Buurt","BU00141709","Haren-West e.o.",1,0,0,0,0,0,0,0,0,0,0,0,0,"0","0","0","0","0","0","0","0","0","0","0","0",0,0,0,0,".",".",5,".",".",".",".",".",".",".",".",".",".",".",".","4290",".",".",".",".","4290",".","4850","1640",".",".",".",".","1640",".","1760",".","0","0","0","0","0",".",".",".",".",".",".",0,".",".",".",".",".",".",".",".",".",".",".",".",".",".",".",".",".",".",".",".","0",".",".",".",".",".",".",".",".","25","20","5",".",".","0",".",".",".",".",".",176,136,41,9752,1,5,367,"Geen inwoners","Geen inwoners","Geen inwoners","Geen inwoners","Geen inwoners"]
["BU00141710","00141710","Buitengebied Haren-Zuidwest","Groningen","Buurt","BU00141710","Haren-West e.o.",1,0,0,0,0,0,0,0,0,0,0,0,0,"0","0","0","0","0","0","0","0","0","0","0","0",0,0,0,0,".",".",0,".",".",".",".",".",".",".",".",".",".",".",".",".",".",".",".",".",".",".",".",".",".",".",".",".",".",".",".",".","0","0","0","0","0",".",".",".",".",".",".",0,".",".",".",".",".",".",".",".",".",".",".",".",".",".",".",".",".",".",".",".","0",".",".",".",".",".",".",".",".","0","0","0",".",".","0",".",".",".",".",".",239,224,15,9752,1,5,139,"Geen inwoners","Geen inwoners","Geen inwoners","Geen inwoners","Geen inwoners"]
["WK001418","001418","Haren-Oost e.o.","Groningen","Wijk","WK001418","Haren-Oost e.o.",1,5070,2450,2620,845,540,1050,1525,1110,2375,2090,405,200,"4275","260","530","4275","115","230","145","300","45","8","35","6",2230,720,705,810,2.2,1118,2198,359,87,13,99,1,71,29,21,8,0,87,13,"2190","1380","2050","2210","2490","3330","1700","2380","970","490","930","1040","1110","1370","750","1050",".","450","360","110","110","50",650,1290,1750,71,86,14,4100,39.4,{"v":32,"d":"32.0"},37.3,21.3,".",31.5,22.4,2.1,4.1,{"v":7,"d":"7.0"},9.3,237.5,"80","250","30","1020",190,14.4,305,60,"480","0","55","50","30","25","130","130","60","2305","1830","480",1,"509","145",0.6,0.7,0.5,0.4,{"v":6,"d":"6.0"},461,453,8,".",".",4,977,15.680473372781064,15.680473372781064,{"v":0.9861932938856016,"d":"1.0"},16.666666666666664,21.893491124260358]
["BU00141800","00141800","Oosterhaar","Groningen","Buurt","BU00141800","Haren-Oost e.o.",1,4265,2070,2200,725,445,875,1270,945,2010,1760,330,165,"3610","205","450","3610","95","200","110","250","30","7","25","6",1870,620,580,675,2.2,3870,1837,365,84,16,99,1,72,28,20,8,0,88,12,"2190","1380","2070","2230","2510","3280","1610","2410","960","490","930","1050","1120","1360","710","1060",".","390","300","80","90","50",520,1060,1490,70,86,14,3400,40.1,32.4,{"v":37,"d":"37.0"},22.4,".",31.2,23.2,2.3,4.3,7.3,9.6,252.5,"70","220","30","860",155,{"v":14,"d":"14.0"},255,60,"360","0","30","30","15","20","115","105","45","1895","1490","410",1,"1722","105",0.5,0.7,0.5,0.4,{"v":6,"d":"6.0"},111,110,0,9753,1,4,987,15.357561547479484,15.357561547479484,{"v":1.1723329425556859,"d":"1.2"},16.998827667057444,22.157092614302464]
["BU00141801","00141801","Tuindorp","Groningen","Buurt","BU00141801","Haren-Oost e.o.",1,775,365,410,115,80,170,240,165,355,320,75,30,"640","50","80","645","20","35","30","45","15","19","10","8",345,100,115,130,2.2,4451,349,319,100,0,99,1,69,31,25,6,0,81,19,"2150",".","1980","2140","2430",".","2040","2210","990",".","910","1000","1090",".","910","1030",".","50","50","20","20","10",120,210,260,71,87,13,600,".",".",{"v":39,"d":"39.0"},15.4,".",33.5,17.6,1.5,2.9,5.5,8.2,187.2,"10","30","10","150",30,16.7,45,61,"70","0","10","5","5","0","10","25","10","360","300","60",1,"2070","30",0.7,0.6,0.4,0.6,{"v":6,"d":"6.0"},17,17,0,9753,1,4,982,16.7741935483871,17.419354838709676,{"v":1.2903225806451613,"d":"1.3"},14.838709677419354,21.29032258064516]
["BU00141802","00141802","Felland","Groningen","Buurt","BU00141802","Haren-Oost e.o.",1,30,15,15,0,5,5,15,5,15,10,0,0,"25","0","0","25","0","0","0","0","0","0","0","0",10,5,5,5,2.5,111,11,".",".",".",".",".",".",".",".",".",".",".",".","3890",".",".",".",".","4190",".","3860","1330",".",".",".",".","1450",".","1210",".","0","0","0","0","0",".",".",".",".",".",".",0,".",".",".",".",".",".",".",".",".",".",".",".",".",".",".",".",".",".",".",".","50","0","15","15","5","0","5","5","5","50","40","10",".",".","5",1.3,1.1,0.9,1.2,{"v":6,"d":"6.0"},25,25,0,9753,1,4,631,16.666666666666664,16.666666666666664,{"v":0,"d":"0.0"},0,16.666666666666664]
["BU00141803","00141803","Buitengebied Haren-Noordoost","Groningen","Buurt","BU00141803","Haren-Oost e.o.",1,0,5,0,0,0,0,0,5,0,0,0,0,"5","0","0","0","0","0","0","0","0","0","0","0",5,0,0,0,{"v":2,"d":"2.0"},".",1,".",".",".",".",".",".",".",".",".",".",".",".",".",".",".",".",".",".",".",".",".",".",".",".",".",".",".",".",".","0","0","0","0","0",".",".",".",".",".",".",0,".",".",".",".",".",".",".",".",".",".",".",".",".",".",".",".",".",".",".",".","0",".",".",".",".",".",".",".",".","0","0","0",".",".","0",".",".",".",".",".",308,300,7,9751,6,5,297,"Geen inwoners","Geen inwoners","Geen inwoners","Geen inwoners","Geen inwoners"]
["WK001419","001419","Glimmen-Onnen-Noordlaren","Groningen","Wijk","WK001419","Glimmen-Onnen-Noordlaren",1,2670,1300,1375,405,260,370,910,725,1125,1225,200,125,"2295","205","175","2290","55","85","150","95","10","4","25","8",1170,315,460,390,2.3,100,1116,561,95,5,96,4,83,17,10,7,0,91,9,"3220","2430","2020","2110","2660","3860","2110","3450","1450","1310","910","1030","1180","1710","1110","1510",".","220","190","50","40","20",320,610,990,69,71,29,2200,".",40.5,35.3,30.9,".",25.9,{"v":34,"d":"34.0"},5.6,5.8,7.7,8.8,466.3,"20","70","20","650",65,9.8,85,32,"460","25","40","45","20","60","130","105","35","1630","1115","515",1.4,"61","115",3.4,3.7,1.1,1.6,1.5,2868,2665,203,".",".",5,129,14.232209737827715,14.04494382022472,{"v":0.7490636704119851,"d":"0.7"},15.168539325842698,27.153558052434455]
["BU00141900","00141900","Glimmen Dorp","Groningen","Buurt","BU00141900","Glimmen-Onnen-Noordlaren",1,1095,535,560,195,115,155,365,275,480,475,85,55,"925","75","95","925","30","45","45","50","5","5","10","8",470,125,170,170,2.3,1312,463,537,98,2,98,2,80,20,15,5,0,90,10,"3030","2960","2030","2130","2720","3700","1900","3300","1430","1280","900","1000","1160","1820","980","1530",".","100","90","30","20","10",150,240,370,70,75,25,900,".",".",34.6,31.3,".",22.6,32.8,3.3,3.9,6.1,7.7,452.1,"10","30","10","250",30,10.3,30,28,"160","5","15","15","10","25","50","30","15","665","450","215",1.4,"798","40",3.5,4.2,0.5,0.5,{"v":1,"d":"1.0"},83,83,0,9756,1,5,176,15.52511415525114,15.52511415525114,{"v":0.91324200913242,"d":"0.9"},17.80821917808219,25.11415525114155]
["BU00141901","00141901","Onnen Dorp","Groningen","Buurt","BU00141901","Glimmen-Onnen-Noordlaren",1,435,210,225,65,50,65,165,90,180,215,30,20,"405","10","15","405","5","10","10","5","0","2","5","7",175,40,70,65,2.5,1121,180,470,89,11,96,4,77,23,21,2,0,86,14,"3050","2360","1920","1910","2380","4140","2070","3350","1260","970","960","1000","1120","1550","1020","1340",".","30","40","10","10","0",60,120,160,74,75,25,400,".",".",33.5,30.7,".",24.3,43.5,1.7,{"v":4,"d":"4.0"},{"v":4,"d":"4.0"},{"v":4,"d":"4.0"},374.6,"10","20","0","80",15,{"v":12,"d":"12.0"},15,30,"65","0","5","5","5","10","20","15","5","260","195","65",1.5,"670","20",2.5,2.4,2.1,2.4,3.4,39,39,0,9755,1,5,89,6.896551724137931,6.896551724137931,{"v":0,"d":"0.0"},14.942528735632186,20.689655172413794]
["BU00141902","00141902","Noordlaren Dorp","Groningen","Buurt","BU00141902","Glimmen-Onnen-Noordlaren",1,365,185,180,55,25,50,130,110,145,170,35,15,"330","20","20","325","10","10","10","10","5","5","0","8",170,45,75,50,2.2,761,167,509,96,4,98,2,90,9,5,4,1,96,4,"2920","4590","1930","2270","2480","3230","1600","3050","1320","1270","840","1210","1080","1540","1100","1340",".","30","20","0","0","0",30,100,140,74,68,32,300,".",".",31.3,29.3,".",23.7,29.6,{"v":3,"d":"3.0"},{"v":3,"d":"3.0"},5.4,7.2,426.3,"0","10","0","100",".",".",10,27,"70","5","5","5","5","10","20","15","5","245","155","90",1.4,"507","15",3.4,3.2,0.4,3.1,0.3,48,48,0,9479,1,5,90,10.95890410958904,9.58904109589041,{"v":0,"d":"0.0"},15.068493150684931,30.136986301369863]
["BU00141903","00141903","Buitengebied Glimmen","Groningen","Buurt","BU00141903","Glimmen-Onnen-Noordlaren",1,275,125,150,20,30,25,100,95,105,120,35,20,"235","20","15","235","10","10","15","5","0","7","5","7",130,40,55,35,{"v":2,"d":"2.0"},73,121,767,87,13,94,6,84,16,0,16,0,94,6,"3570","1360",".",".","2990","4180","1840","3940","1830","1730",".",".","1610","1930","1770","1840",".","10","10","0","10","0",".",".",".",64,".",".",200,".",".",37.1,33.6,".",29.7,33.6,5.5,6.3,6.3,7.1,705.2,"0","10","0","90",".",".",15,51,"60","0","5","5","0","10","15","10","5","170","120","50",1.3,"46","10",3.9,4.5,1.3,1.3,1.3,388,375,13,9756,1,5,95,14.545454545454545,14.545454545454545,{"v":0,"d":"0.0"},7.2727272727272725,34.54545454545455]
["BU00141904","00141904","Buitengebied Onnen","Groningen","Buurt","BU00141904","Glimmen-Onnen-Noordlaren",1,330,150,180,60,40,55,100,70,150,160,5,10,"245","70","20","245","5","5","65","15","0","3","5","9",130,30,45,60,2.5,27,101,647,100,0,97,3,90,10,0,10,0,91,9,"4310",".",".",".","3040","4660","3750","4360","1500",".",".",".","1280","1560","1260","1520",".","40","30","10","0","0",".",".",".",64,67,33,200,".",".",41.6,29.2,".",30.8,36.2,{"v":18,"d":"18.0"},15.6,{"v":18,"d":"18.0"},18.8,565.7,"0","0","10","70",10,8.5,".",".","55","10","5","0","0","10","10","15","5","165","110","55",1.3,"14","15",{"v":3,"d":"3.0"},2.8,2.1,2.3,2.3,1262,1231,31,9755,1,5,164,25.757575757575758,25.757575757575758,{"v":0,"d":"0.0"},18.181818181818183,21.21212121212121]
["BU00141905","00141905","Buitengebied Noordlaren","Groningen","Buurt","BU00141905","Glimmen-Onnen-Noordlaren",1,170,85,80,10,15,20,55,75,65,85,10,10,"150","10","5","150","5","5","5","5","0","0","0","6",90,30,45,10,1.9,27,80,632,89,11,90,10,85,15,0,15,0,93,8,"3310","2290",".",".",".","3480","2700","3420","1680","1320",".",".",".","1730","1250","1750",".","10","0","0","0","0",".",".",".",".",".",".",100,".",".",39.6,32.2,".",".",".",".",".",".",".",".","0","10","0","70",".",".",10,65,"45","5","5","5","0","5","10","10","5","120","85","35",1.4,"19","10",4.8,4.6,1.5,2.8,0.7,644,630,14,9479,1,5,34,11.76470588235294,11.76470588235294,{"v":0,"d":"0.0"},5.88235294117647,44.11764705882353]
["BU00141906","00141906","Zuidlaardermeer","Groningen","Buurt","BU00141906","Glimmen-Onnen-Noordlaren",1,5,0,0,0,0,0,5,0,0,0,5,0,"5","0","0","5","0","0","0","0","0","0","0","0",5,0,0,0,1.3,".",3,".",".",".",".",".",".",".",".",".",".",".",".",".",".",".",".",".",".",".",".",".",".",".",".",".",".",".",".",".","0","0","0","0","0",".",".",".",".",".",".",0,".",".",".",".",".",".",".",".",".",".",".",".",".",".",".",".",".",".",".",".","0",".",".",".",".",".",".",".",".","0","0","0",".",".","0",".",".",".",".",".",259,115,144,9479,1,5,32,0,0,{"v":0,"d":"0.0"},0,0]
["BU00141907","00141907","Noordlaarderbos","Groningen","Buurt","BU00141907","Glimmen-Onnen-Noordlaren",1,5,0,0,0,0,0,0,5,0,0,0,0,"5","0","5","5","0","0","0","0","0","0","0","0",5,0,5,0,{"v":2,"d":"2.0"},".",1,".",".",".",".",".",".",".",".",".",".",".",".",".",".",".",".",".",".",".",".",".",".",".",".",".",".",".",".",".","0","0","0","0","0",".",".",".",".",".",".",0,".",".",".",".",".",".",".",".",".",".",".",".",".",".",".",".",".",".",".",".","0",".",".",".",".",".",".",".",".","0","0","0",".",".","0",".",".",".",".",".",100,100,0,9479,1,5,22,0,0,{"v":0,"d":"0.0"},0,100]
["BU00141908","00141908","Appelbergen Glimmen","Groningen","Buurt","BU00141908","Glimmen-Onnen-Noordlaren",1,0,0,0,0,0,0,0,0,0,0,0,0,"0","0","0","0","0","0","0","0","0","0","0","0",0,0,0,0,".",".",0,".",".",".",".",".",".",".",".",".",".",".",".",".",".",".",".",".",".",".",".",".",".",".",".",".",".",".",".",".","0","0","0","0","0",".",".",".",".",".",".",0,".",".",".",".",".",".",".",".",".",".",".",".",".",".",".",".",".",".",".",".","0",".",".",".",".",".",".",".",".","0","0","0",".",".","0",".",".",".",".",".",33,33,0,9756,1,5,123,"Geen inwoners","Geen inwoners","Geen inwoners","Geen inwoners","Geen inwoners"]
["BU00141909","00141909","Appelbergen Onnen","Groningen","Buurt","BU00141909","Glimmen-Onnen-Noordlaren",1,0,0,0,0,0,0,0,0,0,0,0,0,"0","0","0","0","0","0","0","0","0","0","0","0",0,0,0,0,".",".",0,".",".",".",".",".",".",".",".",".",".",".",".",".",".",".",".",".",".",".",".",".",".",".",".",".",".",".",".",".","0","0","0","0","0",".",".",".",".",".",".",0,".",".",".",".",".",".",".",".",".",".",".",".",".",".",".",".",".",".",".",".","0",".",".",".",".",".",".",".",".","0","0","0",".",".","0",".",".",".",".",".",12,12,0,".",".",".",".","Geen inwoners","Geen inwoners","Geen inwoners","Geen inwoners","Geen inwoners"]
["GM0034","0034","Almere","Almere","Gemeente","GM0034","ook geen buurt",1,222825,110589,112236,40799,27444,64762,60401,29419,117806,79837,19141,6041,"115876","18877","88072","115876","7396","41862","11481","46210","2543","11","1241","6",94739,31161,23523,40055,2.3,1725,90690,363,71,29,97,3,63,37,27,10,0,62,38,"2660","1850","2750","2910","3560","4480","2100","2980","310","200","320","360","490","550","270","330","52,5","21980","13370","7270","5680","2160",46120,75570,52310,72,85,15,172400,40.8,32.2,36.3,22.1,38.4,33.2,22.9,3.6,6.3,9.1,{"v":11,"d":"11.0"},{"v":149,"d":"149.0"},"5260","9900","2210","25830",7160,11.4,9375,42,"29045","95","3765","4865","3265","1495","6895","5705","2960","257730","155035","102695",".",".","7250",1.1,0.8,0.5,0.7,11.9,24877,12918,11959,".",".",2,1629,47.99685852126108,47.99685852126108,{"v":0.9693705822955234,"d":"1.0"},18.309884438460674,13.202737574329632]
["WK003401","003401","Centrum Almere Haven","Almere","Wijk","WK003401","Centrum Almere Haven",1,1740,820,915,190,160,480,325,590,820,495,250,175,"1030","135","575","1030","65","230","75","345","20","12","60","34",945,505,255,185,1.7,3498,1041,282,3,97,90,10,26,74,58,15,0,83,17,"2010","2000","2560","1770",".",".","1940","2210","610","610","890","670",".",".","580","700","3,4","90","40","50","30","0",410,470,340,61,81,19,1400,".",".",40.6,12.8,".",53.1,6.2,4.6,11.4,15.1,18.4,8.6,"100","90","20","530",35,11.9,195,111,"305","0","30","95","20","10","40","60","45","695","580","115",0.7,"1399","25",0.4,0.3,0.9,0.9,{"v":7,"d":"7.0"},50,50,0,".",".",2,1744,40.804597701149426,40.804597701149426,{"v":0,"d":"0.0"},10.919540229885058,33.90804597701149]
["BU00340101","00340101","Centrum Haven Noord","Almere","Buurt","BU00340101","Centrum Almere Haven",1,770,375,390,145,115,310,130,65,540,120,90,15,"310","75","380","310","35","155","40","230","15","17","5","6",380,205,65,115,1.9,8158,348,232,3,97,95,5,3,97,73,24,0,89,11,"2540","2490","4060",".",".",".","2530","2880","600","580","1200",".",".",".","590","1010","9,9","70","40","30","20","0",".",".",".",68,85,15,500,".",".",{"v":44,"d":"44.0"},7.9,".",62.8,3.7,{"v":7,"d":"7.0"},15.3,20.1,23.1,1.1,"80","50","20","60",25,11.7,55,69,"170","0","15","45","15","5","20","40","35","250","210","40",0.7,"2638","10",0.3,0.1,0.7,0.7,{"v":7,"d":"7.0"},10,9,0,1354,2,2,2050,59.74025974025974,59.74025974025974,{"v":0,"d":"0.0"},18.83116883116883,8.441558441558442]
["BU00340102","00340102","Centrum Haven Zuid","Almere","Buurt","BU00340102","Centrum Almere Haven",1,970,445,520,40,40,170,195,520,280,375,160,155,"715","60","195","715","30","70","30","120","5","8","55","56",565,305,190,70,1.6,2407,693,311,3,97,88,12,38,62,51,11,0,81,19,"1740","1750","1320","1540",".",".","1480","2180","620","620","620","780",".",".","580","690",".","20","10","10","10","0",240,270,120,55,76,24,800,".",".",38.4,16.1,".",46.7,7.8,3.1,8.9,11.9,15.4,65.9,"30","50","0","470",10,12.5,140,145,"135","0","15","50","10","5","20","20","10","445","370","75",0.8,"1109","15",0.4,0.4,1.1,{"v":1,"d":"1.0"},{"v":7,"d":"7.0"},41,40,0,1353,5,2,1559,26.288659793814436,26.288659793814436,{"v":0,"d":"0.0"},4.123711340206185,53.608247422680414]
["WK003402","003402","De Werven","Almere","Wijk","WK003402","De Werven",1,2860,1365,1500,495,305,815,680,570,1510,855,375,120,"1750","205","910","1745","110","435","95","480","35","12","15","6",1380,575,320,485,2.1,5804,1347,279,65,35,97,3,48,52,48,4,0,93,7,"2230","1790","2440","2520","3010",".","1980","2500","860","690","920","1090","1200",".","890","830",".","260","150","90","60","10",820,900,440,65,85,15,2300,".",26.2,44.5,10.5,".",46.5,10.1,{"v":4,"d":"4.0"},9.8,16.3,19.4,{"v":34,"d":"34.0"},"140","190","30","510",70,9.6,220,77,"260","0","50","30","20","10","60","55","30","1105","945","165",0.8,"2244","100",0.9,0.7,0.5,0.7,6.8,52,49,3,".",".",2,1968,38.98601398601399,38.81118881118881,{"v":0.34965034965034963,"d":"0.3"},17.307692307692307,19.93006993006993]
["BU00340201","00340201","Rozenwerf en Tuinderswerf","Almere","Buurt","BU00340201","De Werven",1,575,265,315,100,65,175,125,115,305,170,75,30,"385","45","155","385","30","70","10","85","5","12","5","7",285,120,70,90,{"v":2,"d":"2.0"},4708,284,301,71,29,97,3,58,42,39,2,0,74,26,"2280","1700","2540","2450",".",".","2060","2430","880","540","980","1130",".",".","890","880",".","50","30","20","20","0",150,190,90,73,84,16,500,".",".",42.7,12.6,".",39.8,{"v":13,"d":"13.0"},1.4,7.6,10.9,13.4,110.2,"20","30","0","100",10,{"v":8,"d":"8.0"},40,68,"55","0","10","5","0","0","20","10","5","240","210","30",0.8,"1947","15",1.3,0.3,0.8,0.6,{"v":7,"d":"7.0"},12,12,0,1355,1,2,2059,33.04347826086956,33.04347826086956,{"v":0,"d":"0.0"},17.391304347826086,20]
["BU00340202","00340202","Achterwerf","Almere","Buurt","BU00340202","De Werven",1,690,350,340,110,60,205,155,160,340,245,75,25,"495","45","150","500","20","80","25","65","5","10","10","9",335,130,90,110,2.1,6015,323,290,51,49,97,3,91,9,0,9,0,96,4,"2390","1870","2830","3210","3010",".","1750","2450","770","640","850","1090","1200",".","660","780",".","70","30","20","10","0",130,240,150,72,84,16,600,".",".",29.2,18.5,".",30.6,15.2,2.8,1.9,3.7,4.6,174.8,"0","30","10","140",10,7.6,25,36,"80","0","10","10","5","5","20","15","15","350","290","60",1.1,"3051","35",1.1,0.9,0.5,0.7,6.8,12,11,0,1357,1,2,1781,27.536231884057973,28.26086956521739,{"v":0,"d":"0.0"},15.942028985507244,23.18840579710145]
["BU00340203","00340203","Goedewerf en Wittewerf","Almere","Buurt","BU00340203","De Werven",1,550,255,295,105,55,190,110,90,310,140,80,25,"300","40","215","300","25","105","15","105","10","18","5","4",270,120,50,100,{"v":2,"d":"2.0"},5828,268,264,56,44,98,2,34,66,63,3,0,100,0,"2100","1780","2380","2200",".",".","1860","2580","870","790","910","1000",".",".","900","790",".","50","30","20","10","0",".",".",".",62,87,13,400,".",".",47.6,8.5,".",52.8,6.3,3.4,8.8,20.2,{"v":24,"d":"24.0"},7.2,"40","40","10","80",15,11.5,55,96,"40","0","5","5","5","0","10","10","5","180","155","25",0.7,"1890","20",1.4,1.1,0.2,{"v":1,"d":"1.0"},{"v":6,"d":"6.0"},12,9,2,1357,1,2,1925,45.45454545454545,45.45454545454545,{"v":0,"d":"0.0"},19.090909090909093,16.363636363636363]
["BU00340204","00340204","Schoolwerf","Almere","Buurt","BU00340204","De Werven",1,500,245,260,95,65,115,135,90,270,140,75,25,"285","30","185","285","10","95","15","90","5","14","5","2",230,90,50,90,2.2,9403,222,262,62,38,97,3,23,77,76,1,0,94,6,"2180","1750","2400","2740",".",".","2060","2590","880","770","930","1140",".",".","880","890",".","60","30","20","10","0",".",".",".",57,85,15,400,".",".",56.5,3.8,".",56.2,7.1,8.9,20.1,{"v":29,"d":"29.0"},32.6,3.8,"50","40","0","80",15,11.1,50,98,"40","0","10","0","0","5","10","15","5","150","130","20",0.7,"2847","15",0.3,0.5,0.8,0.8,{"v":7,"d":"7.0"},5,5,0,1354,1,2,2043,43,43,{"v":0,"d":"0.0"},19,18]
["BU00340205","00340205","Parkwerf en Stadswerf","Almere","Buurt","BU00340205","De Werven",1,545,250,290,80,65,135,145,115,285,165,80,20,"285","35","215","285","15","85","20","130","5","7","5","6",265,115,55,95,{"v":2,"d":"2.0"},5023,250,270,90,10,98,2,21,79,78,1,0,100,0,"2150","1850","2120","2420",".",".","1990","2750","920","810","910","1050",".",".","920","940",".","40","30","20","10","0",".",".",".",58,89,11,400,".",".",{"v":52,"d":"52.0"},5.8,".",58.8,6.9,4.3,14.2,23.2,28.3,4.1,"30","50","10","110",15,{"v":10,"d":"10.0"},55,97,"45","0","10","5","5","0","5","10","5","185","160","30",0.7,"1736","10",0.3,0.6,0.4,0.4,{"v":7,"d":"7.0"},11,11,1,1354,1,2,2094,47.706422018348626,47.706422018348626,{"v":0,"d":"0.0"},14.678899082568808,21.100917431192663]
["WK003403","003403","De Hoven","Almere","Wijk","WK003403","De Hoven",1,2510,1195,1310,465,300,690,630,425,1375,745,270,110,"1375","185","945","1370","70","445","120","505","30","10","20","9",1210,545,255,415,2.1,5808,1175,276,47,53,98,2,41,59,53,5,0,95,5,"2300","1780","2710","3010","3770","4460","2010","2710","780","610","930","990","1140","1450","660","930",".","230","150","80","60","20",630,920,330,65,85,15,2000,".",".",46.1,12.1,".",50.5,11.6,4.1,11.3,17.8,21.1,16.5,"140","150","10","380",65,9.4,185,73,"235","0","45","30","25","10","45","55","25","920","740","180",0.8,"2137","60",0.8,0.6,0.7,0.5,7.1,46,43,3,".",".",2,2067,45.41832669322709,45.21912350597609,{"v":0.796812749003984,"d":"0.8"},18.52589641434263,16.93227091633466]
["BU00340301","00340301","Buitenhof en Groenhof","Almere","Buurt","BU00340301","De Hoven",1,660,330,330,105,65,145,175,170,290,285,55,25,"510","60","90","505","25","45","40","45","0","0","5","12",295,90,95,110,2.2,4201,288,326,83,17,99,1,97,3,0,3,0,100,0,"2610","1430","2690","2990","3000","3920","2800","2600","1030","900","990","1090","1330","1480","1270","1020",".","60","30","10","10","10",".",".",".",75,85,15,500,".",".",32.2,22.1,".",23.7,24.1,0.3,0.3,{"v":1,"d":"1.0"},1.7,228.2,"0","20","0","150",25,15.4,20,33,"65","0","15","5","5","0","15","15","10","330","255","75",1.1,"2094","30",1.1,{"v":1,"d":"1.0"},0.8,0.6,7.4,17,16,1,1352,4,2,2121,23.484848484848484,22.727272727272727,{"v":1.5151515151515151,"d":"1.5"},15.909090909090908,25.757575757575758]
["BU00340302","00340302","Middenhof en Uithof","Almere","Buurt","BU00340302","De Hoven",1,845,410,435,165,105,230,230,115,470,240,100,30,"390","75","375","395","25","170","45","205","5","11","10","8",395,165,75,150,2.1,7015,378,270,51,49,99,1,28,72,60,12,0,84,16,"2520","2080","2730","2740","4700","5330","2240","3230","720","540","870","920","910","1400","640","930",".","80","60","20","20","0",220,300,120,63,84,16,700,".",".",50.6,10.9,".",51.9,11.1,6.8,15.9,24.3,27.6,7.4,"80","50","0","100",15,5.3,55,65,"80","0","15","10","10","5","15","15","5","270","215","60",0.7,"2258","15",0.6,0.5,0.4,0.3,{"v":7,"d":"7.0"},12,12,0,1354,2,2,2050,53.25443786982249,53.84615384615385,{"v":0,"d":"0.0"},19.526627218934912,13.609467455621301]
["BU00340303","00340303","Binnenhof en Langshof (met Nieuwstraat)","Almere","Buurt","BU00340303","De Hoven",1,1005,455,545,195,130,315,220,140,615,220,115,60,"475","55","480","470","20","230","35","250","15","17","5","7",520,280,90,150,1.9,10187,509,252,23,77,98,2,20,80,79,1,0,100,0,"1950","1680","2720","3250",".",".","1830","2460","670","600","920","820",".",".","670","690",".","90","60","40","20","10",".",".",".",62,86,14,800,".",".",52.1,{"v":6,"d":"6.0"},".",64.7,4.8,4.3,14.3,22.7,27.6,3.7,"60","80","10","130",30,9.6,105,105,"90","0","20","15","15","0","10","25","5","320","275","45",0.6,"3267","15",0.8,0.6,0.8,0.8,{"v":7,"d":"7.0"},10,10,0,1353,5,2,2049,53.233830845771145,52.736318407960205,{"v":0.9950248756218906,"d":"1.0"},19.402985074626866,13.930348258706468]
["BU00340304","00340304","Park Uithof","Almere","Buurt","BU00340304","De Hoven",1,0,0,0,0,0,0,0,0,0,0,0,0,"0","0","0","0","0","0","0","0","0","0","0","0",0,0,0,0,".",".",0,".",".",".",".",".",".",".",".",".",".",".",".",".",".",".",".",".",".",".",".",".",".",".",".",".",".",".",".",".","0","0","0","0","0",".",".",".",".",".",".",0,".",".",".",".",".",".",".",".",".",".",".",".",".",".",".",".",".",".",".",".","0",".",".",".",".",".",".",".",".","0","0","0",".",".","0",".",".",".",".",".",6,6,1,1353,1,2,2060,"Geen inwoners","Geen inwoners","Geen inwoners","Geen inwoners","Geen inwoners"]
["WK003404","003404","De Meenten","Almere","Wijk","WK003404","De Meenten",1,2220,1070,1150,380,205,535,540,565,1020,830,250,110,"1590","170","460","1595","85","225","85","235","15","6","25","9",1065,395,315,355,2.1,2911,1036,312,66,34,98,2,66,34,22,12,0,98,2,"2370","1840","2640","2560","3300",".","1950","2580","890","760","920","1020","1120",".","830","910",".","240","100","70","30","10",420,750,480,66,86,14,1800,".",".",37.3,17.5,".",39.5,14.1,3.1,5.7,8.4,11.5,158.6,"60","100","20","490",50,8.9,135,61,"200","0","35","25","20","10","45","35","25","1010","825","185",0.9,"1323","110",1.5,{"v":1,"d":"1.0"},0.6,0.6,6.1,76,76,0,".",".",3,1124,28.153153153153156,28.37837837837838,{"v":0.45045045045045046,"d":"0.5"},17.117117117117118,25.45045045045045]
["BU00340401","00340401","Jaagmeent en Grasmeent","Almere","Buurt","BU00340401","De Meenten",1,705,340,365,130,55,175,145,200,325,270,75,35,"510","35","160","510","20","70","20","85","5","6","10","11",335,120,105,115,2.1,3407,325,335,81,19,98,2,69,31,30,2,0,94,6,"2500","1810","2680","2610",".",".","1940","2760","910","800","940","910",".",".","830","950",".","90","40","20","10","0",120,220,170,64,85,15,600,".",".",37.4,19.7,".",37.3,14.6,3.1,6.1,10.1,11.7,{"v":182,"d":"182.0"},"20","30","10","180",20,11.6,45,65,"55","0","10","10","5","5","10","10","10","305","245","60",0.9,"1471","30",1.6,0.7,0.8,0.7,6.3,21,21,0,1356,4,3,1130,27.659574468085108,27.659574468085108,{"v":0,"d":"0.0"},18.439716312056735,28.368794326241137]
["BU00340402","00340402","Schapenmeent en Terpmeent","Almere","Buurt","BU00340402","De Meenten",1,785,375,410,110,75,170,200,220,310,350,75,45,"610","80","100","610","35","55","40","45","10","8","10","9",370,130,130,120,2.1,2674,365,313,75,25,97,3,80,20,5,15,0,100,0,"2410","1790","2600","2320","3660",".","1840","2550","930","760","940","1070","1190",".","900","930",".","70","40","30","10","0",170,270,170,66,85,15,700,".",".",35.6,20.1,".",34.1,16.7,1.6,1.9,2.7,6.3,198.1,"0","30","0","190",15,8.5,45,56,"70","0","20","5","10","0","15","10","5","375","300","75",1,"1274","55",1.6,1.2,0.8,0.8,5.6,29,29,0,1357,1,4,943,22.29299363057325,22.29299363057325,{"v":0,"d":"0.0"},14.012738853503185,28.02547770700637]
["BU00340403","00340403","Rietmeent en Dijkmeent","Almere","Buurt","BU00340403","De Meenten",1,735,360,370,135,75,185,195,140,395,205,100,35,"470","55","200","475","35","95","20","105","5","4","5","8",355,150,85,120,{"v":2,"d":"2.0"},2787,346,288,42,58,98,2,48,52,34,18,0,100,0,"2190","1870","2640","2850","2230",".","2000","2410","820","750","840","1170","920",".","810","820",".","70","30","20","10","0",140,270,120,67,88,12,600,".",".",39.3,12.5,".",47.2,{"v":11,"d":"11.0"},4.6,9.2,12.7,{"v":17,"d":"17.0"},45.9,"40","40","10","120",15,{"v":7,"d":"7.0"},45,61,"75","0","10","10","10","5","15","20","10","330","280","50",0.9,"1262","25",1.2,0.9,0.3,0.3,6.5,26,26,0,1357,1,3,1312,35.374149659863946,36.054421768707485,{"v":0,"d":"0.0"},18.367346938775512,19.047619047619047]
["WK003405","003405","De Grienden","Almere","Wijk","WK003405","De Grienden",1,2310,1090,1220,395,235,525,530,625,1040,910,250,110,"1640","195","470","1640","95","265","100","210","15","6","25","9",1020,320,320,380,2.3,3631,987,334,97,3,99,1,59,41,38,3,0,100,0,"2600","1530","2480","2590","3610","3910","2260","2840","890","720","850","920","940","1420","800","950",".","230","120","70","40","10",470,770,450,63,84,16,1900,".",".",40.4,15.7,".",35.8,18.2,2.5,5.4,8.9,10.8,131.9,"40","100","20","560",70,11.4,150,66,"230","0","40","30","20","15","60","45","25","1040","845","195",1,"1637","105",1.8,0.8,0.5,0.5,6.1,66,64,3,".",".",3,1039,29.004329004329005,29.004329004329005,{"v":0.4329004329004329,"d":"0.4"},17.0995670995671,27.056277056277057]
["BU00340501","00340501","Klavergriend, Klippriend en Wilgengriend","Almere","Buurt","BU00340501",{"$f":"IF(E196=\"wijk\",C196,IF(E196=\"Buurt\",_xlfn.XLOOKUP(LEFT(B196,6),$B$3:$B$18118,$C$3:$C$18118,\"onbekend\",0,1),\"ook geen buurt\"))","v":"De Grienden"},1,890,400,485,160,85,185,190,265,395,335,115,45,"630","70","185","630","35","105","30","85","10","7","15","15",395,125,130,140,2.3,3954,380,355,94,6,99,1,51,49,47,2,0,99,1,"2720","1530","2490","2580","3590","3880","2260","3170","910","710","830","860","910","1430","810","1000",".","90","50","30","20","0",180,280,160,61,85,15,700,".",".",40.3,15.6,".",37.8,18.8,3.1,{"v":6,"d":"6.0"},9.7,12.6,71.6,"10","40","10","250",25,11.8,60,70,"90","0","20","10","5","5","20","20","5","395","315","80",1,"1770","50",{"v":2,"d":"2.0"},{"v":1,"d":"1.0"},0.5,0.4,{"v":6,"d":"6.0"},24,22,1,1356,1,4,885,{"$f":"IF(OR(I196=0, ISBLANK(I196)), \"Geen inwoners\", (I196-X196)/I196*100)","v":29.213483146067414},{"$f":"IF(OR(I196=0, ISBLANK(I196)), \"Geen inwoners\", (I196-U196)/I196*100)","v":29.213483146067414},{"$f":"IF(OR(I196=0,ISBLANK(I196)),\"Geen inwoners\",(BU196/I196*100))","v":{"v":0,"d":"0.0"}},{"$f":"IF(OR(I196=0,ISBLANK(I196)),\"Geen inwoners\",(L196/I196*100))","v":17.97752808988764},{"$f":"IF(OR(I196=0,ISBLANK(I196)),\"Geen inwoners\",(P196/I196*100))","v":29.775280898876407}]
["BU00340502","00340502","Kolkgriend en Oostgriend","Almere","Buurt","BU00340502","De Grienden",1,865,430,435,125,75,210,200,255,355,375,85,50,"625","85","160","625","35","80","45","80","5","6","5","6",395,130,130,135,2.2,7035,385,314,100,0,99,1,74,26,23,3,0,100,0,"2500",".","2490","2550",".",".","2230","2600","880",".","860","980",".",".","820","900",".","70","40","20","20","10",150,350,160,62,84,16,700,".",".",39.9,15.6,".",31.8,16.9,2.3,5.2,7.8,8.6,199.6,"10","30","0","230",25,13.2,60,68,"80","0","15","15","10","5","20","15","5","425","350","75",1.1,"3473","30",1.8,0.8,0.7,0.6,{"v":6,"d":"6.0"},12,12,0,1356,1,3,1040,27.74566473988439,27.74566473988439,{"v":1.1560693641618496,"d":"1.2"},14.450867052023122,29.47976878612717]
["BU00340503","00340503","Kadegriend en Overgriend","Almere","Buurt","BU00340503","De Grienden",1,555,265,290,115,70,130,140,100,280,195,55,20,"390","45","125","390","25","75","20","50","5","7","5","5",235,70,60,100,2.4,6611,222,335,100,0,100,0,46,54,48,6,0,100,0,"2570",".","2440","2660","3710","4170","2290","2910","860",".","840","870","1030","1320","770","970",".","70","40","20","10","10",140,160,120,67,83,17,400,".",".",41.3,{"v":16,"d":"16.0"},".",39.2,19.4,1.8,4.5,9.4,11.7,35.7,"20","30","10","90",15,8.9,30,56,"60","0","10","0","5","5","20","10","10","215","175","40",0.9,"2576","20",1.6,0.6,0.4,0.3,6.2,10,8,2,1356,1,3,1278,29.72972972972973,29.72972972972973,{"v":1.8018018018018018,"d":"1.8"},20.72072072072072,18.01801801801802]
["BU00340504","00340504","Bosgebied De Grienden","Almere","Buurt","BU00340504","De Grienden",1,0,0,0,0,0,0,0,0,0,0,0,0,"0","0","0","0","0","0","0","0","0","0","0","0",0,0,0,0,".",".",0,".",".",".",".",".",".",".",".",".",".",".",".",".",".",".",".",".",".",".",".",".",".",".",".",".",".",".",".",".","0","0","0","0","0",".",".",".",".",".",".",0,".",".",".",".",".",".",".",".",".",".",".",".",".",".",".",".",".",".",".",".","0",".",".",".",".",".",".",".",".","0","0","0",".",".","0",".",".",".",".",".",20,20,0,".",".",".",".","Geen inwoners","Geen inwoners","Geen inwoners","Geen inwoners","Geen inwoners"]
["WK003406","003406","De Marken","Almere","Wijk","WK003406","De Marken",1,2975,1465,1510,540,325,735,650,725,1455,1080,325,115,"1995","210","765","2000","120","385","90","380","30","11","15","5",1280,405,385,495,2.3,2708,1295,309,83,17,98,2,57,43,34,9,0,92,8,"2510","1710","2650","2510","3180","3400","2260","2700","930","640","950","990","1120","1630","840","1000",".","310","190","110","50","10",630,1010,520,65,82,18,2300,".",27.8,41.6,14.8,".",32.8,{"v":15,"d":"15.0"},3.2,5.3,8.2,11.3,123.6,"80","150","30","670",105,12.9,175,58,"350","0","60","45","30","10","85","85","35","1295","1035","260",1,"1181","95",1.7,0.7,0.5,0.6,8.7,113,110,3,".",".",3,1375,32.773109243697476,32.94117647058823,{"v":0.33613445378151263,"d":"0.3"},18.15126050420168,24.369747899159663]
["BU00340601","00340601","Hofmark, Redemark en Sportmark","Almere","Buurt","BU00340601","De Marken",1,1385,675,715,230,135,350,280,390,655,515,155,65,"1020","120","245","1020","65","115","60","135","15","11","10","7",630,215,195,230,2.2,6791,617,318,87,13,98,2,66,34,31,3,0,97,3,"2620","1950","2710","2510",".","3460","2490","2680","960","800","920","1010",".","1890","840","1020",".","130","70","40","30","10",240,520,250,65,82,18,1100,".",".",{"v":42,"d":"42.0"},13.9,".",33.7,14.8,3.1,5.5,8.4,10.5,155.8,"30","70","10","360",50,14.8,110,78,"160","0","25","15","15","0","40","40","15","660","525","135",1,"3219","50",1.8,0.8,0.7,0.8,8.2,21,20,1,1355,1,3,1176,26.353790613718413,26.353790613718413,{"v":0.7220216606498195,"d":"0.7"},16.60649819494585,28.158844765342963]
["BU00340602","00340602","Ambachtsmark, Vrijmark en Zuidmark","Almere","Buurt","BU00340602","De Marken",1,1090,535,555,240,160,285,220,185,630,305,130,30,"585","55","450","590","30","240","20","215","10","11","0","3",425,140,90,195,2.5,5473,457,270,69,31,99,1,25,75,54,20,0,81,19,"2250","1570","2540","2220","3290",".","2090","2710","860","550","1000","890","1080",".","840","900",".","130","100","70","20","10",320,300,160,64,87,13,800,".",".",47.2,12.5,".",40.8,12.1,3.9,6.5,11.1,17.3,8.1,"50","70","10","170",45,12.4,50,48,"120","0","20","20","15","0","25","35","10","380","305","75",0.9,"1896","20",1.5,0.4,0.3,0.3,8.6,21,20,1,1355,1,2,1725,45.87155963302752,46.330275229357795,{"v":0.9174311926605505,"d":"0.9"},22.018348623853214,16.972477064220186]
["BU00340603","00340603","Brugmark, Noordmark en Gildemark","Almere","Buurt","BU00340603","De Marken",1,495,250,240,70,25,105,145,150,175,260,45,15,"390","40","70","390","25","35","10","35","5","10","0","2",225,55,100,65,2.2,4026,221,367,100,0,98,2,98,2,0,2,0,100,0,"2750",".","2630","2850","2980","3340",".","2710","1010",".","950","1080","1190","1160",".","1000",".","50","20","0","10","0",80,180,120,69,74,26,400,".",".",29.8,{"v":22,"d":"22.0"},".",15.2,21.1,2.3,2.3,2.3,2.3,278.2,"0","10","10","140",10,8.3,15,28,"70","0","15","10","5","5","15","15","10","260","210","50",1.2,"2123","25",1.8,1.1,0.4,0.8,10.2,12,12,0,1351,1,3,1163,21.21212121212121,21.21212121212121,{"v":0,"d":"0.0"},14.14141414141414,30.303030303030305]
["BU00340604","00340604","Sportpark De Marken","Almere","Buurt","BU00340604","De Marken",1,0,0,0,0,0,0,0,0,0,0,0,0,"0","0","0","0","0","0","0","0","0","0","0","0",0,0,0,0,".",".",0,".",".",".",".",".",".",".",".",".",".",".",".",".",".",".",".",".",".",".",".",".",".",".",".",".",".",".",".",".","0","0","0","0","0",".",".",".",".",".",".",0,".",".",".",".",".",".",".",".",".",".",".",".",".",".",".",".",".",".",".",".","0",".",".",".",".",".",".",".",".","0","0","0",".",".","0",".",".",".",".",".",23,23,0,1355,1,2,1624,"Geen inwoners","Geen inwoners","Geen inwoners","Geen inwoners","Geen inwoners"]
["BU00340605","00340605","Splittershoek","Almere","Buurt","BU00340605","De Marken",1,0,0,0,0,0,0,0,0,0,0,0,0,"0","0","0","0","0","0","0","0","0","0","0","0",0,0,0,0,".",".",0,".",".",".",".",".",".",".",".",".",".",".",".",".",".",".",".",".",".",".",".",".",".",".",".",".",".",".",".",".","0","0","0","0","0",".",".",".",".",".",".",0,".",".",".",".",".",".",".",".",".",".",".",".",".",".",".",".",".",".",".",".","0",".",".",".",".",".",".",".",".","0","0","0",".",".","0",".",".",".",".",".",12,12,0,1351,1,4,507,"Geen inwoners","Geen inwoners","Geen inwoners","Geen inwoners","Geen inwoners"]
["BU00340606","00340606","Vliegerpark","Almere","Buurt","BU00340606","De Marken",1,0,0,0,0,0,0,0,0,0,0,0,0,"0","0","0","0","0","0","0","0","0","0","0","0",0,0,0,0,".",".",0,".",".",".",".",".",".",".",".",".",".",".",".",".",".",".",".",".",".",".",".",".",".",".",".",".",".",".",".",".","0","0","0","0","0",".",".",".",".",".",".",0,".",".",".",".",".",".",".",".",".",".",".",".",".",".",".",".",".",".",".",".","0",".",".",".",".",".",".",".",".","0","0","0",".",".","0",".",".",".",".",".",23,22,1,".",".",".",".","Geen inwoners","Geen inwoners","Geen inwoners","Geen inwoners","Geen inwoners"]
["WK003407","003407","De Gouwen","Almere","Wijk","WK003407","De Gouwen",1,2710,1360,1350,445,270,665,670,660,1190,1155,260,105,"2000","240","470","2000","130","210","110","260","30","10","20","6",1210,380,390,440,2.2,3878,1196,329,90,10,98,2,81,19,16,3,0,94,6,"2770","2010","2630","2830","3260","4460","1880","2980","870","620","810","1000","950","1150","750","890",".","260","110","80","60","20",430,1020,620,69,84,16,2200,".",32.4,35.7,20.8,".",28.6,21.4,1.4,3.6,5.3,6.9,205.7,"40","90","20","590",60,{"v":9,"d":"9.0"},135,49,"340","0","55","45","35","20","80","65","40","1320","1035","285",1.1,"1891","130",1.8,1.2,0.7,0.5,9.3,71,70,1,".",".",3,1420,26.199261992619927,26.199261992619927,{"v":0.7380073800738007,"d":"0.7"},16.420664206642066,24.354243542435423]
["BU00340701","00340701","Lindengouw, Muidergouw en Peppengouw","Almere","Buurt","BU00340701","De Gouwen",1,1065,535,525,185,80,265,240,295,445,490,90,40,"825","85","150","825","45","70","40","80","15","14","5","6",455,110,170,165,2.3,4909,447,360,100,0,98,2,97,3,0,3,0,100,0,"3140",".","2810","3330","4070","4560","3580","3120","930",".","810","1030","1110","1380","1200","920",".","120","40","20","20","0",110,430,270,68,81,19,900,".",".",31.5,24.6,".",18.4,25.7,0.7,0.7,0.7,1.3,262.3,"0","30","10","270",25,9.6,30,29,"135","0","25","10","20","10","35","25","10","525","395","135",1.2,"2431","70",{"v":2,"d":"2.0"},1.6,0.6,0.8,10.1,22,22,0,1351,1,3,1304,22.535211267605636,22.535211267605636,{"v":0,"d":"0.0"},17.370892018779344,27.699530516431924]
["BU00340702","00340702","Kromgouw en Overgouw","Almere","Buurt","BU00340702","De Gouwen",1,520,270,250,70,55,110,140,150,210,245,40,25,"415","40","65","415","20","35","20","30","5","8","5","4",245,75,85,80,2.2,4525,244,341,88,12,93,7,89,11,7,4,0,88,12,"2880","3830","2650","2820","2890",".","2650","2900","890","870","800","1040","910",".","890","890",".","40","30","20","10","10",80,170,160,67,80,20,400,".",".",34.2,20.6,".",25.8,23.3,1.3,2.1,2.5,{"v":3,"d":"3.0"},263.9,"10","10","0","140",15,12.8,25,48,"60","0","10","10","5","0","15","10","5","275","225","50",1.1,"2397","25",1.5,1.2,0.8,0.6,9.5,13,12,1,1351,4,2,1553,20.192307692307693,20.192307692307693,{"v":1.9230769230769231,"d":"1.9"},13.461538461538462,28.846153846153843]
["BU00340703","00340703","Bosgouw, Brongouw en Nijvergouw","Almere","Buurt","BU00340703","De Gouwen",1,1125,555,575,190,140,285,290,210,530,420,130,40,"755","110","255","760","60","105","50","150","10","8","10","7",515,195,130,190,2.2,3632,505,296,82,18,99,1,64,36,34,2,0,93,7,"2400","1470","2410","2400","3420","4290","1630","2840","800","540","810","950","940","740","690","860",".","100","50","40","30","10",250,400,190,71,88,12,900,".",".",40.4,17.3,".",38.8,16.7,2.2,6.9,10.9,13.7,139.9,"30","50","10","190",20,7.2,75,68,"115","0","15","15","10","5","25","30","20","485","405","80",0.9,"1569","35",1.8,0.9,0.8,0.3,8.5,31,31,0,1352,1,3,1456,32.44444444444444,32.88888888888889,{"v":0.8888888888888888,"d":"0.9"},16.88888888888889,18.666666666666668]
["BU00340704","00340704","Bedrijventerrein De Paal","Almere","Buurt","BU00340704","De Gouwen",1,0,0,0,0,0,0,0,0,0,0,0,0,"0","0","0","0","0","0","0","0","0","0","0","0",0,0,0,0,".",".",0,".",".",".",".",".",".",".",".",".",".",".",".",".",".",".",".",".",".",".",".",".",".",".",".",".",".",".",".",".","0","0","0","0","0",".",".",".",".",".",".",0,".",".",".",".",".",".",".",".",".",".",".",".",".",".",".",".",".",".",".",".","30","0","5","10","0","0","10","0","5","30","10","20",".",".","0",".",".",".",".",".",6,6,0,1351,1,3,1391,"Geen inwoners","Geen inwoners","Geen inwoners","Geen inwoners","Geen inwoners"]
["WK003408","003408","De Wierden","Almere","Wijk","WK003408","De Wierden",1,3615,1685,1930,690,350,1010,855,715,1955,1045,480,135,"1975","235","1400","1980","110","695","130","705","50","14","25","7",1780,760,400,620,{"v":2,"d":"2.0"},5806,1745,261,55,45,98,2,30,70,69,1,0,91,9,"2060","1680","2270","2560","2540","5220","1820","2620","700","600","750","880","900","1100","670","770",".","400","190","130","60","20",980,1250,420,59,86,14,2800,30.2,23.6,50.3,8.7,".",56.3,6.5,4.9,12.4,20.4,25.2,6.2,"220","260","40","640",120,12.2,320,89,"275","0","45","25","30","5","55","85","30","1345","1125","220",0.8,"2158","85",1.4,0.7,0.8,0.9,6.6,67,62,5,".",".",2,1579,45.22821576763486,45.36652835408022,{"v":0.5532503457814661,"d":"0.6"},19.08713692946058,19.778699861687414]
["BU00340801","00340801","Kornwierde en Leemwierde","Almere","Buurt","BU00340801","De Wierden",1,985,430,550,195,115,235,245,195,500,300,150,35,"500","65","420","500","25","200","40","220","10","10","5","3",450,180,95,175,2.2,5899,446,261,70,30,98,2,26,74,73,1,0,94,6,"2080","1570","2170","2660",".",".","1870","2660","740","640","760","870",".",".","740","760",".","110","60","40","20","0",290,340,70,59,86,14,800,".",".",{"v":53,"d":"53.0"},7.5,".",55.7,7.6,3.4,12.8,21.1,27.8,{"v":7,"d":"7.0"},"60","80","10","190",35,13.1,105,108,"75","0","15","10","15","0","10","20","5","345","295","50",0.8,"2082","20",1.7,0.5,0.4,0.5,6.3,20,17,3,1353,1,3,1491,49.23857868020304,49.23857868020304,{"v":0,"d":"0.0"},19.796954314720814,19.796954314720814]
["BU00340802","00340802","Keiwierde en Oldewierde","Almere","Buurt","BU00340802","De Wierden",1,1090,520,570,225,125,335,225,175,640,295,130,25,"490","75","530","490","25","250","50","275","20","17","10","8",525,230,100,190,2.1,7618,506,265,54,46,99,1,27,73,72,1,0,88,12,"2090","1710","2330","2640",".",".","1870","2670","730","620","790","900",".",".","700","790",".","120","70","50","20","10",340,360,100,56,84,16,800,".",".",55.3,6.7,".",60.5,6.3,6.6,14.8,{"v":25,"d":"25.0"},29.8,3.5,"90","80","10","150",40,12.1,85,80,"80","0","15","5","5","0","15","25","10","370","310","60",0.7,"2593","25",1.2,0.9,0.9,{"v":1,"d":"1.0"},{"v":7,"d":"7.0"},16,14,1,1353,1,2,1666,55.04587155963303,55.04587155963303,{"v":0.9174311926605505,"d":"0.9"},20.642201834862387,16.055045871559635]
["BU00340803","00340803","Hoekwierde, Kimwierde en Zandwierde","Almere","Buurt","BU00340803","De Wierden",1,1540,735,810,270,120,440,380,340,815,455,200,75,"990","95","455","990","55","240","45","215","20","14","10","9",800,345,200,255,1.9,4929,793,259,48,52,98,2,33,67,66,1,0,92,8,"2030","1710","2310","2420","2280","5220","1770","2570","660","580","700","870","960","1100","600","770",".","170","60","40","30","0",340,560,240,62,87,13,1200,".",".",45.2,10.7,".",53.8,6.1,4.7,10.5,{"v":17,"d":"17.0"},20.9,8.2,"70","110","20","300",40,11.5,130,84,"120","0","20","10","10","5","30","40","15","625","515","110",0.8,"2000","35",1.3,0.8,{"v":1,"d":"1.0"},1.1,6.5,32,31,0,1353,1,2,1574,35.714285714285715,35.714285714285715,{"v":0,"d":"0.0"},17.532467532467532,22.07792207792208]
["WK003409","003409","De Velden","Almere","Wijk","WK003409","De Velden",1,1535,765,765,260,175,270,475,350,650,750,85,50,"1205","115","215","1210","60","125","55","85","5","5","5","3",590,100,235,255,2.6,2492,590,591,85,15,99,1,98,2,0,2,0,65,35,"3490","2030","3320","3680","3430","4380","2930","3500","1000","530","910","1080","970","1310","950","1000",".","150","100","30","40","30",240,350,560,70,79,21,1200,".",".",28.9,37.2,".",8.6,49.4,1.4,0.9,0.9,{"v":1,"d":"1.0"},479.1,"0","30","0","320",35,8.9,25,16,"220","0","10","15","30","25","75","50","15","825","600","225",1.4,"1343","70",2.6,1.2,1.1,1.1,2.6,62,62,0,".",".",4,626,21.172638436482085,21.49837133550489,{"v":1.9543973941368076,"d":"2.0"},16.938110749185668,22.80130293159609]
["BU00340901","00340901","De Velden Noord","Almere","Buurt","BU00340901","De Velden",1,530,270,260,95,65,90,165,110,225,270,20,15,"380","50","95","380","20","45","30","45","0","2","0","0",190,25,75,95,2.8,2022,190,728,100,0,99,1,97,3,0,3,0,55,45,"4000",".","3490","1920","3230","4330","3410","4010","1240",".","1060","820","960","1340","1340","1230",".","60","40","10","10","10",50,140,220,70,73,27,400,".",".",28.9,40.7,".",6.3,57.1,2.1,1.6,1.6,1.6,599.1,"0","10","0","100",15,8.6,".",".","85","0","5","10","10","10","25","25","5","295","210","85",1.5,"1130","20",2.8,1.1,{"v":1,"d":"1.0"},{"v":1,"d":"1.0"},2.5,26,26,0,1359,1,4,504,28.30188679245283,28.30188679245283,{"v":1.8867924528301887,"d":"1.9"},17.92452830188679,20.754716981132077]
["BU00340902","00340902","De Velden Zuid","Almere","Buurt","BU00340902","De Velden",1,1010,495,510,160,115,180,310,240,420,480,70,35,"825","65","115","830","40","80","20","40","5","7","5","4",400,75,160,170,2.5,2837,400,525,78,22,99,1,98,2,0,2,0,70,30,"3250","2030","3310","3890","3630","4540","2630","3260","880","530","900","1110","990","1210","710","890",".","90","60","20","30","20",180,220,340,70,82,18,800,".",".",28.9,35.5,".",9.8,45.8,{"v":1,"d":"1.0"},0.5,0.5,0.8,436.7,"0","20","0","220",25,9.1,20,20,"135","0","10","10","20","10","45","30","10","530","390","140",1.3,"1501","45",2.5,1.3,1.2,1.2,2.7,35,35,0,1359,1,4,684,17.82178217821782,18.316831683168317,{"v":1.9801980198019802,"d":"2.0"},15.841584158415841,23.762376237623762]
["WK003410","003410","Overgooi","Almere","Wijk","WK003410","Overgooi",1,525,275,255,75,90,65,215,85,225,265,30,10,"330","55","140","330","20","75","35","65","0","2","5","6",185,25,65,95,2.8,85,184,1212,90,10,94,6,95,5,0,5,1,3,97,"5620","4410",".",".","4300","5840","4480","5680","1540","1180",".",".","1480","1580","1260","1550",".","40","60","10","20","10",70,110,290,72,59,41,400,".",".",31.9,43.9,".",12.9,66.7,5.5,5.5,{"v":6,"d":"6.0"},{"v":6,"d":"6.0"},{"v":1335,"d":"1335.0"},"0","10","10","80",15,{"v":9,"d":"9.0"},".",".","125","0","5","5","10","40","45","15","5","330","190","135",1.8,"53","15",6.2,5.1,2.4,5.2,{"v":0,"d":"0.0"},633,620,13,".",".",5,149,37.142857142857146,37.142857142857146,{"v":1.9047619047619049,"d":"1.9"},14.285714285714285,16.19047619047619]
["BU00341001","00341001","Overgooi (brt)","Almere","Buurt","BU00341001","Overgooi",1,525,270,255,70,90,65,220,85,225,265,30,10,"330","55","140","330","20","75","35","65","0","2","5","6",185,25,65,95,2.8,168,184,1212,90,10,94,6,95,5,0,5,1,3,97,"5620","4410",".",".","4300","5840","4480","5680","1540","1180",".",".","1480","1580","1260","1550",".","40","60","10","20","10",70,110,290,72,59,41,400,".",".",31.9,43.9,".",12.9,66.7,5.5,5.5,{"v":6,"d":"6.0"},{"v":6,"d":"6.0"},{"v":1335,"d":"1335.0"},"0","10","10","80",15,{"v":9,"d":"9.0"},".",".","125","0","5","5","10","40","45","15","5","330","190","135",1.8,"105","15",6.2,5.1,2.4,5.2,{"v":0,"d":"0.0"},324,313,10,1358,1,5,146,37.142857142857146,37.142857142857146,{"v":1.9047619047619049,"d":"1.9"},13.333333333333334,16.19047619047619]
["BU00341002","00341002","Waterlandse Tuinen, Windhoek en Schapenbos","Almere","Buurt","BU00341002","Overgooi",1,0,0,0,0,0,0,0,0,0,0,0,0,"0","0","0","0","0","0","0","0","0","0","0","0",0,0,0,0,".",".",0,".",".",".",".",".",".",".",".",".",".",".",".",".",".",".",".",".",".",".",".",".",".",".",".",".",".",".",".",".","0","0","0","0","0",".",".",".",".",".",".",0,".",".",".",".",".",".",".",".",".",".",".",".",".",".",".",".",".",".",".",".","0",".",".",".",".",".",".",".",".","0","0","0",".",".","0",".",".",".",".",".",81,81,0,1357,6,5,476,"Geen inwoners","Geen inwoners","Geen inwoners","Geen inwoners","Geen inwoners"]
["BU00341003","00341003","Cirkelbos","Almere","Buurt","BU00341003","Overgooi",1,0,0,0,0,0,0,0,0,0,0,0,0,"0","0","0","0","0","0","0","0","0","0","0","0",0,0,0,0,".",".",0,".",".",".",".",".",".",".",".",".",".",".",".",".",".",".",".",".",".",".",".",".",".",".",".",".",".",".",".",".","0","0","0","0","0",".",".",".",".",".",".",0,".",".",".",".",".",".",".",".",".",".",".",".",".",".",".",".",".",".",".",".","0",".",".",".",".",".",".",".",".","0","0","0",".",".","0",".",".",".",".",".",227,225,2,1358,1,5,5,"Geen inwoners","Geen inwoners","Geen inwoners","Geen inwoners","Geen inwoners"]
["WK003411","003411","De Laren","Almere","Wijk","WK003411","De Laren",1,1050,495,560,320,120,390,180,50,635,355,50,5,"660","50","340","660","30","220","20","120","25","23","0","1",355,55,65,240,2.9,3935,352,426,83,17,99,1,68,32,31,1,0,0,100,"3690","1460","3510","4410","4900","5830","1760","4580","290","420","290","170","150","370","540","180",".","170","90","40","20","10",190,300,280,81,86,14,700,".",".",30.4,30.6,".",21.8,38.8,2.9,5.2,7.5,9.8,162.9,"20","30","10","50",40,9.4,25,23,"90","0","10","10","10","10","20","20","10","385","305","80",1.1,"1436","15",2.3,0.5,0.5,0.5,4.2,27,27,1,".",".",4,933,37.142857142857146,37.142857142857146,{"v":0.9523809523809524,"d":"1.0"},30.476190476190478,4.761904761904762]
["BU00341101","00341101","De Laren Noord","Almere","Buurt","BU00341101","De Laren",1,630,315,320,175,65,255,125,10,355,260,15,5,"435","30","165","435","15","105","15","55","20","30","0","0",210,25,45,140,{"v":3,"d":"3.0"},4203,198,492,100,0,99,1,99,1,0,1,0,0,100,"4960",".","4470","5100","5010","6070",".","4960","50",".","0","0","0","300",".","60",".","90","50","20","10","10",100,180,230,89,86,14,500,".",".",{"v":20,"d":"20.0"},39.9,".",7.2,{"v":56,"d":"56.0"},1.5,1.5,1.5,1.5,{"v":220,"d":"220.0"},"0","10","10","10",15,6.1,".",".","55","0","5","5","10","10","15","5","5","250","195","55",1.2,"1659","15",2.5,0.7,0.6,0.6,3.7,16,15,1,1359,1,4,887,30.952380952380953,30.952380952380953,{"v":1.5873015873015872,"d":"1.6"},27.77777777777778,1.5873015873015872]
["BU00341102","00341102","De Laren Zuid","Almere","Buurt","BU00341102","De Laren",1,420,180,235,145,55,130,55,35,280,100,35,5,"225","20","180","220","15","115","5","60","5","12","0","2",150,30,20,100,2.7,3590,154,341,62,38,99,1,29,71,71,0,0,0,100,"2070","1460","2150","2500",".","4400","1710","2920","590","420","690","650",".","810","550","710",".","70","50","30","10","0",".",".",".",67,87,13,300,".",".",{"v":48,"d":"48.0"},14.9,".",41.7,15.2,4.8,10.3,15.9,21.4,7.7,"20","20","0","30",25,13.3,20,43,"35","0","5","5","0","0","5","15","5","135","110","25",0.9,"1151","0",2.1,0.4,0.3,0.3,{"v":5,"d":"5.0"},12,12,0,1359,1,4,991,47.61904761904761,46.42857142857143,{"v":0,"d":"0.0"},34.523809523809526,8.333333333333332]
["WK003414","003414","De Steiger","Almere","Wijk","WK003414","De Steiger",1,80,40,40,5,15,35,20,5,45,20,10,0,"35","15","25","35","0","10","10","20","5","25","0","0",40,10,15,10,2.2,203,37,236,35,65,97,3,32,65,0,65,3,35,65,"2060","1470","3410",".",".",".","1620","2990","640","460","860",".",".",".","500","930",".","10","0","0","0","0",".",".",".",".",".",".",100,".",".",".",".",".",".",".",".",".",".",".",".","0","0","0","10",".",".",".",".","195","0","25","55","15","10","50","20","15","100","65","35",".",".","10",1.7,{"v":1,"d":"1.0"},0.3,0.8,10.4,39,39,0,".",".",4,798,56.25,56.25,{"v":0,"d":"0.0"},6.25,6.25]
["BU00341401","00341401","De Steiger (brt)","Almere","Buurt","BU00341401","De Steiger",1,80,40,40,10,10,35,15,10,45,20,15,5,"35","15","30","35","0","10","10","20","5","25","0","0",40,10,15,10,2.2,203,37,236,35,65,97,3,32,65,0,65,3,35,65,"2060","1470","3410",".",".",".","1620","2990","640","460","860",".",".",".","500","930",".","10","0","0","0","0",".",".",".",".",".",".",100,".",".",".",".",".",".",".",".",".",".",".",".","0","0","0","10",".",".",".",".","195","0","25","55","15","10","50","20","15","100","65","35",".",".","10",1.7,{"v":1,"d":"1.0"},0.3,0.8,10.4,39,39,0,1351,1,4,798,56.25,56.25,{"v":0,"d":"0.0"},12.5,12.5]
["WK003415","003415","Stichtsekant","Almere","Wijk","WK003415","Stichtsekant",1,0,0,0,0,0,0,0,0,0,0,0,0,"0","0","0","0","0","0","0","0","0","0","0","0",0,0,0,0,".",".",0,".",".",".",".",".",".",".",".",".",".",".",".",".",".",".",".",".",".",".",".",".",".",".",".",".",".",".",".",".","0","0","0","0","0",".",".",".",".",".",".",0,".",".",".",".",".",".",".",".",".",".",".",".",".",".",".",".",".",".",".",".","25","0","0","15","5","0","0","0","0","50","20","35",".",".","0",".",".",".",".",".",262,260,2,".",".",5,18,"Geen inwoners","Geen inwoners","Geen inwoners","Geen inwoners","Geen inwoners"]
["BU00341501","00341501","Stichtsekant (brt)","Almere","Buurt","BU00341501","Stichtsekant",1,0,0,0,0,0,0,0,0,0,0,0,0,"0","0","0","0","0","0","0","0","0","0","0","0",0,0,0,0,".",".",0,".",".",".",".",".",".",".",".",".",".",".",".",".",".",".",".",".",".",".",".",".",".",".",".",".",".",".",".",".","0","0","0","0","0",".",".",".",".",".",".",0,".",".",".",".",".",".",".",".",".",".",".",".",".",".",".",".",".",".",".",".","25","0","0","15","5","0","0","0","0","50","20","35",".",".","0",".",".",".",".",".",262,260,2,1358,1,5,18,"Geen inwoners","Geen inwoners","Geen inwoners","Geen inwoners","Geen inwoners"]
["WK003416","003416","Overig Almere Haven","Almere","Wijk","WK003416","Overig Almere Haven",1,10,5,5,5,0,5,0,0,5,5,0,0,"5","0","0","10","0","0","0","0","0","0","0","0",0,0,0,5,2.3,".",1,".",".",".",".",".",".",".",".",".",".",".",".",".",".",".",".",".",".",".",".",".",".",".",".",".",".",".",".",".","0","0","0","0","0",".",".",".",".",".",".",0,".",".",".",".",".",".",".",".",".",".",".",".",".",".",".",".",".",".",".",".","5",".",".",".",".",".",".",".",".","5","5","0",".",".","0",".",".",".",".",".",539,508,31,".",".",4,573,0,50,{"v":0,"d":"0.0"},50,0]
["BU00341601","00341601","Overig Almere Haven Oost","Almere","Buurt","BU00341601","Overig Almere Haven",1,5,5,5,5,0,5,0,0,5,5,0,0,"5","0","0","5","0","0","0","0","0","0","0","0",0,0,0,5,{"v":3,"d":"3.0"},".",0,".",".",".",".",".",".",".",".",".",".",".",".",".",".",".",".",".",".",".",".",".",".",".",".",".",".",".",".",".","0","0","0","0","0",".",".",".",".",".",".",0,".",".",".",".",".",".",".",".",".",".",".",".",".",".",".",".",".",".",".",".","0",".",".",".",".",".",".",".",".","0","0","0",".",".","0",".",".",".",".",".",236,227,9,".",".",5,207,0,0,{"v":0,"d":"0.0"},100,0]
["BU00341602","00341602","Overig Almere Haven West","Almere","Buurt","BU00341602","Overig Almere Haven",1,0,0,0,0,0,0,0,0,0,0,0,0,"0","0","0","0","0","0","0","0","0","0","0","0",0,0,0,0,{"v":1,"d":"1.0"},".",1,".",".",".",".",".",".",".",".",".",".",".",".",".",".",".",".",".",".",".",".",".",".",".",".",".",".",".",".",".","0","0","0","0","0",".",".",".",".",".",".",0,".",".",".",".",".",".",".",".",".",".",".",".",".",".",".",".",".",".",".",".","5",".",".",".",".",".",".",".",".","5","0","0",".",".","0",".",".",".",".",".",302,281,21,1351,1,4,665,"Geen inwoners","Geen inwoners","Geen inwoners","Geen inwoners","Geen inwoners"]
["WK003417","003417","Centrum Almere Stad","Almere","Wijk","WK003417","Centrum Almere Stad",1,5810,2990,2820,650,695,2485,1205,785,3690,1275,625,220,"1900","1145","2765","1900","140","920","1010","1845","65","12","75","13",2975,1720,675,585,1.6,7097,2745,276,0,100,94,6,26,74,30,44,0,68,32,"1890","1890",".",".",".",".","1830","2060","0","0",".",".",".",".","0","0","99,5","310","150","90","140","50",1270,1970,1650,70,88,12,4000,40.6,34.3,34.9,21.8,33.2,53.5,9.2,7.9,11.5,14.6,16.7,4.6,"210","290","70","660",85,7.6,290,50,"1310","0","85","390","155","70","250","215","145","2605","1785","825",0.9,"3185","75",0.5,0.3,0.7,0.7,23.1,101,82,19,".",".",2,2498,67.29776247848537,67.29776247848537,{"v":0.8605851979345954,"d":"0.9"},11.187607573149743,13.511187607573149]
["BU00341701","00341701","Centrum Stad Noord","Almere","Buurt","BU00341701","Centrum Almere Stad",1,1320,710,610,115,220,605,245,140,955,260,70,35,"235","625","465","235","20","60","610","395","5","5","5","5",550,380,105,70,1.4,7366,288,311,0,100,95,5,30,70,0,70,0,65,35,"1830","1830",".",".",".",".","1760","1980","0","0",".",".",".",".","0","0","100","30","10","10","10","10",".",".",".",75,90,10,700,".",".",36.4,22.7,".",59.1,6.7,16.5,14.9,15.7,16.7,1.5,"0","10","10","100",".",".",30,23,"295","0","15","40","75","25","95","25","25","1215","705","510",2.2,"6758","20",0.7,0.4,0.4,0.6,22.8,18,18,0,1314,1,2,2439,82.1969696969697,82.1969696969697,{"v":0.7575757575757576,"d":"0.8"},8.712121212121213,10.606060606060606]
["BU00341702","00341702","Centrum Stad Oost","Almere","Buurt","BU00341702","Centrum Almere Stad",1,830,380,450,125,150,375,120,60,605,130,75,20,"260","90","480","260","20","195","70","285","15","18","5","6",485,270,95,120,1.7,3014,483,239,0,100,94,6,4,96,51,45,0,70,30,"1850","1850",".",".",".",".","1850","1830","0","0",".",".",".",".","0","0","100","60","40","20","60","10",".",".",".",69,91,9,700,".",".",42.6,13.3,".",62.9,5.1,{"v":7,"d":"7.0"},15.1,20.2,23.2,0.5,"80","30","20","50",20,9.5,40,47,"220","0","5","80","15","5","25","75","15","255","195","65",0.5,"936","10",0.5,0.2,0.7,0.8,25.3,36,27,8,1315,1,1,2531,68.67469879518072,68.67469879518072,{"v":1.2048192771084338,"d":"1.2"},15.060240963855422,7.228915662650602]
["BU00341703","00341703","Centrum Stad Zuidoost","Almere","Buurt","BU00341703","Centrum Almere Stad",1,660,330,325,70,60,275,160,90,365,200,70,25,"280","80","300","280","20","125","60","175","5","9","5","3",365,175,115,80,1.8,4933,368,364,0,100,95,5,47,52,18,34,1,9,91,"2140","2140",".",".",".",".","2190","2100","0","0",".",".",".",".","0","0","99,7","30","20","10","10","10",".",".",".",74,82,18,600,".",".",25.1,30.6,".",33.8,17.2,2.9,3.8,5.3,6.7,65.1,"10","20","10","80",10,10.9,20,30,"215","0","10","120","20","10","20","15","20","250","190","60",0.7,"1867","10",0.7,0.5,0.6,{"v":1,"d":"1.0"},{"v":22,"d":"22.0"},18,13,5,1315,1,2,2317,57.57575757575758,57.57575757575758,{"v":1.5151515151515151,"d":"1.5"},10.606060606060606,13.636363636363635]
["BU00341704","00341704","Centrum Stad Zuidwest","Almere","Buurt","BU00341704","Centrum Almere Stad",1,1165,630,535,115,85,480,270,215,630,380,110,45,"460","185","520","460","40","165","140","355","10","9","0","2",690,355,205,130,1.7,13049,637,318,0,100,95,5,53,47,15,32,0,59,41,"2160","2160",".",".",".",".","2150","2170","0","0",".",".",".",".","0","0","99,8","60","30","10","20","10",220,410,330,67,84,16,1000,".",".",29.3,27.7,".",41.7,14.1,6.7,8.6,11.3,12.2,{"v":74,"d":"74.0"},"20","70","10","190",10,7.1,55,45,"225","0","15","55","25","10","45","35","35","395","300","95",0.6,"4413","15",0.7,0.3,0.7,0.8,20.6,15,9,6,1315,1,1,2535,60.51502145922747,60.51502145922747,{"v":0.8583690987124464,"d":"0.9"},9.871244635193133,18.4549356223176]
["BU00341705","00341705","Centrum Stad West","Almere","Buurt","BU00341705","Centrum Almere Stad",1,1845,940,905,230,180,750,405,275,1130,300,310,105,"660","170","1005","665","40","375","130","635","30","16","60","33",875,545,150,180,1.6,12936,969,222,0,100,93,7,11,89,42,47,0,95,5,"1660","1660",".",".",".",".","1640","1790","0","0",".",".",".",".","0","0","98,9","140","50","40","40","10",".",".",".",69,90,10,1100,".",".",38.9,16.9,".",62.5,5.7,{"v":6,"d":"6.0"},13.1,17.7,21.3,2.9,"100","150","30","240",35,10.8,145,79,"360","0","40","95","25","20","65","65","50","495","395","100",0.6,"3478","15",0.3,0.2,0.8,0.7,24.3,14,14,0,1315,1,1,2562,63.956639566395665,64.22764227642277,{"v":0.5420054200542005,"d":"0.5"},12.466124661246612,14.905149051490515]
["WK003418","003418","Filmwijk","Almere","Wijk","WK003418","Filmwijk",1,10450,5095,5355,1605,1530,2700,3130,1480,5415,3885,870,280,"5355","885","4210","5355","360","1860","525","2345","90","9","50","5",4665,1610,1175,1880,2.2,5081,4483,363,68,32,98,2,61,39,28,11,0,91,9,"2490","1750","2690","2870","3170","4120","1980","2810","0","0","0","0","0","0","0","0","89,6","840","610","380","370","140",1930,3480,2940,70,86,14,8400,{"v":41,"d":"41.0"},33.3,37.8,21.8,38.4,34.6,23.4,{"v":3,"d":"3.0"},6.6,9.6,11.7,179.5,"340","470","100","1320",235,8.4,430,41,"1125","0","105","130","135","60","305","275","110","4200","3275","925",0.9,"2042","285",1.2,0.8,0.5,0.6,15.5,213,206,7,".",".",2,1530,48.75598086124402,48.75598086124402,{"v":1.3397129186602872,"d":"1.3"},15.35885167464115,14.162679425837322]
["BU00341801","00341801","Filmwijk Noord","Almere","Buurt","BU00341801","Filmwijk",1,1370,670,695,175,305,445,345,100,875,360,115,20,"585","110","675","585","45","310","65","365","20","13","0","1",755,420,115,220,1.8,5754,733,244,35,65,98,2,28,72,44,28,0,58,42,"2010","1510","2840","3190",".",".","1630","2940","0","0","0","0",".",".","0","0","93,3","90","70","100","150","30",330,580,260,69,89,11,1100,".",".",48.2,13.7,".",60.7,10.8,4.8,12.7,18.9,{"v":22,"d":"22.0"},2.1,"90","70","20","80",30,8.3,70,50,"140","0","10","25","25","0","35","35","10","455","375","85",0.6,"1915","25",0.9,{"v":1,"d":"1.0"},0.7,0.7,{"v":20,"d":"20.0"},24,24,0,1325,1,2,2099,57.299270072992705,57.299270072992705,{"v":2.18978102189781,"d":"2.2"},12.773722627737227,7.2992700729927]
["BU00341802","00341802","Filmwijk Bouwrai Noord","Almere","Buurt","BU00341802","Filmwijk",1,1345,635,705,270,165,460,330,110,810,385,130,15,"510","85","745","510","35","305","50","445","15","12","0","1",610,230,120,260,2.2,9414,593,308,35,65,98,2,44,56,49,7,0,100,0,"2160","1760","2880","3090",".",".","1820","2590","0","0","0","0",".",".","0","0","94,1","160","80","50","20","10",".",".",".",72,89,11,1000,".",".",40.6,14.3,".",41.9,13.9,2.8,10.9,14.3,18.1,24.7,"70","60","10","100",40,9.6,60,45,"115","0","20","20","15","5","20","25","15","445","375","70",0.7,"3124","20",0.5,0.9,0.4,0.4,21.7,14,14,0,1325,1,2,1936,62.0817843866171,62.0817843866171,{"v":0.7434944237918215,"d":"0.7"},20.074349442379184,8.178438661710038]
["BU00341803","00341803","Filmwijk Bouwrai Zuid","Almere","Buurt","BU00341803","Filmwijk",1,1545,770,780,190,160,375,465,355,675,680,120,75,"985","170","390","985","70","175","95","220","15","10","10","7",735,250,255,225,2.1,5501,724,392,80,20,98,2,86,14,8,6,0,100,0,"2450","1900","2540","2800","2640","2740","1940","2540","0","0","0","0","0","0","0","0","88,1","100","70","30","40","30",180,370,690,70,84,16,1300,".",".",28.1,30.1,".",22.6,28.3,{"v":2,"d":"2.0"},2.4,3.3,4.2,291.3,"20","50","10","330",25,8.4,55,36,"195","0","10","15","25","10","55","50","30","690","520","165",0.9,"2447","50",0.4,1.1,0.6,0.4,19.7,28,28,0,1325,1,2,1754,36.24595469255664,36.24595469255664,{"v":1.9417475728155338,"d":"1.9"},12.297734627831716,22.97734627831715]
["BU00341804","00341804","Filmwijk Midden","Almere","Buurt","BU00341804","Filmwijk",1,1985,1025,965,270,285,430,725,265,910,915,115,35,"1150","215","620","1150","85","290","135","330","10","6","5","3",765,135,245,385,2.6,4290,716,501,100,0,99,1,97,3,0,3,0,100,0,"3200",".","2810","2960","3110","4150","2630","3210","0",".","0","0","0","0","0","0","84,4","140","120","40","50","40",280,720,660,74,84,16,1600,".",".",31.1,29.4,".",15.7,42.6,1.9,1.9,2.2,2.4,346.8,"10","70","20","230",40,7.7,35,17,"245","0","20","20","25","25","90","45","20","945","710","235",1.2,"2045","80",1.1,1.1,0.8,0.8,15.2,50,46,4,1325,1,3,1468,42.0654911838791,42.0654911838791,{"v":2.0151133501259446,"d":"2.0"},13.602015113350127,13.350125944584383]
["BU00341805","00341805","Filmwijk Zuid-noord van Walt Disneyplts.","Almere","Buurt","BU00341805","Filmwijk",1,2375,1155,1220,380,320,560,720,400,1150,945,200,80,"1290","185","905","1290","75","370","115","530","15","8","25","9",1030,340,275,415,2.3,8049,976,365,74,26,98,2,60,40,24,16,0,95,5,"2520","1960","2670","2770","3720",".","2260","2700","0","0","0","0","0",".","0","0","88,5","200","150","80","60","20",430,820,590,69,87,13,1900,".",".",37.6,21.7,".",32.7,23.1,3.3,5.1,{"v":8,"d":"8.0"},10.8,161.9,"60","110","20","340",45,6.7,110,46,"240","0","25","30","20","10","60","75","25","945","730","220",0.9,"3208","55",1.7,0.5,0.4,0.5,11.4,31,29,2,1325,1,3,1152,45.68421052631579,45.68421052631579,{"v":0.8421052631578947,"d":"0.8"},16,16.842105263157894]
["BU00341806","00341806","Filmwijk Zuid-zuid van Walt Disneyplts.","Almere","Buurt","BU00341806","Filmwijk",1,1825,835,985,310,290,430,550,250,985,600,190,50,"835","120","870","830","60","415","65","455","10","6","5","4",765,230,165,375,2.4,7119,740,357,74,26,99,1,50,50,49,1,0,94,6,"2550","1880","2620","2810",".","4180","2320","2780","0","0","0","0",".","0","0","0","90,1","150","120","90","60","10",460,630,320,67,86,14,1500,".",".",43.9,17.7,".",36.4,19.7,3.4,8.7,13.7,15.6,45.3,"90","110","20","230",60,10.4,100,56,"185","0","20","20","20","15","50","45","15","715","565","150",0.9,"2789","60",2.1,0.4,0.3,0.6,9.6,26,26,0,1325,1,4,970,54.52054794520548,54.24657534246575,{"v":0.547945205479452,"d":"0.5"},16.986301369863014,13.698630136986301]
["BU00341807","00341807","LumiÞrepark","Almere","Buurt","BU00341807","Filmwijk",1,0,0,0,0,0,0,0,0,0,0,0,0,"0","0","0","0","0","0","0","0","0","0","0","0",0,0,0,0,".",".",0,".",".",".",".",".",".",".",".",".",".",".",".",".",".",".",".",".",".",".",".",".",".",".",".",".",".",".",".",".","0","0","0","0","0",".",".",".",".",".",".",0,".",".",".",".",".",".",".",".",".",".",".",".",".",".",".",".",".",".",".",".","0",".",".",".",".",".",".",".",".","0","0","0",".",".","0",".",".",".",".",".",22,21,1,".",".",".",".","Geen inwoners","Geen inwoners","Geen inwoners","Geen inwoners","Geen inwoners"]
["BU00341808","00341808","Laterna Magikapark","Almere","Buurt","BU00341808","Filmwijk",1,5,0,0,0,5,0,0,0,5,0,0,0,"5","0","0","5","0","0","0","0","0","0","0","0",5,0,0,0,{"v":5,"d":"5.0"},".",1,".",".",".",".",".",".",".",".",".",".",".",".",".",".",".",".",".",".",".",".",".",".",".",".",".",".",".",".",".","0","0","0","0","0",".",".",".",".",".",".",0,".",".",".",".",".",".",".",".",".",".",".",".",".",".",".",".",".",".",".",".","5",".",".",".",".",".",".",".",".","5","5","0",".",".","0",".",".",".",".",".",17,17,0,1325,1,3,1463,0,0,{"v":0,"d":"0.0"},0,0]
["WK003419","003419","Danswijk","Almere","Wijk","WK003419","Danswijk",1,5660,2845,2815,965,875,1535,1785,500,2980,2080,500,100,"2535","505","2620","2535","205","1180","300","1440","60","11","25","4",2275,655,495,1125,2.5,8972,2128,345,83,17,99,1,71,29,22,6,0,100,0,"2640","1720","2810","2910",".",".","2210","2810","0","0","0","0",".",".","0","0","88,2","500","340","230","160","70",1530,2030,950,75,89,11,4500,37.5,{"v":30,"d":"30.0"},37.7,{"v":19,"d":"19.0"},".",29.3,24.1,{"v":3,"d":"3.0"},5.3,7.7,9.4,{"v":186,"d":"186.0"},"110","260","70","430",135,8.1,185,32,"495","0","105","85","60","10","95","85","50","2315","1860","455",1,"3670","165",1.6,0.5,0.4,0.5,{"v":12,"d":"12.0"},68,63,5,".",".",2,1651,55.21201413427562,55.21201413427562,{"v":1.2367491166077738,"d":"1.2"},17.04946996466431,8.8339222614841]
["BU00341901","00341901","Danswijk Noordwest","Almere","Buurt","BU00341901","Danswijk",1,1675,810,860,275,270,415,530,180,875,580,170,40,"740","105","825","740","45","380","60","440","15","9","5","4",680,200,155,325,2.5,9591,643,332,81,19,99,1,59,41,37,5,0,100,0,"2570","1520","2760","3110",".",".","2290","2760","0","0","0","0",".",".","0","0","89,1","140","90","70","50","20",480,560,250,72,88,12,1300,".",".",41.2,16.9,".",{"v":34,"d":"34.0"},{"v":21,"d":"21.0"},3.8,8.3,11.6,14.1,128.8,"50","80","20","160",55,11.1,70,42,"135","0","30","25","20","0","25","25","10","670","545","125",1,"3841","55",1.5,0.4,0.4,0.6,12.9,18,17,1,1326,1,2,1714,55.82089552238806,55.82089552238806,{"v":1.1940298507462688,"d":"1.2"},16.417910447761194,10.746268656716417]
["BU00341902","00341902","Danswijk Noordoost","Almere","Buurt","BU00341902","Danswijk",1,2170,1105,1065,360,340,615,685,175,1175,775,195,30,"935","240","995","935","100","445","135","555","25","12","5","3",890,270,190,430,2.4,8471,838,336,78,22,99,1,70,30,22,8,0,100,0,"2550","1810","2780","2720",".",".","2050","2760","0","0","0","0",".",".","0","0","88,1","180","130","90","70","20",600,880,290,74,88,12,1700,".",".",38.7,16.7,".",31.7,22.4,3.1,5.5,8.5,10.2,182.8,"60","110","20","140",50,7.6,75,35,"215","0","55","35","25","5","45","25","20","880","715","165",1,"3433","55",1.7,0.3,0.2,0.4,{"v":12,"d":"12.0"},29,26,3,1326,1,2,1803,56.91244239631337,56.91244239631337,{"v":0.9216589861751152,"d":"0.9"},16.589861751152075,8.064516129032258]
["BU00342806","00342806","Muziekwijk N.-Zuidoost","Almere","Buurt","BU00342806","Muziekwijk Noord",1,1820,895,930,340,210,640,440,195,1080,520,175,50,"740","285","800","740","55","320","225","480","25","13","5","4",895,400,165,330,{"v":2,"d":"2.0"},5880,822,315,42,58,97,3,45,55,31,25,0,80,20,"2300","1910","2810","2970",".",".","2130","2510","0","0","0","0",".",".","0","0","85,8","160","100","60","30","10",410,630,370,73,86,14,1400,".",".",36.5,19.6,".",46.5,13.8,7.5,{"v":11,"d":"11.0"},14.6,16.4,16.9,"70","70","30","160",40,8.4,75,42,"210","0","30","30","20","5","50","50","20","655","525","130",0.7,"2110","65",0.4,0.6,0.3,0.9,14.8,31,31,0,1311,1,2,2406,59.34065934065934,59.34065934065934,{"v":0.5494505494505495,"d":"0.5"},18.681318681318682,10.714285714285714]
["BU00343002","00343002","Literatuurwijk Noordoost","Almere","Buurt","BU00343002","Literatuurwijk",1,1515,755,760,290,225,385,455,165,850,470,155,40,"620","105","795","615","40","335","65","460","20","13","10","7",615,200,110,305,2.5,8859,561,353,87,13,99,1,47,53,47,6,0,98,2,"2680","1560","2680","2900","4930",".","2380","3020","0","0","0","0","0",".","0","0","86,5","160","120","70","40","20",550,430,180,68,87,13,1200,".",".",49.5,16.2,".",40.3,17.8,5.8,10.6,14.9,17.2,19.5,"50","80","10","140",35,{"v":7,"d":"7.0"},80,54,"155","0","25","30","15","10","30","25","20","555","435","120",0.9,"3241","35",0.6,0.5,0.5,0.6,{"v":13,"d":"13.0"},19,17,1,1321,1,2,2057,59.4059405940594,59.07590759075908,{"v":1.3201320132013201,"d":"1.3"},19.141914191419144,10.891089108910892]
["WK003449","003449","Regenboogbuurt","Almere","Wijk","WK003449","Regenboogbuurt",1,5235,2620,2615,905,775,1410,1670,480,2830,1820,485,95,"2530","460","2245","2530","185","1105","280","1145","55","11","15","2",2185,655,475,1050,2.4,5021,2085,324,82,18,98,2,72,27,21,7,0,100,0,"2700","1820","2750","2980","3670","3850","2190","2890","810","610","780","930","1180","1240","720","840",".","480","340","210","150","60",1140,1950,1120,75,86,14,4100,39.9,31.6,35.6,20.9,".",29.3,23.2,3.5,5.2,7.2,8.3,143.4,"110","230","50","390",140,9.3,155,30,"600","0","90","75","65","15","160","135","60","2260","1735","525",1,"2165","215",{"v":1,"d":"1.0"},0.7,0.4,0.6,14.1,108,104,4,".",".",2,1919,51.671442215854825,51.671442215854825,{"v":1.146131805157593,"d":"1.1"},17.28748806112703,9.169054441260744]
["BU00348501","00348501","Overig Almere Hout Oost","Almere","Buurt","BU00348501","Overig Almere Hout",1,20,5,10,5,5,0,10,0,5,10,0,0,"15","0","0","15","0","0","0","0","0","0","0","0",10,0,5,0,2.4,4,6,".",".",".",".",".",".",".",".",".",".",".",".","4670",".",".",".",".","4670",".","5040","2150",".",".",".",".","2150",".","2330",".","0","0","0","0","0",".",".",".",".",".",".",0,".",".",".",".",".",".",".",".",".",".",".",".",".",".",".",".",".",".",".",".","5",".",".",".",".",".",".",".",".","5","0","5",".",".","0",10.7,{"v":4,"d":"4.0"},4.1,7.9,{"v":0,"d":"0.0"},494,474,20,1349,5,5,10,25,25,{"v":0,"d":"0.0"},25,0]
["BU00600008","00600008","Verspreide huizen Nes","Ameland","Buurt","BU00600008","Wijk 00",1,75,30,45,5,20,10,20,25,40,25,10,0,"50","20","5","55","0","0","15","5","0","0","5","39",55,45,10,5,1.4,10,30,416,30,70,50,50,67,30,0,30,3,93,7,"3110","3140",".",".",".",".",".","3060","620","400",".",".",".",".",".","670",".","0","0","0","0","0",".",".",".",".",".",".",100,".",".",".",".",".",".",".",".",".",".",".",".","0","0","0","20",".",".",".",".","35","0","0","15","5","5","5","0","5","35","25","10",0.6,"4","5",0.9,0.9,1.2,1.6,{"v":1,"d":"1.0"},752,741,11,9163,1,5,252,26.666666666666668,33.33333333333333,{"v":0,"d":"0.0"},6.666666666666667,33.33333333333333]
["BU00740403","00740403","Katlijk","Heerenveen","Buurt","BU00740403","Wijk 04 Jubbega",1,620,310,310,65,95,85,245,130,280,265,55,25,"575","20","25","575","15","10","10","15","5","6","10","11",260,70,85,105,2.4,55,228,505,95,5,97,3,89,11,4,7,0,91,9,"3480","3110",".",".","3510","3490","3030","3530","1190","1330",".",".","1060","1210","1140","1200",".","30","30","20","20","10",100,260,130,75,73,27,500,".",".",38.1,{"v":23,"d":"23.0"},".",27.4,33.2,4.8,4.4,7.6,8.4,428.4,"0","30","10","110",".",".",25,42,"110","15","15","10","5","10","25","20","5","380","255","125",1.5,"34","70",3.4,2.9,2.9,1.9,1.5,1137,1127,10,8455,1,5,47,7.258064516129033,7.258064516129033,{"v":1.6129032258064515,"d":"1.6"},10.483870967741936,20.967741935483872]
["BU00805104","00805104","Grote Wielen","Leeuwarden","Buurt","BU00805104","Camminghaburen e.o.",1,0,0,0,0,0,5,0,0,0,0,0,0,"0","0","0","0","0","0","0","0","0","0","0","0",0,0,0,0,{"v":1,"d":"1.0"},".",1,".",".",".",".",".",".",".",".",".",".",".",".",".",".",".",".",".",".",".",".",".",".",".",".",".",".",".",".",".","0","0","0","0","0",".",".",".",".",".",".",0,".",".",".",".",".",".",".",".",".",".",".",".",".",".",".",".",".",".",".",".","5",".",".",".",".",".",".",".",".","5","0","0",".",".","0",".",".",".",".",".",340,234,106,8926,1,5,34,"Geen inwoners","Geen inwoners","Geen inwoners","Geen inwoners","Geen inwoners"]
["BU00808114","00808114","Leons","Leeuwarden","Buurt","BU00808114","Dorpen Zuid-West",1,25,10,15,0,10,0,10,5,10,10,0,5,"25","0","0","25","0","0","0","0","0","0","5","40",10,0,5,5,2.8,13,8,".",".",".",".",".",".",".",".",".",".",".",".","5040",".",".",".",".","5040",".","5610","1470",".",".",".",".","1470",".","1630",".","0","0","0","0","0",".",".",".",".",".",".",0,".",".",".",".",".",".",".",".",".",".",".",".",".",".",".",".",".",".",".",".","5",".",".",".",".",".",".",".",".","15","5","10",".",".","0",3.9,3.5,1.6,1.6,{"v":1,"d":"1.0"},192,188,5,8833,1,5,6,0,0,{"v":0,"d":"0.0"},0,20]
["BU00850302","00850302","Elsloo-Buitengebied","Ooststellingwerf","Buurt","BU00850302","Elsloo",1,325,165,165,50,40,65,110,70,155,135,25,10,"315","5","10","310","5","5","0","0","5","3","5","9",125,20,60,45,2.5,19,118,462,100,0,95,5,85,15,0,15,0,94,6,"3630",".",".",".",".","3670","3470","3670","1370",".",".",".",".","1390","1430","1360",".","30","10","10","10","0",40,150,60,75,66,34,300,".",".",44.1,17.6,".",28.2,24.2,4.8,5.6,5.6,7.3,{"v":438,"d":"438.0"},"0","20","0","50",10,10.1,15,40,"75","30","10","5","0","10","5","10","0","175","110","60",1.4,"10","25",5.1,7.8,1.8,1.8,1.2,1743,1730,13,8424,1,5,31,4.615384615384616,3.076923076923077,{"v":0,"d":"0.0"},15.384615384615385,21.53846153846154]
["WK009000","009000","Wijk 00 Drachten","Smallingerland","Wijk","WK009000","Wijk 00 Drachten",1,44990,22260,22725,7020,5125,10545,12085,10210,21240,17050,4115,2585,"38270","2035","4685","38270","975","2125","1060","2560","400","9","490","11",21035,8430,5950,6655,2.1,1945,21824,256,74,26,96,4,56,44,32,11,0,81,19,"2200","1560","2070","2260","2610","3350","1720","2570","910","670","900","990","970","1240","790","1000",".","3890","2530","1500","960","230",9700,15050,8310,69,88,12,36100,{"v":34,"d":"34.0"},27.9,44.4,13.2,33.8,44.8,12.4,3.4,7.6,12.2,15.5,97.2,"1570","2400","430","9290",1350,12.1,4315,96,"4460","20","655","980","305","250","940","865","450","28320","19965","8355",1.3,"1224","1675",0.8,{"v":1,"d":"1.0"},0.7,0.7,10.4,2421,2313,108,".",".",2,1568,14.936652589464325,14.936652589464325,{"v":0.5112247166036897,"d":"0.5"},15.603467437208268,22.69393198488553]
["BU00980013","00980013","Wolvega-De Muziekbuurt","Weststellingwerf","Buurt","BU00980013","Wolvega",1,720,360,365,130,90,155,190,155,335,280,60,40,"610","30","80","605","20","40","10","40","10","11","10","14",310,105,90,120,2.3,4459,313,234,97,3,99,1,40,60,57,4,0,78,22,"2090","1770","1830","1920","2150","3140","1790","2490","890","710","820","920","930","1040","850","940",".","70","50","30","20","0",190,280,40,68,93,7,600,".",".",49.8,6.9,".",50.3,9.7,2.6,6.9,11.8,17.1,{"v":33,"d":"33.0"},"20","30","0","150",25,12.1,50,68,"30","0","10","5","0","0","0","5","5","370","300","70",1.2,"2279","30",1.1,0.9,0.4,0.4,{"v":8,"d":"8.0"},16,16,0,8471,1,3,1182,15.972222222222221,15.277777777777779,{"v":0,"d":"0.0"},18.055555555555554,21.52777777777778]
["BU01060100","01060100","De Lariks Oost","Assen","Buurt","BU01060100","Lariks",3,1315,585,725,115,105,295,310,475,575,365,175,200,"1065","50","200","1060","25","70","30","135","10","9","60","45",775,495,155,125,1.6,5125,919,214,37,63,92,8,30,70,54,16,0,93,7,"1740","1470","1890","2260","2780","2240","1510","2240","770","610","910","1070","1200","1290","640","1060",".","60","40","30","20","0",240,450,210,58,89,11,1100,".",".",49.2,8.3,".",70.3,{"v":4,"d":"4.0"},3.2,11.1,18.1,23.9,20.4,"80","100","20","450",30,13.9,275,210,"75","0","10","10","5","0","10","25","15","505","410","95",0.7,"1976","35",0.6,0.7,0.6,0.4,11.5,26,26,0,9406,1,1,2521,19.39163498098859,19.011406844106464,{"v":0,"d":"0.0"},8.745247148288973,36.12167300380228]
["BU01060103","01060103","Luchiesland Zuid","Assen","Buurt","BU01060103","Lariks",3,935,445,495,155,100,290,235,150,540,220,135,35,"580","65","285","580","25","130","40","150","15","15","10","7",515,270,100,145,1.8,4992,509,191,59,41,98,2,31,69,58,11,0,77,23,"2070","1710","2220","2210","2810","5340","2070","2050","610","450","660","710","1160","1250","510","820",".","80","40","40","20","0",280,330,100,61,92,8,800,".",".",47.9,4.9,".",64.9,3.1,4.8,{"v":13,"d":"13.0"},20.2,24.8,6.6,"100","70","10","150",35,16.5,95,103,"55","0","5","20","5","0","10","10","5","385","330","55",0.7,"2047","35",0.7,0.4,0.4,0.8,12.3,19,19,0,9406,1,2,2250,37.967914438502675,37.967914438502675,{"v":0,"d":"0.0"},16.577540106951872,16.0427807486631]
["BU01091006","01091006","Klooster","Coevorden","Buurt","BU01091006","Wijk 10 Coevorden",1,175,90,85,30,15,30,50,50,80,90,5,5,"165","5","10","165","5","5","0","5","0","0","0","6",55,5,30,20,2.9,198,63,461,100,0,92,8,92,8,2,6,0,86,14,"4300",".",".",".",".","4420","3080","4390","1510",".",".",".",".","1510","1440","1510",".","20","10","0","0","0",".",".",".",".",".",".",100,".",".",42.5,21.3,".",".",".",".",".",".",".",".","0","10","0","50",".",".",10,51,"35","0","5","5","0","10","5","5","5","135","90","45",2.4,"153","30",2.9,1.7,1.5,2.2,2.6,91,89,1,7741,1,5,114,5.714285714285714,5.714285714285714,{"v":0,"d":"0.0"},17.142857142857142,28.57142857142857]
["BU01094048","01094048","De Kiel","Coevorden","Buurt","BU01094048","Wijk 40 Sleen",1,270,130,140,20,40,35,110,65,100,130,30,15,"260","5","5","260","5","5","0","0","0","0","5","7",120,40,40,40,2.2,680,98,296,100,0,99,1,82,18,12,6,0,98,2,"2730",".",".",".","2330","2850","2070","2870","1150",".",".",".","1160","1150","1210","1140",".","10","10","20","0","0",70,100,40,64,".",".",200,".",".",39.4,11.9,".",{"v":32,"d":"32.0"},{"v":18,"d":"18.0"},0.8,3.3,5.7,6.6,225.9,"0","20","0","50",".",".",20,70,"30","5","5","5","0","0","5","5","5","170","130","40",1.4,"431","40",2.1,1.8,2.1,2.1,1.9,40,40,0,7849,3,5,111,3.7037037037037033,3.7037037037037033,{"v":0,"d":"0.0"},7.4074074074074066,24.074074074074073]
["BU01140809","01140809","Verspreide huizen Klazienaveen","Emmen","Buurt","BU01140809","Wijk 08 Klazienaveen",1,200,110,90,20,30,35,65,45,75,105,5,10,"185","5","10","185","5","5","0","0","0","0","5","10",80,15,35,25,2.6,11,72,449,96,4,96,4,92,8,0,8,0,83,17,"4120",".",".",".",".","4130","4430","4080","1180",".",".",".",".","1170","1460","1150",".","10","10","10","0","0",".",".",".",63,".",".",200,".",".",42.3,16.7,".",".",".",".",".",".",".",".","10","10","0","40",".",".",10,55,"25","10","5","5","0","0","5","5","5","110","85","25",1.4,"6","25",2.6,2.9,2.4,2.5,{"v":3,"d":"3.0"},1890,1854,35,7891,1,5,113,7.5,7.5,{"v":0,"d":"0.0"},10,22.5]
["WK011853","011853","Wijk 53 Elim","Hoogeveen","Wijk","WK011853","Wijk 53 Elim",1,2330,1175,1150,350,280,485,735,475,1005,1040,160,130,"2210","75","50","2210","30","25","45","30","15","7","25","9",995,280,350,370,2.3,178,993,287,91,9,97,3,72,28,21,8,0,86,14,"3140","1760","2540","2510","3000","3780","2160","3510","1140","780","920","1060","1140","1270","970","1200",".","200","110","100","30","10",710,880,210,71,82,18,1900,".",".",44.2,11.3,".",37.9,16.8,{"v":2,"d":"2.0"},{"v":3,"d":"3.0"},6.2,9.5,164.6,"20","140","20","430",45,7.8,150,64,"250","20","65","50","10","15","30","35","30","1405","1055","350",1.4,"107","130",{"v":1,"d":"1.0"},0.8,0.8,0.7,2.2,1312,1309,3,".",".",5,221,5.150214592274678,5.150214592274678,{"v":0.4291845493562232,"d":"0.4"},15.021459227467812,20.386266094420602]
["GM0141","0141","Almelo","Almelo","Gemeente","GM0141","ook geen buurt",1,73949,37114,36835,11249,9236,17890,20438,15136,35164,28256,6468,4061,"52854","5955","15140","52854","2579","7176","3376","7964","620","8","806","11",33373,12544,9342,11487,2.2,1101,34067,272,71,29,96,4,54,46,34,12,0,84,16,"2540","1680","2540","2730","2930","3900","1980","3000","910","640","880","1000","1090","1360","770","1030",".","6190","3910","2610","1850","410",18210,24300,13490,68,87,13,59700,33.7,27.9,45.8,13.2,34.1,44.6,14.3,3.9,8.9,13.9,17.2,80.8,"2610","5000","730","13680",2280,12.3,5695,77,"7580","135","1250","1705","470","615","1370","1285","760","36005","29405","6600",1.1,"536","2605",1.2,0.9,0.6,0.8,8.8,6941,6718,223,".",".",2,1607,28.52641685485943,28.52641685485943,{"v":0.5544361654653883,"d":"0.6"},15.21183518370769,20.46816048898565]
["WK014117","014117","Hofkamp","Almelo","Wijk","WK014117","Hofkamp",1,3780,1895,1885,560,515,755,1135,815,1745,1480,325,240,"3100","245","440","3100","100","235","145","205","25","7","45","12",1695,635,475,585,2.2,415,1756,364,67,33,93,7,63,37,19,17,0,70,30,"2830","1620","2650","2840","3180","4420","1870","3350","1040","630","940","1130","1140","1600","730","1210",".","260","290","110","120","30",900,1080,810,73,81,19,3100,39.9,33.5,40.4,21.7,".",37.6,24.7,4.4,{"v":7,"d":"7.0"},10.2,12.4,175.5,"50","160","30","750",90,9.5,235,62,"460","25","40","70","20","65","95","105","40","1865","1455","410",1.1,"204","130",1.3,0.9,0.7,0.7,7.4,928,911,17,".",".",2,1774,17.989417989417987,17.989417989417987,{"v":0.7936507936507936,"d":"0.8"},14.814814814814813,21.56084656084656]
["BU01480211","01480211","Verspreide huizen Oosteinde","Dalfsen","Buurt","BU01480211","Nieuwleusen",1,255,135,120,30,50,35,95,45,115,110,15,15,"255","0","0","250","0","0","0","0","0","8","0","4",90,20,20,45,2.8,81,92,522,85,15,96,4,89,11,0,11,0,89,11,"3790","3240",".",".","3660","3940","2920","3890","1200","1050",".",".","1040","1270","1170","1210",".","20","20","10","10","0",60,100,40,82,77,23,200,".",".",42.9,19.8,".",".",".",".",".",".",".",".","0","10","0","40",".",".",".",".","40","15","10","5","0","5","0","5","0","165","120","45",1.9,"53","35",2.8,1.8,1.8,{"v":2,"d":"2.0"},2.2,314,314,0,7711,1,5,87,1.9607843137254901,0,{"v":0,"d":"0.0"},11.76470588235294,17.647058823529413]
["WK015011","015011","Diepenveen","Deventer","Wijk","WK015011","Diepenveen",1,4960,2405,2555,705,550,755,1510,1440,1940,2400,290,330,"4365","230","365","4365","160","185","75","180","45","8","70","14",2095,535,815,740,2.3,286,2120,507,91,9,97,3,73,27,18,9,0,83,17,"2980","1870","2330","2450","2800","3920","2070","3310","1100","790","860","930","1030","1420","860","1190",".","370","320","130","100","30",620,1240,1640,71,78,22,4100,45.7,38.4,37.1,27.3,".",25.7,34.4,1.9,3.1,5.4,7.2,401.5,"40","150","40","1310",90,7.7,355,72,"645","35","45","70","35","75","180","155","50","2680","2080","600",1.3,"155","230",0.9,{"v":1,"d":"1.0"},0.8,0.8,6.1,1805,1733,72,".",".",4,585,11.995967741935484,11.995967741935484,{"v":0.6048387096774194,"d":"0.6"},14.213709677419356,29.03225806451613]
["BU01530802","01530802","Schipholt-Glanermaten","Enschede","Buurt","BU01530802","Wijk 08 Glanerbrug en omgeving",1,2800,1400,1400,470,360,630,785,555,1410,1025,235,130,"1980","310","515","1980","165","225","145","285","30","9","25","8",1220,400,355,465,2.3,5466,1236,248,82,18,97,3,55,45,38,7,0,96,4,"2690","1640","2750","2950","3210","3480","2240","3050","930","660","890","980","1100","1430","850","990",".","270","180","110","50","20",890,900,330,64,90,10,2200,".",{"v":24,"d":"24.0"},51.8,8.7,".",47.2,12.2,4.3,11.1,15.8,19.5,68.7,"120","210","20","490",85,11.4,275,99,"205","0","40","55","5","5","25","45","25","1305","1130","175",1.1,"2544","90",0.7,0.6,0.5,0.4,{"v":7,"d":"7.0"},51,51,0,7534,1,3,1397,29.28571428571429,29.28571428571429,{"v":0.7142857142857143,"d":"0.7"},16.785714285714285,19.82142857142857]
["BU01600407","01600407","Verspreide huizen Westerhuizingerveld","Hardenberg","Buurt","BU01600407","Balkbrug",1,550,285,265,95,85,95,170,105,255,235,35,20,"530","5","10","530","5","5","5","5","5","7","0","0",205,55,65,80,2.7,30,172,458,95,5,95,5,88,12,1,11,0,85,15,"3800","3610",".",".","3230","3900","3240","3880","1460","1110",".",".","1500","1470","1290","1480",".","50","40","20","20","0",90,220,110,76,65,35,400,".",".",{"v":39,"d":"39.0"},20.5,".",{"v":26,"d":"26.0"},30.9,{"v":2,"d":"2.0"},1.5,{"v":2,"d":"2.0"},{"v":3,"d":"3.0"},411.1,"0","20","0","100",10,6.6,20,38,"105","45","10","10","5","5","10","10","10","340","220","120",1.7,"19","60",4.7,4.4,2.8,{"v":3,"d":"3.0"},0.5,1834,1833,1,7707,1,5,27,3.6363636363636362,3.6363636363636362,{"v":0,"d":"0.0"},17.272727272727273,19.090909090909093]
["BU01602807","01602807","Baalderveld","Hardenberg","Buurt","BU01602807","Hardenberg",1,3840,1930,1910,685,525,875,1170,580,1775,1755,200,100,"3575","110","155","3570","75","80","30","75","50","13","15","4",1395,265,475,650,2.6,2501,1415,318,96,4,99,1,85,15,11,4,0,98,2,"2860","1710","2530","2660","3020","3640","2200","2970","1030","610","900","1010","1090","1280","830","1060",".","370","210","160","120","20",710,1620,690,79,90,10,3000,37.2,30.2,37.4,17.7,".",18.4,25.4,1.1,2.2,3.2,{"v":4,"d":"4.0"},203.2,"30","240","30","510",95,8.7,235,62,"290","0","35","35","20","20","60","85","35","1840","1455","385",1.3,"1199","185",0.8,0.7,0.4,0.5,{"v":6,"d":"6.0"},160,153,7,7772,1,4,805,7.03125,6.901041666666667,{"v":0.5208333333333333,"d":"0.5"},17.838541666666664,15.104166666666666]
["BU01630105","01630105","De Zuid Es","Hellendoorn","Buurt","BU01630105","Wijk 01 Hellendoorn",1,1040,525,510,150,125,200,305,260,470,465,60,50,"1000","10","30","1000","5","15","5","15","15","14","5","7",430,110,160,160,2.4,3650,438,422,94,6,98,2,79,21,17,4,0,92,8,"3020","1970","2230","2440","2530","3790","2010","3290","1150","860","870","880","1010","1410","820","1240",".","70","70","30","30","10",170,430,190,75,88,12,900,".",".",39.7,17.8,".",27.4,24.4,0.7,1.2,{"v":3,"d":"3.0"},5.1,294.2,"10","40","10","230",20,8.4,60,58,"85","0","15","15","5","15","15","10","10","605","485","120",1.4,"2124","70",1.1,0.7,0.8,0.8,4.7,28,28,0,7447,1,4,568,3.8461538461538463,3.8461538461538463,{"v":0.9615384615384616,"d":"1.0"},14.423076923076922,25]
["BU01640403","01640403","Groot Driene-Noord","Hengelo","Buurt","BU01640403","Wijk 04 Groot Driene",1,3075,1470,1605,365,410,700,785,810,1450,1025,340,260,"1740","225","1115","1735","130","490","95","620","25","8","30","9",1630,850,355,420,1.9,3895,1641,192,51,49,97,3,23,77,48,29,0,100,0,"2160","2020","2190","2420","2690","4310","2030","2600","890","820","900","1060","940","1770","870","960",".","250","140","130","110","70",790,1090,550,63,90,10,2600,27.4,23.4,{"v":53,"d":"53.0"},4.9,".",65.2,4.9,5.3,{"v":12,"d":"12.0"},19.2,24.1,12.7,"200","210","40","710",85,12.5,470,152,"195","0","20","55","15","0","25","45","35","1300","1165","130",0.8,"1644","85",0.4,0.6,0.6,0.6,8.2,79,79,0,7552,2,2,1668,43.577235772357724,43.41463414634146,{"v":2.2764227642276422,"d":"2.3"},11.869918699186991,26.34146341463415]
["BU01680209","01680209","Verspreide huizen Overdinkel","Losser","Buurt","BU01680209","Wijk 02 Overdinkel",1,565,290,275,70,75,105,185,130,245,260,30,35,"470","70","25","470","55","15","20","10","5","9","5","9",215,45,80,95,2.6,66,222,473,79,21,92,8,88,12,0,12,0,82,18,"3780","2760",".",".","3750","4210","2840","3930","1240","970",".",".","1220","1360","1060","1260",".","30","30","20","20","0",110,220,120,73,75,25,500,".",".",43.9,18.4,".",24.9,{"v":31,"d":"31.0"},2.8,4.7,5.7,7.5,399.4,"0","30","0","110",20,13.6,30,53,"95","25","10","15","0","5","15","10","5","345","265","80",1.6,"40","35",1.6,1.6,1.4,1.3,{"v":4,"d":"4.0"},858,855,3,7586,1,5,237,16.8141592920354,16.8141592920354,{"v":0,"d":"0.0"},12.389380530973451,23.008849557522122]
["BU01710943","01710943","Espel-landelijk gebied","Noordoostpolder","Buurt","BU01710943","Wijk 09 Espel",1,635,350,285,125,95,155,185,70,315,295,15,5,"590","30","15","590","5","10","25","5","10","16","0","2",210,40,65,105,2.9,19,207,533,100,0,97,3,84,16,0,16,0,96,4,"4380",".","3320","3300","3030","4860","4400","4370","1580",".","950","1090","1100","1810","1770","1540",".","70","40","30","10","0",".",".",".",85,57,43,500,".",".",33.5,24.3,".",18.3,35.6,2.5,1.5,3.9,4.4,362.3,"0","30","10","60",".",".",20,28,"185","100","20","15","10","10","20","10","0","365","225","140",1.7,"11","40",5.3,4.7,2.5,2.8,0.6,3297,3271,26,8311,2,5,22,7.086614173228346,7.086614173228346,{"v":0,"d":"0.0"},19.68503937007874,11.023622047244094]
["BU01750401","01750401","Kern Beerzerveld","Ommen","Buurt","BU01750401","Beerzerveld",1,505,260,250,105,65,120,140,85,215,255,20,15,"485","10","15","480","5","5","5","10","5","8","0","4",185,40,65,80,2.8,2358,187,331,99,1,96,4,77,23,20,3,0,79,21,"2940",".","2010","2610","2990","3370","1980","3230","1050",".","900","1080","970","1220","960","1070",".","60","30","30","10","0",140,200,50,77,91,9,400,".",".",42.1,11.3,".",{"v":26,"d":"26.0"},18.8,0.6,2.2,{"v":5,"d":"5.0"},6.7,{"v":218,"d":"218.0"},"10","20","0","70",10,5.1,20,44,"35","0","10","5","5","0","10","5","0","285","225","55",1.6,"1319","35",0.4,2.8,3.1,0.3,2.4,22,21,0,7685,1,5,79,4.9504950495049505,3.9603960396039604,{"v":0,"d":"0.0"},20.792079207920793,16.831683168316832]
["BU01800100","01800100","Rouveen kern","Staphorst","Buurt","BU01800100","Wijk 01 Rouveen (kern)",1,1580,815,760,415,210,430,345,185,735,785,25,35,"1465","30","90","1460","5","30","20","60","25","13","5","3",530,100,145,290,{"v":3,"d":"3.0"},4197,545,334,95,5,96,4,87,13,10,4,0,57,43,"2830","1810","2650","2280","2780","3400","2010","2940","1070","1040","890","910","1060","1300","960","1090",".","240","110","60","40","10",270,570,250,85,88,12,1200,".",".",37.4,15.8,".",17.6,25.8,1.3,1.5,1.9,2.9,254.6,"20","30","10","160",25,4.7,35,23,"110","0","30","15","5","15","25","10","10","805","675","130",1.5,"2142","85",0.5,4.7,0.5,0.6,{"v":2,"d":"2.0"},38,38,0,7954,1,5,235,7.59493670886076,7.2784810126582276,{"v":0.6329113924050633,"d":"0.6"},26.265822784810126,11.708860759493671]
["BU01890006","01890006","'t Loo","Wierden","Buurt","BU01890006","Wijk 00 Wierden (kern)",1,410,210,195,50,80,55,150,70,165,225,5,10,"385","15","5","385","10","5","0","0","0","5","0","2",140,10,55,70,2.9,1415,142,490,99,1,99,1,97,3,0,3,0,94,6,"3880",".","4260","3480","3630","3980",".","3850","1320",".","920","1150","1090","1430",".","1310",".","30","30","10","30","10",40,130,160,79,85,15,400,".",".",33.2,29.9,".",6.4,52.5,0.7,0.7,0.7,0.7,473.6,"0","10","0","60",".",".",10,27,"45","0","5","10","0","5","15","5","0","205","165","40",1.4,"709","15",1.1,0.5,0.9,0.9,{"v":7,"d":"7.0"},29,29,0,7641,1,4,619,6.097560975609756,6.097560975609756,{"v":2.4390243902439024,"d":"2.4"},12.195121951219512,17.073170731707318]
["BU01932250","01932250","Tippe bij de IJssel","Zwolle","Buurt","BU01932250","Wijk 22 Stadshagen",1,15,10,10,5,5,0,5,0,10,10,0,0,"15","0","0","20","0","0","0","0","5","235","0","0",5,0,0,5,4.3,22,4,".",".",".",".",".",".",".",".",".",".",".",".",".",".",".",".",".",".",".",".",".",".",".",".",".",".",".",".",".","20","20","10","10","10",".",".",".",".",".",".",0,".",".",".",".",".",".",".",".",".",".",".",".","0","10","0","10",".",".",".",".","5",".",".",".",".",".",".",".",".","0","0","0",".",".","0",1.8,2.3,1.8,1.8,{"v":7,"d":"7.0"},78,78,0,8043,1,4,621,-33.33333333333333,0,{"v":66.66666666666666,"d":"66.7"},33.33333333333333,0]
["BU02000101","02000101","Binnenstad","Apeldoorn","Buurt","BU02000101","Centrum",3,5840,3035,2805,295,985,2115,1225,1220,3580,1355,630,275,"4080","525","1235","4080","175","405","355","830","35","6","40","7",4105,2775,970,365,1.4,7424,3960,261,12,88,93,7,33,67,18,49,0,85,15,"1880","1740","2540","2610","2800","3540","1700","2230","660","590","840","1020","1150","1510","620","720","3,8","140","110","140","240","70",1220,2500,1380,72,87,13,5300,37.2,34.8,35.8,15.3,32.2,61.6,5.6,6.1,8.5,12.6,15.4,{"v":10,"d":"10.0"},"160","260","60","1100",100,11.9,560,96,"1325","0","75","480","110","70","300","145","140","2425","2050","370",0.6,"3081","205",0.7,0.4,0.9,1.1,22.3,79,79,0,7311,1,1,3328,30.136986301369863,30.136986301369863,{"v":1.1986301369863013,"d":"1.2"},5.051369863013699,20.89041095890411]
["BU02001004","02001004","Bosgebied Nieuw Milligen","Apeldoorn","Buurt","BU02001004","Uddel en omgeving",3,110,50,60,10,15,20,45,15,55,50,5,5,"100","10","5","100","5","5","5","0","0","0","0","9",50,10,20,15,2.4,7,44,681,100,0,84,16,75,25,0,25,0,84,16,"4670",".",".",".",".","4730","3230","5020","1530",".",".",".",".","1520","1610","1510",".","10","10","10","0","0",".",".",".",".",".",".",100,".",".",".",".",".",".",".",".",".",".",".",".","0","0","0","10",".",".",".",".","30","5","5","5","5","0","10","5","0","100","70","30",".",".","5",{"v":4,"d":"4.0"},4.4,4.6,4.6,{"v":0,"d":"0.0"},1591,1589,2,3888,1,5,91,9.090909090909092,9.090909090909092,{"v":0,"d":"0.0"},9.090909090909092,13.636363636363635]
["BU02020840","02020840","Velperweg-Noord","Arnhem","Buurt","BU02020840","Velperweg e.o.",1,1680,900,780,110,275,900,260,140,1285,265,100,25,"1140","155","385","1140","55","150","105","230","25","14","5","3",1100,695,295,115,1.5,9542,1093,290,12,88,95,5,27,73,15,59,0,91,9,"1930","1860","2280","2560","2850",".","1780","2340","430","320","1030","1300","1520",".","330","710",".","60","30","20","150","30",250,480,850,80,88,12,1500,".",".",26.7,23.4,".",52.3,9.4,2.2,{"v":3,"d":"3.0"},{"v":5,"d":"5.0"},5.9,{"v":9,"d":"9.0"},"20","70","10","120",15,6.4,75,43,"275","0","20","35","30","15","70","65","40","715","580","135",0.7,"4070","60",0.5,0.4,0.3,0.7,14.2,18,18,0,6824,1,1,3548,32.142857142857146,32.142857142857146,{"v":1.7857142857142856,"d":"1.8"},6.547619047619048,8.333333333333332]
["WK020354","020354","Wijk 54 Barneveld","Barneveld","Wijk","WK020354","Wijk 54 Barneveld",1,35835,17815,18025,8085,4690,9210,7990,5875,16820,15740,1705,1575,"31045","1100","3695","31045","420","1635","680","2060","520","15","270","8",13660,4160,3765,5730,2.6,992,13884,398,74,26,97,3,64,36,21,15,0,64,36,"2640","1690","2540","2870","3370","4170","1970","3010","880","590","800","940","1130","1470","730","960",".","4420","2300","1290","720","220",7410,11540,6210,78,82,18,26600,37.9,28.7,40.7,18.9,38.6,31.8,22.8,2.6,4.1,6.6,{"v":9,"d":"9.0"},228.7,"540","1220","160","5340",785,6.6,1800,50,"4930","210","1055","875","315","485","1040","615","335","16685","13605","3075",1.2,"462","1375",1.2,{"v":1,"d":"1.0"},0.7,0.8,12.3,3629,3614,15,".",".",3,1278,13.366820147900096,13.366820147900096,{"v":0.6139249337240128,"d":"0.6"},22.561741314357473,16.394586298311705]
["BU02035415","02035415","Veller","Barneveld","Buurt","BU02035415","Wijk 54 Barneveld",1,4350,2200,2145,1470,400,1750,595,130,2380,1765,165,40,"3905","110","335","3905","40","170","70","160","115","27","5","1",1370,240,255,875,3.1,4070,1431,420,84,16,98,2,67,33,10,23,0,1,99,"2670","1380","2510","3130","3750","4290","1980","2990","720","500","680","790","920","1210","640","760",".","840","270","120","60","20",600,1220,1030,88,84,16,2800,43.6,28.3,31.8,26.2,".",17.2,29.3,1.4,1.6,2.6,3.7,237.2,"20","140","20","110",130,7.3,95,22,"415","5","100","45","35","35","100","60","35","1690","1410","275",1.2,"1580","130",{"v":2,"d":"2.0"},1.2,0.5,1.4,9.4,109,107,2,3772,1,3,1044,10.229885057471265,10.229885057471265,{"v":0.45977011494252873,"d":"0.5"},33.793103448275865,2.9885057471264367]
["BU02090382","02090382","Weurt-Zuid","Beuningen","Buurt","BU02090382","Weurt",1,1660,840,825,260,155,380,510,365,725,750,100,90,"1460","80","120","1460","60","65","25","55","20","11","15","10",720,195,270,255,2.3,3793,701,355,99,1,99,1,80,20,17,3,0,100,0,"2730","1810","2500","2770","3070","3540","2260","2850","1000","1040","940","970","1040","1400","870","1030",".","130","90","40","30","20",350,570,330,73,85,15,1400,".",".",39.1,16.4,".",30.1,18.8,2.3,3.5,4.8,6.2,236.6,"20","70","10","320",35,9.1,110,66,"160","0","30","25","15","10","30","35","20","860","720","140",1.2,"1965","70",3.1,0.3,0.4,0.3,1.1,44,44,0,6551,1,5,414,12.048192771084338,12.048192771084338,{"v":1.2048192771084338,"d":"1.2"},15.66265060240964,21.987951807228914]
["BU02140208","02140208","Verspreide huizen Kerk Avezaath","Buren","Buurt","BU02140208","Wijk 02 Zoelen",1,55,25,25,5,5,5,20,15,20,25,0,5,"50","0","0","50","0","0","0","0","0","0","0","0",20,5,5,10,2.6,35,22,514,91,9,95,5,86,14,0,14,0,95,5,"4460",".",".",".",".","4860",".","4690","1290",".",".",".",".","1290",".","1260",".","10","0","0","0","0",".",".",".",".",".",".",0,".",".",".",".",".",".",".",".",".",".",".",".","0","0","0","10",".",".",".",".","25","10","0","0","0","0","5","5","0","40","25","15",".",".","0",3.8,3.1,1.5,1.5,2.6,155,155,0,4012,1,5,82,9.090909090909092,9.090909090909092,{"v":0,"d":"0.0"},9.090909090909092,27.27272727272727]
["BU02220204","02220204","Overstegen - west","Doetinchem","Buurt","BU02220204","Wijk 02",1,2220,1055,1160,365,315,545,550,455,1190,650,260,120,"1490","175","555","1495","105","215","75","340","15","7","20","9",1125,520,255,350,{"v":2,"d":"2.0"},5374,1128,190,65,35,99,1,28,72,71,1,0,100,0,"1970","1700","2050","2280",".",".","1770","2460","770","860","690","840",".",".","750","820",".","210","130","100","40","10",610,670,350,62,90,10,1800,".",".",54.9,4.6,".",62.2,3.9,5.7,{"v":13,"d":"13.0"},{"v":22,"d":"22.0"},26.2,7.9,"160","210","30","400",60,9.6,275,124,"130","0","30","30","10","0","15","25","15","915","840","75",0.8,"2215","40",1.8,0.7,0.7,0.8,6.9,41,41,0,7002,1,3,1468,32.65765765765766,32.88288288288289,{"v":0.45045045045045046,"d":"0.5"},16.441441441441444,20.495495495495494]
["BU02220710","02220710","Wijnbergen - Het Westen","Doetinchem","Buurt","BU02220710","Wijk 07",1,1395,715,685,400,120,620,225,35,870,445,70,10,"1135","85","180","1135","40","105","45","75","50","36","0","0",510,110,105,295,2.7,5779,500,394,100,0,99,1,68,32,13,19,0,1,99,"2580",".","2070","2380","3100","4660","2170","2760","680",".","590","690","860","820","610","720",".","230","60","30","40","0",140,420,440,89,86,14,1000,".",".",24.9,28.3,".",17.4,28.4,1.4,1.4,2.6,3.6,173.7,"10","30","10","30",20,4.2,15,11,"140","0","20","15","15","15","30","35","10","645","530","115",1.3,"2662","50",1.3,1.2,0.9,1.2,6.9,25,24,1,7007,1,4,794,18.63799283154122,18.63799283154122,{"v":0,"d":"0.0"},28.673835125448026,2.5089605734767026]
["BU02281003","02281003","Reehorst","Ede","Buurt","BU02281003","Ede-Zuid",1,4365,2155,2210,695,730,1315,990,635,2315,1620,285,140,"3390","295","685","3390","105","325","190","355","50","11","25","5",2145,975,585,590,{"v":2,"d":"2.0"},3089,1925,353,60,40,97,3,57,43,21,22,0,65,35,"2470","1830","2500","2510","3110","3730","2020","2800","720","510","620","670","1060","1300","560","850","14,1","360","200","130","240","230",840,1400,1330,76,87,13,3500,37.9,{"v":31,"d":"31.0"},38.1,18.5,".",43.4,16.9,3.5,4.2,{"v":6,"d":"6.0"},{"v":8,"d":"8.0"},{"v":91,"d":"91.0"},"80","170","30","580",105,8.3,225,52,"530","0","70","95","45","25","120","115","60","1980","1595","385",0.9,"1401","200",1.1,0.5,0.5,0.5,19.2,141,141,0,6717,1,2,2147,22.336769759450174,22.336769759450174,{"v":5.2691867124856815,"d":"5.3"},15.922107674684993,14.5475372279496]
["BU02300306","02300306","Buitengebied Doornspijk West","Elburg","Buurt","BU02300306","Wijk 03 Doornspijk",3,330,185,150,65,55,60,90,55,145,165,10,10,"315","5","10","315","5","0","5","5","5","9","0","3",115,20,40,50,2.9,38,117,496,68,32,91,9,76,24,0,24,0,86,14,"3990","3700",".",".","3340","4420","2810","4320","1380","1330",".",".","1360","1430","1130","1450",".","40","10","20","10","0",".",".",".",79,65,35,300,".",".",44.9,20.5,".",21.2,38.1,3.6,1.8,3.6,3.6,477.4,"0","10","0","50",10,8.2,".",".","65","20","10","5","5","10","5","5","10","180","135","50",1.6,"21","10",2.6,2.4,2.1,2.2,2.1,870,869,1,8085,1,5,42,4.545454545454546,4.545454545454546,{"v":0,"d":"0.0"},19.696969696969695,16.666666666666664]
["BU02430302","02430302","Zeebuurt West","Harderwijk","Buurt","BU02430302","Zeebuurt",1,805,390,415,95,60,150,220,285,285,380,70,70,"670","30","100","670","15","55","15","55","5","6","10","12",410,150,155,105,{"v":2,"d":"2.0"},6845,405,361,67,33,99,1,57,43,36,7,0,76,24,"2250","1980","1890","2330","3110","4310","1790","2570","780","580","720","820","1100","1700","680","850",".","50","30","20","10","0",230,200,130,60,83,17,700,".",".",46.5,13.4,".",42.4,11.8,4.3,7.3,12.5,14.8,178.9,"40","30","10","260",20,13.7,75,94,"85","0","10","10","5","10","20","20","10","420","345","75",1,"3572","25",0.4,0.4,0.3,0.7,14.9,12,12,0,3841,1,2,2109,16.77018633540373,16.77018633540373,{"v":0,"d":"0.0"},11.801242236024844,35.40372670807454]
["BU02431505","02431505","Hierden De Duinen","Harderwijk","Buurt","BU02431505","Hierden",1,680,365,315,65,85,165,250,120,320,270,65,20,"565","70","45","570","20","20","50","20","5","6","5","7",320,125,105,95,2.1,559,397,355,85,15,69,31,64,36,0,36,0,69,31,"3100","2250",".",".","2940","3140","2640","3210","1120","870",".",".","1290","1120","950","1160",".","30","30","30","10","0",150,320,110,76,71,29,600,".",".",39.8,17.1,".",34.7,19.7,4.8,6.1,7.3,7.6,{"v":269,"d":"269.0"},"10","40","0","110",15,12.5,30,47,"135","5","40","25","5","5","35","15","5","420","335","85",1.3,"343","65",2.2,1.9,1.9,1.9,1.1,122,122,0,3849,1,5,194,16.176470588235293,16.911764705882355,{"v":0,"d":"0.0"},9.558823529411764,17.647058823529413]
["BU02460006","02460006","Verspreide huizen Heerde-Zuid","Heerde","Buurt","BU02460006",{"$f":"IF(E3460=\"wijk\",C3460,IF(E3460=\"Buurt\",_xlfn.XLOOKUP(LEFT(B3460,6),$B$3:$B$18118,$C$3:$C$18118,\"onbekend\",0,1),\"ook geen buurt\"))","v":"Wijk 00 Heerde"},1,1025,505,520,160,105,215,330,210,420,505,50,55,"940","35","50","940","20","20","15","25","5","4","5","9",395,95,160,140,2.4,170,403,550,86,14,93,7,81,19,0,19,0,84,16,"3750","3300",".",".","3400","3870","3210","3870","1320","1180",".",".","1160","1370","1320","1320",".","100","70","30","20","0",260,310,210,77,72,28,800,".",".",38.9,22.3,".",26.2,32.6,3.4,2.4,4.2,5.2,536.5,"0","30","0","190",20,7.7,20,20,"185","15","30","25","5","10","45","25","25","625","460","165",1.6,"103","100",2.4,2.2,1.5,1.3,4.3,611,603,8,8181,1,5,216,{"$f":"IF(OR(I3460=0, ISBLANK(I3460)), \"Geen inwoners\", (I3460-X3460)/I3460*100)","v":8.292682926829269},{"$f":"IF(OR(I3460=0, ISBLANK(I3460)), \"Geen inwoners\", (I3460-U3460)/I3460*100)","v":8.292682926829269},{"$f":"IF(OR(I3460=0,ISBLANK(I3460)),\"Geen inwoners\",(BU3460/I3460*100))","v":{"v":0,"d":"0.0"}},{"$f":"IF(OR(I3460=0,ISBLANK(I3460)),\"Geen inwoners\",(L3460/I3460*100))","v":15.609756097560975},{"$f":"IF(OR(I3460=0,ISBLANK(I3460)),\"Geen inwoners\",(P3460/I3460*100))","v":20.48780487804878}]
["BU02620509","02620509","Verspreide huizen Kring van Dorth","Lochem","Buurt","BU02620509","Wijk 01 Almen-Harfsen",1,315,155,160,40,45,50,100,80,145,130,15,20,"290","10","5","290","5","5","5","5","0","0","0","13",130,35,40,50,2.5,34,121,607,71,29,93,7,78,22,0,22,0,93,7,"4090","3830",".",".","3670","4230","3370","4290","1500","1460",".",".","1540","1510","1500","1500",".","30","10","10","10","0",".",".",".",85,67,33,300,".",".",{"v":40,"d":"40.0"},24.2,".",31.7,36.5,8.1,8.9,10.5,14.5,514.7,"0","10","0","70",".",".",15,44,"70","20","5","10","5","5","10","10","5","205","155","50",1.6,"23","15",5.1,4.1,2.6,3.1,0.5,912,905,6,7216,1,5,34,7.936507936507936,7.936507936507936,{"v":0,"d":"0.0"},12.698412698412698,25.396825396825395]
["WK026802","026802","Nijmegen-Oost","Nijmegen","Wijk","WK026802","Nijmegen-Oost",1,34285,16005,18280,2865,8190,9440,7210,6585,23425,7330,2265,1265,"26470","3680","4140","26475","1405","1815","2280","2325","170","5","320","9",21835,14620,4350,2865,1.5,4636,15527,462,39,61,96,4,46,54,32,22,0,86,14,"2290","1920","2520","2770","3330","4680","2010","2610","940","740","1080","1260","1500","2100","800","1110",".","1500","1260","430","2290","5010",3020,9720,16930,70,83,17,29200,39.6,35.6,43.6,{"v":21,"d":"21.0"},32.7,60.6,14.3,4.5,{"v":7,"d":"7.0"},11.2,{"v":14,"d":"14.0"},17.2,"750","1150","280","5970",500,5.9,2065,60,"4775","5","235","450","300","355","1350","1440","640","11940","9475","2465",0.5,"1614","770",0.7,0.7,0.5,0.6,13.3,766,740,26,".",".",1,3070,22.779641242525887,22.794224879684993,{"v":14.612804433425698,"d":"14.6"},8.356424092168586,19.206650138544553]
["BU02730001","02730001","Putten-Zuid-Oost","Putten","Buurt","BU02730001","Wijk 00 Putten",1,6215,3075,3140,1020,765,1315,1585,1530,2405,2995,415,400,"5590","195","425","5595","95","155","100","275","60","10","70","11",2535,695,890,950,2.4,4018,2586,439,92,8,98,2,62,38,33,5,0,88,12,"2670","1540","2310","2530","2910","3760","2100","3040","1000","560","860","960","1060","1460","820","1120",".","540","410","210","110","30",1600,1950,860,73,83,17,5000,34.5,28.4,45.3,14.7,{"v":38,"d":"38.0"},33.7,19.6,{"v":2,"d":"2.0"},3.1,6.1,9.9,251.5,"70","270","30","1420",145,8.6,395,63,"605","15","130","85","35","75","130","70","65","3040","2600","435",1.2,"1965","255",0.8,0.5,0.5,0.4,8.9,155,155,0,3881,3,3,1380,9.97586484312148,10.05631536604988,{"v":0.4827031375703942,"d":"0.5"},16.411906677393404,24.617860016090106]
["GM0277","0277","Rozendaal","Rozendaal","Gemeente","GM0277","ook geen buurt",1,1754,866,888,312,192,251,576,423,712,889,75,78,"1428","121","205","1428","71","107","50","98","13","7","12","7",700,145,275,280,2.5,63,706,750,98,2,96,4,89,10,7,4,0,87,13,"3690","3710","2820","2970","3330","4830","2310","3850","1420","790","1180","1170","1250","1860","1100","1460",".","180","150","30","50","20",130,490,660,75,76,24,1400,".",".",{"v":31,"d":"31.0"},{"v":41,"d":"41.0"},".",12.8,{"v":51,"d":"51.0"},{"v":1,"d":"1.0"},1.2,1.6,2.3,{"v":602,"d":"602.0"},"10","30","10","380",50,{"v":10,"d":"10.0"},55,30,"295","0","20","20","10","50","105","70","20","1020","700","320",1.5,"37","85",1.2,1.3,0.7,0.7,9.1,2792,2790,2,".",".",4,950,18.586088939566707,18.586088939566707,{"v":1.1402508551881414,"d":"1.1"},17.787913340935006,24.11630558722919]
["BU02850007","02850007","Verspreide huizen langs de IJssel Voorster Klei","Voorst","Buurt","BU02850007","Wijk 00 Voorst",1,80,40,40,10,15,15,25,15,30,50,0,0,"75","5","0","75","5","0","0","0","0","13","0","0",30,5,15,10,2.9,9,33,556,64,36,79,21,70,30,0,30,0,85,15,"4680","3730",".",".",".","4940","4620","4700","1530","1280",".",".",".","1590","1340","1590",".","10","10","0","0","0",".",".",".",".",".",".",100,".",".",".",".",".",".",".",".",".",".",".",".","0","0","0","10",".",".",".",".","25","10","0","0","0","0","10","0","0","45","30","15",".",".","5",2.2,2.4,2.4,2.1,1.7,931,845,86,7383,1,5,48,6.25,6.25,{"v":0,"d":"0.0"},12.5,18.75]
["BU02891205","02891205","Uiterwaarden","Wageningen","Buurt","BU02891205","Buitengebied",1,105,50,55,10,5,20,40,30,45,45,10,5,"75","15","10","75","10","10","10","5","0","0","0","0",50,25,20,10,1.9,24,40,787,80,20,83,18,85,15,3,13,0,95,5,"3640","4640","1930",".","3990","3910","4900","3450","1030","1010","580",".","760","1440","1500","960",".","10","0","0","0","0",".",".",".",".",".",".",100,".",".",".",".",".",".",".",".",".",".",".",".","0","0","0","20",".",".",".",".","35","5","0","5","0","0","15","0","5","70","45","25",1.3,"16","25",2.2,1.9,1.9,{"v":2,"d":"2.0"},3.5,608,429,178,6701,5,5,179,28.57142857142857,28.57142857142857,{"v":0,"d":"0.0"},9.523809523809524,28.57142857142857]
["WK029602","029602","Wijk 02 Balgoij","Wijchen","Wijk","WK029602","Wijk 02 Balgoij",1,730,385,340,105,100,110,265,145,320,345,35,25,"700","20","5","700","20","0","5","5","5","8","5","10",280,60,90,130,2.6,165,278,453,95,5,99,1,88,12,7,5,0,83,17,"3680","2700","2220","2670","3280","4360","2430","3860","1230","1180","730","950","1140","1400","970","1270",".","50","60","30","30","0",100,250,220,81,79,21,600,".",".",37.6,23.9,".",19.4,{"v":38,"d":"38.0"},{"v":0,"d":"0.0"},0.4,1.1,2.9,398.1,"0","20","10","130",15,9.1,30,38,"105","15","15","15","0","5","20","15","15","410","325","90",1.5,"93","45",{"v":3,"d":"3.0"},2.7,3.5,0.6,2.2,471,442,29,".",".",5,112,4.10958904109589,4.10958904109589,{"v":0,"d":"0.0"},14.383561643835616,19.863013698630137]
["BU02970100","02970100","Brakel","Zaltbommel","Buurt","BU02970100","Wijk 01 Brakel",1,2595,1315,1285,485,310,645,670,485,1120,1200,145,135,"2290","235","70","2290","65","30","170","40","35","13","20","7",1060,300,340,415,2.5,1873,1040,347,90,10,97,3,75,25,18,7,0,85,15,"3130","3330","2500","2570","3020","3720","2610","3290","1010","540","910","950","950","1260","800","1080",".","240","150","80","30","10",610,910,370,77,81,19,2100,".",{"v":29,"d":"29.0"},41.5,17.9,".",31.6,22.2,1.6,2.4,4.2,6.3,224.3,"10","80","20","430",70,9.6,140,54,"295","10","105","35","25","20","50","25","20","1460","1140","320",1.4,"1054","140",0.5,0.8,0.5,0.5,{"v":2,"d":"2.0"},141,139,3,5306,1,5,363,11.753371868978805,11.753371868978805,{"v":0.3853564547206166,"d":"0.4"},18.689788053949904,18.689788053949904]
["BU03020009","03020009","Verspreide huizen bosgebied Hulshorst","Nunspeet","Buurt","BU03020009","Wijk 00 Nunspeet",1,230,105,125,25,20,30,90,65,75,115,20,15,"205","5","20","205","0","15","0","10","5","9","0","4",100,25,45,30,2.3,16,100,700,98,2,95,5,87,13,0,13,0,84,16,"4240","2710",".",".","3690","4500","2680","4490","1450","1090",".",".","1010","1580","1030","1520",".","20","10","10","10","0",50,80,50,70,".",".",200,".",".",35.4,35.4,".",".",".",".",".",".",".",".","0","10","0","70",".",".",10,48,"45","0","5","0","0","10","10","10","5","220","165","60",2.2,"15","30",4.7,4.3,1.6,1.6,1.4,1445,1445,0,8077,1,5,100,10.869565217391305,10.869565217391305,{"v":0,"d":"0.0"},10.869565217391305,28.26086956521739]
["WK030704","030704","Eemkwartier","Amersfoort","Wijk","WK030704","Eemkwartier",1,420,220,200,10,125,180,70,35,310,90,15,5,"290","20","110","290","15","50","5","55","5","7","0","2",320,235,70,15,1.3,1408,325,266,2,98,97,3,14,86,83,3,0,2,98,"1610","1590",".",".",".",".","1430","2660","440","440",".",".",".",".","410","630",".","0","0","20","50","10",".",".",".",79,90,10,400,".",".",39.2,17.6,".",68.4,11.1,4.2,7.2,12.1,15.5,2.7,"20","10","0","40",".",".",35,88,"230","0","10","65","25","10","65","35","20","155","115","45",0.5,"529","5",1.1,0.4,0.7,0.9,18.9,31,30,2,".",".",1,3463,30.952380952380953,30.952380952380953,{"v":2.380952380952381,"d":"2.4"},2.380952380952381,8.333333333333332]
["WK030705","030705","Isselt","Amersfoort","Wijk","WK030705","Isselt",1,120,70,55,15,20,25,45,10,65,50,10,5,"105","5","15","100","5","10","5","5","0","8","0","0",55,20,15,20,2.3,77,25,462,48,52,84,16,44,56,0,56,0,96,4,"2770","2210",".",".",".","3910","2170","3900","1180","1090",".",".",".","1310","1070","1380",".","10","10","0","10","0",".",".",".",".",".",".",100,".",".",".",".",".",".",".",".",".",".",".",".","0","0","0","10",".",".",".",".","810","0","150","290","60","50","155","60","50","3450","1810","1635",".",".","35",1.3,1.5,1.2,1.2,7.3,163,155,7,".",".",4,983,16.666666666666664,12.5,{"v":0,"d":"0.0"},12.5,8.333333333333332]
["BU03071903","03071903","Bieshaar-Zuid","Amersfoort","Buurt","BU03071903","Hoogland",1,1355,675,680,185,125,270,300,480,520,660,90,90,"1100","70","185","1100","35","90","35","100","10","8","15","11",610,190,235,190,2.2,4978,613,458,74,26,99,1,72,28,23,5,0,93,7,"2540","2040","2460","2670","3710","4390","1990","2760","880","610","880","990","1280","1440","770","920",".","120","60","40","30","10",240,360,350,65,83,17,1100,".",".",40.6,18.2,".",30.1,20.3,1.8,4.1,5.8,6.8,325.5,"20","30","10","440",45,15.1,105,79,"150","0","15","20","10","10","35","35","20","625","510","120",1,"2302","80",0.3,0.5,0.4,0.3,13.5,27,27,0,3828,1,3,1437,18.81918819188192,18.81918819188192,{"v":0.7380073800738007,"d":"0.7"},13.653136531365314,35.42435424354243]
["WK030800","030800","Wijk 00 Baarn","Baarn","Wijk","WK030800","Wijk 00 Baarn",1,11960,5770,6190,1920,1150,2535,3470,2885,5515,4575,1150,720,"9415","845","1695","9415","405","855","440","840","90","7","150","12",5665,2345,1610,1715,2.1,5361,5780,475,66,34,95,5,63,37,23,13,0,89,11,"2550","1760","2320","2550","3290","4100","1800","2970","1040","690","900","1060","1370","1850","740","1210",".","1040","720","220","210","110",1760,3160,3600,73,77,23,9600,48.6,39.9,35.7,26.5,44.1,36.3,25.9,{"v":3,"d":"3.0"},5.2,7.9,9.6,276.5,"170","410","110","2650",345,{"v":12,"d":"12.0"},825,69,"2135","5","225","300","155","210","620","380","245","5885","4710","1180",1,"2638","425",0.5,0.4,0.5,0.5,7.9,223,223,0,".",".",2,2002,21.279264214046822,21.279264214046822,{"v":0.919732441471572,"d":"0.9"},16.05351170568562,24.12207357859532]
["BU03130007","03130007","De Haar","Bunschoten","Buurt","BU03130007","Wijk 00",1,230,120,110,25,35,45,65,55,115,95,5,15,"205","15","10","210","0","0","15","10","0","0","5","35",75,20,15,35,2.8,29,70,691,93,7,90,10,69,31,0,31,0,77,23,"4700","2960",".",".",".","4990","4720","4690","1460","960",".",".",".","1520","1490","1440",".","10","20","10","10","10",".",".",".",82,".",".",200,".",".",39.7,28.2,".",".",".",".",".",".",".",".","0","0","0","50",".",".",10,52,"165","25","35","40","5","15","35","10","5","215","150","65",".",".","10",2.3,2.5,1.6,2.4,4.5,803,798,5,3751,1,5,282,8.695652173913043,10.869565217391305,{"v":4.3478260869565215,"d":"4.3"},10.869565217391305,23.91304347826087]
["BU03213070","03213070","Dorp 't Goy","Houten","Buurt","BU03213070","'t Goy",1,295,150,145,35,40,60,100,60,125,140,20,10,"260","10","25","260","0","15","10","15","0","10","0","3",125,40,45,45,2.3,1076,125,492,98,2,97,3,71,28,24,4,1,70,30,"3390",".","2430","3070","3280","4370","2170","3830","940",".","650","600","1120","1380","980","940",".","20","20","10","10","0",50,110,80,80,83,17,300,".",".",37.8,22.9,".",28.3,29.1,0.8,{"v":0,"d":"0.0"},1.6,5.6,276.6,"0","10","0","50",10,{"v":13,"d":"13.0"},10,37,"45","5","5","5","0","0","15","10","5","195","160","35",1.5,"709","15",5.2,5.7,3.8,0.6,{"v":1,"d":"1.0"},28,28,0,3997,1,5,62,11.864406779661017,11.864406779661017,{"v":0,"d":"0.0"},11.864406779661017,20.33898305084746]
["WK033900","033900","Wijk 00","Renswoude","Wijk","WK033900","Wijk 00",1,5745,2895,2855,1210,750,1475,1410,900,2650,2630,280,195,"5095","375","280","5095","80","120","295","155","80","15","40","6",2280,660,695,920,2.5,313,2192,500,86,14,96,4,73,26,0,26,0,59,41,"2910","2010","2480","2670","3220","4170","2250","3150","970","600","780","940","1190","1410","770","1040",".","650","330","180","130","40",1300,1950,860,81,77,23,4500,40.4,31.5,38.3,21.2,".",28.3,26.8,{"v":4,"d":"4.0"},4.5,5.7,7.8,{"v":316,"d":"316.0"},"40","120","20","830",125,{"v":7,"d":"7.0"},190,33,"915","95","190","150","40","120","160","95","65","3195","2590","605",1.4,"174","270",1.2,1.2,1.1,0.9,2.1,1851,1839,12,".",".",4,529,11.314186248912097,11.314186248912097,{"v":0.6962576153176675,"d":"0.7"},21.061792863359443,15.66579634464752]
["WK034402","034402","Wijk 02 Noordwest","Utrecht","Wijk","WK034402","Wijk 02 Noordwest",1,44710,21675,23035,6200,6025,19355,8640,4485,30385,10400,2665,1255,"27505","4975","12225","27510","1630","5570","3340","6655","630","14","250","6",24200,12485,6230,5485,1.8,10176,21321,400,46,54,95,5,40,60,34,26,0,81,19,"1950","1750","2140","2250","2840","3410","1850","2080","650","530","750","890","1000","1620","620","680","15,3","3030","1660","830","1560","2390",8220,9940,18850,75,86,14,37000,40.4,33.9,{"v":38,"d":"38.0"},23.8,34.8,48.4,16.6,5.2,9.1,12.8,15.3,{"v":18,"d":"18.0"},"1560","2100","390","3990",1315,12.9,2700,60,"6230","5","610","730","705","185","1675","1285","1035","13090","10755","2335",0.5,"2980","945",0.6,0.5,0.4,0.5,23.1,453,439,14,".",".",1,4156,38.47014090807426,38.48132408857079,{"v":5.3455602773428765,"d":"5.3"},13.867143815701185,10.031312905390292]
["BU03440625","03440625","Lange Nieuwstraat en omgeving","Utrecht","Buurt","BU03440625","Wijk 06 Binnenstad",1,2630,1295,1345,140,465,1195,540,290,2000,445,150,35,"1865","335","435","1865","85","180","250","255","20","8","10","3",1675,1095,430,145,1.5,12496,1452,582,28,72,88,12,35,65,16,50,0,87,13,"2100","1870","2700","2640","2090",".","1870","2530","460","360","700","690","830",".","370","610","45,1","70","60","20","140","300",140,580,1740,78,81,19,2300,".",".",31.8,{"v":32,"d":"32.0"},".",{"v":51,"d":"51.0"},18.6,5.3,6.2,8.7,10.9,22.7,"30","70","30","260",25,6.8,130,50,"685","0","15","105","65","50","200","135","115","555","445","110",0.3,"2629","90",0.7,0.6,0.3,0.6,23.9,22,21,1,3512,3,1,5545,29.087452471482887,29.087452471482887,{"v":11.406844106463879,"d":"11.4"},5.323193916349809,11.02661596958175]
["BU03450228","03450228","Middelbuurt","Veenendaal","Buurt","BU03450228","Zuidoost",1,60,35,25,10,15,10,15,10,25,35,5,0,"55","0","0","55","5","0","0","0","5","17","0","17",20,5,5,5,2.9,214,22,705,82,18,91,9,91,9,0,9,0,91,9,"4320",".",".",".",".","3930",".","4420","1540",".",".",".",".","1520",".","1560",".","10","0","0","0","0",".",".",".",".",".",".",0,".",".",".",".",".",".",".",".",".",".",".",".","0","0","0","10",".",".",".",".","15",".",".",".",".",".",".",".",".","25","20","5",".",".","0",2.1,1.8,1.3,2.1,5.5,28,28,0,3903,1,4,687,8.333333333333332,8.333333333333332,{"v":0,"d":"0.0"},16.666666666666664,16.666666666666664]
["BU03530015","03530015","Industrieterrein Lage Dijk","IJsselstein","Buurt","BU03530015","Wijk 00 IJsselstein",1,40,25,15,5,10,15,20,5,30,15,0,0,"30","15","5","30","0","0","10","0","0","0","0","0",30,20,0,0,1.5,102,14,".",".",".",".",".",".",".",".",".",".",".",".","3480",".",".",".",".","4240","2650","4550","1500",".",".",".",".","1650","1260","1800",".","0","0","0","0","0",".",".",".",".",".",".",0,".",".",".",".",".",".",".",".",".",".",".",".",".",".",".",".",".",".",".",".","130","0","25","30","5","15","20","15","20","115","70","45",".",".","10",1.2,0.5,0.8,1.7,8.6,42,42,0,3401,1,3,1245,25,25,{"v":0,"d":"0.0"},12.5,12.5]
["BU03550203","03550203","Staatsliedenkwartier","Zeist","Buurt","BU03550203","Zeist-Noord",1,1600,755,845,225,185,395,445,355,820,495,200,85,"1040","85","475","1040","40","265","40","215","15","12","20","11",870,445,210,215,1.8,6154,863,303,32,68,97,3,29,71,66,5,0,94,6,"2000","1760","2400","2620","4020",".","1840","2420","760","690","840","990","1520",".","710","870",".","130","80","40","40","30",450,510,280,61,84,16,1300,".",".",47.3,11.6,".",59.8,8.7,4.6,11.8,{"v":18,"d":"18.0"},23.5,15.9,"70","140","10","320",55,15.1,220,138,"175","0","15","25","20","5","35","55","20","655","545","110",0.8,"2516","50",0.9,0.3,0.5,0.7,14.7,26,26,0,3705,1,2,2251,35,35,{"v":1.875,"d":"1.9"},14.0625,22.1875]
["BU03561001","03561001","Vesten","Nieuwegein","Buurt","BU03561001","Fokkesteeg",1,1735,880,855,295,215,465,500,255,845,710,135,45,"1180","120","435","1175","60","230","60","205","10","6","5","3",720,200,200,320,2.4,7079,714,356,82,18,99,1,67,33,21,12,0,94,6,"2440","1760","2600","2460","3050",".","2120","2600","30","0","20","30","420",".",".","50","87,6","170","80","60","40","30",410,600,360,75,87,13,1400,".",".",34.2,22.1,".",21.7,23.4,1.6,3.3,5.1,6.4,200.2,"30","80","20","220",50,{"v":10,"d":"10.0"},65,39,"175","0","20","20","10","5","50","45","20","770","645","130",1.1,"3152","65",{"v":1,"d":"1.0"},0.7,0.8,0.6,10.8,25,24,0,3432,1,2,1708,32.27665706051873,31.988472622478387,{"v":1.729106628242075,"d":"1.7"},17.002881844380404,14.697406340057636]
["WK036104","036104","West","Alkmaar","Wijk","WK036104","West",1,12815,6380,6435,1825,1425,3490,3450,2625,6840,4030,1295,650,"9175","1135","2510","9175","440","1040","695","1470","105","8","100","8",6650,3325,1555,1765,1.9,2114,6518,321,49,51,97,3,54,46,23,23,0,91,9,"2010","1630","2250","2460","3040","3520","1680","2290","790","600","890","1060","1300","1570","660","900",".","970","660","310","300","100",2290,3790,3510,71,86,14,10600,39.1,32.8,37.1,19.5,36.1,45.6,15.8,4.3,7.5,11.2,13.6,112.4,"360","690","110","2350",320,10.9,910,71,"1680","5","210","205","150","120","445","360","180","5495","4560","930",0.8,"906","445",0.9,0.6,0.7,0.5,9.5,637,606,31,".",".",2,2092,28.404213811939133,28.404213811939133,{"v":0.7803355442840421,"d":"0.8"},14.241123683183767,20.483808037456104]
["BU03620902","03620902","Alpen Rondwegbuurt","Amstelveen","Buurt","BU03620902","Groenelaan",1,1600,710,895,295,190,380,385,355,810,535,145,110,"585","175","845","585","55","340","115","505","20","11","10","8",745,295,165,285,2.2,11510,714,407,33,67,99,1,16,83,76,8,0,100,0,"2040","1730","2570","3040",".",".","1880","2890","840","740","1010","1150",".",".","780","1150",".","170","120","50","30","20",390,450,280,64,84,16,1200,".",".",44.6,15.1,".",{"v":50,"d":"50.0"},13.5,5.2,9.4,13.8,16.7,{"v":14,"d":"14.0"},"50","60","20","310",65,{"v":14,"d":"14.0"},135,85,"185","0","15","25","25","5","55","45","15","555","470","85",0.7,"4007","30",1.2,0.7,0.7,0.8,12.1,14,14,0,1186,1,1,2836,63.4375,63.4375,{"v":1.25,"d":"1.3"},18.4375,22.1875]
["BU0363AF06","0363AF06","Uilenburg","Amsterdam","Buurt","BU0363AF06","Nieuwmarkt/Lastage",2,1245,645,595,80,140,455,350,220,810,295,110,30,"545","305","395","545","55","90","250","305","5","5","5","4",815,495,215,105,1.5,15475,805,588,0,100,92,8,36,64,36,28,0,72,28,"1760","1760",".",".",".",".","1590","2080","580","580",".",".",".",".","570","600","10,0","40","20","10","30","70",150,220,740,71,76,24,1100,".",".",34.4,34.7,".",44.9,23.2,9.9,12.3,16.1,17.7,40.6,"40","30","10","200",35,{"v":20,"d":"20.0"},60,47,"370","0","20","60","35","20","110","45","75","245","190","55",0.3,"3030","40",0.6,0.4,0.3,0.4,23.7,11,8,3,1011,1,1,6666,56.22489959839358,56.22489959839358,{"v":5.622489959839357,"d":"5.6"},6.425702811244979,17.670682730923694]
["BU0363ED01","0363ED01","Kolenkitbuurt-Noord","Amsterdam","Buurt","BU0363ED01","De Kolenkit",2,4805,2415,2390,940,675,1880,980,320,3035,1380,325,60,"840","555","3410","840","95","1635","460","1775","80","16","15","4",2165,980,425,765,2.2,16175,1912,449,6,94,92,8,14,86,66,20,0,51,49,"1760","1730","2280","1680",".",".","1720","2000","380","400","90","1070",".",".","410","220","49,2","490","310","180","120","60",1260,1280,1340,64,82,18,3600,34.5,26.1,49.1,17.7,".",51.4,14.2,17.3,18.8,23.7,{"v":27,"d":"27.0"},2.3,"370","240","50","280",150,10.2,275,57,"575","0","70","60","115","10","140","90","90","895","675","220",0.4,"3017","65",0.6,0.5,0.2,0.2,{"v":29,"d":"29.0"},30,30,0,1061,1,1,5886,82.51821019771072,82.51821019771072,{"v":1.2486992715920915,"d":"1.2"},19.562955254942768,6.659729448491156]
["WK0363FC","0363FC","Slotermeer-West","Amsterdam","Wijk","WK0363FC","Slotermeer-West",3,10705,5425,5275,1950,1635,3430,2445,1240,6285,3230,920,270,"1965","1255","7480","1965","245","3620","1010","3860","130","12","50","5",5055,2555,820,1685,2.1,12189,4688,322,20,80,93,7,19,81,72,9,0,88,12,"1820","1720","2220","2260","2720",".","1710","2290","650","600","840","940","1360",".","630","760","18,3","1050","690","340","300","190",3510,3110,1660,60,77,23,8100,29.6,22.8,53.4,{"v":10,"d":"10.0"},28.1,{"v":60,"d":"60.0"},9.3,15.1,18.4,23.4,27.5,3.1,"750","610","120","1070",320,{"v":10,"d":"10.0"},950,89,"1470","0","330","175","265","20","230","280","165","2920","2235","685",0.6,"3328","185",0.6,0.4,0.4,0.6,20.6,91,88,3,".",".",1,3554,81.64409154600654,81.64409154600654,{"v":1.7748715553479684,"d":"1.8"},18.21578701541336,11.583372255955162]
["BU0363KA04","0363KA04","Aalsmeerwegbuurt-West","Amsterdam","Buurt","BU0363KA04","Hoofddorppleinbuurt",2,2530,1135,1395,280,235,1315,500,205,1860,475,155,35,"1430","490","600","1435","115","220","380","385","45","17","10","4",1525,810,460,250,1.7,25832,1469,523,0,100,95,5,43,56,8,48,0,100,0,"1710","1710",".",".",".",".","1600","1860","670","670",".",".",".",".","650","690",".","100","70","20","60","120",210,430,1550,81,82,18,2200,".",".",{"v":26,"d":"26.0"},41.1,".",38.3,24.5,6.8,{"v":8,"d":"8.0"},9.6,11.2,55.7,"40","60","30","170",30,6.8,100,39,"490","0","25","50","50","30","175","75","80","595","505","90",0.4,"6093","40",0.5,0.4,0.2,0.8,{"v":33,"d":"33.0"},11,10,1,1059,1,1,6853,43.280632411067195,43.47826086956522,{"v":4.743083003952568,"d":"4.7"},11.067193675889328,8.102766798418973]
["WK0363KR","0363KR","Buitenveldert-Oost","Amsterdam","Wijk","WK0363KR","Buitenveldert-Oost",2,8305,3965,4340,1060,825,2820,1595,2005,4660,2410,745,500,"3175","1580","3550","3175","400","990","1180","2560","55","7","170","21",4670,2660,1030,975,1.7,5414,4557,496,7,93,95,5,32,68,28,40,0,97,3,"1940","1790","3570","3580","3180","5340","1660","2540","630","560","1350","1630","1590","2240","600","710","16,4","520","310","70","140","360",930,1760,3290,67,83,17,6400,{"v":52,"d":"52.0"},42.5,{"v":36,"d":"36.0"},{"v":31,"d":"31.0"},41.2,47.5,18.4,7.7,9.7,12.6,{"v":15,"d":"15.0"},30.8,"300","220","70","1710",185,11.4,995,120,"1295","0","55","160","135","170","420","230","125","2460","1990","470",0.5,"1602","125",0.9,0.3,0.4,0.5,14.2,170,153,17,".",".",1,3405,61.77001806140879,61.77001806140879,{"v":4.334738109572546,"d":"4.3"},12.763395544852498,24.142083082480433]
["BU0363MQ03","0363MQ03","Amstelglorie","Amsterdam","Buurt","BU0363MQ03","Omval/Overamstel",2,75,45,35,10,10,15,30,15,55,20,0,5,"50","20","5","55","5","0","15","5","5","13","0","26",35,15,10,10,2.1,171,1,".",".",".",".",".",".",".",".",".",".",".",".","4840",".",".",".",".","5310",".",".","1260",".",".",".",".","1110",".",".",".","0","10","0","0","0",".",".",".",".",".",".",100,".",".",".",".",".",".",".",".",".",".",".",".","0","0","0","10",".",".",".",".","20",".",".",".",".",".",".",".",".","50","30","20",".",".","5",2.1,{"v":2,"d":"2.0"},1.7,2.1,5.5,51,45,6,1096,1,2,1838,26.666666666666668,33.33333333333333,{"v":0,"d":"0.0"},13.333333333333334,20]
["BU0363NL03","0363NL03","Vogelbuurt-Zuid","Amsterdam","Buurt","BU0363NL03","IJplein/Vogelbuurt",2,4205,2055,2150,615,555,1450,1075,510,2735,910,450,110,"1550","540","2110","1550","150","880","390","1235","50","12","20","5",2190,1125,445,620,1.9,13106,2036,425,3,97,97,3,19,81,70,11,0,94,6,"1720","1700","2170","2030",".","3740","1690","1840","800","790","1000","1270",".","2550","810","750",".","290","210","130","110","100",940,1030,1420,64,78,22,3400,32.1,26.3,51.1,12.7,".",58.7,10.5,13.9,18.4,25.1,28.7,3.6,"330","260","50","420",125,12.2,475,113,"700","0","55","65","115","15","175","115","165","1045","840","205",0.5,"3259","70",0.5,0.3,0.5,0.3,12.4,34,32,2,1021,1,1,3203,63.13912009512486,63.13912009512486,{"v":2.3781212841854935,"d":"2.4"},14.625445897740786,12.128418549346016]
["BU0363TE01","0363TE01","E-buurt","Amsterdam","Buurt","BU0363TE01","Ganzenhoef e.o.",2,2250,1090,1160,500,530,650,515,55,1595,505,135,15,"490","265","1495","495","70","805","190","685","20","8","5","2",920,400,95,425,2.4,7342,657,509,83,17,96,4,49,51,32,18,0,13,87,"2800","1620","2960","3060","3260","4090","2470","3130","0","30","0","0","0","0","10","0","89,3","250","200","90","140","120",420,820,540,74,86,14,1600,".",".",42.2,22.7,".",42.1,{"v":30,"d":"30.0"},6.3,6.3,7.6,9.1,9.2,"60","50","20","60",85,9.5,60,27,"360","0","20","50","50","25","90","95","30","670","510","160",0.7,"2186","25",1.2,1.3,0.4,0.4,17.8,32,31,1,1103,1,1,4356,78,78.22222222222223,{"v":5.333333333333334,"d":"5.3"},22.22222222222222,2.4444444444444446]
["BU03730702","03730702","Aagtdorp","Bergen (NH.)","Buurt","BU03730702","Wijk 07 Schoorl",1,560,280,275,35,70,90,240,125,320,175,40,30,"445","55","60","450","20","40","30","25","0","4","5","5",185,70,60,60,2.1,58,206,869,77,23,86,14,68,32,1,31,0,88,12,"3790","2250",".",".",".","4260","2170","4420","1490","990",".",".",".","1650","1050","1670",".","10","20","10","10","0",".",".",".",68,67,33,300,".",".",43.3,31.7,".",30.1,39.2,3.4,{"v":5,"d":"5.0"},6.1,6.7,819.3,"0","150","0","110",".",".",75,130,"100","5","5","20","0","20","20","20","10","245","180","70",1.3,"26","20",2.4,1.7,2.5,2.3,2.1,963,961,1,1871,1,5,292,19.642857142857142,20.535714285714285,{"v":0,"d":"0.0"},6.25,22.321428571428573]
["BU03750005","03750005","Reguliersstraat","Beverwijk","Buurt","BU03750005","Centrum",1,1045,540,510,145,110,290,315,185,525,385,100,40,"670","150","225","665","40","100","110","130","5","7","10","7",490,200,125,160,2.1,13899,489,297,71,29,98,2,63,37,24,13,0,92,8,"2230","1510","2420","2690","2530","2960","1720","2520","880","630","850","1130","1100","1740","760","950",".","80","50","40","20","0",340,380,110,73,88,12,800,".",".",38.6,14.6,".",39.2,11.2,2.6,{"v":6,"d":"6.0"},{"v":10,"d":"10.0"},12.4,141.1,"20","80","0","170",20,9.3,105,99,"100","0","30","20","5","0","20","15","10","460","390","70",0.9,"6114","35",0.8,0.5,0.5,0.5,14.2,8,8,0,1947,1,1,3642,36.36363636363637,35.88516746411483,{"v":0,"d":"0.0"},13.875598086124402,17.703349282296653]
["BU03770100","03770100","Overveen","Bloemendaal","Buurt","BU03770100","Wijk 01 Overveen",1,4040,1995,2045,865,485,690,1195,810,1995,1720,195,135,"3170","425","445","3170","210","250","215","195","25","5","25","6",1565,405,475,690,2.6,4402,1571,996,73,27,96,4,84,16,4,12,0,91,9,"3260","2160","3190","3740","4160","5350","2180","3450","1380","770","1340","1670","1790","2480","930","1460",".","500","420","40","80","70",270,610,1890,74,70,30,3100,72.4,55.7,31.2,43.1,".",17.3,54.8,1.8,1.9,2.5,3.1,{"v":903,"d":"903.0"},"0","50","30","740",85,6.4,115,28,"760","5","30","75","30","100","300","160","60","1840","1410","425",1.2,"2002","85",0.7,0.6,0.4,0.4,17.6,92,92,0,2051,1,2,1914,21.534653465346533,21.534653465346533,{"v":1.7326732673267329,"d":"1.7"},21.41089108910891,20.049504950495052]
["WK038408","038408","Buitengebied","Diemen","Wijk","WK038408","Buitengebied",1,155,85,65,15,20,25,65,30,75,55,10,5,"130","5","20","130","5","10","0","15","0","0","0","0",65,25,20,20,2.2,27,76,512,66,34,89,11,58,42,32,11,0,53,47,"3370",".",".",".","3700","3490","1430","3640","990",".",".",".","920","1090","920","1000",".","0","10","0","0","0",".",".",".",".",".",".",100,".",".",41.2,22.7,".",".",".",".",".",".",".",".","0","10","0","30",".",".",20,129,"45","0","10","10","0","10","10","5","0","90","60","30",1.4,"15","20",2.9,2.9,2.2,2.2,3.2,653,581,72,".",".",4,567,16.129032258064516,16.129032258064516,{"v":0,"d":"0.0"},9.67741935483871,19.35483870967742]
["BU03920205","03920205","Rozenprieel-zuid","Haarlem","Buurt","BU03920205","Haarlemmerhoutkwartier",1,1890,905,985,260,175,645,465,345,1130,490,190,75,"1265","260","365","1265","95","160","165","200","25","14","30","15",1020,525,230,265,1.8,14616,1036,442,46,54,90,10,43,57,40,17,0,99,1,"1960","1680","2260","2360",".",".","1820","2150","830","740","890","1100",".",".","730","950",".","150","90","30","40","30",300,430,780,73,79,21,1600,".",".",37.8,23.9,".",46.8,{"v":19,"d":"19.0"},3.9,8.6,13.6,17.5,31.5,"40","90","30","310",30,7.4,165,87,"375","0","45","30","35","20","110","65","70","595","500","95",0.6,"4611","65",0.5,0.2,0.2,0.8,22.6,14,13,1,2012,1,1,4973,33.06878306878307,33.06878306878307,{"v":1.5873015873015872,"d":"1.6"},13.756613756613756,18.253968253968253]
["BU03921403","03921403","Dietsveld","Haarlem","Buurt","BU03921403","Vogelenwijk",1,1455,725,730,300,155,375,405,220,785,550,80,45,"1170","145","135","1170","65","80","75","55","20","14","5","3",575,150,150,280,2.5,11758,575,537,75,25,98,2,93,6,0,6,0,100,0,"2340","1830","2460","2840",".",".","1660","2390","940","780","950","1220",".",".","860","940",".","150","90","20","40","20",160,340,560,81,84,16,1100,".",".",30.9,34.4,".",18.4,42.1,1.4,1.8,{"v":2,"d":"2.0"},2.1,448.9,"0","20","10","200",30,6.4,45,30,"140","0","20","10","10","5","40","35","20","555","470","90",1,"4493","60",0.5,0.7,0.5,0.3,14.1,13,12,1,2025,1,1,2521,19.587628865979383,19.587628865979383,{"v":1.3745704467353952,"d":"1.4"},20.618556701030926,15.120274914089347]
["BU03940115","03940115","Hoofddorp Vrijschot Noord","Haarlemmermeer","Buurt","BU03940115","Hoofddorp",1,445,225,220,65,60,65,150,100,180,235,25,10,"300","50","95","295","15","45","30","50","0","5","5","5",170,25,70,70,2.6,1392,164,1055,98,2,99,1,95,5,0,5,1,93,7,"4540",".",".",".","4070","4980","5180","4520","1520",".",".",".","1250","1760","1870","1500",".","30","30","10","10","10",70,90,190,65,67,33,400,".",".",32.7,41.7,".",10.2,65.9,2.4,2.4,2.4,{"v":3,"d":"3.0"},1106.2,"0","10","0","90",10,8.5,".",".","80","0","5","10","10","15","25","10","10","270","190","80",1.6,"848","25",1.2,1.5,1.5,1.5,13.1,34,32,2,2131,1,4,919,33.70786516853933,32.58426966292135,{"v":2.247191011235955,"d":"2.2"},14.606741573033707,22.47191011235955]
["WK039422","039422","Halfweg","Haarlemmermeer","Wijk","WK039422","Halfweg",1,2605,1315,1290,345,260,575,800,625,1245,1075,160,120,"1895","295","415","1895","115","210","175","210","20","8","15","7",1210,415,395,400,2.2,353,1109,460,67,33,94,6,68,32,19,13,0,87,13,"2600","1900","2610","2900","3220","3840","2220","2770","1000","700","960","1190","1300","1540","850","1070",".","180","130","60","40","30",690,730,550,72,75,25,2200,".",35.8,37.8,23.8,".",31.5,26.9,3.2,4.2,5.6,7.1,265.6,"20","70","20","570",75,13.4,150,58,"595","5","75","125","65","45","160","55","70","1355","1070","285",1.1,"184","155",{"v":1,"d":"1.0"},1.1,0.9,0.8,2.6,790,739,50,".",".",4,884,27.2552783109405,27.2552783109405,{"v":1.1516314779270633,"d":"1.2"},13.24376199616123,23.99232245681382]
["WK039902","039902","Wijk 02 Heiloo Noord-West","Heiloo","Wijk","WK039902","Wijk 02 Heiloo Noord-West",1,3425,1670,1755,510,360,525,1005,1015,1415,1605,190,215,"2970","210","245","2970","125","130","85","115","15","5","45","13",1485,450,540,500,2.3,1824,1519,615,72,28,98,2,86,14,11,4,0,58,42,"2740","1880","2460","2550","2940","3650","1620","2930","1010","410","910","1010","1270","1480","570","1090",".","280","200","60","80","40",410,820,1070,73,79,21,2800,52.1,43.6,33.3,31.5,".",20.8,39.7,1.4,2.3,3.2,{"v":4,"d":"4.0"},546.2,"10","100","20","940",75,8.8,190,56,"380","0","35","20","20","55","130","70","50","1750","1350","405",1.2,"932","150",1.4,0.9,0.6,0.6,{"v":9,"d":"9.0"},192,188,5,".",".",3,1319,13.284671532846716,13.284671532846716,{"v":1.167883211678832,"d":"1.2"},14.890510948905108,29.635036496350363]
["BU04000606","04000606","Koegras-Zuid","Den Helder","Buurt","BU04000606","Wijk 06 Het Koegras",1,35,20,20,5,10,0,15,5,20,15,0,0,"35","0","0","35","0","5","0","0","5","56","0","0",15,0,5,5,2.6,20,14,".",".",".",".",".",".",".",".",".",".",".",".","3710",".",".",".",".","3710",".","3720","1260",".",".",".",".","1280",".","1260",".","0","0","0","0","0",".",".",".",".",".",".",0,".",".",".",".",".",".",".",".",".",".",".",".",".",".",".",".",".",".",".",".","5",".",".",".",".",".",".",".",".","55","45","10",".",".","5",2.5,2.2,2.6,2.3,2.1,182,177,4,1787,1,5,206,0,0,{"v":0,"d":"0.0"},14.285714285714285,14.285714285714285]
["BU04051002","04051002","Binnenstad - Buurt 10 02","Hoorn","Buurt","BU04051002","Wijk 10 Binnenstad",1,1600,800,795,110,175,575,320,415,920,345,180,160,"1280","165","155","1280","70","80","100","70","10","6","55","36",935,550,245,140,1.6,8361,1109,306,27,73,91,9,32,67,16,51,0,84,16,"1870","1630","2400","2550","3520","2740","1630","2380","800","650","1180","1170","1140","1560","720","970",".","50","40","30","40","20",190,530,540,78,77,23,1300,".",".",31.1,22.1,".",48.3,13.2,3.5,5.6,8.8,11.9,30.1,"20","70","20","390",20,8.9,200,126,"525","0","35","210","25","35","70","55","95","715","575","140",0.8,"3723","55",0.5,0.3,0.5,0.5,{"v":8,"d":"8.0"},19,19,0,1621,1,2,2241,20,20,{"v":1.25,"d":"1.3"},6.875000000000001,25.937500000000004]
["BU04053303","04053303","Kersenboogerd-Zuid - Buurt 33 03","Hoorn","Buurt","BU04053303","Wijk 33 Kersenboogerd-Zuid",1,1910,965,945,220,210,370,620,495,740,835,240,100,"1420","145","345","1420","70","150","75","195","15","9","15","8",910,335,295,280,2.1,5872,897,313,81,19,99,1,70,30,18,12,0,100,0,"2310","1400","2490","2500","2770","2870","1640","2590","770","560","760","870","970","1140","630","820",".","120","80","40","40","20",340,720,410,71,87,13,1700,".",".",39.5,{"v":18,"d":"18.0"},".",35.8,{"v":18,"d":"18.0"},1.5,3.6,6.9,{"v":10,"d":"10.0"},197.5,"10","100","20","430",40,{"v":11,"d":"11.0"},150,79,"190","0","35","25","15","10","35","45","20","955","775","185",1.1,"2942","95",0.6,0.6,0.3,0.3,{"v":11,"d":"11.0"},35,33,2,1628,1,2,2340,25.654450261780106,25.654450261780106,{"v":1.0471204188481675,"d":"1.0"},11.518324607329843,25.916230366492147]
["BU04060001","04060001","De Noord","Huizen","Buurt","BU04060001","Wijk 00 Oude Dorp",1,3590,1700,1890,545,355,755,1055,885,1655,1335,390,215,"2900","200","490","2900","105","255","95","235","30","8","50","14",1715,690,505,520,2.1,6082,1728,474,73,27,96,4,62,38,22,16,0,91,9,"2500","2010","2250","2600","2770","4090","1840","2880","1020","810","880","1090","1180","1620","830","1130",".","290","220","60","70","30",570,1030,990,73,73,27,2900,45.4,37.8,37.5,25.4,".",35.8,24.9,3.2,5.6,7.8,9.8,266.3,"40","120","40","810",80,9.5,190,52,"745","0","75","160","45","65","210","100","80","1815","1480","335",1.1,"3073","155",0.7,0.4,0.4,0.9,9.3,59,59,0,1271,1,2,1665,19.220055710306408,19.220055710306408,{"v":0.8356545961002786,"d":"0.8"},15.181058495821729,24.651810584958216]
["BU04200105","04200105","Medemblik Randwijk en Gildenwijk","Medemblik","Buurt","BU04200105","Medemblik",1,1945,975,965,370,225,485,540,320,970,700,185,90,"1295","250","400","1300","90","190","155","210","20","12","15","7",830,260,225,350,2.3,6132,815,297,93,7,98,2,42,58,54,3,0,96,4,"2330","1960","2180","2410","2970","3240","2120","2630","930","450","890","980","1030","1330","840","1040",".","210","120","80","20","10",630,660,170,68,81,19,1500,".",".",46.8,10.5,".",43.4,12.7,3.1,5.8,10.7,14.8,31.7,"50","150","20","290",60,10.9,100,51,"185","5","95","20","10","5","25","20","10","895","715","180",1.1,"2823","75",0.6,0.7,0.3,0.3,4.4,33,32,2,1671,1,3,1131,33.16195372750643,33.41902313624679,{"v":0.5141388174807198,"d":"0.5"},19.02313624678663,16.452442159383033]
["BU04320104","04320104","Opmeer Centrum","Opmeer","Buurt","BU04320104","Opmeer",3,175,95,80,25,20,40,45,45,80,75,10,10,"165","5","5","160","5","5","5","0","0","6","0","0",70,20,25,25,2.3,2792,71,396,86,14,97,3,89,10,0,10,1,92,8,"3090","3020",".",".","2640","3390","2060","3190","1090","1390",".",".","1250","980","1060","1090",".","10","10","0","0","0",".",".",".",".",".",".",100,".",".",40.7,{"v":20,"d":"20.0"},".",".",".",".",".",".",".",".","0","10","0","40",".",".",".",".","45","0","10","15","0","5","5","5","10","105","90","15",1.5,"1682","25",0.5,0.2,0.8,0.6,{"v":5,"d":"5.0"},7,6,0,1716,1,4,811,8.571428571428571,5.714285714285714,{"v":0,"d":"0.0"},14.285714285714285,25.71428571428571]
["BU04370008","04370008","Verspreide huizen in de Bullewijker polder","Ouder-Amstel","Buurt","BU04370008","Wijk 00",1,75,40,35,5,5,5,25,25,30,35,5,5,"60","5","5","60","5","0","0","5","0","0","0","0",35,10,15,10,2.2,26,30,935,100,0,90,10,93,7,0,7,0,67,33,"3980",".",".",".","3340","4320",".","4030","1200",".",".",".","1280","1150",".","1190",".","0","0","0","0","0",".",".",".",".",".",".",100,".",".",".",".",".",".",".",".",".",".",".",".","0","10","0","30",".",".",".",".","25","5","5","0","5","5","10","0","0","30","25","5",".",".","5",2.2,1.9,2.2,1.7,2.4,361,278,83,1191,1,5,317,20,20,{"v":0,"d":"0.0"},6.666666666666667,33.33333333333333]
["BU04411101","04411101","Petten-Centrum en Korfwater","Schagen","Buurt","BU04411101","Petten",1,665,330,330,60,65,105,205,220,255,290,70,50,"570","60","35","575","15","15","40","20","0","6","10","11",335,135,115,90,{"v":2,"d":"2.0"},1378,343,323,88,12,92,8,64,35,28,8,1,88,12,"2520","2220","2060","2130","2550","3290","1860","2890","1060","740","890","850","1070","1460","780","1200",".","30","30","20","0","0",120,290,80,66,81,19,600,".",".",39.4,15.7,".",{"v":43,"d":"43.0"},17.6,1.5,5.5,9.4,11.8,192.3,"10","40","0","190",".",".",35,50,"85","0","15","25","0","5","20","10","10","400","320","80",1.2,"830","40",0.4,0.3,0.3,0.3,{"v":1,"d":"1.0"},48,48,0,1755,1,5,260,13.533834586466165,14.285714285714285,{"v":0,"d":"0.0"},9.022556390977442,33.08270676691729]
["WK045175","045175","Wijk 75 Bedrijventerrein","Uithoorn","Wijk","WK045175","Wijk 75 Bedrijventerrein",1,240,120,120,25,30,40,100,40,110,100,15,10,"200","15","20","205","5","10","15","10","0","8","0","4",110,30,40,35,2.2,246,102,440,95,5,91,9,81,19,5,14,0,98,2,"2950","1760","2980","2820","3030","3380","2220","3110","1090","740","620","1000","1160","1600","1040","1090",".","10","10","10","10","10",40,100,70,77,76,24,200,".",".",33.5,25.2,".",23.5,33.3,".",".",".",".",297.3,"0","10","0","30",".",".",10,38,"490","0","90","140","35","60","100","25","35","950","655","295",".",".","60",2.1,1.3,1.2,1.9,4.7,102,97,5,".",".",4,813,14.583333333333334,16.666666666666664,{"v":4.166666666666666,"d":"4.2"},10.416666666666668,16.666666666666664]
["BU04530804","04530804","Florarondebuurt","Velsen","Buurt","BU04530804","Wijk 08 Velserbroek",1,1980,985,990,260,235,370,700,410,820,965,120,75,"1670","110","200","1665","70","105","45","95","20","12","10","4",815,185,295,330,2.4,10618,815,447,88,12,98,2,87,13,10,3,0,100,0,"2430","1570","2520","2650",".",".","1950","2500","760","580","760","840",".",".","660","770",".","150","80","60","40","20",350,800,430,75,87,13,1700,".",".",34.6,22.4,".",19.7,30.5,1.2,1.6,2.1,{"v":3,"d":"3.0"},385.5,"0","90","20","380",25,5.1,100,51,"160","0","25","25","10","10","45","25","15","1025","885","135",1.3,"5494","110",{"v":1,"d":"1.0"},0.8,0.5,0.5,11.9,20,19,1,1991,1,2,2383,15.909090909090908,15.656565656565657,{"v":1.0101010101010102,"d":"1.0"},13.131313131313133,20.707070707070706]
["WK047962","047962","Wijk 62 Krommenie West","Zaanstad","Wijk","WK047962","Wijk 62 Krommenie West",1,9120,4455,4665,1415,1195,1750,2630,2135,4135,3795,730,460,"7120","515","1490","7120","295","745","215","740","80","9","85","9",3930,1175,1200,1550,2.3,2812,3916,410,69,31,98,2,59,41,32,9,0,84,16,"2470","1830","2560","2880","3050","3670","2040","2770","900","750","860","990","1200","1470","750","1000",".","770","540","290","250","100",1840,3000,1730,72,85,15,7500,39.2,32.5,39.8,19.8,39.4,32.9,23.8,2.2,5.1,7.6,10.1,205.9,"210","410","60","1930",335,13.8,520,57,"785","5","120","75","55","60","215","150","100","4200","3575","625",1.1,"1295","335",0.7,0.9,0.7,0.8,8.5,373,324,48,".",".",2,1710,21.929824561403507,21.929824561403507,{"v":1.0964912280701753,"d":"1.1"},15.515350877192983,23.410087719298247]
["WK048202","048202","Wijk 02 Kinderdijk","Alblasserdam","Wijk","WK048202","Wijk 02 Kinderdijk",1,3815,1925,1885,735,500,970,1050,560,1825,1530,305,155,"3135","235","445","3140","100","230","135","215","40","11","20","5",1590,550,400,640,2.4,4014,1618,306,69,31,96,4,61,39,34,5,0,76,24,"2400","1590","2550","2740","3070","3900","1800","2790","760","520","740","890","1010","1550","650","840",".","390","220","120","80","30",850,1320,630,75,86,14,3000,38.1,30.4,41.5,19.4,".",{"v":37,"d":"37.0"},22.3,3.7,{"v":6,"d":"6.0"},8.8,11.2,130.8,"70","220","20","510",120,10.6,260,68,"335","0","90","35","35","20","55","75","25","1630","1410","220",1,"1716","145",1.4,0.6,0.4,0.6,5.7,131,95,35,".",".",4,877,17.693315858453474,17.82437745740498,{"v":0.7863695937090431,"d":"0.8"},19.26605504587156,14.678899082568808]
["BU04847013","04847013","Botanicusbuurt","Alphen aan den Rijn","Buurt","BU04847013",{"$f":"IF(E7364=\"wijk\",C7364,IF(E7364=\"Buurt\",_xlfn.XLOOKUP(LEFT(B7364,6),$B$3:$B$18118,$C$3:$C$18118,\"onbekend\",0,1),\"ook geen buurt\"))","v":"Boskoop"},1,1240,620,620,220,140,345,280,255,580,515,80,60,"985","80","180","980","30","65","55","110","15","14","10","6",555,210,170,175,2.2,2894,553,323,52,48,98,2,69,31,28,3,0,88,12,"2280","1850","2320","2670","3420","3750","1670","2560","820","640","810","1030","1040","1520","640","900",".","120","50","30","20","10",230,420,230,75,84,16,1000,".",".",37.9,17.1,".",36.1,15.1,2.6,4.3,6.1,7.4,216.2,"20","40","10","240",35,10.4,35,27,"120","15","20","10","15","5","30","20","10","575","485","90",1,"1340","65",1.5,0.3,0.2,0.3,8.2,50,43,7,2771,1,3,1180,{"$f":"IF(OR(I7364=0, ISBLANK(I7364)), \"Geen inwoners\", (I7364-X7364)/I7364*100)","v":20.967741935483872},{"$f":"IF(OR(I7364=0, ISBLANK(I7364)), \"Geen inwoners\", (I7364-U7364)/I7364*100)","v":20.56451612903226},{"$f":"IF(OR(I7364=0,ISBLANK(I7364)),\"Geen inwoners\",(BU7364/I7364*100))","v":{"v":0.8064516129032258,"d":"0.8"}},{"$f":"IF(OR(I7364=0,ISBLANK(I7364)),\"Geen inwoners\",(L7364/I7364*100))","v":17.741935483870968},{"$f":"IF(OR(I7364=0,ISBLANK(I7364)),\"Geen inwoners\",(P7364/I7364*100))","v":20.56451612903226}]
["BU04849105","04849105","Voorweg","Alphen aan den Rijn","Buurt","BU04849105","Hazerswoude-Dorp",1,775,380,395,120,75,180,215,185,350,360,30,35,"690","30","50","690","5","30","25","20","5","5","5","8",320,85,125,110,2.4,158,332,459,79,21,96,4,79,21,14,7,0,67,33,"3030","1640","2650","2550","3830","3860","1910","3330","990","560","900","1040","1060","1300","630","1090",".","60","40","20","10","10",140,230,180,78,71,29,600,".",".",36.4,27.1,".",23.4,34.3,1.9,2.8,4.1,4.4,371.8,"0","20","0","160",10,4.2,35,44,"315","25","65","80","20","30","50","25","25","590","410","180",1.8,"121","45",{"v":1,"d":"1.0"},{"v":1,"d":"1.0"},1.2,1.2,{"v":3,"d":"3.0"},498,489,9,2391,1,5,386,10.967741935483872,10.967741935483872,{"v":1.2903225806451613,"d":"1.3"},15.483870967741936,23.870967741935484]
["BU04893053","04893053","Kooiwalbos","Barendrecht","Buurt","BU04893053","Wijk 30 Buitengebied Noord",1,15,10,5,5,5,0,5,5,10,0,0,0,"10","0","0","10","0","0","0","0","0","0","0","0",5,0,0,5,4.3,18,4,".",".",".",".",".",".",".",".",".",".",".",".","4690",".",".",".","4310","6050",".","4840","1370",".",".",".","1400","1520",".","1400",".","0","0","0","0","0",".",".",".",".",".",".",0,".",".",".",".",".",".",".",".",".",".",".",".",".",".",".",".",".",".",".",".","30","0","0","5","10","0","15","0","0","55","40","20",".",".","0",{"v":1,"d":"1.0"},1.6,1.2,1.2,{"v":12,"d":"12.0"},74,71,3,2992,1,3,1196,33.33333333333333,33.33333333333333,{"v":0,"d":"0.0"},33.33333333333333,33.33333333333333]
["WK050208","050208","Schollevaar Noord","Capelle aan den IJssel","Wijk","WK050208","Schollevaar Noord",1,3340,1620,1720,450,275,910,900,805,1470,1365,335,165,"2030","335","980","2025","145","460","190","520","35","10","30","8",1630,625,525,480,{"v":2,"d":"2.0"},1837,1592,289,55,45,98,2,54,46,34,12,0,85,15,"2260","1680","2710","2800","2630",".","1840","2630","0","0","0","0","0",".","0","10","93,3","240","140","60","70","20",630,1280,670,68,86,14,2800,38.8,32.5,{"v":36,"d":"36.0"},20.1,".",38.6,16.5,2.9,6.1,9.8,12.1,84.8,"50","110","40","710",90,13.4,235,71,"1165","0","120","260","105","70","330","195","85","2030","1600","430",1.2,"1117","130",0.6,0.8,0.5,1.1,11.2,187,182,5,".",".",2,2049,39.37125748502994,39.221556886227546,{"v":0.5988023952095809,"d":"0.6"},13.47305389221557,24.10179640718563]
["BU05031108","05031108","Centrum-Zuidoost","Delft","Buurt","BU05031108","Wijk 11 Binnenstad",1,750,385,360,60,165,220,190,115,460,220,55,10,"490","135","125","490","35","35","95","90","5","7","0","3",455,250,135,65,1.7,13363,380,430,64,36,92,8,61,38,3,35,1,100,0,"2070","1730","2210","2430",".",".","1860","2200","860","770","880","1040",".",".","780","910",".","30","20","0","30","130",40,180,440,71,80,20,600,".",".",37.8,27.8,".",46.4,16.1,2.6,3.2,4.1,5.6,134.9,"0","10","10","100",".",".",20,24,"140","0","10","25","10","5","40","30","20","220","185","35",0.5,"3912","20",0.7,0.3,0.5,0.4,15.4,6,6,1,2611,1,1,4209,34.66666666666667,34.66666666666667,{"v":17.333333333333336,"d":"17.3"},8,15.333333333333332]
["WK050327","050327","Wijk 27 Schieweg","Delft","Wijk","WK050327","Wijk 27 Schieweg",1,1460,750,710,150,180,405,390,335,760,495,130,75,"940","220","300","940","70","110","150","185","15","8","10","7",790,370,265,155,1.8,762,765,429,31,69,96,4,49,51,24,27,0,65,35,"2060","1870","2310","2740",".","4390","1900","2220","550","440","750","860",".","1400","410","690",".","60","60","10","30","100",170,280,740,71,85,15,1200,".",".",28.6,34.1,".",35.7,23.5,{"v":2,"d":"2.0"},{"v":4,"d":"4.0"},5.7,7.4,151.6,"10","70","10","320",25,8.4,80,56,"470","0","80","120","60","25","120","40","30","700","540","160",0.9,"367","40",1.2,1.2,1.1,1.4,16.9,204,191,13,".",".",1,4066,35.61643835616438,35.61643835616438,{"v":6.8493150684931505,"d":"6.8"},10.273972602739725,22.945205479452056]
["BU05050607","05050607","1e Merwedehaven en omgeving","Dordrecht","Buurt","BU05050607","Wijk 06 Staart",1,0,0,0,0,0,0,0,0,0,0,0,0,"0","0","0","0","0","0","0","0","0","0","0","0",0,0,0,0,".",".",2,".",".",".",".",".",".",".",".",".",".",".",".",".",".",".",".",".",".",".",".",".",".",".",".",".",".",".",".",".","0","0","0","0","0",".",".",".",".",".",".",0,".",".",".",".",".",".",".",".",".",".",".",".",".",".",".",".",".",".",".",".","105","0","20","50","5","10","10","5","0","50","25","20",".",".","0",".",".",".",".",".",75,46,29,3313,1,3,1340,"Geen inwoners","Geen inwoners","Geen inwoners","Geen inwoners","Geen inwoners"]
["BU05051915","05051915","Tweede Tol","Dordrecht","Buurt","BU05051915","Wijk 19 Industriegebied West",1,350,195,155,45,45,80,115,55,150,170,20,10,"300","15","35","300","5","20","10","10","5","14","0","3",130,20,50,60,2.7,1885,137,405,99,1,92,8,95,5,0,5,0,63,37,"3250",".","2810","2780","3190","3840","2680","3280","990",".","720","900","960","1240","1400","970",".","20","20","10","10","0",70,140,80,80,73,27,300,".",".",31.7,25.5,".",12.4,40.3,0.8,0.8,0.8,0.8,282.5,"0","10","0","60",".",".",10,29,"75","5","10","15","5","10","20","5","5","180","145","40",1.4,"991","35",3.3,{"v":3,"d":"3.0"},2.7,2.8,0.8,19,18,0,3316,1,5,262,14.285714285714285,14.285714285714285,{"v":0,"d":"0.0"},12.857142857142856,15.714285714285714]
["BU05130601","05130601","Vreewijk","Gouda","Buurt","BU05130601","Kort Haarlem",1,1260,615,645,235,170,305,365,180,670,470,90,35,"800","75","385","800","25","175","45","210","15","12","10","6",535,190,140,200,2.3,5160,538,291,56,44,98,2,53,47,42,5,0,95,5,"2120","1540","2460","2750","2900","4370","1650","2590","800","650","860","1000","1170","1380","670","940",".","130","90","40","30","10",300,360,270,69,84,16,1000,".",".",{"v":48,"d":"48.0"},16.4,".",43.2,17.9,5.4,12.7,17.3,20.6,123.7,"70","70","10","160",45,11.2,75,60,"130","0","25","5","10","5","30","45","10","480","410","65",0.9,"1959","55",0.5,0.5,0.2,0.3,15.7,26,24,1,2806,2,1,2676,36.507936507936506,36.507936507936506,{"v":0.7936507936507936,"d":"0.8"},18.650793650793652,14.285714285714285]
["BU05181251","05181251","Bloemenbuurt-Oost","'s-Gravenhage","Buurt","BU05181251","Wijk 12 Bomen- en Bloemenbuurt",1,6550,3020,3530,1050,590,1740,1830,1340,3610,1990,680,275,"4235","1025","1290","4235","375","625","650","660","65","10","50","8",3380,1575,815,985,1.9,10911,3411,392,8,92,94,6,69,31,5,26,0,99,1,"2100","2050","2570","3120","3550","3380","2010","2140","870","840","1010","1420","1710","1830","820","890",".","560","380","80","120","90",700,1470,2670,73,81,19,5300,46.1,37.4,30.5,30.3,40.3,33.1,20.9,3.1,4.3,5.7,7.4,256.5,"40","170","50","1210",175,11.4,320,49,"925","5","80","110","55","50","290","210","130","2335","1975","360",0.7,"3893","145",0.4,0.4,0.4,0.7,35.2,61,60,1,2565,2,1,5087,35.34351145038168,35.34351145038168,{"v":1.3740458015267176,"d":"1.4"},16.030534351145036,20.458015267175572]
["WK051834","051834","Wijk 34 Morgenstond","'s-Gravenhage","Wijk","WK051834","Wijk 34 Morgenstond",1,20675,10595,10085,3845,2230,7020,5045,2540,12210,5520,2365,585,"5135","2870","12670","5135","625","5745","2245","6930","310","15","110","5",10710,5615,1775,3320,1.9,12296,10152,232,11,89,96,4,24,76,63,13,0,73,27,"1830","1680","3010","3250","2630","3260","1630","2440","620","610","620","700","1490","1980","620","610","9,2","2050","970","610","430","170",6740,6260,2790,60,74,26,15800,31.6,24.6,48.4,10.9,29.1,61.3,8.5,7.5,17.5,24.5,28.5,4.2,"1730","1380","190","2210",540,9.7,1840,89,"2965","245","1060","345","185","45","390","540","150","6320","5180","1140",0.6,"3759","330",0.6,0.6,0.4,0.5,31.2,169,168,1,".",".",1,4519,75.16324062877871,75.16324062877871,{"v":0.8222490931076178,"d":"0.8"},18.597339782345827,12.285368802902056]
["WK053102","053102","Wijk 02 Krommeweg","Hendrik-Ido-Ambacht","Wijk","WK053102","Wijk 02 Krommeweg",1,7785,3860,3925,1245,885,1685,2300,1665,3145,3735,515,385,"6610","405","775","6605","245","400","155","375","70","9","55","7",3275,870,1135,1275,2.4,4025,3258,353,82,18,99,1,74,26,21,5,0,98,2,"2530","1650","2600","2800","3750","3740","1820","2770","790","560","770","930","1160","1280","670","830",".","660","420","210","170","60",1460,2870,1480,73,87,13,6400,{"v":41,"d":"41.0"},33.5,36.6,22.9,40.5,27.4,26.1,{"v":2,"d":"2.0"},{"v":3,"d":"3.0"},5.4,7.9,209.9,"90","250","50","1450",220,11.1,510,65,"830","5","115","165","85","95","190","105","65","4160","3500","660",1.3,"2150","285",0.7,0.7,0.7,0.7,12.5,195,193,1,".",".",2,1838,15.157353885677585,15.093127809890817,{"v":0.7707129094412332,"d":"0.8"},15.992292870905588,21.38728323699422]
["WK053202","053202","Stede Broec Noord","Stede Broec","Wijk","WK053202","Stede Broec Noord",1,11650,5880,5770,1780,1395,2465,3160,2840,4975,5400,640,630,"10415","660","565","10420","250","285","415","285","95","8","135","12",4805,1330,1660,1815,2.4,3243,4858,389,87,13,98,2,75,25,18,7,0,75,25,"2640","1690","2410","2410","2840","3320","1820","2910","910","500","820","890","960","1190","670","1000",".","1010","610","320","270","70",2750,3830,1860,74,84,16,9500,37.8,31.6,40.6,17.8,39.9,{"v":32,"d":"32.0"},23.2,{"v":2,"d":"2.0"},2.7,4.8,6.9,273.9,"60","500","70","2610",175,{"v":6,"d":"6.0"},810,70,"1165","35","285","180","40","100","210","175","140","5260","4320","940",1.1,"1464","485",0.8,0.7,{"v":1,"d":"1.0"},0.7,{"v":7,"d":"7.0"},397,359,38,".",".",3,1085,10.557939914163091,10.600858369098711,{"v":0.6008583690987125,"d":"0.6"},15.278969957081545,24.377682403433475]
["BU05370106","05370106","Rijnsoever-Midden","Katwijk","Buurt","BU05370106","Katwijk Noord",1,2785,1420,1365,530,325,750,690,490,1265,1355,90,75,"2540","95","140","2545","60","75","40","70","20","7","5","3",1105,320,315,475,2.5,9055,1106,404,72,28,99,1,85,15,13,2,0,100,0,"2460","1490","2780","2990",".",".","1340","2660","800","560","850","980",".",".","590","830",".","280","190","90","60","20",600,1090,390,76,92,8,2200,".",30.8,36.8,19.8,".",22.2,25.2,1.3,2.7,4.2,4.9,301.5,"40","70","10","440",80,10.1,120,43,"145","0","35","15","10","10","30","35","10","1085","945","140",1,"3526","85",1.2,0.7,{"v":1,"d":"1.0"},0.7,13.5,32,31,1,2221,1,2,2056,8.617594254937163,8.797127468581687,{"v":0.718132854578097,"d":"0.7"},19.03052064631957,17.594254937163374]
["BU05460408","05460408","Roomburg","Leiden","Buurt","BU05460408","Roodenburgerdistrict",1,2945,1460,1485,575,370,545,865,595,1540,1110,180,115,"2140","275","530","2135","145","285","130","245","10","3","10","4",1175,315,360,500,2.5,3329,1121,576,54,46,98,2,74,26,22,4,0,15,85,"2690","2100","3080","3300","3950","4340","2220","2850","160","90","70","390","1270","1720","190","150","79,5","300","280","60","60","70",550,640,960,72,81,19,2300,".",39.7,34.6,33.8,".",23.4,37.7,2.4,3.3,5.9,{"v":7,"d":"7.0"},439.8,"30","100","20","540",105,11.7,115,38,"380","0","45","45","40","35","130","60","30","1255","980","275",1.1,"1419","75",0.7,0.7,0.4,1.6,9.3,93,88,4,2314,1,2,2398,27.504244482173174,27.33446519524618,{"v":2.3769100169779285,"d":"2.4"},19.524617996604416,20.203735144312393]
["BU05530304","05530304","Schildersbuurt","Lisse","Buurt","BU05530304","Lisse Zuid",1,1820,870,950,315,220,430,480,375,875,670,180,95,"1380","150","290","1380","60","100","85","190","15","10","10","6",830,325,210,295,2.2,7888,823,352,49,51,99,1,48,52,51,1,0,96,4,"2110","1450","2650","2970","4110",".","1480","2780","680","390","930","1100","1270",".","400","980",".","180","110","60","40","20",460,540,300,74,89,11,1500,".",".",41.7,15.1,".",44.1,15.8,3.8,7.1,{"v":11,"d":"11.0"},14.1,85.7,"60","70","20","330",65,12.6,125,70,"130","0","15","15","10","10","30","30","20","870","760","105",1,"3771","80",0.8,0.8,0.3,0.5,6.6,23,23,0,2162,1,3,1287,24.175824175824175,24.175824175824175,{"v":1.098901098901099,"d":"1.1"},17.307692307692307,20.604395604395602]
["BU05750002","05750002","Kern Zee","Noordwijk","Buurt","BU05750002","Noordwijk Zee",1,840,445,395,85,85,265,240,160,480,220,110,35,"595","160","95","590","35","40","120","55","10","11","5","5",510,285,135,95,1.7,7058,538,352,30,70,87,13,42,57,17,41,1,81,19,"2030","1790","2400","2560","3170","3260","1710","2470","780","670","940","1140","1110","1400","700","880",".","50","30","10","20","10",110,360,250,75,75,25,700,".",".",33.4,20.9,".",48.7,14.9,2.5,4.9,{"v":8,"d":"8.0"},10.9,54.4,"20","30","10","140",15,{"v":12,"d":"12.0"},40,49,"300","0","25","130","15","20","45","25","40","445","365","80",0.9,"3730","30",0.9,0.4,0.5,{"v":1,"d":"1.0"},8.5,12,12,0,2202,1,2,1570,29.761904761904763,29.166666666666668,{"v":1.1904761904761905,"d":"1.2"},10.119047619047619,19.047619047619047]
["BU05890101","05890101","Kern Hekendorp","Oudewater","Buurt","BU05890101","Hekendorp",1,435,215,215,75,55,90,150,60,205,185,30,10,"390","25","20","385","10","10","15","10","5","12","0","9",175,40,60,75,2.5,5654,175,378,99,1,97,3,73,27,21,6,0,86,14,"2680",".","2390","2410","3070","3280","2000","2930","980",".","760","1030","1100","1190","900","1010",".","30","40","20","20","0",90,150,100,81,85,15,400,".",".",40.2,22.2,".",22.4,31.6,2.3,3.5,{"v":4,"d":"4.0"},7.5,288.2,"0","20","0","60",10,6.9,15,34,"45","5","15","5","5","0","10","5","5","225","185","40",1.3,"2925","30",3.8,3.9,3.3,3.7,{"v":0,"d":"0.0"},8,8,1,3467,1,5,103,11.494252873563218,10.344827586206897,{"v":0,"d":"0.0"},17.24137931034483,13.793103448275861]
["WK059712","059712","Cornelisland","Ridderkerk","Wijk","WK059712","Cornelisland",1,25,10,10,0,5,0,10,5,5,10,5,0,"15","10","5","10","5","0","0","0","0","0","0","0",10,0,5,0,2.3,24,8,".",".",".",".",".",".",".",".",".",".",".",".","5860",".",".",".",".","6380",".","5910","1320",".",".",".",".","1340",".","1350",".","0","0","0","0","0",".",".",".",".",".",".",0,".",".",".",".",".",".",".",".",".",".",".",".",".",".",".",".",".",".",".",".","155","0","40","65","15","10","25","0","0","220","90","135",".",".","5",1.5,1.5,1.1,1.3,6.6,92,88,4,".",".",3,1054,60,40,{"v":0,"d":"0.0"},0,20]
["BU05991576","05991576","Zuidplein","Rotterdam","Buurt","BU05991576","Charlois",1,1365,695,670,160,135,515,295,255,820,330,160,55,"500","200","665","500","50","280","145","390","10","9","5","7",805,470,190,150,1.7,5282,762,251,0,100,95,5,31,69,10,59,0,100,0,"1730","1730",".",".",".",".","1710","1780","550","550",".",".",".",".","460","770","29,1","70","40","20","20","30",410,440,220,67,82,18,1100,".",".",37.3,16.2,".",56.4,5.6,4.7,9.7,12.4,15.6,8.2,"30","50","10","230",".",".",120,86,"360","0","40","160","20","15","40","50","30","390","320","70",0.5,"1499","20",0.7,0.3,0.8,0.8,{"v":38,"d":"38.0"},26,26,0,3083,1,1,5551,63.369963369963365,63.369963369963365,{"v":2.197802197802198,"d":"2.2"},11.72161172161172,18.681318681318682]
["BU06031193","06031193","Kraayenburg","Rijswijk","Buurt","BU06031193","Wijk 11",1,10,5,5,0,0,0,10,0,10,5,0,0,"5","0","5","5","0","0","0","0","0","0","0","0",5,0,0,5,{"v":2,"d":"2.0"},19,6,".",".",".",".",".",".",".",".",".",".",".",".",".",".",".",".",".",".",".",".",".",".",".",".",".",".",".",".",".","0","0","0","0","0",".",".",".",".",".",".",0,".",".",".",".",".",".",".",".",".",".",".",".",".",".",".",".",".",".",".",".","25","0","0","10","5","0","5","0","0","5","5","0",".",".","0",2.1,2.4,1.3,2.5,4.5,64,63,2,2289,1,4,823,50,50,{"v":0,"d":"0.0"},0,0]
["WK060602","060602","Wijk 02 Schiedamse Havens","Schiedam","Wijk","WK060602","Wijk 02 Schiedamse Havens",3,95,40,50,0,20,40,25,0,80,10,5,0,"10","65","10","15","0","5","65","5","0","11","0","0",80,70,5,5,1.2,54,15,".",".",".",".",".",".",".",".",".",".",".",".","3060","2800",".",".",".",".","2560","3740","1400","1400",".",".",".",".","1420","1380",".","0","0","0","0","0",".",".",".",".",".",".",100,".",".",".",".",".",".",".",".",".",".",".",".",".",".",".",".",".",".",".",".","330","0","85","105","35","15","65","10","15","380","225","155",".",".","5",1.3,1.2,0.8,0.8,17.4,294,170,124,".",".",3,1429,84.21052631578947,89.47368421052632,{"v":0,"d":"0.0"},0,0]
["WK062201","062201","Centrum","Vlaardingen","Wijk","WK062201","Centrum",1,15545,7640,7905,2295,1785,4780,4100,2585,8430,4825,1565,725,"9265","2410","3870","9270","605","2020","1810","1845","170","11","145","9",7915,3635,1915,2365,1.9,8896,7946,245,32,68,94,6,48,52,36,16,0,93,7,"2090","1880","2470","2550","3330","3610","1810","2390","770","710","840","970","1210","1610","710","840",".","1200","740","470","340","90",4220,5400,2630,71,86,14,12600,35.2,{"v":29,"d":"29.0"},40.4,14.7,33.4,47.4,10.5,4.2,7.9,11.9,14.6,35.7,"520","630","160","2280",240,6.6,1055,68,"1845","40","480","360","105","70","285","265","235","6380","5470","910",0.8,"3650","475",0.5,0.6,0.4,0.4,14.1,178,175,3,".",".",1,3634,40.36667738822773,40.398842071405596,{"v":0.5789642972016726,"d":"0.6"},14.76358957864265,16.62914120295915]
["BU06270205","06270205","West 2","Waddinxveen","Buurt","BU06270205","Wijk 02",1,770,405,370,180,105,180,220,85,370,375,15,5,"655","55","65","655","25","40","25","25","10","16","5","3",265,40,95,135,2.9,96,260,604,99,1,94,6,88,12,0,12,0,40,60,"4730",".","2380","3130","4330","5070","4650","4740","910",".","750","670","530","1080","1610","830",".","110","50","30","20","0",170,230,150,88,68,32,600,".",".",30.6,40.5,".",15.6,54.2,2.3,1.9,2.7,2.7,479.2,"0","10","0","80",20,{"v":7,"d":"7.0"},10,14,"285","40","35","60","35","45","55","10","5","590","410","180",2.2,"74","50",1.9,1.6,2.2,2.5,2.8,806,800,5,2742,1,5,168,14.935064935064934,14.935064935064934,{"v":0,"d":"0.0"},23.376623376623375,11.03896103896104]
["BU06270302","06270302","Oranjewijk Noord","Waddinxveen","Buurt","BU06270302","Wijk 03",1,1580,805,770,335,180,505,385,175,830,575,125,40,"1045","140","390","1045","40","160","105","235","25","15","5","4",690,255,155,275,2.3,6289,681,264,44,56,98,2,55,45,42,3,0,100,0,"2120","1770","2480","2680",".",".","1810","2380","830","790","860","910",".",".","820","830",".","180","90","50","40","10",410,580,180,74,86,14,1200,".",".",{"v":41,"d":"41.0"},11.4,".",40.1,12.8,3.8,{"v":7,"d":"7.0"},12.1,14.7,80.1,"50","80","10","160",55,11.2,75,49,"155","5","50","20","10","5","20","25","20","660","585","75",1,"2630","65",{"v":1,"d":"1.0"},0.3,0.3,0.4,9.3,27,25,2,2741,1,2,2011,33.860759493670884,33.860759493670884,{"v":0.6329113924050633,"d":"0.6"},21.202531645569618,11.075949367088606]
["BU06370301","06370301","Seghwaert-Noord-Oost","Zoetermeer","Buurt","BU06370301","Seghwaert",1,9095,4570,4525,1675,1070,2530,2255,1565,4585,3490,785,240,"6025","650","2415","6025","305","1230","350","1185","90","10","50","5",3925,1230,1140,1550,2.3,6829,3829,335,74,26,99,1,61,39,31,8,0,99,1,"2500","1980","2620","2840","3390","3860","2280","2640","760","620","770","890","1010","1210","740","770",".","900","580","300","180","70",1900,3180,1860,71,89,11,7200,37.9,30.3,35.5,19.2,36.8,{"v":31,"d":"31.0"},18.3,2.8,4.4,7.1,9.2,149.8,"190","410","80","1380",325,12.7,420,46,"710","5","130","75","70","15","155","195","65","4030","3435","595",1,"3027","320",0.6,0.6,0.3,0.6,15.9,137,133,4,2727,5,1,2648,33.75481033534909,33.75481033534909,{"v":0.7696536558548653,"d":"0.8"},18.416712479384277,17.20725673446949]
["BU06420201","06420201","Veerplein - De Werf","Zwijndrecht","Buurt","BU06420201","Wijk 02 Centrum",1,295,135,155,0,5,25,55,200,60,135,45,55,"240","35","15","245","25","10","10","10","0","0","10","34",200,105,80,10,1.5,15000,207,355,0,100,93,7,65,35,22,14,0,100,0,"2060","2060",".",".",".",".","1690","2260","740","740",".",".",".",".","750","730",".","0","0","0","0","0",".",".",".",52,".",".",300,".",".",{"v":49,"d":"49.0"},14.7,".",48.7,6.7,2.7,4.3,4.8,6.5,282.6,"10","10","0","190",".",".",50,173,"80","0","5","15","35","10","10","0","5","205","165","40",1,"10495","5",0.5,1.4,0.6,0.9,9.2,5,2,3,3331,1,1,3867,16.94915254237288,18.64406779661017,{"v":0,"d":"0.0"},0,67.79661016949152]
["BU06420907","06420907","Bedrijventerrein Gors-Zuid","Zwijndrecht","Buurt","BU06420907","Wijk 09 Landelijk gebied Heerjansdam",1,0,0,0,0,0,0,0,0,0,0,0,0,"0","0","0","0","0","0","0","0","0","0","0","0",0,0,0,0,".",".",0,".",".",".",".",".",".",".",".",".",".",".",".",".",".",".",".",".",".",".",".",".",".",".",".",".",".",".",".",".","0","0","0","0","0",".",".",".",".",".",".",0,".",".",".",".",".",".",".",".",".",".",".",".",".",".",".",".",".",".",".",".","30","0","15","10","0","5","0","0","0","10","5","5",".",".","0",".",".",".",".",".",19,14,5,2995,1,5,408,"Geen inwoners","Geen inwoners","Geen inwoners","Geen inwoners","Geen inwoners"]
["BU06640550","06640550","'s-Heer-Arendskerke","Goes","Buurt","BU06640550","Wijk 05 's-Heer-Arendskerke",1,1220,610,610,190,130,250,365,295,500,545,100,75,"1105","50","65","1110","25","30","25","35","10","11","15","14",530,170,175,180,2.2,2168,546,309,87,13,97,3,72,28,22,6,0,80,20,"2530","1770","2120","2200","2760","3040","1860","2790","920","410","720","850","950","1220","600","1040",".","110","60","40","20","0",190,440,270,73,86,14,1000,".",".",35.9,20.7,".",28.9,{"v":19,"d":"19.0"},1.2,1.9,3.9,{"v":6,"d":"6.0"},201.1,"10","50","10","270",35,11.2,110,92,"125","0","20","15","0","20","30","30","10","710","600","110",1.4,"1262","80",3.2,3.4,0.4,0.3,1.1,56,56,0,4458,1,5,205,9.01639344262295,9.426229508196721,{"v":0,"d":"0.0"},15.573770491803279,24.18032786885246]
["WK067708","067708","Kloosterzande","Hulst","Wijk","WK067708","Kloosterzande",3,3190,1575,1615,430,290,680,895,890,1320,1360,245,265,"2575","460","150","2575","165","50","295","100","30","8","50","15",1455,500,525,435,2.1,197,1641,247,90,10,92,8,70,29,16,12,1,87,13,"2410","1450","1820","1940","2510","3010","1560","2740","960","580","830","920","910","1140","790","1030",".","220","150","80","30","0",650,1110,530,70,83,17,2600,37.6,31.9,41.6,16.7,".",37.8,18.5,1.8,4.2,5.7,{"v":8,"d":"8.0"},200.7,"40","130","20","810",95,14.5,165,51,"305","40","65","45","20","15","30","60","35","1880","1600","275",1.3,"116","110",0.9,{"v":1,"d":"1.0"},0.8,{"v":1,"d":"1.0"},1.2,1626,1618,9,".",".",5,430,19.278996865203762,19.278996865203762,{"v":0,"d":"0.0"},13.479623824451412,27.89968652037618]
["BU06871417","06871417","Popkensburg","Middelburg","Buurt","BU06871417","Sint Laurens",1,90,40,45,15,10,15,20,35,35,40,10,5,"80","5","10","75","5","5","5","5","5","22","0","0",45,20,10,10,2.1,102,34,294,82,18,97,3,44,56,0,56,0,97,3,"2620","2520","1190",".",".","3870","1450","3990","970","940","490",".",".","1320","540","1480",".","10","0","0","0","0",".",".",".",".",".",".",100,".",".",".",".",".",".",".",".",".",".",".",".","0","0","0","30",".",".",".",".","20",".",".",".",".",".",".",".",".","55","40","15",".",".","0",1.3,2.5,2.3,1.2,{"v":5,"d":"5.0"},89,88,1,4333,1,5,153,16.666666666666664,11.11111111111111,{"v":0,"d":"0.0"},16.666666666666664,38.88888888888889]
["WK070304","070304","Wijk 04 Rilland-Bath","Reimerswaal","Wijk","WK070304","Wijk 04 Rilland-Bath",1,2990,1535,1460,480,335,765,830,585,1395,1255,200,140,"2140","550","305","2140","130","150","415","155","20","6","20","7",1360,510,390,465,2.2,64,1297,256,91,9,95,5,68,32,26,6,0,83,17,"2710","1960","2180","2420","2630","3540","2050","3010","890","650","770","840","910","1090","790","940",".","230","160","100","50","10",630,1110,520,73,84,16,2400,".",28.9,41.3,14.8,".",39.9,15.3,3.5,4.8,7.1,9.6,92.6,"50","110","20","540",80,10.5,190,64,"365","40","85","70","30","15","45","55","25","1785","1460","330",1.3,"38","190",1.1,0.9,0.8,0.8,2.8,5694,4671,1023,".",".",5,291,28.428093645484946,28.428093645484946,{"v":0.33444816053511706,"d":"0.3"},16.05351170568562,19.565217391304348]
["BU07152901","07152901","Kern Zuiddorpe","Terneuzen","Buurt","BU07152901","Kern Zuiddorpe",1,725,385,335,95,70,160,240,160,295,335,65,25,"455","240","35","455","65","15","175","20","10","12","5","4",340,120,125,100,2.1,1020,351,259,99,1,95,5,79,21,17,3,1,96,4,"2820",".","2160","2080","2460","3360","1970","3050","1040",".","810","870","1070","1170","770","1120",".","30","20","10","10","0",90,180,290,66,90,10,600,".",".",36.2,23.1,".",38.9,18.7,{"v":3,"d":"3.0"},3.4,4.7,{"v":7,"d":"7.0"},207.6,"10","40","0","130",20,{"v":13,"d":"13.0"},30,43,"60","10","10","10","5","0","10","10","5","465","390","75",1.4,"653","50",4.4,4.3,4.6,4.3,{"v":0,"d":"0.0"},71,71,0,4574,1,5,105,37.24137931034483,37.24137931034483,{"v":0,"d":"0.0"},13.10344827586207,22.06896551724138]
["BU07171100","07171100","Zoutelande","Veere","Buurt","BU07171100","Wijk 11 Zoutelande",1,1315,650,665,140,105,200,390,475,430,670,105,105,"1190","80","45","1190","30","20","55","25","5","3","20","15",645,225,275,150,{"v":2,"d":"2.0"},1578,812,364,81,19,77,23,78,21,9,11,1,94,6,"2450","1850","1940","1970","2280","3410","1570","2690","1070","750","870","890","1000","1470","810","1140",".","80","60","20","20","0",230,440,250,68,72,28,1100,".",".",40.1,18.2,".",33.1,20.6,2.2,4.2,5.3,7.4,334.1,"10","40","10","430",25,{"v":10,"d":"10.0"},85,65,"185","5","15","70","5","20","30","20","20","750","615","130",1.2,"898","70",0.6,0.6,{"v":1,"d":"1.0"},{"v":1,"d":"1.0"},1.8,83,83,0,4374,1,5,459,9.505703422053232,9.505703422053232,{"v":0,"d":"0.0"},10.646387832699618,36.12167300380228]
["BU07180103","07180103","Scheldekwartier","Vlissingen","Buurt","BU07180103","Binnenstad",1,955,505,455,150,150,345,200,120,595,255,95,15,"600","150","210","600","40","100","110","110","10","11","5","3",530,290,125,120,1.8,3699,462,217,34,66,95,5,37,62,28,34,1,62,38,"2390","2030","3050","3030",".",".","2310","2510","500","560","370","400",".",".","500","500",".","90","30","40","40","0",150,320,310,75,89,11,800,".",".",37.4,18.8,".",50.3,12.2,4.1,7.8,11.5,14.6,7.4,"30","30","10","150",20,9.2,40,42,"80","0","10","15","15","0","10","15","10","425","355","70",0.8,"1645","25",0.9,0.7,0.8,0.8,7.3,35,26,9,4381,1,1,2587,37.17277486910995,37.17277486910995,{"v":0,"d":"0.0"},15.706806282722512,12.56544502617801]
["BU07360702","07360702","Abcoude-Zuidwest","De Ronde Venen","Buurt","BU07360702","Abcoude",1,4625,2270,2350,1040,520,915,1365,780,2325,1855,260,175,"3500","435","690","3500","230","385","205","305","30","7","40","9",1780,445,470,875,2.6,4964,1789,739,93,7,97,3,80,20,16,4,0,86,14,"3370","1690","2880","3080","3690","5100","2260","3640","1090","460","960","1070","1250","1440","670","1200",".","610","370","50","100","80",450,950,1760,77,74,26,3500,63.8,{"v":48,"d":"48.0"},30.2,41.3,".",19.7,49.7,2.1,2.5,3.1,4.2,615.8,"20","90","50","700",135,{"v":9,"d":"9.0"},155,33,"705","0","55","50","40","100","260","135","65","2150","1660","490",1.2,"2307","185",0.9,0.8,0.4,0.6,{"v":4,"d":"4.0"},94,93,1,1391,1,4,928,24.324324324324326,24.324324324324326,{"v":1.7297297297297298,"d":"1.7"},22.486486486486488,16.864864864864863]
["WK074307","074307","Asten buitengebied west","Asten","Wijk","WK074307","Asten buitengebied west",1,470,250,220,90,75,90,145,70,230,210,20,10,"420","45","10","415","5","5","35","5","0","8","0","0",165,30,50,85,2.9,68,147,583,94,6,92,8,86,14,0,14,0,82,18,"4450","2980",".",".","3800","4640","4020","4520","1550","1190",".",".","1540","1600","1810","1500",".","50","40","10","10","0",100,160,90,80,63,37,400,".",".",37.9,22.8,".",23.6,40.4,3.2,3.8,5.1,7.1,573.1,"0","10","0","60",15,9.3,10,23,"130","30","20","25","0","15","20","10","15","230","175","55",1.4,"33","30",1.8,1.8,1.5,1.6,3.9,704,697,6,".",".",5,349,11.702127659574469,10.638297872340425,{"v":0,"d":"0.0"},19.148936170212767,14.893617021276595]
["BU07530001","07530001","Centrum","Best","Buurt","BU07530001","Wijk 00 Best",1,1555,690,870,110,70,295,275,810,520,575,155,305,"1310","145","110","1310","50","30","90","80","5","3","50","34",995,595,295,105,1.5,4294,1075,336,13,87,90,10,40,60,29,31,0,80,20,"2160","1890","3330","3100","3620","3950","1810","2590","660","560","910","1170","1220","1570","560","800",".","50","30","20","20","10",320,350,250,61,82,18,1400,".",".",46.9,{"v":11,"d":"11.0"},".",60.9,{"v":7,"d":"7.0"},2.7,6.2,11.1,15.7,83.1,"20","90","10","770",15,9.5,310,199,"275","0","20","100","5","35","40","50","30","845","725","120",0.8,"2328","70",0.4,0.2,0.4,0.5,{"v":8,"d":"8.0"},36,36,0,5683,2,2,2087,15.755627009646304,15.755627009646304,{"v":0.6430868167202572,"d":"0.6"},7.07395498392283,52.09003215434084]
["BU07580303","07580303","Ginneken","Breda","Buurt","BU07580303","Breda zuid-oost",1,5460,2635,2825,935,615,1150,1580,1185,2770,2045,400,240,"4510","525","430","4505","290","245","235","185","40","7","35","6",2445,825,800,820,2.2,4154,2473,630,72,28,96,4,78,22,6,16,0,87,13,"2920","2240","2840","3250","3340","4770","2040","3160","1130","740","1100","1340","1430","2080","790","1230",".","480","450","60","160","60",590,1000,2410,74,73,27,4400,59.8,48.5,32.2,36.8,".",23.1,38.9,2.2,2.8,{"v":4,"d":"4.0"},4.7,463.9,"10","100","60","1090",135,9.2,225,41,"1080","0","50","135","45","155","355","240","90","2785","2135","645",1.1,"2118","150",0.4,0.7,0.3,0.5,10.3,136,131,4,4835,1,2,2387,17.49084249084249,17.399267399267398,{"v":1.098901098901099,"d":"1.1"},17.124542124542124,21.703296703296704]
["BU07620200","07620200","Liessel","Deurne","Buurt","BU07620200","Wijk 02 Liessel",1,2405,1210,1195,345,245,580,650,585,1100,975,140,190,"2220","135","50","2220","45","30","95","20","25","11","35","14",1080,350,380,355,2.2,1452,1084,388,87,13,98,2,66,34,27,7,0,78,22,"3020","2420","2520","2360","3150","3890","2350","3360","990","270","860","960","990","1380","660","1160",".","180","110","60","40","0",560,870,360,77,82,18,2000,".",".",40.3,{"v":14,"d":"14.0"},".",38.2,18.2,2.6,3.4,5.5,8.6,259.2,"20","100","20","520",35,6.7,195,81,"260","10","75","40","5","20","40","40","35","1420","1185","235",1.3,"857","155",0.7,0.6,0.7,0.7,{"v":1,"d":"1.0"},166,166,0,5757,1,5,345,7.6923076923076925,7.6923076923076925,{"v":0,"d":"0.0"},14.345114345114347,24.324324324324326]
["BU07723110","07723110","Villapark","Eindhoven","Buurt","BU07723110","De Laak",1,2465,1320,1145,335,350,785,615,380,1495,765,145,60,"1740","340","380","1740","100","125","240","260","25","10","25","10",1255,590,360,305,1.9,4491,1165,602,58,42,95,5,55,45,19,26,0,63,37,"2760","1750","2970","3780","3730","4090","1840","3510","1060","460","1230","1560","1640","1940","640","1400",".","180","140","20","100","130",240,530,1230,76,78,22,2000,".",".",33.3,37.7,".",36.8,32.7,4.5,6.2,8.1,9.7,162.4,"30","50","20","340",30,4.8,110,44,"525","0","45","45","30","95","195","85","35","1070","800","270",0.9,"1951","50",0.7,0.8,0.4,0.5,11.9,56,55,1,5613,1,1,2915,29.411764705882355,29.411764705882355,{"v":5.273833671399594,"d":"5.3"},13.590263691683571,15.415821501014198]
["WK077263","077263","Meerhoven","Eindhoven","Wijk","WK077263","Meerhoven",1,13005,6680,6330,2870,1355,4210,3210,1365,6435,5690,630,250,"6820","1620","4570","6820","580","1370","1040","3195","120","9","40","3",5150,1315,1410,2425,2.5,838,5046,485,76,24,98,2,74,26,15,11,0,5,95,"2890","1970","2830","2980","3460","4970","2160","3140","130","10","70","110","360","610","30","160","77,1","1610","1090","220","280","160",2210,2600,4940,78,89,11,9700,54.3,40.8,29.1,38.8,47.1,19.4,39.2,1.9,2.5,3.5,4.4,281.7,"80","280","100","1240",420,10.4,425,33,"1700","5","130","295","245","155","500","235","135","5545","4165","1380",1.1,"357","250",{"v":2,"d":"2.0"},{"v":1,"d":"1.0"},0.8,1.1,5.2,1587,1552,34,".",".",3,1224,47.558631295655516,47.558631295655516,{"v":1.2302960399846214,"d":"1.2"},22.068435217224145,10.4959630911188]
["BU07772010","07772010","Centrum Zuid","Etten-Leur","Buurt","BU07772010","Zuid woongebied",1,745,345,405,45,40,105,135,420,200,355,65,130,"645","50","45","645","20","20","30","25","5","7","25","32",445,225,170,55,1.7,4632,451,354,14,86,96,4,55,45,37,8,0,7,93,"2250","2070","2950","2960","3710","3270","1890","2540","500","400","910","970","750","1400","300","670",".","20","20","10","10","0",200,160,100,52,85,15,700,".",".",51.7,12.2,".",54.5,10.7,2.1,4.2,8.7,12.6,199.7,"0","40","0","420",10,10.4,170,228,"165","0","5","105","5","10","15","10","20","370","320","50",0.8,"2301","20",0.9,0.3,0.7,0.7,{"v":8,"d":"8.0"},16,16,0,4873,2,2,2378,13.422818791946309,13.422818791946309,{"v":0,"d":"0.0"},6.0402684563758395,56.375838926174495]
["WK078404","078404","Molenschot","Gilze en Rijen","Wijk","WK078404","Molenschot",1,1230,625,605,145,170,200,395,320,495,605,75,55,"1130","60","40","1130","35","15","30","25","10","8","10","7",495,135,190,175,2.5,96,437,482,95,5,96,4,86,14,5,8,0,86,14,"3730","2070","2390","3390","3170","4250","2830","3880","1200","810","770","1030","1090","1340","1070","1220",".","70","50","30","40","10",250,450,240,74,76,24,1100,".",".",39.5,21.4,".",{"v":28,"d":"28.0"},32.5,2.5,3.9,5.3,6.4,430.7,"10","40","10","280",20,7.9,50,42,"210","35","30","35","5","10","45","25","20","810","635","175",1.6,"63","90",3.4,3.6,1.1,1.1,1.4,1282,1280,2,".",".",5,112,8.130081300813007,8.130081300813007,{"v":0.8130081300813009,"d":"0.8"},11.788617886178862,26.01626016260163]
["BU07942103","07942103","Stepekolk","Helmond","Buurt","BU07942103","Wijk 21 Brandevoort",1,3785,1905,1880,900,530,1025,1045,290,2080,1435,230,45,"2985","305","500","2985","155","285","155","220","35","9","15","3",1315,185,350,785,2.9,3971,1298,526,98,2,98,2,76,24,14,10,0,0,100,"3530","2070","2630","2910","4030","5280","2630","3820","820","550","600","720","950","1190","570","900",".","490","380","110","120","40",550,1020,1300,83,84,16,2900,49.8,37.8,33.2,33.6,".",15.1,45.3,1.9,{"v":3,"d":"3.0"},4.1,5.3,269.3,"20","80","30","260",105,7.7,80,21,"390","5","40","60","20","40","105","80","40","1635","1295","340",1.2,"1715","95",{"v":1,"d":"1.0"},1.1,0.5,0.7,4.2,97,95,2,5708,3,4,875,21.136063408190225,21.136063408190225,{"v":1.0568031704095113,"d":"1.1"},23.778071334214,7.661822985468956]
["BU07960105","07960105","Het Zand","'s-Hertogenbosch","Buurt","BU07960105","Binnenstad",1,2550,1295,1255,140,390,1045,650,325,1805,480,220,40,"1770","280","500","1770","85","165","195","335","25","9","10","5",1730,1160,410,160,1.4,5290,1555,376,8,92,95,5,26,74,39,35,1,96,4,"1960","1830","3310","3480","4530",".","1750","2560","740","680","1420","1600","1930",".","650","1010",".","70","40","50","180","60",300,750,1290,75,83,17,2300,".",".",36.9,21.7,".",{"v":60,"d":"60.0"},{"v":12,"d":"12.0"},5.5,9.3,14.2,{"v":17,"d":"17.0"},8.4,"80","130","30","290",30,7.5,145,57,"955","0","65","105","70","115","335","140","130","1105","865","235",0.6,"2290","50",0.3,0.6,0.7,0.7,9.7,53,48,5,5211,1,1,3772,30.58823529411765,30.58823529411765,{"v":2.3529411764705883,"d":"2.4"},5.490196078431373,12.745098039215685]
["BU07960914","07960914","Orthen west","'s-Hertogenbosch","Buurt","BU07960914","Noord",1,820,410,400,145,85,335,175,70,490,250,55,20,"600","70","150","600","15","90","50","60","20","21","5","4",385,145,125,120,2.1,2480,363,377,72,28,97,3,39,61,45,17,0,40,60,"2340","2370","2050","2390","3210","4530","2190","2550","580","490","500","580","1320","1510","460","760",".","60","30","20","20","10",180,210,260,78,88,12,700,".",".",35.8,{"v":17,"d":"17.0"},".",40.5,15.4,3.3,4.1,5.7,7.9,19.9,"10","50","10","70",25,11.6,35,41,"95","0","25","25","5","0","25","10","10","345","275","75",0.9,"1055","15",0.7,0.8,0.9,1.2,11.1,33,33,0,5231,1,2,1525,26.82926829268293,26.82926829268293,{"v":1.2195121951219512,"d":"1.2"},17.682926829268293,8.536585365853659]
["BU07980000","07980000","Hilvarenbeek","Hilvarenbeek","Buurt","BU07980000","Wijk 00 Hilvarenbeek",1,8115,3950,4165,1190,825,1550,2350,2195,3335,3620,575,580,"7215","430","470","7215","250","190","180","280","70","9","90","11",3575,1140,1265,1170,2.2,2611,3794,417,82,18,96,4,69,31,20,11,0,80,20,"2760","1680","2510","2790","2840","4010","1900","3140","990","620","880","1020","1080","1370","710","1110",".","630","430","160","190","60",1300,2380,2100,75,82,18,6700,40.4,34.3,{"v":38,"d":"38.0"},21.9,40.9,31.2,25.5,1.6,{"v":3,"d":"3.0"},5.4,7.5,336.6,"80","280","60","2010",150,7.9,685,85,"1060","15","140","200","45","80","255","200","125","4420","3570","845",1.2,"1422","345",0.6,0.5,0.6,0.6,3.3,311,311,0,5081,1,4,974,11.090573012939002,11.090573012939002,{"v":0.7393715341959335,"d":"0.7"},14.664202094886015,27.0486752926679]
["WK082405","082405","Omgeving Vinkenberg / Heuvelstraat","Oisterwijk","Wijk","WK082405",{"$f":"IF(E10756=\"wijk\",C10756,IF(E10756=\"Buurt\",_xlfn.XLOOKUP(LEFT(B10756,6),$B$3:$B$18118,$C$3:$C$18118,\"onbekend\",0,1),\"ook geen buurt\"))","v":"Omgeving Vinkenberg / Heuvelstraat"},1,230,120,110,40,35,50,65,40,115,100,5,5,"210","5","10","210","5","10","0","5","0","4","0","9",80,15,20,45,2.8,181,72,691,97,3,97,3,89,11,0,11,0,81,19,"4670",".",".",".",".","4810","3840","4780","1320",".",".",".",".","1370","1350","1320",".","30","20","10","10","0",30,70,70,85,".",".",200,".",".",39.3,28.4,".",".",".",".",".",".",".",".","0","0","0","30",".",".",".",".","55","15","5","5","5","5","15","5","0","120","80","40",1.5,"95","5",2.4,2.3,2.3,{"v":2,"d":"2.0"},1.8,126,126,0,".",".",5,123,{"$f":"IF(OR(I10756=0, ISBLANK(I10756)), \"Geen inwoners\", (I10756-X10756)/I10756*100)","v":8.695652173913043},{"$f":"IF(OR(I10756=0, ISBLANK(I10756)), \"Geen inwoners\", (I10756-U10756)/I10756*100)","v":8.695652173913043},{"$f":"IF(OR(I10756=0,ISBLANK(I10756)),\"Geen inwoners\",(BU10756/I10756*100))","v":{"v":0,"d":"0.0"}},{"$f":"IF(OR(I10756=0,ISBLANK(I10756)),\"Geen inwoners\",(L10756/I10756*100))","v":17.391304347826086},{"$f":"IF(OR(I10756=0,ISBLANK(I10756)),\"Geen inwoners\",(P10756/I10756*100))","v":17.391304347826086}]
["BU08260500","08260500","Bloemenbuurt","Oosterhout","Buurt","BU08260500","Wijk 05 Oosterheide",1,1790,875,920,335,220,470,430,335,885,650,165,95,"825","190","775","825","50","365","140","410","20","11","15","8",810,335,205,270,2.2,2738,777,250,66,34,97,3,33,67,64,2,0,94,6,"2300","1890","2400","2730",".","3080","2120","2680","820","690","820","1030",".","1070","780","900",".","180","120","80","30","10",500,630,140,63,87,13,1400,".",".",{"v":51,"d":"51.0"},7.1,".",53.4,7.6,6.7,11.5,16.4,20.9,10.5,"90","110","30","300",45,8.9,205,114,"290","0","30","70","35","30","65","30","20","2315","1455","855",".",".","55",1.3,0.4,1.2,1.3,6.3,68,65,2,4904,2,2,1780,53.910614525139664,53.910614525139664,{"v":0.5586592178770949,"d":"0.6"},18.71508379888268,18.71508379888268]
["WK082805","082805","Industrieterreinen-Noord","Oss","Wijk","WK082805","Industrieterreinen-Noord",1,140,80,65,20,20,20,50,30,55,65,15,5,"110","25","10","110","0","5","20","5","0","7","5","14",55,20,20,15,2.5,40,57,489,89,11,89,11,75,25,0,25,0,96,4,"3800","3340","1960",".","4620","4130","3040","4230","1400","1110","850",".","1430","1560","1350","1430",".","10","10","10","10","0",".",".",".",".",".",".",100,".",".",37.9,25.9,".",".",".",".",".",".",".",".","0","10","0","30",".",".",10,64,"420","0","125","140","35","45","55","10","15","410","220","185",".",".","30",2.4,{"v":2,"d":"2.0"},{"v":2,"d":"2.0"},{"v":2,"d":"2.0"},3.9,376,355,20,".",".",4,503,21.428571428571427,21.428571428571427,{"v":0,"d":"0.0"},14.285714285714285,21.428571428571427]
["BU08281909","08281909","Buitengebied Lithoijen","Oss","Buurt","BU08281909","Lithoijen",1,95,60,40,20,20,10,25,15,45,45,5,0,"95","0","0","95","0","0","0","0","0","0","5","21",30,5,5,20,3.4,14,32,499,91,9,84,16,88,13,0,13,0,94,6,"4610",".",".",".",".","4740",".","4830","1560",".",".",".",".","1600",".","1560",".","10","10","10","10","0",".",".",".",".",".",".",100,".",".",".",".",".",".",".",".",".",".",".",".","0","0","0","20",".",".",".",".","35","25","5","0","0","0","0","0","0","20","10","10",".",".","0",3.6,3.5,2.5,2.8,0.8,683,678,5,5396,1,5,33,0,0,{"v":0,"d":"0.0"},21.052631578947366,15.789473684210526]
["BU08450201","08450201","Maaskantje","Sint-Michielsgestel","Buurt","BU08450201","Wijk 02 Den Dungen",1,1670,845,825,275,220,365,485,325,760,745,85,75,"1545","55","70","1545","25","40","25","25","10","8","10","4",660,150,215,290,2.5,1724,661,467,94,6,97,3,81,19,9,10,0,83,17,"3350","2500","2570","2860","3650","4140","2690","3490","1160","1070","920","1070","1230","1360","1070","1180",".","140","110","40","40","10",340,560,370,76,79,21,1400,".",".",36.1,22.9,".",21.8,35.1,1.4,1.7,{"v":3,"d":"3.0"},4.7,379.8,"10","60","10","290",40,8.4,80,47,"245","10","45","30","10","30","50","45","25","940","750","190",1.4,"971","95",0.5,0.4,0.5,0.5,2.8,97,97,0,5271,1,4,591,7.48502994011976,7.48502994011976,{"v":0.5988023952095809,"d":"0.6"},16.46706586826347,19.46107784431138]
["BU08551302","08551302","Jeruzalem Zuid","Tilburg","Buurt","BU08551302","Jeruzalem",1,870,425,450,165,105,225,260,115,480,275,90,25,"605","55","210","610","30","105","30","100","10","15","5","7",375,110,110,150,2.3,8791,378,360,79,21,98,2,42,58,54,3,0,49,51,"2210","1800","2290","2430",".",".","2340","2060","530","0","650","730",".",".","660","370",".","80","50","20","20","0",240,200,240,68,89,11,700,".",".",44.4,17.5,".",35.9,18.5,4.1,9.2,{"v":12,"d":"12.0"},15.8,24.9,"40","50","10","100",25,10.1,65,74,"70","0","10","10","10","5","15","15","10","345","290","60",0.9,"3502","15",0.8,0.7,0.6,{"v":1,"d":"1.0"},{"v":10,"d":"10.0"},10,10,0,5018,1,2,1576,29.88505747126437,30.45977011494253,{"v":0,"d":"0.0"},18.96551724137931,13.218390804597702]
["BU08552903","08552903","Ind.terrein Kanaalzone Noord-Oost","Tilburg","Buurt","BU08552903","Kanaalzone",1,40,25,15,5,10,10,15,5,30,10,0,0,"35","10","0","35","0","5","5","0","0","24","0","0",20,15,5,5,1.7,298,16,".",".",".",".",".",".",".",".",".",".",".",".","3270","2490","3150","3680",".","4360","2990","3420","1080","620","970","1300",".","1720","1040","1090",".","0","0","0","10","0",".",".",".",".",".",".",0,".",".",".",".",".",".",".",".",".",".",".",".",".",".",".",".",".",".",".",".","100","0","15","30","5","10","10","15","15","190","125","65",".",".","5",{"v":1,"d":"1.0"},{"v":1,"d":"1.0"},0.8,0.9,15.3,14,14,0,5013,1,1,2879,12.5,12.5,{"v":0,"d":"0.0"},12.5,12.5]
["BU08554201","08554201","Stokhasselt Noord-West","Tilburg","Buurt","BU08554201","Stokhasselt",1,485,245,235,110,55,155,110,50,290,130,55,10,"155","70","255","155","20","120","50","140","10","17","0","2",235,105,50,85,2.1,3900,237,188,15,85,95,5,14,86,84,2,0,100,0,"1860","1630","2200","2480","3360","4740","1700","2840","200","30","890","810","370","1330","60","1000","85,1","50","30","20","10","0",180,180,20,63,88,12,400,".",".",51.6,6.3,".",58.3,{"v":6,"d":"6.0"},7.4,19.2,{"v":24,"d":"24.0"},26.6,1.7,"50","30","10","50",15,10.3,35,74,"40","0","5","15","5","0","5","10","0","215","180","35",0.9,"1740","10",0.7,0.6,0.1,0.1,6.9,12,12,0,5049,1,2,1587,68.04123711340206,68.04123711340206,{"v":0,"d":"0.0"},22.68041237113402,10.309278350515463]
["BU08554305","08554305","Heikant Zuid-West","Tilburg","Buurt","BU08554305","Heikant",1,1690,825,865,310,260,395,430,295,880,530,195,85,"545","185","960","550","55","400","130","560","15","9","10","8",765,325,155,280,2.2,8014,693,200,44,56,98,2,21,79,75,4,0,100,0,"2190","1600","2880","3070",".",".","1920","3200","190","40","370","390",".",".","140","390","84,7","190","110","80","30","10",580,420,220,55,89,11,1300,".",".",63.5,4.8,".",63.2,6.3,7.7,16.8,24.9,32.1,4.6,"170","120","20","270",35,6.4,210,125,"95","0","20","10","10","0","10","30","10","605","515","90",0.8,"2867","15",0.3,0.4,0.5,{"v":1,"d":"1.0"},{"v":9,"d":"9.0"},21,21,0,5011,1,1,3076,67.45562130177515,67.75147928994083,{"v":0.591715976331361,"d":"0.6"},18.34319526627219,17.45562130177515]
["BU08556301","08556301","Wijkevoort","Tilburg","Buurt","BU08556301","Buitengebied Tilburg Zuid-West",1,15,10,5,0,0,0,5,5,5,5,0,0,"15","0","0","10","0","0","5","0","0","0","0","0",15,10,0,0,1.3,10,12,".",".",".",".",".",".",".",".",".",".",".",".","4340",".",".",".",".","4200",".",".","1330",".",".",".",".","1270",".",".",".","0","0","0","0","0",".",".",".",".",".",".",0,".",".",".",".",".",".",".",".",".",".",".",".",".",".",".",".",".",".",".",".","5",".",".",".",".",".",".",".",".","10","5","5",".",".","0",3.6,3.8,3.7,3.3,0.2,173,157,16,5032,1,5,47,33.33333333333333,0,{"v":0,"d":"0.0"},0,33.33333333333333]
["BU08580101","08580101","Agnetendal","Valkenswaard","Buurt","BU08580101","Wijk 01 Kloosterakkers en Dommelen",1,1855,935,920,310,220,405,495,425,795,810,170,75,"1505","130","215","1510","70","90","60","125","10","5","15","10",765,190,260,315,2.4,3868,765,356,100,0,98,2,60,40,39,1,0,98,2,"2690",".","2440","2590","3160","3940","2160","3020","1060",".","920","1070","1220","1720","940","1130",".","170","120","80","40","10",440,550,380,72,89,11,1500,".",".",40.9,16.8,".",29.8,18.6,1.4,3.4,4.7,{"v":7,"d":"7.0"},159.5,"20","60","0","390",70,13.5,110,58,"135","0","30","20","5","10","25","25","20","980","855","130",1.3,"2047","65",0.8,0.6,0.4,0.5,8.1,48,48,0,5551,1,3,1378,18.598382749326145,18.867924528301888,{"v":0.5390835579514826,"d":"0.5"},16.711590296495956,22.911051212938006]
["WK086701","086701","Sprang-Capelle","Waalwijk","Wijk","WK086701",{"$f":"IF(E11524=\"wijk\",C11524,IF(E11524=\"Buurt\",_xlfn.XLOOKUP(LEFT(B11524,6),$B$3:$B$18118,$C$3:$C$18118,\"onbekend\",0,1),\"ook geen buurt\"))","v":"Sprang-Capelle"},1,14300,7090,7210,2435,1545,3715,3965,2645,6515,6145,980,655,"12210","1035","1055","12215","310","570","725","485","165","12","125","9",6130,1815,1990,2325,2.3,561,6060,372,84,16,97,3,65,35,28,7,0,63,37,"2890","1920","2610","2710","3160","3810","2190","3270","840","520","700","790","970","1170","660","940",".","1340","760","360","280","90",3010,5020,2790,76,84,16,11500,{"v":39,"d":"39.0"},31.7,38.2,19.6,38.5,33.2,23.1,2.7,4.1,6.9,8.9,195.4,"120","540","110","2440",365,9.9,770,54,"1640","55","350","280","90","130","350","225","155","7910","6455","1455",1.3,"310","600",1.4,1.4,0.8,0.8,{"v":6,"d":"6.0"},2650,2551,99,".",".",4,834,{"$f":"IF(OR(I11524=0, ISBLANK(I11524)), \"Geen inwoners\", (I11524-X11524)/I11524*100)","v":14.58041958041958},{"$f":"IF(OR(I11524=0, ISBLANK(I11524)), \"Geen inwoners\", (I11524-U11524)/I11524*100)","v":14.615384615384617},{"$f":"IF(OR(I11524=0,ISBLANK(I11524)),\"Geen inwoners\",(BU11524/I11524*100))","v":{"v":0.6293706293706294,"d":"0.6"}},{"$f":"IF(OR(I11524=0,ISBLANK(I11524)),\"Geen inwoners\",(L11524/I11524*100))","v":17.027972027972027},{"$f":"IF(OR(I11524=0,ISBLANK(I11524)),\"Geen inwoners\",(P11524/I11524*100))","v":18.496503496503497}]
["BU08820006","08820006","Achter de Haesen","Landgraaf","Buurt","BU08820006","Wijk 00 Schaesberg",1,550,265,285,85,50,125,165,115,265,175,70,40,"355","90","105","360","50","45","35","65","0","4","5","5",280,120,75,90,1.9,4116,287,191,73,27,96,4,21,79,71,8,0,94,6,"2330","1620","2650","2690","3100","3700","2150","3010","750","720","650","760","1210","1180","690","990",".","70","20","10","10","0",230,140,50,51,89,11,400,".",".",56.8,6.2,".",{"v":64,"d":"64.0"},4.6,5.1,14.2,{"v":24,"d":"24.0"},30.9,3.8,"40","80","10","110",20,15.8,".",".","25","0","0","15","0","0","5","0","5","285","260","20",1,"2114","25",0.7,0.4,0.7,0.7,8.4,13,13,0,6372,1,2,1663,34.54545454545455,35.45454545454545,{"v":0,"d":"0.0"},15.454545454545453,20.909090909090907]
["BU08990243","08990243","Buitengebied","Brunssum","Buurt","BU08990243","Wijk 02 Brunssum-Noord",1,115,45,75,0,0,5,20,85,10,60,20,25,"80","25","5","80","20","0","5","5","0","0","5","35",80,50,30,5,1.5,234,84,137,1,99,93,7,2,98,95,2,0,100,0,"1650","1650",".",".",".",".","1620",".","820","820",".",".",".",".","810",".",".","0","0","0","0","0",".",".",".",".",".",".",100,".",".",80.4,2.7,".",".",".",".",".",".",".",".","0","10","0","80",".",".",50,417,"5",".",".",".",".",".",".",".",".","50","45","5",0.7,"104","0",1.4,0.6,0.3,0.9,9.6,49,49,0,6441,1,3,1346,30.434782608695656,30.434782608695656,{"v":0,"d":"0.0"},0,73.91304347826086]
["WK091720","091720","Wijk 20 Vrieheide-De Stack","Heerlen","Wijk","WK091720","Wijk 20 Vrieheide-De Stack",1,5470,2885,2585,820,630,1335,1740,945,2820,1750,645,260,"3375","1010","1085","3375","505","465","505","625","65","12","45","9",2755,1185,690,880,{"v":2,"d":"2.0"},2293,2779,160,73,27,93,7,46,53,37,16,0,98,2,"2590","1880","2730","2820","2930","3860","2310","2900","890","740","880","970","980","1320","890","890",".","460","260","170","70","20",1890,1840,510,58,87,13,4400,28.2,23.1,52.8,6.2,28.6,58.4,5.5,7.1,12.4,19.5,23.8,17.4,"310","610","60","800",185,14.1,370,67,"405","0","100","100","45","5","65","50","40","2670","2350","320",1,"1118","300",0.6,0.6,0.8,0.6,{"v":10,"d":"10.0"},244,239,6,".",".",2,1621,38.29981718464351,38.29981718464351,{"v":0.3656307129798903,"d":"0.4"},14.990859232175502,17.276051188299817]
["WK092801","092801","Wijk 01 Kerkrade-Oost","Kerkrade","Wijk","WK092801","Wijk 01 Kerkrade-Oost",1,18010,8920,9095,2155,1630,4050,5075,5100,7605,6795,2155,1465,"11240","4725","2040","11245","2020","735","2710","1305","130","7","260","15",9615,4525,2805,2285,1.8,3218,10291,184,49,51,92,8,43,57,38,19,1,89,11,"2350","1800","2670","2990","2990","3990","1900","2910","870","710","950","1040","1170","1540","730","1050",".","1160","670","470","240","80",5070,5800,2430,58,88,12,14800,32.2,27.3,47.9,10.2,30.7,58.1,7.8,4.8,{"v":11,"d":"11.0"},16.6,20.8,23.7,"700","1470","170","4400",360,10.4,2400,133,"1350","5","225","310","75","80","240","225","195","8860","7940","920",0.9,"1583","585",0.7,0.7,0.6,0.6,5.3,560,560,0,".",".",2,2256,37.56246529705719,37.59022765130483,{"v":0.44419766796224325,"d":"0.4"},11.965574680732926,28.317601332593007]
["BU09380206","09380206","Brommelen-Westbroek","Meerssen","Buurt","BU09380206","Wijk 02 Bunde - Geulle",1,335,170,170,35,40,55,105,105,130,165,20,20,"305","20","10","305","10","5","5","5","5","6","5","15",145,35,65,50,2.3,393,154,403,92,8,92,8,92,8,0,8,1,95,5,"3570","2900","3610","3940","3360","3740","2890","3650","1420","960","950","1970","1330","1520","1350","1430",".","20","10","10","10","10",50,120,80,68,76,24,300,".",".",37.3,{"v":23,"d":"23.0"},".",22.8,{"v":29,"d":"29.0"},2.8,2.1,2.8,3.5,390.3,"0","20","0","90",".",".",15,39,"50","0","10","5","0","0","15","10","5","225","180","50",1.6,"266","30",1.6,2.3,{"v":2,"d":"2.0"},2.4,1.9,90,85,5,6243,1,5,127,8.955223880597014,8.955223880597014,{"v":2.9850746268656714,"d":"3.0"},10.44776119402985,31.343283582089555]
["BU09570809","09570809","Verspreide huizen Swalmen","Roermond","Buurt","BU09570809","Wijk 08 Swalmen",1,465,240,220,70,60,100,140,85,215,190,35,20,"355","100","10","355","25","0","80","5","0","0","5","11",190,55,55,80,2.5,31,142,483,95,5,89,11,87,13,0,13,0,89,11,"3990",".","2230","3530","3380","4230","3910","4000","1220",".","1510","930","1060","1250","1010","1250",".","40","30","10","20","0",90,230,70,69,71,29,400,".",".",46.8,15.9,".",38.8,26.2,{"v":9,"d":"9.0"},7.9,9.6,10.7,326.4,"0","0","0","80",10,7.3,15,37,"100","30","15","15","0","5","10","10","15","205","155","50",1.1,"14","50",1.7,1.8,1.5,1.6,2.3,1535,1492,43,6071,1,5,282,23.655913978494624,23.655913978494624,{"v":0,"d":"0.0"},15.053763440860216,18.27956989247312]
["WK098313","098313","Wijk 13 Venlo-Oost-Noord","Venlo","Wijk","WK098313","Wijk 13 Venlo-Oost-Noord",1,9895,4900,5000,1295,995,2440,2660,2510,4505,3970,835,590,"7820","1320","760","7825","540","345","780","410","100","10","80","8",4960,2040,1620,1305,{"v":2,"d":"2.0"},2169,4850,337,62,38,97,3,68,32,14,18,0,91,9,"2560","1870","2720","2830","3340","4170","1850","2890","910","600","960","1100","1310","1560","660","1030",".","690","410","180","280","80",1690,2980,2690,74,86,14,8400,39.8,34.2,35.9,19.3,38.7,38.4,19.6,2.5,{"v":4,"d":"4.0"},6.3,7.9,188.2,"80","230","110","2270",185,8.7,740,75,"1065","5","90","155","65","115","255","245","130","4890","4180","710",1,"1071","260",{"v":1,"d":"1.0"},0.6,0.4,0.5,11.7,456,456,0,".",".",2,2474,20.91965639211723,20.970186963112685,{"v":0.808489135927236,"d":"0.8"},13.087417887822134,25.36634663971703]
["BU09831511","09831511","Keulse Barriére","Venlo","Buurt","BU09831511","Wijk 15 Venlo-Oost-Zuid",1,55,20,30,5,5,15,20,5,30,15,0,5,"35","10","5","35","5","5","5","0","0","38","0","0",25,10,10,10,{"v":2,"d":"2.0"},150,29,342,93,7,72,28,62,34,0,34,3,100,0,"3480",".",".",".","2960","3800","4090","3310","1400",".",".",".","1460","1300","1860","1240",".","0","0","0","0","0",".",".",".",".",".",".",0,".",".",".",".",".",".",".",".",".",".",".",".","0","10","0","10",".",".",".",".","25","0","5","10","5","5","0","0","0","40","35","5",".",".","10",2.3,{"v":2,"d":"2.0"},0.8,2.2,2.8,35,35,0,5915,1,5,145,36.36363636363637,36.36363636363637,{"v":0,"d":"0.0"},9.090909090909092,9.090909090909092]
["BU09834107","09834107","Verspreide huizen Velden","Venlo","Buurt","BU09834107","Wijk 41 Velden",1,180,90,90,30,20,30,55,50,70,85,15,5,"150","25","5","150","10","0","15","5","0","0","0","0",75,20,25,30,2.4,18,73,492,100,0,92,8,79,21,0,21,0,92,8,"4030",".",".",".","3870","4090","3130","4210","1450",".",".",".","1080","1540","1560","1430",".","20","10","0","10","0",".",".",".",".",".",".",200,".",".",{"v":48,"d":"48.0"},16.7,".",".",".",".",".",".",".",".","0","10","0","50",".",".",10,50,"35","10","5","5","0","5","5","0","0","130","100","30",1.7,"13","10",1.9,{"v":2,"d":"2.0"},1.8,1.8,1.7,1039,1020,18,5941,1,5,192,16.666666666666664,16.666666666666664,{"v":0,"d":"0.0"},16.666666666666664,27.77777777777778]
["WK098603","098603","Wijk 03 Ubachsberg","Voerendaal","Wijk","WK098603","Wijk 03 Ubachsberg",1,1560,755,805,250,150,340,390,435,650,700,115,95,"1335","140","85","1335","95","40","45","50","10","5","10","7",695,205,250,240,2.3,2331,698,319,91,9,96,4,73,27,18,9,0,83,17,"3010","1840","2790","2980","2730","4020","2140","3320","1100","680","1000","1040","1130","1410","850","1200",".","140","80","30","40","10",270,410,420,70,86,14,1300,".",".",37.7,19.9,".",33.6,22.9,2.9,4.7,6.8,9.6,216.7,"30","60","10","400",20,5.1,100,63,"160","15","20","20","5","10","35","30","25","985","850","135",1.4,"1472","85",0.5,3.7,0.4,0.5,1.1,67,67,0,".",".",5,218,14.423076923076922,14.423076923076922,{"v":0.641025641025641,"d":"0.6"},16.025641025641026,27.884615384615387]
["BU09940100","09940100","Sint Gerlach","Valkenburg aan de Geul","Buurt","BU09940100","Wijk 01: Houthem - Sint Gerlach",1,865,430,430,115,60,180,265,245,350,360,95,55,"725","85","50","730","50","20","35","30","5","7","10","7",430,165,160,105,{"v":2,"d":"2.0"},768,429,318,72,28,96,4,69,30,13,17,0,93,7,"2690","2080","2280","2430","2840","3720","2070","2950","1120","820","980","1090","1240","1530","970","1190",".","70","40","10","20","10",180,240,230,67,82,18,700,".",".",38.4,20.2,".",{"v":36,"d":"36.0"},14.8,1.9,4.6,5.6,7.7,202.3,"10","40","0","220",20,12.6,60,69,"105","0","10","15","10","5","30","20","15","510","430","80",1.2,"455","50",2.1,2.1,2.1,1.9,2.8,115,112,3,6301,1,5,264,15.606936416184972,16.184971098265898,{"v":1.1560693641618496,"d":"1.2"},13.294797687861271,28.32369942196532]
["BU09950424","09950424","Merenbuurt","Lelystad","Buurt","BU09950424","Waterwijk-Landerijen",1,1070,510,560,225,160,280,295,115,655,265,130,25,"520","95","455","520","35","235","65","225","10","11","5","5",450,135,90,225,2.4,8344,428,282,86,14,99,1,32,68,67,1,0,100,0,"2500","1860","2400","2380","3130",".","2240","3050","0","0","0","0","0",".","0","0","87,4","120","80","60","20","10",320,360,140,61,89,11,800,".",".",52.5,9.1,".",{"v":46,"d":"46.0"},{"v":11,"d":"11.0"},4.7,12.4,19.3,23.8,3.9,"80","80","10","100",35,9.3,85,78,"85","0","20","15","10","0","10","20","5","380","290","95",0.8,"2971","30",0.4,0.2,0.3,0.3,12.2,13,13,0,8226,1,2,1550,51.4018691588785,51.4018691588785,{"v":0.9345794392523363,"d":"0.9"},21.02803738317757,10.74766355140187]
["BU09951074","09951074","Strand Houtribhoek, Houtribbos","Lelystad","Buurt","BU09951074","Buitengebied",1,5,5,0,0,0,0,0,0,5,0,5,0,"0","0","0","0","0","5","0","0","0","0","0","0",0,5,0,0,{"v":1,"d":"1.0"},".",4,".",".",".",".",".",".",".",".",".",".",".",".",".",".",".",".",".",".",".",".",".",".",".",".",".",".",".",".",".","0","0","0","0","0",".",".",".",".",".",".",0,".",".",".",".",".",".",".",".",".",".",".",".",".",".",".",".",".",".",".",".","15",".",".",".",".",".",".",".",".","10","5","5",".",".","0",".",".",".",".",".",124,124,0,8221,1,5,75,100,100,{"v":0,"d":"0.0"},0,0]
["BU15071001","15071001","De Schatberg","Horst aan de Maas","Buurt","BU15071001","Wijk 10 Sevenum",1,10,5,5,0,0,0,0,5,0,5,0,0,"10","0","0","5","0","0","0","0","0","0","0","0",5,5,0,0,1.3,".",0,".",".",".",".",".",".",".",".",".",".",".",".","4020",".",".",".",".","4020","4020",".","1420",".",".",".",".","1420","1420",".",".","0","0","0","0","0",".",".",".",".",".",".",0,".",".",".",".",".",".",".",".",".",".",".",".",".",".",".",".",".",".",".",".","10",".",".",".",".",".",".",".",".","55","45","10",".",".","0",".",".",".",".",".",10,9,1,5975,1,5,60,50,0,{"v":0,"d":"0.0"},0,50]
["BU15251201","15251201","Bomenbuurt","Teylingen","Buurt","BU15251201","Sassenheim Oost",1,1190,580,610,175,135,290,335,260,545,490,90,70,"975","85","130","975","30","65","50","65","10","8","5","5",575,230,160,180,2.1,6931,579,370,70,30,97,3,64,36,27,10,0,85,15,"2490","2180","2390","2520","3030","4140","2070","2710","890","580","900","980","1190","1730","770","950",".","80","80","30","20","10",220,440,260,79,85,15,1000,".",".",38.1,20.2,".",36.2,18.2,2.5,{"v":3,"d":"3.0"},4.7,6.3,205.1,"10","20","10","230",30,10.9,70,59,"140","5","25","15","10","5","35","30","15","605","520","90",1.1,"3530","55",0.5,0.5,0.5,0.5,{"v":5,"d":"5.0"},18,17,1,2172,4,2,1791,18.067226890756302,18.067226890756302,{"v":0.8403361344537815,"d":"0.8"},14.705882352941178,21.84873949579832]
["BU15810110","15810110","Driebergen - De Horst-De Akker","Utrechtse Heuvelrug","Buurt","BU15810110","Driebergen",1,180,85,95,30,35,20,50,50,75,85,10,10,"155","5","20","155","5","10","0","10","0","0","0","11",65,20,25,25,2.6,141,66,922,100,0,95,5,74,26,15,11,0,91,9,"5230",".",".",".","4020","5360","4370","5390","1840",".",".",".","1360","1890","1560","1890",".","10","20","0","0","0",50,30,50,".",".",".",100,".",".",39.1,26.1,".",".",".",".",".",".",".",".","0","10","0","40",".",".",".",".","75","5","5","5","5","10","15","25","5","85","60","25",1.2,"67","10",1.4,1.3,0.8,1.2,7.1,128,128,0,3972,5,4,684,13.88888888888889,13.88888888888889,{"v":0,"d":"0.0"},16.666666666666664,27.77777777777778]
["WK159805","159805","Berkhout","Koggenland","Wijk","WK159805","Berkhout",1,2655,1330,1325,360,330,515,795,655,1215,1145,170,125,"2275","215","160","2275","70","80","150","80","25","9","30","11",1125,345,370,415,2.3,151,1112,405,87,13,92,8,80,19,0,19,0,81,19,"3110","1960","2550","2590","3320","3600","2150","3330","1120","710","880","980","950","1350","810","1190",".","190","120","70","60","30",500,950,560,74,77,23,2200,".",32.8,{"v":40,"d":"40.0"},19.8,".",{"v":30,"d":"30.0"},27.3,4.8,4.3,{"v":6,"d":"6.0"},{"v":7,"d":"7.0"},303.3,"20","80","20","600",40,6.5,110,41,"375","55","65","40","20","35","70","45","45","1420","1090","330",1.3,"81","200",1.1,3.1,0.9,1.1,2.7,1833,1755,78,".",".",5,224,14.312617702448211,14.312617702448211,{"v":1.1299435028248588,"d":"1.1"},13.559322033898304,24.670433145009415]
["BU16212521","16212521","Parc Rodenrijs","Lansingerland","Buurt","BU16212521","Wijk 25 Zuidpolder",1,1325,635,690,260,185,245,460,175,625,600,80,30,"1090","65","165","1095","40","90","30","80","15","13","10","5",490,90,135,265,2.7,7783,492,508,79,21,99,1,76,24,24,0,0,91,9,"2980","1670","3040","3210","3510","4170","1680","3350","800","510","710","870","870","1410","520","880",".","130","120","30","40","30",160,330,510,79,84,16,1000,".",".",33.3,36.3,".",22.7,51.4,1.2,2.9,4.7,7.4,403.8,"20","30","10","160",55,13.2,50,36,"160","0","10","15","10","20","55","35","15","635","520","110",1.3,"3716","35",1.8,0.7,0.9,0.9,10.2,18,17,1,2651,1,3,1295,17.358490566037734,17.735849056603772,{"v":2.2641509433962264,"d":"2.3"},19.622641509433965,13.20754716981132]
["BU16401100","16401100","Kern Ell","Leudal","Buurt","BU16401100","Ell",1,1110,560,545,125,110,270,345,255,460,530,70,50,"995","70","50","995","45","15","25","30","10","12","10","9",495,115,215,160,2.3,2513,499,327,91,9,98,2,83,17,13,4,0,81,19,"2970","1640","2540","2740","2710","3730","1940","3170","1000","580","740","910","830","1350","670","1060",".","70","40","20","20","10",210,350,330,74,87,13,1000,".",".",36.7,17.9,".",26.6,22.4,1.6,2.2,4.1,5.1,257.1,"10","50","10","230",25,13.2,50,46,"115","5","15","15","10","5","25","20","15","680","575","105",1.4,"1542","110",6.1,0.4,0.5,0.5,2.7,44,44,0,6011,1,5,180,10.36036036036036,10.36036036036036,{"v":0.9009009009009009,"d":"0.9"},11.26126126126126,22.972972972972975]
["BU16401501","16401501","Verspreide huizen Ittervoort","Leudal","Buurt","BU16401501","Ittervoort",1,115,60,55,20,10,25,45,15,50,50,15,5,"100","10","5","100","5","5","0","5","0","9","0","0",45,10,20,15,2.4,33,52,410,92,8,87,13,88,12,0,12,0,92,8,"3370",".",".",".","2850","3600","3280","3380","1270",".",".",".","800","1420","1270","1260",".","10","10","0","0","0",".",".",".",".",".",".",100,".",".",".",".",".",".",".",".",".",".",".",".","0","10","0","10",".",".",".",".","115","5","35","35","15","5","10","5","5","90","50","40",".",".","10",1.3,1.5,1.4,1.4,1.9,345,345,0,6014,1,5,171,13.043478260869565,13.043478260869565,{"v":0,"d":"0.0"},17.391304347826086,13.043478260869565]
["BU16550307","16550307","Verspreide huizen Kuivezand en omgeving","Halderberge","Buurt","BU16550307","Wijk 03 Oudenbosch",1,625,325,295,65,80,115,220,140,240,330,35,25,"570","30","25","565","20","10","15","15","0","6","5","10",245,40,110,90,2.6,63,247,464,99,1,93,7,94,6,0,6,0,87,13,"3910",".",".",".","2880","4100","3010","3970","1250",".",".",".","900","1310","1120","1260",".","30","30","10","10","0",80,290,140,77,72,28,500,".",".",36.4,23.6,".",24.2,39.8,2.9,2.1,2.5,3.3,484.1,"0","20","0","130",10,6.1,30,48,"190","30","30","40","20","25","35","10","5","450","345","105",1.8,"45","35",2.4,2.2,1.7,2.4,1.7,1000,991,8,4751,1,5,197,9.6,8.799999999999999,{"v":0,"d":"0.0"},10.4,22.400000000000002]
["BU16690209","16690209","Buitengebied Sint Odiliënberg","Roerdalen","Buurt","BU16690209","Sint Odiliënberg",1,285,155,125,30,30,70,80,70,130,120,20,10,"245","20","15","245","15","10","10","0","0","14","5","14",120,30,50,40,2.3,15,124,417,94,6,93,7,75,25,0,25,0,55,45,"3600","3390",".",".","3240","4000","3250","3750","950","1430",".",".","350","1330","730","1040",".","20","10","10","10","0",".",".",".",76,61,39,200,".",".",33.2,21.9,".",24.2,{"v":30,"d":"30.0"},0.8,2.5,3.4,3.4,353.7,"0","20","0","60",".",".",".",".","65","20","10","5","0","5","10","10","5","110","80","25",0.9,"6","10",1.6,1.7,1.4,1.7,1.2,1843,1826,17,6077,1,5,243,14.035087719298245,14.035087719298245,{"v":0,"d":"0.0"},10.526315789473683,24.561403508771928]
["WK167412","167412","Wijk 12 Heerle","Roosendaal","Wijk","WK167412","Wijk 12 Heerle",1,1885,975,915,260,165,360,635,470,705,940,150,90,"1680","125","85","1675","65","40","60","50","15","8","15","6",845,235,340,260,2.2,222,751,380,98,2,97,3,88,12,7,5,0,91,9,"3290","2060","2350","2600","2890","3960","2310","3430","1090","390","810","900","1040","1270","930","1110",".","140","90","30","30","10",330,710,370,71,82,18,1600,".",".",37.8,21.1,".",30.2,24.6,1.9,2.6,5.2,6.3,270.3,"10","90","10","420",55,13.7,100,53,"290","30","50","40","15","30","55","40","35","1275","965","310",1.5,"150","135",0.8,0.8,0.8,0.8,2.4,849,849,0,".",".",5,189,11.140583554376658,10.875331564986737,{"v":0.5305039787798408,"d":"0.5"},13.793103448275861,24.93368700265252]
["WK167615","167615","Wijk 15 Serooskerke","Schouwen-Duiveland","Wijk","WK167615","Wijk 15 Serooskerke",1,265,130,135,25,15,40,100,85,90,120,30,25,"230","25","10","230","10","0","15","10","5","19","0","8",135,55,50,35,1.9,70,141,347,100,0,94,6,76,23,16,7,1,91,9,"2810",".","2180","1830","2240","3640","2430","2940","970",".","770","800","830","1150","890","990",".","10","10","0","0","0",50,110,50,70,".",".",200,".",".",41.2,16.3,".",{"v":37,"d":"37.0"},14.5,3.7,4.4,6.7,9.6,219.6,"0","10","0","80",".",".",15,57,"45","0","10","5","0","0","10","5","5","170","135","35",1.2,"45","30",5.2,4.9,3.2,4.9,{"v":0,"d":"0.0"},430,376,54,".",".",5,44,13.20754716981132,13.20754716981132,{"v":0,"d":"0.0"},9.433962264150944,32.075471698113205]
["BU16801700","16801700","Gieten","Aa en Hunze","Buurt","BU16801700","Wijk 17 Gieten",1,4805,2340,2465,650,490,785,1375,1500,1855,2145,380,425,"4425","135","245","4425","75","100","60","145","35","7","85","17",2185,720,795,670,2.2,1181,2295,321,91,9,95,5,67,33,28,5,0,88,12,"2660","1750","2020","2170","2630","3460","1880","3030","1110","720","900","980","1100","1380","900","1210",".","360","260","130","110","40",690,1620,1040,69,85,15,4000,37.1,31.5,42.8,18.2,".",36.6,19.7,2.1,4.3,7.1,10.4,206.7,"80","150","40","1370",100,9.3,415,86,"530","15","55","100","25","40","140","95","65","2965","2215","755",1.4,"729","250",0.8,0.8,0.5,0.7,{"v":3,"d":"3.0"},407,407,0,9461,1,4,528,7.908428720083246,7.908428720083246,{"v":0.8324661810613945,"d":"0.8"},13.527575442247658,31.21748178980229]
["BU16819803","16819803","Nieuwe Kampen","Borger-Odoorn","Buurt","BU16819803","Odoorn",1,605,290,315,85,40,130,130,215,235,280,45,40,"560","10","30","560","5","10","5","20","5","5","10","12",275,75,115,80,2.2,2226,292,299,96,4,93,7,78,22,14,8,0,96,4,"2750","2230","2440","2360","2410","3220","2210","2890","1240","850","1100","1140","1170","1380","1030","1290",".","50","30","10","10","0",".",".",".",67,81,19,500,".",".",39.6,16.9,".",30.1,15.4,1.5,3.7,4.8,5.6,216.7,"10","40","0","200",".",".",55,93,"60","5","10","10","5","0","15","15","5","335","265","70",1.2,"1240","35",1.5,0.4,0.4,0.4,{"v":1,"d":"1.0"},27,27,0,7873,1,5,237,7.43801652892562,7.43801652892562,{"v":0,"d":"0.0"},14.049586776859504,35.53719008264463]
["BU16950309","16950309","Verspreide huizen Kamperland","Noord-Beveland","Buurt","BU16950309","Wijk 03 Kamperland",1,260,130,130,30,35,45,90,55,110,125,25,5,"220","35","10","220","10","0","25","5","0","4","0","8",115,35,45,35,2.3,9,160,497,98,3,57,43,75,19,0,19,6,78,22,"3130",".","1750",".","1720","3490","2750","3420","900",".","970",".","760","920","960","920",".","20","10","10","10","0",40,130,40,74,51,49,200,".",".",{"v":40,"d":"40.0"},25.9,".",26.5,39.8,2.8,3.7,3.7,3.7,657.7,"0","10","0","50",".",".",10,31,"100","30","10","20","0","5","15","5","10","160","115","45",1.4,"6","10",2.5,2.3,2.4,2.5,0.8,2885,2873,12,4493,1,5,181,15.384615384615385,15.384615384615385,{"v":0,"d":"0.0"},11.538461538461538,21.153846153846153]
["WK170002","170002","Westerhaar-Vriezenveensewijk","Twenterand","Wijk","WK170002","Westerhaar-Vriezenveensewijk",1,4665,2400,2265,755,590,1080,1340,895,2060,2030,300,280,"4395","150","125","4395","95","40","55","85","50","11","55","11",1895,510,595,790,2.4,171,1963,294,90,10,94,6,53,47,42,6,0,85,15,"3040","2250","2490","2630","2990","3870","2350","3630","1090","720","1010","1070","1050","1270","970","1180",".","410","260","230","60","0",1510,1700,340,70,84,16,3700,31.5,25.5,46.7,9.3,".",41.5,15.3,3.4,5.6,10.9,15.3,88.4,"110","320","40","780",120,9.8,440,94,"440","35","130","80","10","30","60","55","35","2505","2075","430",1.3,"92","225",1.1,1.1,0.9,1.1,{"v":2,"d":"2.0"},2834,2724,110,".",".",5,353,5.787781350482315,5.787781350482315,{"v":0,"d":"0.0"},16.184351554126476,19.185423365487676]
["BU17010500","17010500","Eemster","Westerveld","Buurt","BU17010500","Wijk 05 Eemster",1,145,75,70,15,10,20,45,50,50,85,5,5,"135","5","10","135","5","5","0","0","0","14","5","14",60,15,30,20,2.3,334,62,521,98,2,97,3,95,5,0,5,0,82,18,"3580",".",".",".","3570","3580",".","3510","1480",".",".",".","1120","1520",".","1460",".","10","10","0","0","0",".",".",".",".",".",".",100,".",".",35.5,26.6,".",".",".",".",".",".",".",".","0","0","0","50",".",".",".",".","30","5","5","0","0","0","10","5","5","90","60","30",1.4,"202","15",3.6,4.2,1.2,4.6,{"v":0,"d":"0.0"},43,43,0,7991,1,5,31,6.896551724137931,6.896551724137931,{"v":0,"d":"0.0"},10.344827586206897,34.48275862068966]
["BU17060109","17060109","Verspreide huizen in het Westen","Cranendonck","Buurt","BU17060109","Wijk 01 Schoot",1,115,60,55,20,15,20,35,30,50,50,5,5,"95","15","5","95","10","5","5","0","0","0","0","9",45,10,15,20,2.6,122,45,433,96,4,96,4,87,13,0,13,0,87,13,"3280",".",".",".","3480","3140",".","3290","1290",".",".",".","1110","1430",".","1270",".","10","10","0","0","0",".",".",".",".",".",".",100,".",".",".",".",".",".",".",".",".",".",".",".","0","10","0","30",".",".",".",".","20",".",".",".",".",".",".",".",".","65","55","10",".",".","5",2.3,0.9,{"v":1,"d":"1.0"},{"v":1,"d":"1.0"},3.3,95,95,0,6023,1,5,339,17.391304347826086,17.391304347826086,{"v":0,"d":"0.0"},17.391304347826086,26.08695652173913]
["BU17060400","17060400","Soerendonk","Cranendonck","Buurt","BU17060400","Wijk 04 Soerendonk",1,1750,910,840,255,170,400,495,425,765,830,85,75,"1575","130","45","1575","75","20","50","25","15","11","10","6",730,175,305,250,2.4,534,735,413,96,4,97,3,83,17,9,8,0,75,25,"3410","2340","2460","2500","3020","4070","2480","3610","1130","910","800","880","1090","1290","910","1180",".","120","80","40","30","10",380,560,380,74,75,25,1500,".",".",38.6,22.4,".",23.8,28.2,{"v":1,"d":"1.0"},1.4,2.9,5.6,398.7,"0","60","10","390",25,6.5,80,46,"240","20","60","25","10","20","45","40","20","1020","870","155",1.4,"313","125",0.5,3.2,0.4,0.5,2.4,327,327,0,6027,1,5,226,10,10,{"v":0.5714285714285714,"d":"0.6"},14.571428571428571,24.285714285714285]
["BU17081701","17081701","Verspreide huizen Giethoorn-Noord","Steenwijkerland","Buurt","BU17081701","Giethoorn",1,125,60,65,25,20,20,45,15,50,70,5,0,"115","5","5","115","5","5","5","0","0","16","0","0",40,0,15,25,3.3,16,40,664,100,0,95,5,93,8,0,8,0,90,10,"4260",".",".",".",".","4260",".","4260","1690",".",".",".",".","1690",".","1700",".","10","10","10","10","0",".",".",".",".",".",".",100,".",".",".",".",".",".",".",".",".",".",".",".","0","0","0","20",".",".",".",".","45","25","5","5","0","0","5","0","0","50","20","30",".",".","10",4.1,4.7,3.7,3.9,0.2,810,796,14,8355,1,5,38,8,8,{"v":0,"d":"0.0"},20,12]
["BU17090302","17090302","Tonnekreek","Moerdijk","Buurt","BU17090302","Wijk 03 Klundert",1,50,25,20,10,5,10,15,10,20,20,10,5,"45","0","5","45","0","5","0","5","0","0","0","0",25,10,5,5,2.1,237,21,414,100,0,100,0,76,24,0,24,0,71,29,"3950",".",".",".",".","4260","2540","4420","850",".",".",".",".","830","810","870",".","0","10","0","0","0",".",".",".",".",".",".",0,".",".",".",".",".",".",".",".",".",".",".",".",".",".",".",".",".",".",".",".","10",".",".",".",".",".",".",".",".","35","25","10",".",".","5",3.8,3.8,3.9,3.7,{"v":0,"d":"0.0"},22,21,1,4791,1,5,14,10,10,{"v":0,"d":"0.0"},20,20]
["BU17110735","17110735","Schilberg","Echt-Susteren","Buurt","BU17110735","Wijk 07 Peij",1,1885,940,945,245,180,460,565,425,900,685,190,105,"1490","260","140","1490","130","45","120","95","20","10","15","9",945,395,300,255,{"v":2,"d":"2.0"},2135,941,260,73,27,97,3,66,34,14,20,0,85,15,"2480","1700","2440","2830","3060","3420","1920","2780","850","660","790","920","1020","1220","750","900",".","130","60","40","40","10",460,620,370,72,89,11,1600,".",".",38.7,13.8,".",43.5,11.6,{"v":3,"d":"3.0"},5.3,7.9,9.5,136.2,"40","110","20","380",45,11.5,150,81,"160","5","20","35","5","10","20","35","25","1065","925","140",1.1,"1204","60",0.9,0.8,0.7,0.9,5.7,88,88,0,6101,1,3,1281,20.954907161803714,20.954907161803714,{"v":0.5305039787798408,"d":"0.5"},12.9973474801061,22.546419098143236]
["BU17190104","17190104","Drimmelen Centrum","Drimmelen","Buurt","BU17190104","Drimmelen",1,420,220,200,40,45,65,155,115,155,215,30,10,"375","25","15","375","10","5","15","5","0","2","5","10",180,40,80,60,2.3,1988,182,453,99,1,98,2,79,21,17,4,0,91,9,"3160",".","2570","2570","2650","3810","2250","3400","1170",".","770","880","1030","1430","880","1250",".","20","20","10","10","0",110,110,120,68,76,24,400,".",".",37.6,25.5,".",{"v":23,"d":"23.0"},36.5,2.3,3.4,5.7,6.8,327.2,"0","10","0","100",".",".",20,48,"55","0","10","5","0","10","15","10","5","255","205","50",1.4,"1225","30",3.9,3.4,3.7,{"v":4,"d":"4.0"},{"v":0,"d":"0.0"},22,21,1,4924,1,5,79,10.714285714285714,10.714285714285714,{"v":0,"d":"0.0"},9.523809523809524,27.380952380952383]
["BU17210309","17210309","Kleinwijk","Bernheze","Buurt","BU17210309","Kern Nistelrode",1,590,305,280,75,105,125,215,75,270,275,20,20,"550","20","15","545","10","5","15","10","10","17","0","2",215,40,50,120,2.8,1546,204,475,98,2,96,4,81,19,11,8,0,95,5,"3830","3480","2780","2670","3530","4270","2700","4060","1250","1310","830","1030","1150","1390","1010","1300",".","40","20","30","20","0",140,240,110,82,79,21,500,".",".",33.9,19.2,".",{"v":19,"d":"19.0"},44.5,{"v":1,"d":"1.0"},1.9,2.9,3.9,454.4,"0","30","0","60",".",".",15,25,"140","0","40","40","5","20","15","10","5","410","305","105",1.9,"1078","45",0.7,1.1,0.7,0.7,2.2,38,38,0,5388,1,5,499,7.627118644067797,6.779661016949152,{"v":0,"d":"0.0"},12.711864406779661,12.711864406779661]
["BU17240210","17240210","Boscheind","Bergeijk","Buurt","BU17240210","Wijk 02 Luyksgestel",1,120,65,55,30,15,25,25,25,55,60,0,5,"110","5","0","110","5","0","5","0","5","17","0","8",45,5,15,25,2.9,389,44,491,45,55,93,7,80,20,0,20,0,80,20,"3650","3690",".",".",".","3530","2630","3890","1250","1340",".",".",".","1200","980","1310",".","20","10","10","0","0",".",".",".",".",".",".",100,".",".",".",".",".",".",".",".",".",".",".",".","0","0","0","20",".",".",".",".","25","5","0","5","5","5","5","0","0","100","80","25",".",".","40",2.1,1.3,1.2,1.2,{"v":1,"d":"1.0"},30,30,0,5575,1,5,68,8.333333333333332,8.333333333333332,{"v":0,"d":"0.0"},25,20.833333333333336]
["WK172801","172801","Wijk 01 Netersel","Bladel","Wijk","WK172801","Wijk 01 Netersel",1,1080,560,520,200,130,260,325,160,555,435,50,40,"985","70","25","985","20","15","50","10","5","3","5","4",415,95,140,175,2.6,113,419,475,95,5,95,5,86,14,7,7,0,67,33,"3520","2950","2280","2760","3250","4080","2840","3630","1060","1010","600","710","990","1260","970","1080",".","120","60","30","30","0",190,360,250,81,76,24,900,".",".",37.8,19.8,".",22.6,30.1,1.7,{"v":2,"d":"2.0"},2.9,4.7,423.2,"0","30","0","150",25,8.2,45,42,"155","15","40","20","10","10","30","20","15","610","495","115",1.5,"64","70",4.4,{"v":5,"d":"5.0"},0.5,0.5,2.1,958,954,4,".",".",5,122,8.796296296296296,8.796296296296296,{"v":0,"d":"0.0"},18.51851851851852,14.814814814814813]
["BU17301401","17301401","Oudemolen","Tynaarlo","Buurt","BU17301401","Wijk 14 Zeegse",1,50,25,25,0,10,5,25,20,25,25,0,5,"45","5","5","45","0","0","0","5","0","0","0","20",25,5,15,0,2.1,205,25,487,84,16,92,8,88,12,0,12,0,84,16,"3430",".",".",".",".","3570",".","3700","1230",".",".",".",".","1280",".","1330",".","0","0","0","0","0",".",".",".",".",".",".",0,".",".",".",".",".",".",".",".",".",".",".",".","0","0","0","20",".",".",".",".","15",".",".",".",".",".",".",".",".","40","25","10",".",".","10",6.8,5.7,{"v":5,"d":"5.0"},4.8,{"v":0,"d":"0.0"},25,25,0,9484,1,5,13,10,10,{"v":0,"d":"0.0"},0,40]
["GM1734","1734","Overbetuwe","Overbetuwe","Gemeente","GM1734","ook geen buurt",1,48707,24178,24529,8204,5650,10549,14287,10017,21913,20989,3510,2295,"42031","2457","4219","42031","1316","2135","1141","2084","424","9","344","7",20343,5736,6567,8040,2.4,447,20388,382,87,13,97,3,68,32,22,10,0,73,27,"2860","1910","2530","2690","3100","4030","2110","3210","920","620","790","890","1000","1270","770","980",".","4540","3010","1240","1130","390",8950,15340,11690,75,84,16,39200,40.3,{"v":33,"d":"33.0"},37.4,21.5,40.1,30.3,25.8,2.4,3.8,6.3,8.4,217.7,"650","1900","310","9190",1515,11.7,2690,55,"6405","290","850","1165","415","555","1405","1070","655","27400","21455","5945",1.3,"251","2325",1.1,0.9,0.8,0.8,4.8,11508,10903,605,".",".",4,815,13.706448765064568,13.706448765064568,{"v":0.800706263986696,"d":"0.8"},16.84357484550475,20.5658324265506]
["BU17340206","17340206","Huyekamp","Overbetuwe","Buurt","BU17340206","Elst-Zuid",1,850,425,420,100,95,180,290,180,360,350,110,30,"640","45","160","640","25","90","20","65","10","11","5","4",385,115,125,145,2.2,6798,385,272,91,9,99,1,43,57,55,2,0,100,0,"2250","1250","2330","2180","3200","4170","1930","2680","850","560","810","1010","1100","1240","860","830",".","50","30","20","20","10",270,320,100,68,90,10,700,".",".",45.4,8.4,".",42.4,11.4,2.4,5.2,10.2,13.1,32.9,"20","60","10","170",25,13.7,55,64,"45","0","15","5","0","0","10","10","10","400","340","60",1,"3215","20",0.5,0.6,0.4,0.5,{"v":8,"d":"8.0"},12,12,0,6662,1,2,1568,24.705882352941178,24.705882352941178,{"v":1.1764705882352942,"d":"1.2"},11.76470588235294,21.176470588235293]
["BU17350101","17350101","De Whee II-Zuid","Hof van Twente","Buurt","BU17350101","Wijk 01 De Whee II",1,1790,895,900,285,220,405,480,400,780,810,130,75,"1425","90","270","1430","55","100","35","175","25","14","15","9",725,165,275,285,2.5,2044,714,278,100,0,98,2,80,20,16,3,0,100,0,"2700",".","2480","2570","3060","3470","2260","2810","1020",".","890","940","1100","1580","910","1050",".","170","100","60","50","10",370,630,350,72,91,9,1500,".",".",{"v":42,"d":"42.0"},11.9,".",24.7,15.8,2.2,4.2,5.6,7.6,136.9,"30","80","20","360",45,{"v":10,"d":"10.0"},100,56,"130","0","20","25","10","5","20","20","30","935","775","160",1.3,"1065","90",2.2,1.4,0.7,0.6,4.6,88,88,0,7471,1,4,735,20.11173184357542,20.391061452513966,{"v":0.5586592178770949,"d":"0.6"},15.921787709497206,22.3463687150838]
["BU17350809","17350809","Verspreide huizen Zeldam","Hof van Twente","Buurt","BU17350809","Wijk 08 Hengevelde",1,470,250,220,60,70,80,145,110,205,225,15,25,"445","15","10","445","5","5","10","0","5","4","5","6",165,30,60,70,2.8,48,161,482,88,12,94,6,76,24,2,22,0,89,11,"4230","3620",".",".","3350","4560","3710","4390","1460","940",".",".","1180","1610","1400","1480",".","40","20","20","20","0",90,190,80,80,67,33,400,".",".",42.5,14.6,".",23.8,33.3,4.2,{"v":6,"d":"6.0"},9.6,10.8,466.6,"0","10","0","100",10,8.5,15,30,"100","40","15","10","0","5","10","10","10","280","210","65",1.6,"29","20",4.6,4.4,{"v":2,"d":"2.0"},2.3,1.1,971,966,5,7495,1,5,26,5.319148936170213,5.319148936170213,{"v":0,"d":"0.0"},12.76595744680851,23.404255319148938]
["BU17421109","17421109","Hangerad en Oosterhofesch","Rijssen-Holten","Buurt","BU17421109","Wijk 11 Stadsrand Rijssen Oost",3,915,460,450,120,105,225,250,225,405,355,65,90,"810","25","85","805","10","35","10","50","10","11","10","11",450,215,105,130,{"v":2,"d":"2.0"},1469,465,293,50,50,96,4,48,52,43,9,0,92,8,"2520","1960","2150","2480","3070","3800","2020","3090","940","760","840","850","1090","1410","760","1160",".","60","40","20","20","10",180,320,150,71,88,12,700,".",".",42.7,12.6,".",{"v":51,"d":"51.0"},12.5,2.1,6.8,11.6,15.7,83.2,"10","50","10","200",15,8.1,80,89,"85","0","10","20","5","15","15","10","5","445","365","80",1,"710","45",0.9,0.4,{"v":1,"d":"1.0"},0.8,10.5,62,62,0,7461,1,3,1467,12.021857923497267,11.475409836065573,{"v":1.092896174863388,"d":"1.1"},13.114754098360656,24.59016393442623]
["WK177414","177414","Wijk 14 Noord Deurningen","Dinkelland","Wijk","WK177414","Wijk 14 Noord Deurningen",1,1160,585,575,170,160,250,325,255,625,440,40,50,"955","170","40","950","55","15","115","25","10","10","25","22",405,115,105,185,2.6,107,527,311,80,20,75,25,70,30,1,29,0,73,27,"3340","1850","2770","3410","3300","3920","2070","3780","1140","560","950","1000","1140","1370","830","1250",".","100","80","40","30","0",200,530,170,79,81,19,900,".",".",{"v":41,"d":"41.0"},13.3,".",33.3,27.4,7.3,5.8,6.8,{"v":8,"d":"8.0"},242.4,"0","60","10","230",20,7.5,100,87,"155","30","20","40","5","10","20","15","10","590","450","145",1.5,"54","55",3.1,1.2,1.2,1.1,{"v":2,"d":"2.0"},1103,1088,15,".",".",5,101,18.103448275862068,17.67241379310345,{"v":0,"d":"0.0"},14.655172413793101,21.982758620689655]
["BU17830420","17830420","s-Gravenzande Buitengebied","Westland","Buurt","BU17830420","Wijk 04 's-Gravenzande",1,3385,1720,1665,410,515,845,1005,605,1700,1460,135,90,"2615","685","80","2615","55","45","630","40","30","9","20","6",1630,730,440,460,2.1,276,1130,591,98,2,96,4,86,14,0,14,0,85,15,"3830","2460","2580","3060","3370","4170","3870","3830","1360","860","910","1200","1250","1460","1670","1310",".","210","180","80","80","30",800,1390,640,80,68,32,2900,40.3,35.3,42.4,20.9,".",43.3,{"v":28,"d":"28.0"},9.6,8.4,9.1,10.3,{"v":334,"d":"334.0"},"10","50","20","540",35,4.4,75,22,"755","230","110","90","25","100","120","45","30","1790","1405","385",1.1,"146","165",1.9,1.9,1.3,1.7,6.2,1254,1224,30,2691,1,4,600,22.74741506646972,22.74741506646972,{"v":0.8862629246676514,"d":"0.9"},12.112259970457902,17.872968980797637]
["BU18590107","18590107","Verspreide huizen Mallem en Loo","Berkelland","Buurt","BU18590107","Wijk 01 Eibergen",1,370,190,180,45,50,55,115,105,170,170,15,15,"335","10","15","335","10","10","5","10","0","5","5","5",145,30,60,50,2.5,35,148,517,74,26,92,8,85,15,0,15,0,90,10,"3640","3060",".",".","2960","3970","3640","3640","1290","1260",".",".","840","1380","1020","1340",".","20","10","20","10","0",40,160,60,78,67,33,300,".",".",42.9,16.8,".",28.3,31.7,4.3,2.9,5.7,7.1,586.5,"0","10","0","100",".",".",25,65,"80","30","5","10","5","10","5","10","5","250","205","45",1.7,"24","20",2.4,2.3,2.3,2.6,2.1,1047,1037,10,7151,6,5,158,9.45945945945946,9.45945945945946,{"v":0,"d":"0.0"},12.162162162162163,28.37837837837838]
["BU18760103","18760103","Verspreide huizen Zelhem","Bronckhorst","Buurt","BU18760103","Wijk 01 Zelhem",1,1985,1015,970,305,230,375,650,430,895,925,75,95,"1875","50","55","1880","25","40","30","15","15","9","10","6",785,180,295,310,2.5,59,784,522,74,26,93,7,81,19,0,19,0,78,22,"3930","3340","2590","3060","3890","4390","3130","4130","1270","1190","600","740","1370","1350","1260","1270",".","180","120","60","40","20",470,600,440,77,70,30,1600,".",".",{"v":39,"d":"39.0"},21.2,".",24.4,31.8,2.1,2.9,4.5,5.2,494.9,"0","70","10","380",35,7.5,90,45,"445","75","55","75","20","40","80","70","30","1305","1000","300",1.7,"38","185",2.6,2.4,1.7,1.8,2.1,3394,3390,4,7021,2,5,145,5.289672544080604,5.541561712846348,{"v":1.0075566750629723,"d":"1.0"},15.365239294710328,21.662468513853906]
["WK188400","188400","Wijk 00 Roelofarendsveen","Kaag en Braassem","Wijk","WK188400","Wijk 00 Roelofarendsveen",1,13630,6845,6785,2280,1425,3445,3635,2840,6390,5640,905,690,"11545","730","1350","11550","280","620","445","730","165","12","105","8",5840,1765,1915,2155,2.3,2090,5940,435,74,26,97,3,63,37,30,7,0,70,30,"2600","1880","2420","2690","3290","4050","1940","2990","790","510","750","830","1020","1280","690","850",".","1290","670","350","280","110",2810,4700,2920,78,83,17,11100,{"v":41,"d":"41.0"},33.7,36.4,21.3,40.8,31.8,26.2,2.5,3.7,{"v":6,"d":"6.0"},8.4,263.2,"190","370","80","2620",350,10.3,".",".","1715","105","245","280","115","180","380","225","190","6785","5775","1010",1.2,"1040","575",0.7,0.9,0.8,0.9,3.6,841,652,188,".",".",4,998,15.260454878943507,15.297138664710197,{"v":0.8070432868672046,"d":"0.8"},16.72780630961115,20.836390315480557]
["BU18920210","18920210","Zevenhuizerplas","Zuidplas","Buurt","BU18920210","Zevenhuizen wijk 02",1,0,0,0,0,0,0,0,0,0,0,0,0,"0","0","0","0","0","0","0","0","0","0","0","0",0,0,0,0,".",".",0,".",".",".",".",".",".",".",".",".",".",".",".",".",".",".",".",".",".",".",".",".",".",".",".",".",".",".",".",".","0","0","0","0","0",".",".",".",".",".",".",0,".",".",".",".",".",".",".",".",".",".",".",".",".",".",".",".",".",".",".",".","0",".",".",".",".",".",".",".",".","0","0","0",".",".","0",".",".",".",".",".",163,30,133,".",".",".",".","Geen inwoners","Geen inwoners","Geen inwoners","Geen inwoners","Geen inwoners"]
["BU18940000","18940000","Grashoek","Peel en Maas","Buurt","BU18940000","Wijk 00 Grashoek-Koningslust",1,1355,710,640,200,155,295,410,290,620,615,65,55,"1200","130","20","1200","35","10","95","10","10","6","5","7",550,130,200,215,2.5,240,533,346,92,8,98,2,77,23,17,6,0,83,17,"3360","2350","2560","2650","3060","4120","2210","3680","1030","830","860","980","940","1200","840","1090",".","110","80","30","20","10",340,460,240,74,84,16,1100,".",".",41.6,13.1,".",31.6,22.4,1.9,2.8,4.9,6.5,245.5,"0","60","10","280",25,8.5,45,33,"140","15","30","30","5","10","20","10","20","845","710","135",1.5,"150","120",3.5,5.7,0.6,0.6,1.2,564,564,0,5985,1,5,140,11.439114391143912,11.439114391143912,{"v":0.7380073800738007,"d":"0.7"},14.760147601476014,21.40221402214022]
["BU18950008","18950008","Winschoten-industriegebied","Oldambt","Buurt","BU18950008","Wijk 00 Winschoten",1,360,195,170,45,35,80,115,90,150,155,35,20,"315","25","15","315","5","10","20","5","0","3","0","3",180,80,55,50,{"v":2,"d":"2.0"},102,171,283,67,33,96,4,75,24,0,24,1,98,2,"2650","1800",".",".","2770","3210","2160","2820","1160","930",".",".","1130","1310","1060","1200",".","20","10","10","10","0",60,140,60,73,66,34,300,".",".",42.7,14.7,".",49.4,16.5,6.4,7.6,10.5,{"v":14,"d":"14.0"},186.3,"10","10","0","80",10,13.7,30,78,"365","5","80","125","45","20","50","20","20","460","305","155",".",".","45",1.1,0.9,1.3,1.3,7.1,380,351,28,9672,1,4,661,12.5,12.5,{"v":0,"d":"0.0"},12.5,25]
["BU18960205","18960205","Ter Wee's Hoek","Zwartewaterland","Buurt","BU18960205","Wijk 02 Hasselt",1,1490,745,745,290,200,310,450,240,595,810,50,25,"1420","20","45","1425","15","20","10","30","15","7","5","4",540,85,195,255,2.7,2228,541,348,100,0,99,1,92,8,8,0,0,92,8,"2850",".","2430","2660","2910","3550","1990","2930","940",".","770","920","1010","1110","620","970",".","160","110","50","50","10",280,520,320,77,91,9,1200,".",".",{"v":35,"d":"35.0"},20.1,".",13.5,31.5,0.7,1.1,1.9,2.6,242.7,"10","50","10","220",35,{"v":8,"d":"8.0"},45,30,"95","0","10","10","5","10","20","25","10","795","600","195",1.5,"1187","80",1.3,1.1,0.6,0.5,{"v":5,"d":"5.0"},68,67,1,8061,1,4,665,4.3624161073825505,4.697986577181208,{"v":0.6711409395973155,"d":"0.7"},19.463087248322147,16.10738255033557]
["BU19000602","19000602","Hommerts","Súdwest-Fryslân","Buurt","BU19000602","Wijk 06 Zuid IJlst",1,605,325,275,105,105,120,175,100,305,250,30,20,"570","20","15","570","15","10","10","5","0","3","5","5",235,70,65,100,2.5,499,247,291,92,8,97,3,76,24,15,9,0,92,8,"2860","2250","2090","1840","2730","3330","2060","3110","1130","840","820","970","970","1320","930","1180",".","50","40","30","20","0",100,260,90,77,78,22,500,".",".",46.9,12.2,".",33.2,17.4,{"v":3,"d":"3.0"},3.4,5.6,6.8,217.8,"10","10","10","90",25,{"v":12,"d":"12.0"},25,45,"90","5","20","10","5","5","20","15","10","325","255","70",1.4,"270","35",4.7,4.4,3.2,1.6,0.7,121,121,1,8622,1,5,70,5.785123966942149,5.785123966942149,{"v":0,"d":"0.0"},17.355371900826448,16.528925619834713]
["BU19001607","19001607","Verspreide huizen Tjerkwerd","Súdwest-Fryslân","Buurt","BU19001607","Wijk 16 Weidestreek Zuid",1,155,90,70,25,20,35,50,25,75,65,5,5,"145","5","5","145","0","0","0","5","0","6","0","0",60,15,15,30,2.6,14,55,430,96,4,98,2,87,13,0,13,0,95,5,"4410",".",".",".",".","4620","3470","4540","1340",".",".",".",".","1440","1860","1280",".","10","10","10","10","0",40,60,30,".",".",".",100,".",".",33.3,19.4,".",".",".",".",".",".",".",".","0","0","0","20",".",".",".",".","45","25","5","5","0","5","0","5","0","75","45","25",1.2,"6","5",5.1,4.3,1.4,1.4,1.6,1167,1153,14,8765,1,5,45,6.451612903225806,6.451612903225806,{"v":0,"d":"0.0"},16.129032258064516,16.129032258064516]
["BU19010507","19010507","Reeuwijk-Brug-Oost","Bodegraven-Reeuwijk","Buurt","BU19010507","Reeuwijk-Brug",1,2345,1065,1275,390,220,395,525,815,870,1045,175,255,"1915","110","320","1915","50","150","60","170","10","3","60","26",1050,385,335,330,2.2,7916,1059,420,65,35,98,2,63,37,21,16,0,85,15,"2430","1860","2570","2960",".","4760","1960","2710","880","630","950","1070",".","1700","700","980",".","230","130","40","40","20",340,490,640,68,81,19,1900,".",".",39.7,24.1,".",34.7,26.1,2.6,5.1,7.6,12.6,302.9,"30","40","10","770",50,8.6,225,96,"250","5","30","40","20","25","65","50","20","1040","835","205",1,"3522","60",0.4,0.4,1.2,{"v":1,"d":"1.0"},{"v":2,"d":"2.0"},33,30,3,2811,1,3,1132,18.336886993603414,18.336886993603414,{"v":0.8528784648187633,"d":"0.9"},16.631130063965884,34.7547974413646]
["BU19040115","19040115","Zeeheldenbuurt","Stichtse Vecht","Buurt","BU19040115","Wijk 01 Maarssen",1,940,450,490,135,75,230,255,235,440,340,95,60,"740","55","140","740","35","60","20","75","10","10","10","9",470,190,135,150,{"v":2,"d":"2.0"},7225,474,388,68,32,98,2,61,39,32,6,0,100,0,"2360","1590","2460","2810","3310","4000","1990","2580","790","560","810","970","970","1560","540","940",".","70","50","30","20","0",190,230,250,70,84,16,800,".",".",37.7,20.1,".",38.9,16.8,2.4,{"v":3,"d":"3.0"},{"v":6,"d":"6.0"},9.3,221.8,"20","40","10","220",20,10.1,65,70,"95","0","15","5","5","5","30","15","10","485","415","70",1,"3744","35",1.2,0.7,0.4,0.4,{"v":5,"d":"5.0"},13,13,0,3601,1,3,1257,21.27659574468085,21.27659574468085,{"v":0,"d":"0.0"},14.361702127659576,25]
["BU19041003","19041003","Loenersloot Dorp","Stichtse Vecht","Buurt","BU19041003","Wijk 10 Loenersloot",1,335,165,170,40,25,70,95,95,155,140,15,20,"275","25","35","275","10","15","15","15","5","12","5","15",150,45,55,50,2.2,3207,150,552,99,1,97,3,91,9,2,7,0,98,2,"2960",".","2230","2660","2710","4390","2870","2970","1450",".","1140","1280","1450","1970","1560","1440",".","20","20","0","10","0",50,80,120,73,73,27,300,".",".",28.5,37.4,".",17.3,{"v":42,"d":"42.0"},1.3,{"v":2,"d":"2.0"},{"v":2,"d":"2.0"},3.3,461.8,"0","0","0","80",".",".",15,39,"60","0","5","0","5","5","25","10","5","225","165","55",1.5,"2161","25",3.3,3.2,3.2,0.2,1.2,11,10,0,3634,1,5,105,17.91044776119403,17.91044776119403,{"v":0,"d":"0.0"},11.940298507462686,28.35820895522388]
["WK191111","191111","Kolhorn","Hollands Kroon","Wijk","WK191111","Kolhorn",1,1080,545,535,145,105,270,355,215,480,460,90,50,"980","40","60","980","20","25","25","35","10","10","5","6",490,155,170,170,2.2,340,506,324,98,2,96,4,75,25,18,8,0,83,17,"2650","2840","1840","2070","2540","3210","1890","2910","940","1290","680","740","940","1100","790","1000",".","80","40","30","10","0",210,460,190,75,82,18,900,".",".",34.7,19.1,".",28.1,18.1,0.8,2.1,4.1,5.6,179.6,"10","50","0","180",20,8.3,40,38,"135","10","35","20","5","10","20","20","10","675","555","120",1.4,"212","85",3.2,6.8,0.6,0.6,{"v":1,"d":"1.0"},357,318,39,".",".",5,154,9.25925925925926,9.25925925925926,{"v":0,"d":"0.0"},13.425925925925927,19.90740740740741]
["BU19161101","19161101","Voorburg Noord noord","Leidschendam-Voorburg","Buurt","BU19161101","Voorburg Noord",1,3185,1610,1575,465,325,1400,680,315,2065,810,230,80,"1615","590","975","1615","165","335","425","640","45","14","20","7",1760,880,475,400,1.8,15943,1696,297,4,96,94,6,57,43,11,32,0,97,3,"1870","1830","2690","3520",".",".","1710","1990","780","760","1260","1430",".",".","720","830",".","210","110","50","90","60",410,620,1550,78,84,16,2600,45.5,37.4,29.9,29.9,".",39.4,{"v":17,"d":"17.0"},3.5,5.3,{"v":7,"d":"7.0"},8.4,87.7,"60","90","30","280",60,{"v":9,"d":"9.0"},95,30,"480","5","90","55","45","15","145","65","60","1085","945","140",0.6,"5434","85",1.2,0.9,0.4,0.8,21.6,20,20,0,2274,1,1,4365,49.293563579277865,49.293563579277865,{"v":1.8838304552590266,"d":"1.9"},14.599686028257459,9.89010989010989]
["BU19241201","19241201","Stad aan 't Haringvliet woonkern","Goeree-Overflakkee","Buurt","BU19241201","Stad aan 't Haringvliet",1,1380,710,670,220,125,360,425,250,575,640,100,70,"1250","70","65","1245","30","35","35","35","25","20","5","5",625,200,220,210,2.2,2422,639,306,92,8,97,3,71,29,26,3,0,82,18,"2710","1670","2240","2400","2830","3480","1790","3090","880","660","650","750","910","1170","700","950",".","120","60","30","20","0",270,530,260,76,83,17,1100,".",".",36.6,22.7,".",32.4,19.2,2.8,2.9,{"v":5,"d":"5.0"},7.6,159.4,"20","40","20","230",35,10.3,65,46,"155","10","40","20","10","5","35","25","10","815","660","155",1.3,"1430","80",0.5,5.9,0.5,0.3,{"v":2,"d":"2.0"},57,57,0,3243,1,5,221,9.782608695652174,9.420289855072465,{"v":0,"d":"0.0"},15.942028985507244,18.115942028985508]
["BU19301001","19301001","De Dijk","Nissewaard","Buurt","BU19301001","De Elementen",1,1575,740,835,50,40,185,405,900,300,935,145,190,"1340","90","145","1340","55","65","35","75","5","1","35","21",900,350,475,80,1.7,6354,896,358,1,99,98,2,53,47,34,13,0,0,100,"2580","2580",".",".",".",".","2530","2620","0","0",".",".",".",".","0","0","45,9","30","10","10","10","10",330,490,230,50,86,14,1500,".",".",{"v":36,"d":"36.0"},21.1,".",36.8,11.3,0.8,3.7,6.7,{"v":9,"d":"9.0"},133.6,"20","60","10","850",".",".",285,181,"105","0","10","10","10","5","30","25","20","865","700","165",1,"3486","30",0.7,{"v":1,"d":"1.0"},0.1,1.4,11.8,45,25,21,3201,1,2,2325,14.920634920634921,14.920634920634921,{"v":0.6349206349206349,"d":"0.6"},3.1746031746031744,57.14285714285714]
["BU19310001","19310001","Schuwacht","Krimpenerwaard","Buurt","BU19310001","Wijk 00 Lekkerkerk",1,310,170,145,35,45,45,115,65,125,160,20,5,"295","15","5","290","5","5","5","5","0","3","5","13",125,20,50,50,2.5,256,120,478,95,5,94,6,92,8,0,8,0,94,6,"3610","1130",".",".","3830","3750","2050","3740","1210","740",".",".","880","1270","910","1230",".","20","20","0","10","0",40,140,70,75,74,26,300,".",".",36.2,26.4,".",16.4,39.3,1.7,2.5,3.3,3.3,378.9,"0","10","0","50",".",".",15,48,"50","5","15","10","5","0","5","10","5","160","140","25",1.3,"133","35",1.7,1.6,0.6,1.7,3.3,173,122,51,2941,1,5,492,6.451612903225806,4.838709677419355,{"v":0,"d":"0.0"},11.29032258064516,20.967741935483872]
["BU19310004","19310004","Lekkerkerk-Oost","Krimpenerwaard","Buurt","BU19310004","Wijk 00 Lekkerkerk",1,1405,705,700,260,185,335,385,240,630,630,90,55,"1220","80","105","1220","30","55","50","55","15","10","5","4",560,120,180,260,2.5,7672,572,306,97,3,98,2,67,33,32,1,0,100,0,"2420","1880","2370","2450",".","3880","1950","2660","880","630","830","980",".","1550","790","930",".","160","70","50","30","10",260,590,200,76,91,9,1100,".",".",36.9,{"v":18,"d":"18.0"},".",27.5,21.3,1.4,3.6,5.2,6.8,169.7,"20","50","20","220",50,11.9,60,44,"85","0","20","10","5","5","10","15","10","660","565","90",1.2,"3596","60",0.8,0.5,0.4,0.4,{"v":3,"d":"3.0"},18,18,0,2941,1,3,1017,13.167259786476867,13.167259786476867,{"v":0.7117437722419928,"d":"0.7"},18.505338078291814,17.08185053380783]
["WK194020","194020","Wijk 20 Kolderwolde","De Fryske Marren","Wijk","WK194020","Wijk 20 Kolderwolde",1,45,20,20,5,5,5,20,10,15,25,0,0,"40","0","0","40","0","0","0","0","0","0","0","0",20,10,5,5,{"v":2,"d":"2.0"},12,21,341,100,0,95,5,86,14,0,14,0,95,5,"3260",".",".",".",".","3200",".","3580","1480",".",".",".",".","1470",".","1570",".","0","0","0","0","0",".",".",".",".",".",".",0,".",".",".",".",".",".",".",".",".",".",".",".",".",".",".",".",".",".",".",".","10",".",".",".",".",".",".",".",".","30","25","5",".",".","0",5.6,5.1,1.8,1.8,{"v":1,"d":"1.0"},476,335,142,".",".",5,11,11.11111111111111,11.11111111111111,{"v":0,"d":"0.0"},11.11111111111111,22.22222222222222]
["BU19403201","19403201","Ouwsterhaule","De Fryske Marren","Buurt","BU19403201","Wijk 32 Ouwsterhaule",1,350,175,175,70,40,95,85,60,185,135,20,15,"335","5","5","340","0","5","5","5","10","26","0","3",135,35,40,65,2.5,174,140,298,99,1,98,2,81,19,17,2,0,76,24,"2920",".","1710","2520","2720","3330","2160","3100","1060",".","790","1050","920","1180","860","1100",".","30","20","10","10","10",".",".",".",77,82,18,300,".",".",40.9,15.2,".",30.7,21.9,5.2,8.1,9.6,10.4,216.1,"0","10","0","50",10,{"v":10,"d":"10.0"},10,23,"40","5","10","5","5","0","5","5","5","215","145","70",1.6,"107","20",{"v":3,"d":"3.0"},3.6,3.8,0.3,{"v":1,"d":"1.0"},202,200,1,8513,1,5,52,2.857142857142857,4.285714285714286,{"v":2.857142857142857,"d":"2.9"},20,17.142857142857142]
["BU19420306","19420306","Fransekamp","Gooise Meren","Buurt","BU19420306","Spiegel",3,240,120,120,15,35,15,105,75,75,120,25,15,"200","20","15","200","10","5","10","10","0","0","0","8",105,30,45,35,2.2,173,111,1442,71,29,93,7,94,6,0,6,0,41,59,"4250","2700","1670","3990","4430","5310","3330","4300","1660","1000","580","910","1510","2260","1450","1670",".","0","20","0","10","0",".",".",".",67,".",".",200,".",".",{"v":38,"d":"38.0"},{"v":37,"d":"37.0"},".",13.8,{"v":55,"d":"55.0"},6.5,5.6,7.4,7.4,1687.9,"0","0","0","60",".",".",".",".","105","0","5","15","5","30","30","10","5","220","160","60",2,"159","10",{"v":2,"d":"2.0"},{"v":2,"d":"2.0"},1.1,1.5,5.7,143,138,4,1406,1,4,710,16.666666666666664,16.666666666666664,{"v":0,"d":"0.0"},6.25,31.25]
["GM1948","1948","Meierijstad","Meierijstad","Gemeente","GM1948","ook geen buurt",1,83715,42194,41521,12714,9574,19638,23535,18254,38496,34775,5996,4448,"69601","6241","7873","69601","2041","3601","4200","4272","789","9","824","10",36151,11330,11905,12916,2.3,455,35758,405,82,18,97,3,69,31,21,10,0,78,22,"2930","2000","2520","2730","3310","4230","2130","3280","960","590","830","940","1110","1380","740","1050",".","6850","4340","2300","1730","540",17660,27790,17680,75,83,17,69100,38.6,32.3,38.9,18.5,40.1,32.2,22.9,2.1,3.4,5.7,7.8,260.6,"910","3620","650","16590",2120,10.4,5490,66,"11130","670","2260","1900","535","1035","2060","1540","1125","47210","37560","9650",1.3,"257","3995",1.4,1.3,0.7,0.8,{"v":5,"d":"5.0"},18552,18400,152,".",".",3,1012,16.859583109359136,16.859583109359136,{"v":0.6450456907364271,"d":"0.6"},15.187242429672102,21.804933405005077]
["BU19480411","19480411","Buitengebied Zijtaart","Meierijstad","Buurt","BU19480411","Veghel",1,725,340,380,100,105,145,245,125,345,320,30,30,"625","90","5","625","10","5","85","5","0","4","0","4",295,110,70,115,2.4,121,217,617,94,6,99,1,93,7,0,7,0,81,19,"4520","4050",".",".","3990","4720","4120","4550","1380","920",".",".","1190","1470","1400","1380",".","60","40","20","20","0",130,320,120,83,75,25,600,".",".",43.2,19.8,".",35.9,35.3,1.4,2.2,2.2,2.9,521.5,"0","20","0","120",10,4.2,20,25,"140","45","20","20","5","10","15","10","10","410","310","100",1.4,"68","50",4.8,4.9,1.4,1.5,1.1,604,599,4,5465,1,5,151,13.793103448275861,13.793103448275861,{"v":0,"d":"0.0"},13.793103448275861,17.24137931034483]
["BU19492812","19492812","Franeker Schalsumerplan en Arkens","Waadhoeke","Buurt","BU19492812","Franeker",1,1305,640,660,205,145,260,340,350,540,595,100,70,"1160","50","90","1165","35","30","20","55","15","12","10","10",565,155,210,200,2.3,3332,567,248,98,2,99,1,85,15,13,2,0,96,4,"2380","2650","2260","2470","2320","3160","2330","2390","1030","0","1030","1060","1040","1210","1190","1000",".","110","70","50","30","0",200,530,180,71,90,10,1100,".",".",42.2,13.6,".",27.7,14.1,{"v":2,"d":"2.0"},2.1,3.8,{"v":5,"d":"5.0"},159.7,"20","30","10","310",30,8.3,65,51,"70","5","10","5","0","5","20","10","10","655","525","130",1.2,"1680","50",1.8,0.9,1.7,1.9,4.6,40,39,1,8802,1,4,680,10.727969348659004,11.11111111111111,{"v":0,"d":"0.0"},15.708812260536398,26.81992337164751]
["BU19495200","19495200","Wier","Waadhoeke","Buurt","BU19495200","Wier",1,195,105,90,15,25,40,65,45,95,65,25,10,"190","5","5","185","0","5","5","0","5","5","0","10",95,35,30,30,2.1,112,93,277,100,0,100,0,83,17,16,1,0,87,13,"2880",".",".",".","1860","3230","1580","3150","1190",".",".",".","1170","1220","1090","1210",".","10","10","10","0","0",".",".",".",70,".",".",200,".",".",37.8,{"v":14,"d":"14.0"},".",".",".",".",".",".",".",".","0","10","0","40",".",".",".",".","20",".",".",".",".",".",".",".",".","130","95","35",1.4,"74","10",2.5,2.3,2.5,2.5,2.4,177,173,3,9043,1,5,38,5.128205128205128,2.564102564102564,{"v":0,"d":"0.0"},7.6923076923076925,23.076923076923077]
["WK195008","195008","Wijk 08 Ter Wisch","Westerwolde","Wijk","WK195008","Wijk 08 Ter Wisch",1,320,170,140,35,35,45,100,95,130,145,20,20,"295","15","10","295","5","5","5","5","0","9","5","6",130,35,60,35,2.4,14,132,385,95,5,96,4,93,7,0,7,0,90,10,"3910","2980",".",".",".","3950","3070","4010","1510","1550",".",".",".","1510","1540","1500",".","30","20","10","10","0",40,140,60,68,63,37,300,".",".",44.2,{"v":18,"d":"18.0"},".",30.5,28.2,4.8,5.6,6.5,12.9,409.5,"0","20","0","80",".",".",15,53,"75","30","5","10","0","0","10","10","5","175","120","55",1.3,"8","25",4.8,4.6,4.2,4.2,0.1,2283,2267,16,".",".",5,8,7.8125,7.8125,{"v":0,"d":"0.0"},10.9375,29.6875]
["BU19521302","19521302","Schildwolde Natuurgebied","Midden-Groningen","Buurt","BU19521302","Schildwolde",1,45,20,20,5,10,5,20,5,20,20,5,0,"40","0","0","40","0","0","0","0","0","49","0","0",15,5,5,10,2.7,5,15,".",".",".",".",".",".",".",".",".",".",".",".","3870",".",".",".",".","3870",".","3980","1410",".",".",".",".","1410",".","1330",".","0","0","10","0","0",".",".",".",".",".",".",0,".",".",".",".",".",".",".",".",".",".",".",".",".",".",".",".",".",".",".",".","10",".",".",".",".",".",".",".",".","10","5","5",".",".","0",3.5,3.5,{"v":3,"d":"3.0"},2.9,0.7,993,780,213,9626,1,5,14,11.11111111111111,11.11111111111111,{"v":0,"d":"0.0"},11.11111111111111,11.11111111111111]
["BU19540103","19540103","Vaesrade","Beekdaelen","Buurt","BU19540103","Wijk 01 Nuth",1,995,525,475,145,80,255,305,210,455,430,65,50,"785","145","65","785","80","25","65","45","10","8","15","14",460,160,155,150,2.1,485,463,283,87,13,92,8,74,26,13,13,0,93,7,"3060","1890","2770","3140","2920","4020","2300","3300","1040","670","830","1170","1070","1210","950","1070",".","90","40","20","20","0",320,260,150,72,83,17,800,".",".",40.4,17.4,".",39.2,16.6,4.5,6.1,8.8,11.8,150.6,"10","60","10","180",25,11.4,75,73,"130","10","25","30","5","10","10","20","20","590","495","95",1.3,"286","65",1.6,0.9,1.7,{"v":2,"d":"2.0"},4.7,208,206,3,6361,1,4,500,21.105527638190953,21.105527638190953,{"v":0,"d":"0.0"},14.572864321608039,21.105527638190953]
["BU19550003","19550003","Azewijn","Montferland","Buurt","BU19550003","Wijk 00 's-Heerenberg",1,555,285,270,70,80,85,180,135,240,255,35,25,"500","30","25","500","15","15","10","15","0","2","0","7",220,45,95,85,2.5,1156,223,291,94,6,98,2,83,17,8,9,0,74,26,"3360","3110","2800","2470","3250","3970","2740","3500","1040","1130","590","800","970","1290","870","1080",".","40","30","20","10","0",130,200,100,76,84,16,500,".",".",41.2,17.3,".",22.5,23.9,0.9,1.8,2.7,4.5,199.9,"0","20","0","120",10,6.4,30,54,"55","5","10","10","0","5","10","10","5","340","285","55",1.5,"708","45",{"v":4,"d":"4.0"},4.2,3.8,0.3,{"v":1,"d":"1.0"},48,48,0,7045,1,5,83,9.90990990990991,9.90990990990991,{"v":0,"d":"0.0"},12.612612612612612,24.324324324324326]
["WK195913","195913","Veen","Altena","Wijk","WK195913","Veen",1,3165,1655,1515,600,430,845,825,470,1500,1365,175,130,"2705","315","145","2710","45","55","275","90","35","12","15","6",1310,450,335,525,2.4,1181,1228,375,88,12,92,8,69,31,17,14,0,64,36,"3170","2000","2520","2720","3470","3790","2290","3560","950","500","760","850","1040","1160","790","1020",".","320","190","90","50","10",900,1120,380,78,75,25,2500,".",29.9,41.4,18.8,".",37.2,22.7,3.3,4.9,7.5,9.7,185.6,"40","90","20","430",85,9.4,145,45,"540","5","135","180","35","40","70","45","30","1730","1320","410",1.3,"645","130",0.7,0.9,0.9,0.8,3.7,349,268,81,".",".",5,370,14.375987361769353,14.533965244865717,{"v":0.315955766192733,"d":"0.3"},18.95734597156398,14.84992101105845]
["BU19600601","19600601","Waardenburg-West","West Betuwe","Buurt","BU19600601","Waardenburg en Opijnen",1,145,80,70,35,20,35,40,20,70,70,0,5,"145","0","5","145","0","0","0","5","0","20","0","7",45,10,15,25,3.1,335,47,514,100,0,89,11,87,13,0,13,0,91,9,"4540",".",".",".",".","4670","4070","4620","1400",".",".",".",".","1420","2070","1290",".","20","10","0","0","0",".",".",".",".",".",".",100,".",".",30.7,22.8,".",".",".",".",".",".",".",".","0","0","0","10",".",".",".",".","125","0","30","40","5","20","20","5","0","205","130","75",".",".","10",1.3,1.1,0.8,0.8,3.8,44,44,0,4181,1,5,349,0,0,{"v":0,"d":"0.0"},24.137931034482758,13.793103448275861]
["BU19612408","19612408","Glasfabriek","Vijfheerenlanden","Buurt","BU19612408","Leerdam-West",1,5,5,5,0,0,0,5,5,0,5,0,0,"5","0","0","5","0","0","0","0","0","0","0","0",0,0,0,0,1.7,".",3,".",".",".",".",".",".",".",".",".",".",".",".","2020",".",".",".",".",".",".","2070","900",".",".",".",".",".",".","920",".","0","0","0","0","0",".",".",".",".",".",".",0,".",".",".",".",".",".",".",".",".",".",".",".",".",".",".",".",".",".",".",".","10",".",".",".",".",".",".",".",".","10","10","5",".",".","5",".",".",".",".",".",22,20,2,4142,1,2,2103,0,0,{"v":0,"d":"0.0"},0,100]
["BU19613901","19613901","Ossenwaard","Vijfheerenlanden","Buurt","BU19613901","Ossenwaard",1,15,10,5,5,0,5,0,5,5,10,0,0,"15","0","5","15","0","5","0","0","0","0","0","0",5,0,0,0,2.5,67,7,".",".",".",".",".",".",".",".",".",".",".",".","3520",".",".",".",".",".",".",".","850",".",".",".",".",".",".",".",".","0","0","0","0","0",".",".",".",".",".",".",0,".",".",".",".",".",".",".",".",".",".",".",".",".",".",".",".",".",".",".",".","5",".",".",".",".",".",".",".",".","10","5","5",".",".","0",4.2,4.4,4.1,{"v":2,"d":"2.0"},{"v":1,"d":"1.0"},40,22,17,3989,1,5,129,0,0,{"v":0,"d":"0.0"},33.33333333333333,33.33333333333333]
["BU19660301","19660301","Buitengebied Kloosterburen","Het Hogeland","Buurt","BU19660301","Kloosterburen",1,270,145,125,50,20,50,90,60,120,125,20,10,"260","5","10","260","0","10","5","0","0","4","0","0",115,30,50,40,2.4,9,122,355,98,2,92,8,84,16,0,16,1,93,7,"3440",".",".",".","3020","3450","3590","3420","1340",".",".",".","910","1360","1650","1290",".","30","10","0","10","0",".",".",".",74,52,48,200,".",".",34.2,23.7,".",18.8,30.4,3.6,2.7,3.6,6.3,440.8,"0","10","0","50",".",".",10,33,"75","50","0","5","0","0","10","5","5","155","110","45",1.4,"5","40",2.2,5.1,{"v":2,"d":"2.0"},2.2,0.9,3098,3087,11,9977,4,5,49,3.7037037037037033,3.7037037037037033,{"v":0,"d":"0.0"},18.51851851851852,22.22222222222222]
["BU19690401","19690401","Diepswal","Westerkwartier","Buurt","BU19690401","Wijk 04 Leek",1,710,365,350,95,105,110,255,145,295,355,45,20,"665","30","25","665","15","15","10","10","5","6","5","4",275,40,125,115,2.6,1465,273,452,100,0,100,0,91,9,0,9,0,67,33,"3190",".","2440","2680","2510","3530","3230","3180","1120",".","730","970","960","1270","1140","1120",".","50","60","20","20","10",90,270,190,75,81,19,600,".",".",32.7,30.6,".",10.5,45.5,1.5,1.5,1.5,1.5,382.4,"0","20","10","130",20,{"v":11,"d":"11.0"},15,23,"90","0","15","5","10","15","25","15","5","480","340","140",1.7,"988","60",0.6,1.8,{"v":1,"d":"1.0"},1.2,{"v":7,"d":"7.0"},53,49,4,9351,1,4,805,6.338028169014084,6.338028169014084,{"v":1.4084507042253522,"d":"1.4"},13.380281690140844,20.422535211267608]
["BU19691701","19691701","Den Horn","Westerkwartier","Buurt","BU19691701","Wijk 17",1,195,95,100,25,20,40,70,35,95,80,10,10,"185","5","5","185","0","0","0","5","0","10","0","5",75,10,35,30,2.5,587,78,265,100,0,99,1,88,12,8,4,0,95,5,"3140",".",".",".","2540","3260","2570","3210","1440",".",".",".","1070","1520","1200","1470",".","10","10","10","10","0",40,60,60,69,".",".",200,".",".",38.9,17.9,".",".",".",".",".",".",".",".","0","10","0","40",10,20.5,".",".","25","0","5","0","5","0","5","10","5","110","80","30",1.4,"328","15",4.9,4.3,4.7,4.7,{"v":0,"d":"0.0"},33,33,0,9832,1,5,31,5.128205128205128,5.128205128205128,{"v":0,"d":"0.0"},12.82051282051282,17.94871794871795]
["BU19701006","19701006","Janum","Noardeast-Fryslân","Buurt","BU19701006","Wijk 10",1,40,15,20,10,0,15,10,0,25,15,0,0,"40","0","5","40","0","0","0","0","0","0","0","0",10,0,0,10,{"v":3,"d":"3.0"},15,14,".",".",".",".",".",".",".",".",".",".",".",".","3960",".",".",".",".","3990",".","3810","1760",".",".",".",".","1800",".","1620",".","10","0","0","0","0",".",".",".",".",".",".",0,".",".",".",".",".",".",".",".",".",".",".",".",".",".",".",".",".",".",".",".","15",".",".",".",".",".",".",".",".","25","15","10",".",".","5",3.8,6.6,{"v":4,"d":"4.0"},3.7,0.1,259,254,5,9107,1,5,10,0,0,{"v":0,"d":"0.0"},25,0]
["WK197806","197806","Wijk06-Groot-Ammers","Molenlanden","Wijk","WK197806","Wijk06-Groot-Ammers",1,4415,2195,2220,880,510,1125,1065,835,2010,1960,230,215,"3935","225","250","3935","45","105","180","150","55","12","35","8",1725,490,520,720,2.5,301,1764,385,85,15,96,4,69,31,26,5,0,75,25,"2800","1650","2400","2510","3090","4110","1970","3170","920","600","770","880","1030","1300","730","1010",".","490","300","130","70","30",840,1700,620,78,82,18,3400,40.1,31.5,39.2,22.2,".",29.1,26.6,2.3,3.4,5.2,{"v":7,"d":"7.0"},{"v":244,"d":"244.0"},"50","120","30","760",110,8.5,235,53,"660","40","150","125","40","75","115","60","50","2725","2090","635",1.6,"186","220",{"v":1,"d":"1.0"},0.9,0.8,0.8,3.2,1571,1467,104,".",".",5,490,10.87202718006795,10.87202718006795,{"v":0.6795016987542469,"d":"0.7"},19.932049830124576,18.912797281993203]
["BU19781604","19781604","Oud-Alblas-Buitengebied-Zuid","Molenlanden","Buurt","BU19781604","Wijk16-Oud-Alblas",1,40,20,20,15,10,5,10,0,25,10,0,0,"35","0","0","40","0","0","0","0","0","0","0","0",5,0,5,5,5.6,7,6,".",".",".",".",".",".",".",".",".",".",".",".",".",".",".",".",".",".",".",".",".",".",".",".",".",".",".",".",".","10","10","0","0","0",".",".",".",".",".",".",0,".",".",".",".",".",".",".",".",".",".",".",".",".",".",".",".",".",".",".",".","5",".",".",".",".",".",".",".",".","0","0","0",".",".","0",0.9,3.3,0.9,0.9,5.7,568,565,3,2969,3,5,283,0,12.5,{"v":0,"d":"0.0"},37.5,0]
["WK197819","197819","Wijk19-Waal","Molenlanden","Wijk","WK197819","Wijk19-Waal",1,145,75,75,25,25,35,50,15,65,75,5,0,"130","10","5","125","0","5","15","5","0","7","0","7",55,5,15,25,2.8,2718,45,476,100,0,98,2,96,4,0,4,0,73,27,"3410",".",".",".","3900","3410",".","3340","990",".",".",".","930","1060",".","1010",".","10","10","10","10","0",".",".",".",".",".",".",100,".",".",46.4,22.3,".",".",".",".",".",".",".",".","0","0","0","10",".",".",".",".","20",".",".",".",".",".",".",".",".","80","65","15",1.6,"1537","5",2.7,2.6,2.6,2.6,{"v":2,"d":"2.0"},5,5,0,".",".",5,51,13.793103448275861,10.344827586206897,{"v":0,"d":"0.0"},17.24137931034483,10.344827586206897]
["BU19791885","19791885","Buitengebied Noord-Middelstum","Eemsdelta","Buurt","BU19791885","Buitengebied Noord-Middelstum",1,305,165,145,65,30,65,85,55,165,120,10,5,"290","10","10","290","5","5","5","5","0","7","5","7",110,20,40,45,2.7,13,116,381,99,1,92,8,83,17,0,17,0,90,10,"3650",".",".",".",".","3670","3140","3750","1490",".",".",".",".","1510","1690","1450",".","30","30","10","0","0",".",".",".",74,54,46,200,".",".",43.4,21.2,".",27.9,27.9,7.3,5.5,9.2,9.2,373.3,"0","10","0","50",".",".",".",".","90","40","15","10","5","5","10","5","5","140","90","50",1.3,"6","20",2.2,2.4,1.9,1.9,2.4,2424,2401,23,9991,3,5,80,4.918032786885246,4.918032786885246,{"v":0,"d":"0.0"},21.311475409836063,18.0327868852459]
["BU19800502","19800502","Twuyverhoek en Oostwal","Dijk en Waard","Buurt","BU19800502","Sint-Pancras",1,1785,895,890,365,220,445,540,205,960,665,130,30,"1525","95","165","1525","50","85","45","80","15","9","5","2",675,165,160,350,2.6,5735,703,399,81,19,99,1,72,28,28,1,0,35,65,"2570","1670","2320","2500","3280","3630","1730","2890","790","510","720","790","900","1190","590","860",".","210","130","50","50","10",370,560,420,79,88,12,1400,".",".",35.5,{"v":24,"d":"24.0"},".",25.4,{"v":34,"d":"34.0"},2.7,3.4,6.3,8.9,264.4,"20","100","10","190",65,{"v":12,"d":"12.0"},60,35,"140","0","20","15","10","10","40","30","15","825","705","125",1.2,"2662","65",1.7,1.2,1.1,1.2,6.2,36,31,5,1834,1,4,862,14.565826330532214,14.565826330532214,{"v":0.5602240896358543,"d":"0.6"},20.448179271708682,11.484593837535014]
["BU19820301","19820301","Escharen kom","Land van Cuijk","Buurt","BU19820301","Escharen",1,900,460,435,140,90,185,265,220,360,455,40,40,"850","25","15","850","20","10","10","5","10","10","10","9",370,80,155,135,2.4,2841,366,390,91,9,98,2,85,15,10,5,0,73,27,"3050","2070","2520","2640","2960","3570","1820","3270","1000","720","810","900","870","1220","790","1040",".","80","40","20","20","10",120,280,280,75,84,16,800,".",".",38.2,21.7,".",23.6,26.4,0.3,1.1,3.8,5.2,337.8,"0","20","10","200",15,7.6,45,52,"95","0","15","5","0","5","20","30","10","525","415","110",1.4,"1667","60",1.7,1.2,0.3,0.4,5.3,32,32,0,5364,1,5,438,5.555555555555555,5.555555555555555,{"v":1.1111111111111112,"d":"1.1"},15.555555555555555,24.444444444444443]
["BU19822203","19822203","De Elzen","Land van Cuijk","Buurt","BU19822203","Boxmeer",1,1450,675,775,140,130,205,315,660,500,610,120,220,"1245","115","90","1245","75","30","40","60","10","8","55","39",665,255,245,160,{"v":2,"d":"2.0"},3275,778,314,59,41,96,4,53,47,37,10,0,63,37,"2370","1530","2420","2770","2780","3770","1710","2920","850","460","910","1010","1090","1420","550","1090",".","70","60","30","20","0",260,380,250,69,87,13,1200,".",".",44.2,17.5,".",41.5,17.1,1.5,4.5,7.8,11.8,187.1,"20","60","10","630",25,10.5,225,155,"130","0","10","20","5","15","25","30","20","750","595","160",1.1,"1696","70",0.5,0.9,0.6,0.7,{"v":5,"d":"5.0"},44,44,0,5831,1,3,1366,14.13793103448276,14.13793103448276,{"v":0,"d":"0.0"},9.655172413793103,45.51724137931035]
["BU19920300","19920300","Kanaalzicht","Voorne aan Zee","Buurt","BU19920300","De Struyten",2,485,250,235,125,35,140,100,90,235,210,25,15,"405","25","55","405","15","35","15","15","5","10","0","4",180,35,55,90,2.7,2089,174,442,71,29,99,1,83,17,11,5,0,22,78,"2790","1960","3000","3190",".","4110","1930","2950","720","590","690","700",".","1700","590","750",".","80","30","10","10","0",80,210,150,76,84,16,400,".",".",29.1,33.9,".",{"v":16,"d":"16.0"},43.6,1.7,1.7,2.8,3.9,255.2,"0","10","0","120",".",".",20,37,"55","0","5","10","5","10","15","5","5","255","200","55",1.4,"1103","20",1.4,1.6,1.8,1.3,{"v":7,"d":"7.0"},32,23,9,3224,1,3,1417,16.49484536082474,16.49484536082474,{"v":0,"d":"0.0"},25.773195876288657,18.556701030927837]
["BU19920401","19920401","Koele Nacht","Voorne aan Zee","Buurt","BU19920401","De Kooistee",2,2640,1315,1325,500,310,790,710,330,1425,865,290,60,"1870","220","550","1870","95","250","120","300","35","14","20","6",1210,445,265,500,2.2,8463,1199,245,65,35,97,3,54,46,42,3,0,100,0,"2310","1700","2560","2850",".",".","1770","2750","700","630","690","840",".",".","660","720",".","270","150","100","40","10",670,1140,240,68,90,10,2100,".",27.6,42.7,17.4,".",42.5,13.9,5.4,9.5,14.9,17.8,65.4,"120","140","20","290",85,11.2,145,55,"155","5","35","25","10","5","35","20","25","1160","1025","135",1,"3716","120",1.2,0.9,0.5,{"v":1,"d":"1.0"},8.7,31,31,0,3225,1,2,2224,29.166666666666668,29.166666666666668,{"v":0.3787878787878788,"d":"0.4"},18.939393939393938,12.5]
["BU19920402","19920402","Morgen Stont","Voorne aan Zee","Buurt","BU19920402","De Kooistee",2,2715,1355,1360,420,310,730,825,430,1280,1075,265,95,"2125","195","395","2125","95","210","105","180","25","9","40","14",1230,430,325,480,2.2,5498,1202,278,83,17,98,2,68,32,28,3,0,95,5,"2410","1620","2530","2590",".","5770","1870","2650","670","480","670","790",".","1490","640","680",".","230","150","100","40","10",680,1160,280,71,89,11,2200,".",31.9,36.4,20.9,".",31.7,17.8,2.4,5.9,8.5,10.5,128.7,"50","130","40","360",65,9.7,150,55,"195","0","50","25","20","5","40","30","25","1320","1140","180",1.1,"2670","125",1.3,0.6,0.8,{"v":1,"d":"1.0"},7.1,52,49,2,3225,1,2,1621,21.731123388581953,21.731123388581953,{"v":0.3683241252302026,"d":"0.4"},15.469613259668508,15.837937384898712]
["BU19920404","19920404","Vlotbrug","Voorne aan Zee","Buurt","BU19920404","De Kooistee",2,300,150,150,40,45,55,80,75,160,90,25,20,"215","15","70","215","5","40","5","30","0","3","5","13",125,45,35,40,2.2,3213,115,314,100,0,96,4,26,74,71,3,0,98,2,"2770",".","1970","2160","3000","4010","2160","3680","870",".","650","850","960","1080","770","1010",".","30","20","10","0","0",".",".",".",59,".",".",200,".",".",54.2,10.7,".",53.2,11.3,9.6,10.5,16.7,23.7,8.9,"10","30","0","60",10,13.3,40,133,"45","0","15","5","0","5","5","10","5","195","150","40",1.5,"2081","15",1.3,1.1,0.6,1.2,8.5,12,9,3,3224,1,2,2384,28.333333333333332,28.333333333333332,{"v":0,"d":"0.0"},13.333333333333334,25]
["WK199205","199205","Den Bonsen Hoek","Voorne aan Zee","Wijk","WK199205","Den Bonsen Hoek",2,5835,2890,2945,755,505,1075,1720,1775,1925,3085,470,355,"5065","340","420","5065","195","240","145","185","25","4","45","8",2640,750,1065,825,2.2,4573,2620,379,76,24,98,2,75,25,21,4,0,95,5,"2670","1660","2810","2820","3120","3900","1730","2980","760","530","740","830","930","1170","550","830",".","430","270","110","120","20",1050,2060,1220,67,88,12,4900,46.3,39.2,35.1,29.1,42.7,26.6,30.5,1.8,3.3,5.5,7.7,238.6,"30","180","30","1600",85,7.1,465,80,"395","0","35","55","25","40","110","70","60","3220","2645","575",1.2,"2523","235",0.7,0.7,1.2,0.6,{"v":7,"d":"7.0"},130,128,2,".",".",2,1845,13.196229648671808,13.196229648671808,{"v":0.34275921165381323,"d":"0.3"},12.93916023993145,30.41988003427592]
["BU19920500","19920500","Tolhoeck","Voorne aan Zee","Buurt","BU19920500","Den Bonsen Hoek",2,435,205,230,5,10,35,105,280,75,220,55,80,"385","30","25","385","20","10","10","10","0","5","10","18",285,165,110,10,1.5,6063,271,281,2,98,96,4,38,62,35,26,0,70,30,"1870","1760",".",".",".","3300","1730","2060","490","460",".",".",".","1060","440","570",".","10","0","0","0","0",130,100,50,37,".",".",400,".",".",46.1,12.8,".",60.7,5.3,{"v":5,"d":"5.0"},8.6,12.6,15.8,47.7,"0","40","0","270",".",".",115,262,"20",".",".",".",".",".",".",".",".","235","200","30",0.8,"3247","20",0.9,0.5,0.9,0.8,8.9,7,7,0,3223,1,2,2419,11.494252873563218,11.494252873563218,{"v":0,"d":"0.0"},1.1494252873563218,64.36781609195403]
["BU19920502","19920502","Out Jaar","Voorne aan Zee","Buurt","BU19920502","Den Bonsen Hoek",2,1560,775,790,195,135,285,480,465,525,765,165,100,"1330","110","115","1330","60","60","55","50","5","3","20","11",745,260,260,225,2.1,4779,757,300,72,28,98,2,60,40,40,1,0,100,0,"2430","1670","2730","2620","2910","4090","1730","2900","650","480","680","740","940","1380","510","740",".","90","70","40","30","10",290,640,260,63,89,11,1300,".",".",40.2,23.8,".",36.3,20.6,1.4,5.2,9.2,12.8,134.7,"30","60","10","420",30,{"v":10,"d":"10.0"},165,106,"90","0","15","15","5","5","15","20","15","785","665","125",1.1,"2414","65",0.4,0.8,1.7,0.6,7.9,33,33,0,3223,1,2,2195,14.743589743589745,14.743589743589745,{"v":0.641025641025641,"d":"0.6"},12.5,29.807692307692307]
["BU19920503","19920503","Logendal","Voorne aan Zee","Buurt","BU19920503","Den Bonsen Hoek",2,755,390,365,100,45,140,220,240,225,465,35,30,"675","30","50","670","25","30","10","20","5","5","5","4",315,45,165,105,2.4,3247,318,471,100,0,99,1,98,2,0,2,0,100,0,"3110",".","2910","2820","3280","3690","3450","3110","920",".","830","860","1050","1120","1020","920",".","50","40","20","20","10",120,250,210,67,84,16,600,".",".",31.5,36.4,".",9.2,{"v":40,"d":"40.0"},1.9,1.3,2.5,2.9,372.7,"0","10","0","220",".",".",15,20,"65","0","5","5","5","10","20","10","10","470","375","95",1.5,"2028","25",0.5,0.4,1.1,0.5,8.2,24,23,1,3223,1,2,1880,11.258278145695364,10.596026490066226,{"v":1.3245033112582782,"d":"1.3"},13.245033112582782,31.788079470198678]
["BU19920504","19920504","Kruis Hoeffe","Voorne aan Zee","Buurt","BU19920504","Den Bonsen Hoek",2,1785,895,890,280,185,375,565,385,650,960,110,60,"1555","95","140","1550","60","80","40","55","5","4","10","3",715,115,300,295,2.5,5841,705,416,99,1,99,1,98,2,0,2,0,94,6,"2890","2240","2790","2880","2950","3480","2630","2890","830","650","750","880","920","1060","800","830",".","180","100","30","50","10",290,660,440,73,90,10,1500,".",".",29.3,34.3,".",8.3,40.8,0.7,0.7,0.9,0.9,317.7,"0","40","10","330",25,5.6,35,21,"115","0","10","15","5","10","40","20","20","950","780","175",1.3,"3108","80",0.8,{"v":1,"d":"1.0"},1.3,0.7,6.1,31,31,1,3223,1,2,1652,13.165266106442578,12.885154061624648,{"v":0.5602240896358543,"d":"0.6"},15.686274509803921,21.568627450980394]
["BU19920505","19920505","Salem","Voorne aan Zee","Buurt","BU19920505","Den Bonsen Hoek",2,1300,630,670,175,120,245,355,400,445,665,100,85,"1130","75","95","1130","45","60","30","35","5","5","15","8",570,160,225,190,2.3,3825,569,435,73,27,99,1,71,29,27,2,0,100,0,"2860","1460","2900","3070","3310","4320","1590","3340","870","700","770","880","870","1270","700","940",".","100","70","20","20","10",210,420,270,71,85,15,1100,".",".",34.8,30.4,".",29.1,37.8,1.9,2.6,4.6,8.3,237.2,"0","30","10","370",25,8.5,135,105,"100","0","5","15","10","15","35","10","10","775","625","150",1.4,"2285","50",0.9,0.5,0.7,0.5,5.9,35,34,1,3223,1,3,1317,13.076923076923078,13.076923076923078,{"v":0.7692307692307693,"d":"0.8"},13.461538461538462,30.76923076923077]
["WK199206","199206","Ravense Hoek","Voorne aan Zee","Wijk","WK199206","Ravense Hoek",2,3330,1670,1660,585,425,725,1050,540,1405,1595,205,125,"2835","185","310","2840","115","200","70","105","25","8","20","6",1255,240,390,630,2.6,4292,1263,469,78,22,98,2,89,11,6,6,0,18,82,"3160","1910","3010","3460","3950","4900","2010","3310","770","400","760","860","990","1140","510","800",".","280","270","80","90","30",490,1250,750,78,87,13,2600,53.8,43.3,{"v":32,"d":"32.0"},36.6,".",13.5,48.1,{"v":1,"d":"1.0"},1.2,1.7,2.3,286.2,"0","70","20","470",50,5.4,135,40,"255","5","25","25","25","25","75","50","25","1845","1500","350",1.5,"2379","190",1.5,1.3,0.6,1.2,3.7,84,78,6,".",".",4,902,14.714714714714713,14.864864864864865,{"v":0.9009009009009009,"d":"0.9"},17.56756756756757,16.216216216216218]
["BU19920600","19920600","Wagenzicht","Voorne aan Zee","Buurt","BU19920600","Ravense Hoek",2,1340,670,670,195,165,290,425,275,510,685,80,70,"1155","65","125","1150","45","75","20","45","10","8","10","7",545,120,185,240,2.5,6050,544,441,81,19,98,2,94,6,4,1,0,42,58,"2960","1910","3020","3320",".","4540","1570","3040","720","370","750","810",".","1110","540","730",".","100","80","30","40","10",180,520,320,76,88,12,1100,".",".",32.7,33.5,".",15.8,42.6,0.7,0.7,1.1,2.1,296.7,"0","30","10","240",20,6.3,60,46,"115","0","15","10","10","15","35","20","10","805","650","155",1.5,"3625","75",1.3,1.2,0.8,1.2,4.1,26,22,3,3223,1,3,1055,14.17910447761194,13.805970149253731,{"v":0.7462686567164178,"d":"0.7"},14.55223880597015,20.522388059701495]
["BU19920601","19920601","Altena","Voorne aan Zee","Buurt","BU19920601","Ravense Hoek",2,1990,1005,985,395,260,435,630,270,895,915,125,55,"1685","120","185","1680","75","125","45","60","15","8","15","6",710,120,200,390,2.7,3590,719,490,77,23,98,2,85,15,7,9,0,0,100,"3320","1910","2990","3590","3970","4990","2130","3530","810","410","780","900","980","1150","500","860",".","180","200","50","50","20",310,730,440,79,87,13,1500,".",".",31.5,{"v":39,"d":"39.0"},".",11.8,52.3,1.1,1.6,2.1,2.6,277.5,"0","50","10","230",30,4.9,70,36,"140","5","10","15","15","15","40","30","15","1045","850","195",1.5,"1882","115",1.6,1.3,0.4,1.3,3.4,58,55,3,3223,1,4,786,15.577889447236181,15.326633165829145,{"v":1.0050251256281406,"d":"1.0"},19.849246231155778,13.5678391959799]
["WK199207","199207","Centrumgebied","Voorne aan Zee","Wijk","WK199207","Centrumgebied",2,885,380,510,15,25,50,195,595,145,375,165,200,"765","65","60","765","35","20","25","40","0","1","35","38",635,415,185,35,1.4,3411,664,217,4,96,94,6,37,63,60,2,0,86,14,"1860","1790","2730",".","4070","3400","1670","2150","470","450","620",".","1180","880","440","510",".","0","10","10","0","0",220,240,60,38,85,15,900,".",".",49.1,8.5,".",66.4,2.5,2.3,10.5,18.1,24.8,29.1,"30","50","10","560",".",".",290,325,"190","0","15","100","5","15","15","30","15","420","355","65",0.7,"1623","20",0.8,0.4,1.2,0.7,8.5,29,26,3,".",".",1,2542,13.559322033898304,13.559322033898304,{"v":0,"d":"0.0"},1.694915254237288,67.2316384180791]
["BU19920700","19920700","Centrumgebied-West","Voorne aan Zee","Buurt","BU19920700","Centrumgebied",2,195,85,110,5,5,15,45,125,25,120,15,40,"170","15","10","165","10","5","5","10","0","0","0","16",120,50,55,10,1.7,2651,117,295,18,82,97,3,52,48,46,2,0,100,0,"2080","1850","2730",".",".",".","1670","2440","480","440","620",".",".",".","450","520",".","0","0","0","0","0",".",".",".",".",".",".",200,".",".",33.7,18.2,".",39.7,6.9,{"v":0,"d":"0.0"},{"v":0,"d":"0.0"},0.9,0.9,{"v":149,"d":"149.0"},"0","0","0","120",".",".",30,159,"55","0","0","35","0","5","5","5","0","105","85","20",0.9,"1450","5",0.9,0.4,0.9,0.9,{"v":9,"d":"9.0"},7,7,0,3223,1,1,2524,15.384615384615385,12.82051282051282,{"v":0,"d":"0.0"},2.564102564102564,64.1025641025641]
["BU19920701","19920701","Centrumgebied-Oost","Voorne aan Zee","Buurt","BU19920701","Centrumgebied",2,695,290,405,15,25,35,155,470,120,250,155,165,"595","45","50","600","25","15","20","30","5","1","30","45",520,360,130,25,1.3,3704,547,201,1,99,93,7,34,66,63,3,0,82,18,"1810","1780",".",".",".","3390","1670","2060","470","460",".",".",".","780","440","510",".","0","0","0","0","0",200,170,40,36,83,17,700,".",".",53.2,5.9,".",72.4,1.5,2.8,12.9,22.1,30.2,22.8,"30","50","10","440",".",".",255,370,"130","0","10","65","5","5","10","25","15","315","270","45",0.6,"1690","20",0.8,0.4,1.3,0.7,8.3,22,19,3,3224,1,1,2547,13.66906474820144,14.388489208633093,{"v":0,"d":"0.0"},2.158273381294964,67.62589928057554]
["WK199208","199208","Kickers Bloem","Voorne aan Zee","Wijk","WK199208","Kickers Bloem",2,25,15,10,0,5,5,15,0,15,5,5,0,"20","0","0","20","0","5","0","0","0","0","0","0",10,5,0,5,2.3,21,9,".",".",".",".",".",".",".",".",".",".",".",".","5700",".",".",".",".",".",".",".","1000",".",".",".",".",".",".",".",".","0","0","0","0","0",".",".",".",".",".",".",0,".",".",".",".",".",".",".",".",".",".",".",".",".",".",".",".",".",".",".",".","215","0","50","85","15","25","35","5","5","250","185","65",".",".","0",1.9,1.1,1.2,1.7,7.4,111,109,2,".",".",4,698,20,20,{"v":0,"d":"0.0"},0,0]
["BU19920800","19920800","Kickers Bloem","Voorne aan Zee","Buurt","BU19920800","Kickers Bloem",2,20,15,10,0,5,0,15,0,15,5,0,0,"20","0","5","20","0","0","0","0","0","0","0","0",10,5,0,5,2.3,21,9,".",".",".",".",".",".",".",".",".",".",".",".","5700",".",".",".",".",".",".",".","1000",".",".",".",".",".",".",".",".","0","0","0","0","0",".",".",".",".",".",".",0,".",".",".",".",".",".",".",".",".",".",".",".",".",".",".",".",".",".",".",".","215","0","50","85","15","25","35","5","5","250","185","65",".",".","0",1.9,1.1,1.2,1.7,7.4,111,109,2,3225,1,4,698,0,0,{"v":0,"d":"0.0"},0,0]
["WK199209","199209","Buitengebied","Voorne aan Zee","Wijk","WK199209","Buitengebied",2,1220,600,615,140,135,230,435,285,500,545,125,50,"920","230","70","925","35","40","190","30","5","1","5","4",565,190,210,165,2.2,59,382,477,94,6,80,20,82,17,0,17,1,75,25,"3620","2490",".",".","3420","3700","2640","3790","1080","920",".",".","1040","1090","1030","1090",".","70","60","20","20","10",310,470,180,67,71,29,1000,".",".",37.9,26.2,".",32.9,30.2,9.9,8.6,10.3,10.5,242.3,"0","30","10","250",10,3.6,35,27,"220","35","30","30","10","20","40","25","30","735","580","150",1.3,"35","65",3.6,3.1,{"v":3,"d":"3.0"},{"v":3,"d":"3.0"},{"v":1,"d":"1.0"},2110,2080,29,".",".",5,262,24.18032786885246,24.59016393442623,{"v":0.819672131147541,"d":"0.8"},11.475409836065573,23.36065573770492]
["BU19920900","19920900","Duinhoeck","Voorne aan Zee","Buurt","BU19920900","Buitengebied",2,685,340,345,90,50,140,240,165,285,295,85,25,"440","190","50","440","25","30","170","25","0","1","5","6",340,135,125,85,{"v":2,"d":"2.0"},169,169,315,98,2,75,25,78,21,0,21,1,81,19,"3190",".",".",".","3230","3200","2880","3240","1040",".",".",".","830","1060","1050","1050",".","50","30","10","0","0",180,250,110,61,74,26,500,".",".",39.1,24.9,".",41.8,21.4,13.8,{"v":12,"d":"12.0"},13.5,13.8,133.1,"0","20","10","140",".",".",20,31,"100","5","20","20","5","5","20","15","10","370","295","75",1.1,"92","30",3.9,3.5,3.5,3.4,0.1,407,405,1,3221,1,5,228,35.76642335766424,35.76642335766424,{"v":0,"d":"0.0"},13.138686131386862,24.087591240875913]
["BU19920901","19920901","Buitengebied","Voorne aan Zee","Buurt","BU19920901","Buitengebied",2,485,235,250,45,75,80,180,110,195,235,35,25,"445","35","5","445","15","10","15","0","0","0","5","2",200,50,75,75,2.4,29,183,653,95,5,95,5,93,7,0,7,0,82,18,"4150","3620",".",".","3940","4180","2690","4260","1130","1430",".",".","1310","1120","1080","1140",".","20","30","20","10","10",120,190,70,75,67,33,400,".",".",35.4,28.4,".",18.5,{"v":45,"d":"45.0"},4.1,3.6,5.1,5.1,623.9,"0","20","0","100",".",".",10,21,"105","30","10","10","5","10","15","10","15","330","260","70",1.7,"20","35",3.4,2.8,2.4,2.5,1.8,1680,1652,28,3222,5,5,224,8.24742268041237,8.24742268041237,{"v":2.0618556701030926,"d":"2.1"},9.278350515463918,22.68041237113402]
["BU19920902","19920902","Heliushaven","Voorne aan Zee","Buurt","BU19920902","Buitengebied",2,50,25,25,5,5,15,15,10,25,20,5,0,"35","5","5","35","0","5","5","5","0","0","0","0",25,10,10,10,{"v":2,"d":"2.0"},215,30,287,70,30,20,80,37,53,0,53,10,3,97,"2400","1660",".",".",".","2780","2370","2320","950","620",".",".",".","1120","980","830",".","0","0","0","0","0",".",".",".",".",".",".",0,".",".",".",".",".",".",".",".",".",".",".",".",".",".",".",".",".",".",".",".","15",".",".",".",".",".",".",".",".","30","25","10",".",".","0",1.6,{"v":2,"d":"2.0"},2.5,1.8,4.7,23,23,0,3221,1,5,465,30,30,{"v":0,"d":"0.0"},10,20]
["WK199210","199210","Oudenhoorn","Voorne aan Zee","Wijk","WK199210","Oudenhoorn",2,1290,650,640,165,145,300,390,290,595,530,90,75,"1135","80","75","1130","45","40","40","35","10","7","15","11",565,175,190,200,2.2,134,572,421,97,3,95,5,72,28,23,5,0,87,13,"3220","2500","2480","2750","2920","4110","2560","3480","910","790","660","770","1010","1130","800","950",".","110","70","40","30","10",300,570,230,76,83,17,1100,".",".",35.4,27.7,".",26.3,29.9,2.2,2.7,4.9,6.6,216.3,"10","60","10","270",25,8.1,85,67,"160","25","25","20","5","20","30","20","15","780","655","125",1.4,"81","115",3.3,2.9,3.4,0.8,1.7,968,961,8,".",".",5,160,12.4031007751938,12.015503875968992,{"v":0.7751937984496124,"d":"0.8"},12.790697674418606,22.48062015503876]
["BU19921001","19921001","Kern Oudenhoorn","Voorne aan Zee","Buurt","BU19921001","Oudenhoorn",2,855,430,425,115,95,230,235,175,405,335,65,45,"725","65","60","730","35","30","35","25","5","7","10","8",400,140,130,130,2.1,2436,402,344,96,4,95,5,65,35,32,3,0,89,11,"2920","2250","2480","2760","2830","3900","2460","3150","850","760","660","770","1020","1160","790","880",".","80","40","30","20","10",210,390,160,76,87,13,700,".",".",{"v":36,"d":"36.0"},25.6,".",29.7,23.9,2.1,2.6,5.7,8.1,140.5,"10","40","10","170",15,{"v":9,"d":"9.0"},60,70,"80","5","15","10","5","10","15","10","10","550","470","80",1.4,"1574","70",3.4,2.9,3.5,0.4,1.4,35,35,0,3227,1,5,161,14.619883040935672,15.204678362573098,{"v":1.1695906432748537,"d":"1.2"},13.450292397660817,20.46783625730994]
["BU19921002","19921002","Poldergebied Oudenhoorn","Voorne aan Zee","Buurt","BU19921002","Oudenhoorn",2,270,140,135,30,40,45,110,45,135,105,20,10,"255","10","5","260","5","5","5","5","0","7","5","15",100,25,35,40,2.5,34,101,610,99,1,97,3,89,11,0,11,0,88,12,"4260",".",".",".",".","4290","3640","4340","1050",".",".",".",".","1060","1010","1060",".","20","20","10","10","0",60,120,40,81,73,27,200,".",".",34.2,30.6,".",{"v":18,"d":"18.0"},{"v":46,"d":"46.0"},".",".",".",".",544.7,"0","20","0","40",".",".",20,67,"55","15","5","10","0","5","10","5","0","105","85","25",1,"13","20",3.4,3.3,3.3,{"v":2,"d":"2.0"},1.8,810,805,5,3227,1,5,53,3.7037037037037033,5.555555555555555,{"v":0,"d":"0.0"},11.11111111111111,16.666666666666664]
["BU19921003","19921003","Poldergebied Nieuwenhoorn","Voorne aan Zee","Buurt","BU19921003","Oudenhoorn",2,170,80,85,15,15,25,50,65,60,85,10,10,"150","5","10","150","5","5","0","5","0","6","0","18",65,10,30,25,2.6,139,69,587,97,3,93,7,86,14,6,9,0,77,23,"4130",".",".",".","3840","4270","3370","4220","1100",".",".",".","950","1170","840","1130",".","10","10","0","0","0",".",".",".",".",".",".",100,".",".",{"v":34,"d":"34.0"},{"v":34,"d":"34.0"},".",".",".",".",".",".",".",".","0","0","0","60",".",".",10,53,"25","5","5","5","0","5","5","0","0","125","100","25",1.9,"103","25",2.6,2.2,2.6,0.8,3.4,123,121,2,3227,1,5,299,11.76470588235294,11.76470588235294,{"v":0,"d":"0.0"},8.823529411764707,38.23529411764706]
["WK199220","199220","Rockanje","Voorne aan Zee","Wijk","WK199220","Rockanje",2,6630,3315,3310,800,680,1150,2190,1810,2520,3115,570,425,"5675","435","515","5675","190","265","250","250","50","8","75","11",3075,1020,1105,950,2.2,226,3099,483,83,17,95,5,74,26,6,20,0,84,16,"2950","1610","2470","2610","3040","4120","1960","3300","970","630","760","940","1000","1320","760","1050",".","450","280","140","130","40",1150,2260,1510,70,76,24,5600,47.2,39.9,37.6,27.7,49.4,30.5,28.6,3.4,5.1,7.1,8.9,304.2,"70","180","30","1630",90,6.8,510,77,"905","55","100","165","40","105","205","130","105","4035","3235","800",1.3,"138","495",1.2,1.2,1.1,1.2,1.1,2987,2935,52,".",".",4,554,14.404223227752638,14.404223227752638,{"v":0.603318250377074,"d":"0.6"},12.066365007541478,27.300150829562593]
["BU19922000","19922000","Rockanje","Voorne aan Zee","Buurt","BU19922000","Rockanje",2,1530,735,795,175,130,265,425,535,535,680,145,175,"1295","110","130","1295","50","60","60","65","10","7","40","25",800,370,245,185,1.9,1645,837,417,58,42,92,8,56,44,20,24,0,65,35,"2630","1660","2510","2580","3070","3980","1820","3250","880","660","420","820","950","1410","740","1000",".","110","50","30","30","10",280,390,350,69,77,23,1300,".",".",41.4,24.7,".",42.8,22.6,4.9,8.1,10.8,13.5,195.8,"30","40","10","490",20,7.2,215,139,"250","5","30","65","10","20","50","45","30","840","670","170",1.1,"906","135",0.4,0.5,0.6,0.6,{"v":1,"d":"1.0"},93,93,0,3235,1,4,676,15.359477124183007,15.359477124183007,{"v":0.6535947712418301,"d":"0.7"},11.437908496732026,34.967320261437905]
["BU19922001","19922001","Helhoek","Voorne aan Zee","Buurt","BU19922001","Rockanje",2,50,25,25,0,10,5,20,15,15,25,5,5,"45","5","5","45","0","5","0","5","0","0","0","19",25,10,10,10,2.2,150,25,777,100,0,96,4,100,0,0,0,0,68,32,"5030",".",".",".",".","5030",".","5030","1230",".",".",".",".","1230",".","1230",".","0","0","0","0","0",".",".",".",".",".",".",0,".",".",".",".",".",".",".",".",".",".",".",".",".",".",".",".",".",".",".",".","10",".",".",".",".",".",".",".",".","35","25","10",".",".","5",{"v":2,"d":"2.0"},2.2,1.4,1.4,{"v":3,"d":"3.0"},35,35,0,3235,1,5,131,10,10,{"v":0,"d":"0.0"},0,30]
["BU19922002","19922002","Strijpe","Voorne aan Zee","Buurt","BU19922002","Rockanje",2,230,110,115,20,25,35,85,55,90,120,10,5,"195","20","15","190","10","10","10","5","5","4","0","9",95,20,45,35,2.4,278,91,834,95,5,97,3,95,5,0,5,0,73,27,"4260","2960",".",".",".","4380",".","4350","1190","1350",".",".",".","1190",".","1180",".","10","10","0","0","0",40,60,80,69,".",".",200,".",".",35.4,34.4,".",".",".",".",".",".",".",".","0","10","0","50",".",".",".",".","45","5","10","10","0","10","10","5","0","165","135","30",1.7,"205","20",2.4,2.4,1.6,2.1,2.4,81,81,0,3235,1,5,82,17.391304347826086,15.217391304347828,{"v":0,"d":"0.0"},8.695652173913043,23.91304347826087]
["BU19922003","19922003","Stuifakker","Voorne aan Zee","Buurt","BU19922003","Rockanje",2,680,370,310,65,65,95,270,190,260,335,55,30,"570","75","35","570","10","20","65","20","0","0","5","10",340,120,135,85,{"v":2,"d":"2.0"},272,295,734,80,20,95,5,85,15,11,5,0,77,23,"3620","1530",".",".","3530","4260","1820","4000","1110","520",".",".","1180","1280","670","1200",".","30","20","10","10","10",130,210,170,70,65,35,600,".",".",36.8,29.9,".",35.4,33.3,7.3,9.2,10.5,13.3,566.7,"10","20","0","170",".",".",35,53,"115","10","15","15","10","25","25","10","5","500","375","130",1.5,"200","75",1.7,1.7,1.2,1.7,1.4,250,250,0,3235,1,5,257,16.176470588235293,16.176470588235293,{"v":1.4705882352941175,"d":"1.5"},9.558823529411764,27.941176470588236]
["BU19922004","19922004","Zuidhoek","Voorne aan Zee","Buurt","BU19922004","Rockanje",2,2010,995,1020,285,205,380,605,540,770,950,165,130,"1740","105","170","1740","50","85","55","80","20","9","15","8",900,265,330,310,2.2,5355,934,342,96,4,96,4,80,20,0,20,0,100,0,"2520","1500","2440","2650","2770","3210","1930","2650","920","660","840","1020","1030","1590","790","950",".","160","90","60","30","10",370,750,380,69,85,15,1700,".",".",{"v":38,"d":"38.0"},25.9,".",26.1,22.9,1.9,2.9,4.4,5.4,257.7,"20","60","10","480",30,6.9,145,73,"155","0","25","25","5","10","40","25","25","1175","980","195",1.3,"3127","110",0.7,0.7,0.7,0.7,{"v":1,"d":"1.0"},38,38,0,3235,1,4,715,13.432835820895523,13.432835820895523,{"v":0.4975124378109453,"d":"0.5"},14.17910447761194,26.865671641791046]
["BU19922005","19922005","Nieuw gebied","Voorne aan Zee","Buurt","BU19922005","Rockanje",2,1150,585,565,160,135,215,410,235,480,515,105,45,"970","80","100","970","50","50","30","55","10","10","5","4",520,165,170,185,2.2,3324,523,419,89,11,97,3,66,34,0,34,0,97,3,"2640","1390","2520","2530","2970","3700","2000","2970","860","540","720","830","960","1380","710","930",".","90","60","20","30","10",190,440,260,69,83,17,1000,".",".",35.4,27.2,".",28.5,27.7,1.8,3.5,7.3,9.4,234.5,"20","40","10","210",25,{"v":9,"d":"9.0"},75,63,"105","0","5","15","10","10","35","15","15","675","550","120",1.3,"1950","50",0.9,{"v":1,"d":"1.0"},1.1,{"v":1,"d":"1.0"},{"v":1,"d":"1.0"},35,35,0,3235,1,4,692,15.65217391304348,15.65217391304348,{"v":0.8695652173913043,"d":"0.9"},13.91304347826087,20.434782608695652]
["BU19922009","19922009","Verspreide huizen","Voorne aan Zee","Buurt","BU19922009","Rockanje",2,980,500,480,100,115,155,375,240,375,495,75,35,"865","45","65","870","20","40","25","20","5","8","5","7",395,70,175,150,2.5,41,394,755,99,1,93,7,91,9,0,9,0,80,20,"4180",".",".",".","4480","4190","3380","4270","1300",".",".",".","1400","1300","1110","1320",".","50","50","20","30","10",140,390,250,74,63,37,800,".",".",34.8,33.6,".",17.3,44.8,3.3,3.6,3.9,4.6,682.8,"0","20","0","210",".",".",35,34,"225","35","20","40","5","35","45","30","20","645","500","140",1.6,"27","100",2.9,2.8,2.4,2.6,{"v":1,"d":"1.0"},2456,2404,52,3235,1,5,136,11.224489795918368,11.73469387755102,{"v":1.0204081632653061,"d":"1.0"},10.204081632653061,24.489795918367346]
["WK199221","199221","Oostvoorne","Voorne aan Zee","Wijk","WK199221","Oostvoorne",2,8390,4130,4260,1155,775,1525,2580,2360,3175,3935,655,625,"7265","470","655","7265","220","340","250","315","55","6","95","11",3730,1135,1380,1215,2.2,352,3888,520,81,19,94,6,73,27,5,22,0,71,29,"3080","1780","2580","2690","3050","4140","1990","3470","1030","670","780","870","930","1440","810","1110",".","630","440","170","150","50",1370,2580,2060,71,77,23,6900,50.8,42.5,35.6,30.4,51.2,26.9,33.3,3.1,4.4,6.4,7.8,341.9,"80","250","50","2160",120,6.6,655,78,"1185","55","145","210","60","160","305","145","105","5100","4095","1005",1.4,"214","405",1.1,1.1,{"v":1,"d":"1.0"},0.9,2.9,2853,2380,472,".",".",4,671,13.408820023837903,13.408820023837903,{"v":0.5959475566150179,"d":"0.6"},13.766388557806913,28.128724672228845]
["BU19922100","19922100","Oostvoorne","Voorne aan Zee","Buurt","BU19922100","Oostvoorne",2,4845,2420,2430,695,435,945,1500,1275,1870,2295,375,310,"4235","265","345","4235","130","185","135","160","35","7","45","9",2110,590,815,705,2.3,1173,2209,531,80,20,94,6,81,19,0,19,0,67,33,"3020","1910","2610","2820","3030","4160","1940","3290","980","600","750","860","940","1470","730","1040",".","370","270","90","90","30",750,1510,1270,72,78,22,3900,53.5,44.4,33.5,32.7,".",21.7,36.2,2.8,3.8,5.2,6.4,359.2,"30","110","30","1170",60,5.6,310,64,"635","5","70","100","30","90","175","90","65","2925","2370","550",1.4,"707","245",0.7,0.8,0.9,0.6,{"v":3,"d":"3.0"},414,413,0,3233,1,4,780,12.59029927760578,12.59029927760578,{"v":0.6191950464396285,"d":"0.6"},14.344685242518059,26.31578947368421]
["BU19922101","19922101","De Waranda","Voorne aan Zee","Buurt","BU19922101","Oostvoorne",2,260,125,130,35,15,35,90,85,75,155,15,10,"220","20","20","215","5","10","15","10","0","0","5","4",105,20,50,35,2.4,920,113,979,100,0,94,6,97,3,0,3,0,85,15,"4500",".",".",".",".","4500",".","4500","1730",".",".",".",".","1730",".","1720",".","20","20","0","0","0",".",".",".",69,".",".",200,".",".",30.4,44.4,".",11.2,55.1,3.8,3.8,3.8,3.8,1016.1,"0","0","0","80",".",".",15,58,"40","0","0","10","0","10","10","5","0","185","130","55",1.7,"661","20",1.7,1.8,1.4,0.7,{"v":3,"d":"3.0"},28,28,0,3233,1,5,289,17.307692307692307,15.384615384615385,{"v":0,"d":"0.0"},13.461538461538462,32.69230769230769]
["BU19922102","19922102","Kruiningergors","Voorne aan Zee","Buurt","BU19922102","Oostvoorne",2,180,90,90,20,15,30,65,45,60,90,20,10,"165","10","5","165","10","5","5","0","0","6","0","11",75,20,30,25,2.3,158,72,610,93,7,92,8,86,14,0,14,0,74,26,"4180",".",".",".",".","4200","2860","4310","1230",".",".",".",".","1200","870","1270",".","10","10","0","0","0",20,70,50,".",".",".",200,".",".",31.6,36.8,".",".",".",".",".",".",".",".","0","10","0","40",".",".",10,61,"40","0","5","15","0","5","5","5","5","120","95","25",1.6,"106","15",2.6,2.8,0.5,2.7,1.3,116,114,1,3233,1,5,238,8.333333333333332,8.333333333333332,{"v":0,"d":"0.0"},11.11111111111111,25]
["BU19922103","19922103","Tinte","Voorne aan Zee","Buurt","BU19922103","Oostvoorne",2,265,135,130,40,25,40,95,60,105,130,15,10,"240","10","15","240","0","10","5","10","0","4","0","8",105,20,45,40,2.4,189,106,462,100,0,98,2,90,10,0,10,0,92,8,"3100",".","2420","2880","3330","3300","2880","3130","1080",".","670","880","1060","1280","800","1120",".","20","20","10","10","0",".",".",".",72,".",".",200,".",".",41.7,27.1,".",23.1,33.3,3.7,4.7,4.7,5.6,358.4,"0","10","0","60",".",".",".",".","30","5","5","5","0","0","10","5","0","160","130","25",1.5,"114","15",3.5,2.6,2.5,2.4,{"v":3,"d":"3.0"},143,139,3,3234,1,5,60,9.433962264150944,9.433962264150944,{"v":0,"d":"0.0"},15.09433962264151,22.641509433962266]
["BU19922104","19922104","Goudhoek","Voorne aan Zee","Buurt","BU19922104","Oostvoorne",2,810,385,425,125,100,170,220,195,370,285,105,45,"615","45","150","610","25","65","25","80","5","5","5","7",390,155,105,135,2.1,5553,399,304,91,9,95,5,33,67,0,67,0,100,0,"2250","1410","2240","2260","2620","4980","2100","2620","800","590","780","850","770","1540","800","830",".","70","60","30","10","0",250,240,80,66,87,13,700,".",".",47.8,14.4,".",50.1,11.1,4.2,8.4,13.6,15.7,25.6,"40","50","10","170",15,8.3,85,102,"65","0","10","10","5","5","15","15","10","345","295","50",0.9,"2377","15",0.3,0.5,0.2,0.6,{"v":3,"d":"3.0"},15,15,0,3233,1,4,960,24.691358024691358,24.074074074074073,{"v":0,"d":"0.0"},15.432098765432098,24.074074074074073]
["BU19922105","19922105","Vogelenzang","Voorne aan Zee","Buurt","BU19922105","Oostvoorne",2,900,415,480,80,80,95,220,425,230,440,60,160,"805","45","50","800","25","25","20","25","0","1","20","26",470,215,155,100,1.9,2711,490,531,60,40,95,5,56,44,34,11,0,52,48,"2870","1480","2750","3130","3100","4020","1560","3790","1200","880","1160","1150","1140","1490","910","1400",".","40","30","20","20","10",80,230,220,63,74,26,800,".",".",38.5,28.6,".",39.5,26.7,1.7,4.1,8.2,10.8,351.3,"0","20","10","400",10,6.6,160,178,"95","0","10","15","5","20","25","10","10","535","420","115",1.1,"1617","25",0.9,0.8,1.1,0.4,{"v":3,"d":"3.0"},33,33,0,3233,1,4,829,11.11111111111111,10.555555555555555,{"v":1.1111111111111112,"d":"1.1"},8.88888888888889,47.22222222222222]
["BU19922106","19922106","Duinoord","Voorne aan Zee","Buurt","BU19922106","Oostvoorne",2,190,90,105,25,10,25,65,60,65,95,10,15,"175","5","5","180","0","5","5","5","0","5","0","16",90,25,40,25,2.2,2954,94,563,100,0,94,6,97,3,0,3,0,97,3,"3110",".","2790","2800","2400","3670",".","3160","1200",".","1020","1160","1290","1310",".","1190",".","20","10","0","0","0",".",".",".",".",".",".",200,".",".",30.2,40.1,".",".",".",".",".",".",".",".","0","0","0","60",".",".",20,95,"15",".",".",".",".",".",".",".",".","140","115","25",1.6,"2177","5",1.2,{"v":1,"d":"1.0"},1.5,0.9,{"v":3,"d":"3.0"},6,6,0,3233,1,4,682,5.263157894736842,7.894736842105263,{"v":0,"d":"0.0"},13.157894736842104,31.57894736842105]
["BU19922108","19922108","Verspreide huizen in het Westen","Voorne aan Zee","Buurt","BU19922108","Oostvoorne",2,40,20,20,0,0,5,15,20,15,25,0,0,"35","0","0","35","0","0","0","0","0","25","0","0",20,5,15,5,2.1,7,26,714,100,0,73,27,73,27,0,27,0,88,12,"3770",".",".",".",".","3770",".","3810","1560",".",".",".",".","1560",".","1560",".","0","0","0","0","0",".",".",".",".",".",".",0,".",".",".",".",".",".",".",".",".",".",".",".",".",".",".",".",".",".",".",".","10",".",".",".",".",".",".",".",".","30","20","15",".",".","0",2.8,2.6,1.9,1.9,2.3,876,565,311,3233,2,5,86,12.5,12.5,{"v":0,"d":"0.0"},0,50]
["BU19922109","19922109","Verspreide huizen in het Oosten","Voorne aan Zee","Buurt","BU19922109","Oostvoorne",2,905,450,455,120,90,185,310,190,380,415,55,55,"775","65","60","775","25","35","45","25","10","12","10","9",355,90,120,145,2.4,85,379,506,85,15,92,8,70,30,9,21,0,72,28,"3790","1860","3110","3360","3630","4290","2400","4290","1050","610","290","560","420","1300","880","1120",".","80","40","20","20","10",170,330,190,76,70,30,700,".",".",33.8,28.5,".",27.9,38.3,5.7,5.7,6.9,8.3,362.1,"0","40","10","170",15,8.2,45,50,"255","40","45","50","15","30","50","15","15","660","515","145",1.9,"62","70",2.3,2.1,1.7,{"v":2,"d":"2.0"},2.6,1222,1066,156,3233,3,5,325,14.3646408839779,14.3646408839779,{"v":1.1049723756906076,"d":"1.1"},13.259668508287293,20.994475138121548]
["WK199230","199230","Brielle","Voorne aan Zee","Wijk","WK199230","Brielle",2,14090,6875,7215,1995,1415,3280,4040,3355,6055,5885,1290,860,"11535","1155","1395","11535","490","705","670","690","130","9","180","13",6510,2310,2080,2120,2.1,1817,6696,347,75,25,94,6,61,39,25,14,0,75,25,"2590","2130","2550","2730","2960","4300","2230","2820","800","500","830","970","1040","1160","710","860",".","1100","640","330","260","80",2760,4830,2810,73,85,15,11500,44.8,37.5,34.2,27.6,41.6,30.6,{"v":25,"d":"25.0"},2.2,3.8,5.8,7.5,162.7,"200","450","100","3060",205,6.4,1115,79,"1605","35","250","285","85","150","370","255","180","7575","6275","1295",1.2,"977","585",1.3,0.8,1.2,{"v":1,"d":"1.0"},4.3,891,775,116,".",".",3,1111,18.13342796309439,18.13342796309439,{"v":0.5677785663591199,"d":"0.6"},14.158977998580555,23.811213626685593]
["BU19923000","19923000","Brielle","Voorne aan Zee","Buurt","BU19923000","Brielle",2,3125,1515,1610,365,280,720,1005,750,1400,1165,345,220,"2530","305","290","2530","100","160","200","135","25","7","60","19",1575,705,450,425,1.9,4073,1726,351,68,32,88,12,55,45,16,29,0,82,18,"2280","1960","2340","2430","2590","2980","1860","2600","900","720","920","1020","1050","1400","780","990",".","190","110","60","60","20",540,1060,750,75,82,18,2600,46.7,40.3,31.9,29.7,".",35.6,23.3,2.9,4.4,6.8,8.8,152.8,"40","120","30","680",40,6.4,270,86,"525","0","60","120","30","55","115","70","70","1710","1420","295",1.1,"2231","110",0.6,0.7,1.4,0.7,{"v":4,"d":"4.0"},99,77,22,3231,1,3,1252,19.040000000000003,19.040000000000003,{"v":0.64,"d":"0.6"},11.68,24]
["BU19923001","19923001","Spuilaan en omgeving","Voorne aan Zee","Buurt","BU19923001","Brielle",2,1050,470,580,70,60,100,240,575,230,520,110,190,"930","60","55","930","35","25","30","25","0","2","55","50",525,235,200,90,1.8,3810,550,355,42,58,94,6,46,54,53,1,0,44,56,"3140","2910","2710","3000","4400","4370","2950","3350","630","290","930","1070","1640","1220","250","1080",".","50","30","10","20","10",190,230,210,61,84,16,900,".",".",36.7,24.4,".",42.8,18.7,1.7,4.2,6.3,{"v":10,"d":"10.0"},145.8,"0","40","10","550",".",".",260,249,"65","5","5","5","0","5","25","10","10","535","430","100",1,"1938","30",1.5,0.5,0.6,0.6,4.6,29,28,1,3232,1,2,1650,11.428571428571429,11.428571428571429,{"v":0.9523809523809524,"d":"1.0"},6.666666666666667,54.761904761904766]
["BU19923002","19923002","De Kapel en omgeving","Voorne aan Zee","Buurt","BU19923002","Brielle",2,1820,890,930,280,240,470,505,320,855,760,145,60,"1385","185","250","1390","75","130","110","120","25","14","10","5",765,210,240,315,2.4,4611,777,308,91,9,97,3,56,44,39,5,0,93,7,"2670","1850","2630","2990",".","4290","2420","2880","860","500","860","1010",".","650","940","790",".","160","80","70","40","10",420,690,260,74,87,13,1500,".",".",37.8,23.2,".",27.6,21.2,{"v":2,"d":"2.0"},3.9,6.3,7.5,115.2,"40","70","20","290",35,7.2,95,51,"215","5","55","40","0","10","45","35","25","985","820","165",1.3,"2495","110",1.9,0.4,0.6,0.6,4.1,40,40,0,3232,1,3,1181,23.626373626373624,23.9010989010989,{"v":0.5494505494505495,"d":"0.5"},15.384615384615385,17.582417582417584]
["BU19923003","19923003","Rugge","Voorne aan Zee","Buurt","BU19923003","Brielle",2,2740,1325,1410,410,315,700,730,590,1275,1045,255,155,"2105","215","415","2105","100","175","115","245","35","12","20","7",1305,475,405,420,2.1,4717,1345,283,81,19,95,5,56,44,28,16,0,88,12,"2520","2410","2450","2630","2800","3780","2420","2600","780","380","800","980","990","1490","730","810",".","230","120","80","40","10",600,990,440,72,88,12,2200,".",32.5,38.2,20.6,".",35.1,15.8,2.2,4.6,7.4,9.5,{"v":107,"d":"107.0"},"80","90","20","530",45,{"v":7,"d":"7.0"},205,76,"225","5","50","40","10","5","45","40","30","1380","1180","195",1.1,"2377","120",1.6,0.4,0.8,0.7,{"v":4,"d":"4.0"},59,58,1,3232,1,3,1069,23.175182481751825,23.175182481751825,{"v":0.36496350364963503,"d":"0.4"},14.963503649635038,21.532846715328464]
["BU19923004","19923004","Noord Meeuwenoord","Voorne aan Zee","Buurt","BU19923004","Brielle",2,870,445,425,115,70,210,275,205,355,400,75,40,"735","90","50","735","30","25","65","20","5","8","5","9",440,175,155,110,{"v":2,"d":"2.0"},1910,402,398,65,35,88,12,82,18,0,18,0,46,54,"2590","1670","2980","3250","3050","3550","1730","2770","750","510","760","990","1090","850","670","760",".","60","40","20","10","0",160,320,220,75,83,17,700,".",".",28.1,36.8,".",21.7,31.8,2.6,3.3,3.3,3.6,236.9,"0","20","10","190",10,4.6,35,39,"95","0","10","20","5","5","25","10","15","525","420","105",1.2,"1147","45",1.4,1.7,2.4,1.6,{"v":4,"d":"4.0"},82,46,36,3231,1,4,589,15.517241379310345,15.517241379310345,{"v":0,"d":"0.0"},13.218390804597702,23.563218390804597]
["BU19923005","19923005","Kleine Goote","Voorne aan Zee","Buurt","BU19923005","Brielle",2,1565,780,785,210,135,365,455,400,630,730,135,70,"1330","95","135","1335","40","65","55","65","15","9","15","8",735,220,275,240,2.1,7458,733,289,87,13,98,2,66,34,27,6,0,92,8,"2420","1760","2510","2520","3230",".","2200","2540","730","470","740","850","960",".","750","710",".","110","70","40","30","10",350,580,270,68,90,10,1300,".",".",33.8,24.1,".",28.1,20.6,2.8,3.6,5.4,{"v":6,"d":"6.0"},152.4,"20","50","10","350",20,{"v":6,"d":"6.0"},125,79,"80","0","15","10","5","5","20","15","10","830","705","125",1.1,"3953","40",2.6,1.1,1.3,1.4,4.4,21,21,0,3232,1,3,1004,14.696485623003195,15.015974440894569,{"v":0.6389776357827476,"d":"0.6"},13.418530351437699,25.559105431309902]
["BU19923006","19923006","Nieuwland","Voorne aan Zee","Buurt","BU19923006","Brielle",2,2580,1265,1320,500,265,655,715,445,1170,1095,210,115,"2210","170","195","2210","95","125","80","75","25","10","20","8",1040,265,305,470,2.5,4762,1046,428,76,24,98,2,76,24,18,6,0,50,50,"2720","1670","2790","3070","3330","4600","1880","2990","760","470","770","910","890","1190","580","810",".","280","170","50","60","20",440,790,620,78,87,13,2000,".",41.7,30.4,35.8,".",20.1,42.6,1.1,{"v":2,"d":"2.0"},3.5,{"v":5,"d":"5.0"},256.1,"10","60","10","400",45,6.5,115,45,"325","5","40","45","30","45","80","65","20","1410","1150","260",1.4,"2599","105",0.7,{"v":1,"d":"1.0"},1.6,1.6,{"v":5,"d":"5.0"},54,54,0,3232,1,4,964,14.34108527131783,14.34108527131783,{"v":0.7751937984496124,"d":"0.8"},19.379844961240313,17.248062015503876]
["BU19923009","19923009","Verspreide huizen","Voorne aan Zee","Buurt","BU19923009","Brielle",2,340,185,160,45,55,55,115,75,140,180,15,10,"310","30","5","310","15","5","20","5","5","3","0","6",125,30,50,50,2.7,76,117,706,97,3,95,5,90,10,0,10,0,65,35,"4780",".",".",".",".","4820","4720","4790","1040",".",".",".",".","1040","1390","1010",".","30","30","10","10","0",50,150,60,80,64,36,300,".",".",41.4,31.3,".",18.9,48.8,0.8,3.1,3.9,5.5,698.1,"0","10","0","70",".",".",10,29,"80","15","10","5","5","10","20","10","5","205","150","55",1.6,"45","20",{"v":2,"d":"2.0"},1.5,1.9,1.6,3.9,508,453,55,3231,5,5,401,8.823529411764707,8.823529411764707,{"v":0,"d":"0.0"},13.23529411764706,22.058823529411764]
["WK199231","199231","Vierpolders","Voorne aan Zee","Wijk","WK199231","Vierpolders",2,1870,965,900,275,230,410,575,375,840,825,125,70,"1595","150","130","1595","60","65","90","65","15","9","10","6",760,200,260,305,2.4,188,761,396,94,6,96,4,84,16,9,7,0,84,16,"3270","2310","2610","2860","3040","4280","2650","3380","960","630","870","910","840","1130","930","960",".","140","110","60","40","10",330,770,350,77,79,21,1600,".",".",34.7,{"v":27,"d":"27.0"},".",{"v":22,"d":"22.0"},31.1,1.3,2.3,3.7,4.6,244.3,"10","50","10","340",35,7.3,100,53,"370","55","65","75","15","50","55","25","30","1300","1050","250",1.7,"131","110",2.7,2.8,0.7,0.7,1.9,1037,992,46,".",".",5,256,14.705882352941178,14.705882352941178,{"v":0.53475935828877,"d":"0.5"},14.705882352941178,20.053475935828878]
["BU19923100","19923100","Vierpolders","Voorne aan Zee","Buurt","BU19923100","Vierpolders",2,1285,665,620,200,140,300,370,275,565,555,105,60,"1085","100","100","1085","45","45","60","50","15","9","10","7",555,155,195,205,2.3,1143,552,322,92,8,97,3,83,17,12,5,0,89,11,"2920","2250","2610","2860","2760","4250","2450","3010","900","610","870","910","890","1090","850","910",".","110","70","30","20","0",230,540,200,76,86,14,1100,".",".",34.7,25.2,".",22.3,{"v":25,"d":"25.0"},1.1,2.4,4.2,5.1,189.5,"10","30","10","250",30,9.8,70,55,"125","10","25","10","5","15","30","15","20","770","655","115",1.4,"685","70",2.6,{"v":3,"d":"3.0"},0.3,0.3,1.5,113,112,0,3237,1,5,234,15.56420233463035,15.56420233463035,{"v":0,"d":"0.0"},15.56420233463035,21.40077821011673]
["BU19923109","19923109","Verspreide huizen","Voorne aan Zee","Buurt","BU19923109","Vierpolders",2,580,305,280,75,95,110,200,100,280,270,20,15,"510","50","30","510","15","20","35","15","5","9","5","5",210,40,70,100,2.7,66,209,596,97,3,92,8,88,12,0,12,0,70,30,"4250",".",".",".","3980","4300","3420","4370","1130",".",".",".","680","1150","1270","1100",".","40","40","20","20","10",100,220,150,79,64,36,500,".",".",34.7,{"v":31,"d":"31.0"},".",21.4,47.1,1.9,1.9,2.4,3.4,571.2,"0","20","10","90",".",".",30,48,"245","45","40","65","10","40","25","10","15","530","400","135",".",".","40",2.9,2.5,1.7,1.6,2.7,925,879,46,3237,1,5,291,12.068965517241379,12.068965517241379,{"v":1.7241379310344827,"d":"1.7"},12.931034482758621,17.24137931034483]
["WK199232","199232","Zwartewaal","Voorne aan Zee","Wijk","WK199232","Zwartewaal",2,1920,980,935,275,195,420,600,425,775,900,150,100,"1635","105","180","1635","55","105","55","70","10","5","5","3",845,240,305,300,2.3,221,831,370,95,5,96,4,83,16,11,5,0,95,5,"3060","2780","2690","2740","3150","4190","2540","3160","940","740","830","940","1020","1170","910","940",".","140","90","50","40","10",420,760,280,73,83,17,1600,".",".",33.9,27.3,".",24.7,30.2,2.6,{"v":3,"d":"3.0"},4.5,5.5,{"v":244,"d":"244.0"},"20","60","20","390",40,8.9,100,52,"215","15","30","30","15","25","45","35","25","1165","990","180",1.4,"134","125",3.4,0.8,0.9,0.9,1.1,952,867,85,".",".",5,254,14.84375,14.84375,{"v":0.5208333333333333,"d":"0.5"},14.322916666666666,22.135416666666664]
["BU19923200","19923200","Zwartewaal","Voorne aan Zee","Buurt","BU19923200","Zwartewaal",2,590,310,280,95,55,135,185,125,250,255,70,15,"495","30","70","495","20","30","10","35","0","3","5","3",265,85,90,95,2.2,2891,267,313,86,14,95,5,74,26,20,6,0,96,4,"2940","2770","2670","2780","3100","4100","2400","3090","900","660","780","950","1140","1160","730","950",".","40","20","10","10","0",130,220,80,67,84,16,500,".",".",36.5,23.3,".",33.1,23.2,3.5,5.1,7.1,8.3,{"v":182,"d":"182.0"},"10","30","10","110",10,7.9,40,68,"75","0","15","10","0","5","15","15","10","345","285","55",1.3,"1686","30",3.3,0.3,0.4,0.4,1.3,21,20,0,3238,1,5,281,16.101694915254235,16.101694915254235,{"v":0,"d":"0.0"},16.101694915254235,21.1864406779661]
["BU19923201","19923201","Tuindorp-Hofstede","Voorne aan Zee","Buurt","BU19923201","Zwartewaal",2,960,485,480,140,110,220,285,210,390,465,50,55,"820","55","85","820","25","55","25","30","5","7","0","2",415,110,155,155,2.3,3592,421,325,100,0,96,4,87,13,10,4,0,95,5,"2820","2770","2710","2740","3290","4220","2450","2880","890","750","850","940","860","1290","1000","870",".","70","50","30","20","10",190,420,130,77,89,11,800,".",".",32.1,28.3,".",18.5,33.6,1.2,{"v":1,"d":"1.0"},1.9,2.7,230.3,"10","20","10","190",20,9.4,45,48,"70","0","10","5","5","5","20","15","5","585","515","70",1.4,"2180","60",3.5,0.7,0.9,0.9,{"v":1,"d":"1.0"},30,27,4,3238,3,5,284,14.583333333333334,14.583333333333334,{"v":1.0416666666666665,"d":"1.0"},14.583333333333334,21.875]
["BU19923202","19923202","Zalmlaan","Voorne aan Zee","Buurt","BU19923202","Zwartewaal",2,65,35,30,0,5,0,35,20,20,35,5,10,"60","0","0","60","0","0","0","0","0","0","0","15",35,10,15,10,{"v":2,"d":"2.0"},601,34,670,100,0,94,6,91,9,0,9,0,100,0,"3580",".",".",".",".","3770",".","3520","1370",".",".",".",".","1380",".","1270",".","0","0","0","0","0",".",".",".",".",".",".",100,".",".",".",".",".",".",".",".",".",".",".",".","0","0","0","20",".",".",".",".","10",".",".",".",".",".",".",".",".","45","35","10",".",".","10",3.7,0.6,0.5,0.5,{"v":1,"d":"1.0"},17,11,6,3238,1,5,278,7.6923076923076925,7.6923076923076925,{"v":0,"d":"0.0"},0,30.76923076923077]
["BU19923209","19923209","Verspreide huizen","Voorne aan Zee","Buurt","BU19923209",{"$f":"IF(E18116=\"wijk\",C18116,IF(E18116=\"Buurt\",_xlfn.XLOOKUP(LEFT(B18116,6),$B$3:$B$18118,$C$3:$C$18118,\"onbekend\",0,1),\"ook geen buurt\"))","v":"Zwartewaal"},2,300,150,145,40,25,65,100,70,120,140,25,20,"260","20","20","265","10","15","10","10","0","0","0","0",125,35,40,45,2.3,37,109,586,97,3,95,5,92,7,1,6,1,88,12,"4190",".",".",".","3590","4360","3430","4260","1060",".",".",".","820","1080","800","1070",".","20","10","0","10","0",100,90,50,72,66,34,200,".",".",35.5,28.6,".",{"v":29,"d":"29.0"},31.5,4.9,4.9,7.3,8.1,528.1,"0","20","0","70",".",".",".",".","60","15","5","5","5","10","10","5","5","195","155","40",1.6,"24","25",3.5,2.1,2.1,2.2,1.2,884,809,75,3238,1,5,95,{"$f":"IF(OR(I18116=0, ISBLANK(I18116)), \"Geen inwoners\", (I18116-X18116)/I18116*100)","v":11.666666666666666},{"$f":"IF(OR(I18116=0, ISBLANK(I18116)), \"Geen inwoners\", (I18116-U18116)/I18116*100)","v":13.333333333333334},{"$f":"IF(OR(I18116=0,ISBLANK(I18116)),\"Geen inwoners\",(BU18116/I18116*100))","v":{"v":0,"d":"0.0"}},{"$f":"IF(OR(I18116=0,ISBLANK(I18116)),\"Geen inwoners\",(L18116/I18116*100))","v":13.333333333333334},{"$f":"IF(OR(I18116=0,ISBLANK(I18116)),\"Geen inwoners\",(P18116/I18116*100))","v":23.333333333333332}]
["WK199233","199233","Recreatiestrook Brielse Maas","Voorne aan Zee","Wijk","WK199233","Recreatiestrook Brielse Maas",2,50,25,30,10,0,15,15,5,35,15,0,0,"25","30","0","25","0","0","25","0","0","0","0","0",25,20,5,5,1.9,45,13,".",".",".",".",".",".",".",".",".",".",".",".","3490",".",".",".","3730",".",".","3510","1180",".",".",".","1220",".",".","1130",".","0","10","0","0","0",".",".",".",".",".",".",0,".",".",".",".",".",".",".",".",".",".",".",".","0","0","0","0",".",".",".",".","15",".",".",".",".",".",".",".",".","35","25","10",".",".","0",5.4,5.1,{"v":5,"d":"5.0"},{"v":5,"d":"5.0"},{"v":0,"d":"0.0"},233,121,112,".",".",5,84,50,50,{"v":0,"d":"0.0"},20,10]
["BU19923300","19923300","Recreatiestrook Brielse Maas","Voorne aan Zee","Buurt","BU19923300","Recreatiestrook Brielse Maas",2,55,25,25,15,5,15,15,10,30,15,0,0,"25","25","0","25","5","0","25","0","0","0","0","0",30,15,5,5,1.9,45,13,".",".",".",".",".",".",".",".",".",".",".",".","3490",".",".",".","3730",".",".","3510","1180",".",".",".","1220",".",".","1130",".","0","10","0","0","0",".",".",".",".",".",".",0,".",".",".",".",".",".",".",".",".",".",".",".","0","0","0","0",".",".",".",".","15",".",".",".",".",".",".",".",".","35","25","10",".",".","0",5.4,5.1,{"v":5,"d":"5.0"},{"v":5,"d":"5.0"},{"v":0,"d":"0.0"},233,121,112,3231,1,5,84,54.54545454545454,54.54545454545454,{"v":0,"d":"0.0"},27.27272727272727,18.181818181818183]

{"sheet":"Blad1","index":8,"n_rows":0,"n_cols":0,"rows_kept":0,"hidden":true}